{"text_format":"1","workbook":"xlsx","n_sheets":2,"sheets":["Layout de Alta Masiva","Catálogos"],"not_rendered":{"charts":0,"images":0,"macros":1,"external_links":0,"defined_names":1,"comments":0,"pivot_tables":0},"unopened":[],"bounds":{"document_bytes":16777216,"sheet_cells":100000,"rows_first":2000,"rows_last":500,"rows_between":2000,"halvings":0,"cell_chars":16384,"cell_head_chars":4096},"cells_cut":0,"cells_raw":0,"read":"whole","date_system":"1900"}

{"sheet":"Layout de Alta Masiva","index":0,"n_rows":500,"n_cols":87,"rows_kept":500,"cut":false,"hidden":false,"merged":[[0,57,0,63],[0,64,0,70],[0,71,0,77],[0,1,0,25],[0,26,0,33],[0,45,0,49],[0,50,0,56],[0,36,0,44]]}
[null,"NÓMINA - ALTA DE EMPLEADOS",null,null,null,null,null,null,null,null,null,null,null,null,null,null,null,null,null,null,null,null,null,null,null,null,"DOMICILIO",null,null,null,null,null,null,null,null,null,"DATOS PERSONALES",null,null,null,null,null,null,null,null,"DATOS DEL EMPLEO",null,null,null,null,"BENEFICIARIO 1",null,null,null,null,null,null,"BENEFICIARIO 2",null,null,null,null,null,null,"BENEFICIARIO 3",null,null,null,null,null,null,"BENEFICIARIO 4"]
["oSheet.Range(\"S1\").Value = \"Id de Pais de Registro Fiscal\"","PRIMER NOMBRE\n(MANDATORIO)","SEGUNDO NOMBRE\n(OPCIONAL)","TERCER NOMBRE\n(OPCIONAL)","PRIMER APELLIDO\n(MANDATORIO)","SEGUNDO APELLIDO\n(MANDATORIO)","F. NACIMIENTO\nDD/MM/AAAA\n(MANDATORIO)","SEXO\n(MANDATORIO)","PAÍS DE NACIMIENTO\n(MANDATORIO)","ESTADO NACIMIENTO NACIONAL\n(MANDATORIO)","ESTADO NACIMIENTO INTERNACIONAL\n(MANDATORIO SI PAÍS DE NACIMIENTO NO ES MÉXICO)","ESTADO CIVIL\n(MANDATORIO)","NACIONALIDAD\n(MANDATORIO)","PAÍS DE\nRESIDENCIA\n(MANDATORIO)","PAIS DE REGISTRO FISCAL (MANDATORIO)","RFC\n(MANDATORIO SI PAÍS FISCAL ES MÉXICO)","CURP\n (MANDATORIO SI PAÍS FISCAL ES MÉXICO)","TIPO IDENTIFICACIÓN 1\n(MANDATORIO)","NÚMERO DE IDENTIFICACION\n(MANDATORIO)","F. EXPIRACION\nDD/MM/AAAA\n(MANDATORIO)","TIN\n(MANDATORIO SI PAÍS FISCAL NO ES MÉXICO) ","TIPO IDENTIFICACION 2\n(MANDATORIO SI LA PRIMERA IDENTIFICACIÓN NO ES IFE/INE)","NUM.DE IDENTIFICACION 2\n(MANDATORIO SI LA PRIMERA IDENTIFICACIÓN NO ES IFE/INE)","FECHA EXPIRACION 2\nDD/MM/AAAA\n(MANDATORIO SI LA PRIMERA IDENTIFICACIÓN NO ES IFE/INE)","NOTIFICACIÓN DE ABONO\n(MANDATORIO)","NUMERO DE EMPLEADO\n(OPCIONAL)","PAIS \n(MANDATORIO)","ESTADO\n(MANDATORIO)","CP\n(MANDATORIO)","MUNICIPIO\n(AUTOMÁTICO)","COLONIA\n(MANDATORIO)","CALLE\n(MANDATORIO)","NO. EXTERIOR\n(MANDATORIO)","NO. INTERIOR\n(OPCIONAL)","Localidad CNBV\n(Automático)","Localidad Banxico\n(Automático)","LADA CASA\n(OPCIONAL)","TELÉFONO CASA\n(OPCIONAL)","LADA OFICINA\n(OPCIONAL)","TELEFONO OFICINA\n [10 DÍGITOS]\n(OPCIONAL)","EXTENSION OFICINA\n(OPCIONAL)","LADA CELULAR\n(MANDATORIO)","CELULAR\n(MANDATORIO)","CORREO OFICINA \n(OPCIONAL)","CORREO PERSONAL\n(OBLIGATORIO)","TIPO DE EMPLEO\n(MANDATORIO)","PUESTO\n(MANDATORIO)","INGRESO MENSUAL\n(MANDATORIO)","ACTIVIDAD ECONOMICA\n(MANDATORIO)","EMPLEADO MULTIVA\n(MANDATORIO)","NOMBRE (S)\n(MANDATORIO)","PRIMER APELLIDO\n(MANDATORIO)","SEGUNDO APELLIDO\n(MANDATORIO)","RFC \n(OPCIONAL)","FECHA NACIMIENTO\nDD/MM/AAAA\n(MANDATORIO)","PARENTESCO\n(MANDATORIO)","PORCENTAJE\n(MANDATORIO)","NOMBRE (S)\n(MANDATORIO)","PRIMER APELLIDO\n(MANDATORIO)","SEGUNDO APELLIDO\n(MANDATORIO)","RFC \n(OPCIONAL)","FECHA NACIMIENTO\nDD/MM/AAAA\n(MANDATORIO)","PARENTESCO\n(MANDATORIO)","PORCENTAJE\n(MANDATORIO)","NOMBRE(S)\n(MANDATORIO)","PRIMER APELLIDO\n(MANDATORIO)","SEGUNDO APELLIDO\n(MANDATORIO)","RFC \n(OPCIONAL)","FECHA NACIMIENTO\nDD/MM/AAAA\n(MANDATORIO)","PARENTESCO\n(MANDATORIO)","PORCENTAJE\n(MANDATORIO)","NOMBRE(S)\n(MANDATORIO)","PRIMER APELLIDO\n(MANDATORIO)","SEGUNDO APELLIDO\n(MANDATORIO)","RFC \n(OPCIONAL)","FECHA NACIMIENTO\nDD/MM/AAAA\n(MANDATORIO)","PARENTESCO\n(MANDATORIO)","PORCENTAJE\n(MANDATORIO)",null,"Id Estado","Id Del","ID Colonia","Beneficiario 1\nParentesco","Beneficiario 2\nParentesco","Beneficiario 3\nParentesco","Beneficiario 4\nParentesco","SUMA PORCENTAJE"]
["V2.0/012026",null,"",null,null,null,null," -SELECCIONAR-"," -SELECCIONAR-"," -SELECCIONAR-",null," -SELECCIONAR-"," -SELECCIONAR-"," -SELECCIONAR-"," -SELECCIONAR-",null,null," -SELECCIONAR-","",null,null," -SELECCIONAR-",null,null," -SELECCIONAR-",null," -SELECCIONAR-"," -SELECCIONAR-","",{"$f":"IF(AC3=LOOKUP(AC3,Catálogos!O:O),LOOKUP(AC3,Catálogos!O:O,Catálogos!R:R),FALSE)","v":{"$error":"#N/A"}},null,null,null,null,{"$f":"IF(CD3=FALSE,\"COL. INCORRECTA\",LOOKUP(CONCATENATE(AE3,\" - \",AC3),Catálogos!T:T,Catálogos!Y:Y))","v":{"$error":"#N/A"}},{"$f":"IF(CD3=FALSE,\"COL. INCORRECTA\",LOOKUP(CONCATENATE(AE3,\" - \",AC3),Catálogos!T:T,Catálogos!X:X))","v":{"$error":"#N/A"}}," -SELECCIONAR-",""," -SELECCIONAR-","",""," -SELECCIONAR-","",null,null," -SELECCIONAR-",null,null," -SELECCIONAR-"," -SELECCIONAR-",null,null,null,null,null," -SELECCIONAR-",null,null,null,null,null,null," -SELECCIONAR-",null,null,null,null,null,null," -SELECCIONAR-",null,null,null,null,null,null," -SELECCIONAR-",null,null,{"$f":"LOOKUP(AB3,Catálogos!AP:AP,Catálogos!AO:AO)","v":"ERR"},{"$f":"CONCATENATE(LOOKUP(AC3,Catálogos!O:O,Catálogos!P:P),\".\",LOOKUP(AC3,Catálogos!O:O,Catálogos!Q:Q))","v":{"$error":"#N/A"}},{"$f":"IF(AC3=LOOKUP(CONCATENATE(AE3,\" - \",AC3),Catálogos!T:T,Catálogos!V:V),LOOKUP(CONCATENATE(AE3,\" - \",AC3),Catálogos!T:T,Catálogos!W:W),FALSE)","v":{"$error":"#N/A"}},{"$f":"LOOKUP(BD3,Catálogos!AM:AM,Catálogos!AL:AL)","v":"ERR"},{"$f":"LOOKUP(BK3,Catálogos!AM:AM,Catálogos!AL:AL)","v":"ERR"},{"$f":"LOOKUP(BR3,Catálogos!AM:AM,Catálogos!AL:AL)","v":"ERR"},{"$f":"LOOKUP(BY3,Catálogos!AM:AM,Catálogos!AL:AL)","v":"ERR"},{"$f":"SUM(BE3+BL3+BS3+BZ3)","v":0}]
[null,null,null,null,null,null,null," -SELECCIONAR-"," -SELECCIONAR-"," -SELECCIONAR-",null," -SELECCIONAR-"," -SELECCIONAR-"," -SELECCIONAR-"," -SELECCIONAR-",null,null," -SELECCIONAR-",null,null,null," -SELECCIONAR-",null,null," -SELECCIONAR-",null," -SELECCIONAR-"," -SELECCIONAR-",null,{"$f":"IF(AC4=LOOKUP(AC4,Catálogos!O:O),LOOKUP(AC4,Catálogos!O:O,Catálogos!R:R),FALSE)","v":{"$error":"#N/A"}},null,null,null,null,{"$f":"IF(CD4=FALSE,\"COL. INCORRECTA\",LOOKUP(CONCATENATE(AE4,\" - \",AC4),Catálogos!T:T,Catálogos!Y:Y))","v":{"$error":"#N/A"}},{"$f":"IF(CD4=FALSE,\"COL. INCORRECTA\",LOOKUP(CONCATENATE(AE4,\" - \",AC4),Catálogos!T:T,Catálogos!X:X))","v":{"$error":"#N/A"}}," -SELECCIONAR-",""," -SELECCIONAR-","",""," -SELECCIONAR-",null,null,null," -SELECCIONAR-",null,null," -SELECCIONAR-"," -SELECCIONAR-",null,null,null,null,null," -SELECCIONAR-",null,null,null,null,null,null," -SELECCIONAR-",null,null,null,null,null,null," -SELECCIONAR-",null,null,null,null,null,null," -SELECCIONAR-",null,null,{"$f":"LOOKUP(AB4,Catálogos!AP:AP,Catálogos!AO:AO)","v":"ERR"},{"$f":"CONCATENATE(LOOKUP(AC4,Catálogos!O:O,Catálogos!P:P),\".\",LOOKUP(AC4,Catálogos!O:O,Catálogos!Q:Q))","v":{"$error":"#N/A"}},{"$f":"IF(AC4=LOOKUP(CONCATENATE(AE4,\" - \",AC4),Catálogos!T:T,Catálogos!V:V),LOOKUP(CONCATENATE(AE4,\" - \",AC4),Catálogos!T:T,Catálogos!W:W),FALSE)","v":{"$error":"#N/A"}},{"$f":"LOOKUP(BD4,Catálogos!AM:AM,Catálogos!AL:AL)","v":"ERR"},{"$f":"LOOKUP(BK4,Catálogos!AM:AM,Catálogos!AL:AL)","v":"ERR"},{"$f":"LOOKUP(BR4,Catálogos!AM:AM,Catálogos!AL:AL)","v":"ERR"},{"$f":"LOOKUP(BY4,Catálogos!AM:AM,Catálogos!AL:AL)","v":"ERR"},{"$f":"SUM(BE4+BL4+BS4+BZ4)","v":0}]
[null,null,null,null,null,null,null," -SELECCIONAR-"," -SELECCIONAR-"," -SELECCIONAR-",null," -SELECCIONAR-"," -SELECCIONAR-"," -SELECCIONAR-"," -SELECCIONAR-",null,null," -SELECCIONAR-",null,null,null," -SELECCIONAR-",null,null," -SELECCIONAR-",null," -SELECCIONAR-"," -SELECCIONAR-",null,{"$f":"IF(AC5=LOOKUP(AC5,Catálogos!O:O),LOOKUP(AC5,Catálogos!O:O,Catálogos!R:R),FALSE)","v":{"$error":"#N/A"}},null,null,null,null,{"$f":"IF(CD5=FALSE,\"COL. INCORRECTA\",LOOKUP(CONCATENATE(AE5,\" - \",AC5),Catálogos!T:T,Catálogos!Y:Y))","v":{"$error":"#N/A"}},{"$f":"IF(CD5=FALSE,\"COL. INCORRECTA\",LOOKUP(CONCATENATE(AE5,\" - \",AC5),Catálogos!T:T,Catálogos!X:X))","v":{"$error":"#N/A"}}," -SELECCIONAR-",null," -SELECCIONAR-",null,null," -SELECCIONAR-",null,null,null," -SELECCIONAR-",null,null," -SELECCIONAR-"," -SELECCIONAR-",null,null,null,null,null," -SELECCIONAR-",null,null,null,null,null,null," -SELECCIONAR-",null,null,null,null,null,null," -SELECCIONAR-",null,null,null,null,null,null," -SELECCIONAR-",null,null,{"$f":"LOOKUP(AB5,Catálogos!AP:AP,Catálogos!AO:AO)","v":"ERR"},{"$f":"CONCATENATE(LOOKUP(AC5,Catálogos!O:O,Catálogos!P:P),\".\",LOOKUP(AC5,Catálogos!O:O,Catálogos!Q:Q))","v":{"$error":"#N/A"}},{"$f":"IF(AC5=LOOKUP(CONCATENATE(AE5,\" - \",AC5),Catálogos!T:T,Catálogos!V:V),LOOKUP(CONCATENATE(AE5,\" - \",AC5),Catálogos!T:T,Catálogos!W:W),FALSE)","v":{"$error":"#N/A"}},{"$f":"LOOKUP(BD5,Catálogos!AM:AM,Catálogos!AL:AL)","v":"ERR"},{"$f":"LOOKUP(BK5,Catálogos!AM:AM,Catálogos!AL:AL)","v":"ERR"},{"$f":"LOOKUP(BR5,Catálogos!AM:AM,Catálogos!AL:AL)","v":"ERR"},{"$f":"LOOKUP(BY5,Catálogos!AM:AM,Catálogos!AL:AL)","v":"ERR"},{"$f":"SUM(BE5+BL5+BS5+BZ5)","v":0}]
[null,null,null,null,null,null,null," -SELECCIONAR-"," -SELECCIONAR-"," -SELECCIONAR-",null," -SELECCIONAR-"," -SELECCIONAR-"," -SELECCIONAR-"," -SELECCIONAR-",null,null," -SELECCIONAR-",null,null,null," -SELECCIONAR-",null,null," -SELECCIONAR-",null," -SELECCIONAR-"," -SELECCIONAR-",null,{"$f":"IF(AC6=LOOKUP(AC6,Catálogos!O:O),LOOKUP(AC6,Catálogos!O:O,Catálogos!R:R),FALSE)","v":{"$error":"#N/A"}},null,null,null,null,{"$f":"IF(CD6=FALSE,\"COL. INCORRECTA\",LOOKUP(CONCATENATE(AE6,\" - \",AC6),Catálogos!T:T,Catálogos!Y:Y))","v":{"$error":"#N/A"}},{"$f":"IF(CD6=FALSE,\"COL. INCORRECTA\",LOOKUP(CONCATENATE(AE6,\" - \",AC6),Catálogos!T:T,Catálogos!X:X))","v":{"$error":"#N/A"}}," -SELECCIONAR-",null," -SELECCIONAR-",null,null," -SELECCIONAR-",null,null,null," -SELECCIONAR-",null,null," -SELECCIONAR-"," -SELECCIONAR-",null,null,null,null,null," -SELECCIONAR-",null,null,null,null,null,null," -SELECCIONAR-",null,null,null,null,null,null," -SELECCIONAR-",null,null,null,null,null,null," -SELECCIONAR-",null,null,{"$f":"LOOKUP(AB6,Catálogos!AP:AP,Catálogos!AO:AO)","v":"ERR"},{"$f":"CONCATENATE(LOOKUP(AC6,Catálogos!O:O,Catálogos!P:P),\".\",LOOKUP(AC6,Catálogos!O:O,Catálogos!Q:Q))","v":{"$error":"#N/A"}},{"$f":"IF(AC6=LOOKUP(CONCATENATE(AE6,\" - \",AC6),Catálogos!T:T,Catálogos!V:V),LOOKUP(CONCATENATE(AE6,\" - \",AC6),Catálogos!T:T,Catálogos!W:W),FALSE)","v":{"$error":"#N/A"}},{"$f":"LOOKUP(BD6,Catálogos!AM:AM,Catálogos!AL:AL)","v":"ERR"},{"$f":"LOOKUP(BK6,Catálogos!AM:AM,Catálogos!AL:AL)","v":"ERR"},{"$f":"LOOKUP(BR6,Catálogos!AM:AM,Catálogos!AL:AL)","v":"ERR"},{"$f":"LOOKUP(BY6,Catálogos!AM:AM,Catálogos!AL:AL)","v":"ERR"},0]
[null,null,null,null,null,null,null," -SELECCIONAR-"," -SELECCIONAR-"," -SELECCIONAR-",null," -SELECCIONAR-"," -SELECCIONAR-"," -SELECCIONAR-"," -SELECCIONAR-",null,null," -SELECCIONAR-",null,null,null," -SELECCIONAR-","",null," -SELECCIONAR-",null," -SELECCIONAR-"," -SELECCIONAR-",null,{"$f":"IF(AC7=FALSE, LOOKUP(AC7,Catálogos!O:O),LOOKUP(AC7,Catálogos!O:O,Catálogos!R:R))","v":{"$error":"#N/A"}},null,null,null,null,{"$f":"IF(CD7=FALSE,\"COL. INCORRECTA\",LOOKUP(CONCATENATE(AE7,\" - \",AC7),Catálogos!T:T,Catálogos!Y:Y))","v":{"$error":"#N/A"}},{"$f":"IF(CD7=FALSE,\"COL. INCORRECTA\",LOOKUP(CONCATENATE(AE7,\" - \",AC7),Catálogos!T:T,Catálogos!X:X))","v":{"$error":"#N/A"}}," -SELECCIONAR-",null," -SELECCIONAR-",null,null," -SELECCIONAR-",null,null,null," -SELECCIONAR-",null,null," -SELECCIONAR-"," -SELECCIONAR-",null,null,null,null,null," -SELECCIONAR-",null,null,null,null,null,null," -SELECCIONAR-",null,null,null,null,null,null," -SELECCIONAR-",null,null,null,null,null,null," -SELECCIONAR-",null,null,{"$f":"LOOKUP(AB7,Catálogos!AP:AP,Catálogos!AO:AO)","v":"ERR"},{"$f":"CONCATENATE(LOOKUP(AC7,Catálogos!O:O,Catálogos!P:P),\".\",LOOKUP(AC7,Catálogos!O:O,Catálogos!Q:Q))","v":{"$error":"#N/A"}},{"$f":"IF(AC7=LOOKUP(CONCATENATE(AE7,\" - \",AC7),Catálogos!T:T,Catálogos!V:V),LOOKUP(CONCATENATE(AE7,\" - \",AC7),Catálogos!T:T,Catálogos!W:W),FALSE)","v":{"$error":"#N/A"}},{"$f":"LOOKUP(BD7,Catálogos!AM:AM,Catálogos!AL:AL)","v":"ERR"},{"$f":"LOOKUP(BK7,Catálogos!AM:AM,Catálogos!AL:AL)","v":"ERR"},{"$f":"LOOKUP(BR7,Catálogos!AM:AM,Catálogos!AL:AL)","v":"ERR"},{"$f":"LOOKUP(BY7,Catálogos!AM:AM,Catálogos!AL:AL)","v":"ERR"},0]
[null,null,null,null,null,null,null," -SELECCIONAR-"," -SELECCIONAR-"," -SELECCIONAR-",null," -SELECCIONAR-"," -SELECCIONAR-"," -SELECCIONAR-"," -SELECCIONAR-",null,null," -SELECCIONAR-",null,null,null," -SELECCIONAR-",null,null," -SELECCIONAR-",null," -SELECCIONAR-"," -SELECCIONAR-",null,{"$f":"IF(AC8=FALSE, LOOKUP(AC8,Catálogos!O:O),LOOKUP(AC8,Catálogos!O:O,Catálogos!R:R))","v":{"$error":"#N/A"}},null,null,null,null,{"$f":"IF(CD8=FALSE,\"COL. INCORRECTA\",LOOKUP(CONCATENATE(AE8,\" - \",AC8),Catálogos!T:T,Catálogos!Y:Y))","v":{"$error":"#N/A"}},{"$f":"IF(CD8=FALSE,\"COL. INCORRECTA\",LOOKUP(CONCATENATE(AE8,\" - \",AC8),Catálogos!T:T,Catálogos!X:X))","v":{"$error":"#N/A"}}," -SELECCIONAR-",null," -SELECCIONAR-",null,null," -SELECCIONAR-",null,null,null," -SELECCIONAR-",null,null," -SELECCIONAR-"," -SELECCIONAR-",null,null,null,null,null," -SELECCIONAR-",null,null,null,null,null,null," -SELECCIONAR-",null,null,null,null,null,null," -SELECCIONAR-",null,null,null,null,null,null," -SELECCIONAR-",null,null,{"$f":"LOOKUP(AB8,Catálogos!AP:AP,Catálogos!AO:AO)","v":"ERR"},{"$f":"CONCATENATE(LOOKUP(AC8,Catálogos!O:O,Catálogos!P:P),\".\",LOOKUP(AC8,Catálogos!O:O,Catálogos!Q:Q))","v":{"$error":"#N/A"}},{"$f":"IF(AC8=LOOKUP(CONCATENATE(AE8,\" - \",AC8),Catálogos!T:T,Catálogos!V:V),LOOKUP(CONCATENATE(AE8,\" - \",AC8),Catálogos!T:T,Catálogos!W:W),FALSE)","v":{"$error":"#N/A"}},{"$f":"LOOKUP(BD8,Catálogos!AM:AM,Catálogos!AL:AL)","v":"ERR"},{"$f":"LOOKUP(BK8,Catálogos!AM:AM,Catálogos!AL:AL)","v":"ERR"},{"$f":"LOOKUP(BR8,Catálogos!AM:AM,Catálogos!AL:AL)","v":"ERR"},{"$f":"LOOKUP(BY8,Catálogos!AM:AM,Catálogos!AL:AL)","v":"ERR"},0]
[null,null,null,null,null,null,null," -SELECCIONAR-"," -SELECCIONAR-"," -SELECCIONAR-",null," -SELECCIONAR-"," -SELECCIONAR-"," -SELECCIONAR-"," -SELECCIONAR-",null,null," -SELECCIONAR-",null,null,null," -SELECCIONAR-",null,null," -SELECCIONAR-",null," -SELECCIONAR-"," -SELECCIONAR-",null,{"$f":"IF(AC9=FALSE, LOOKUP(AC9,Catálogos!O:O),LOOKUP(AC9,Catálogos!O:O,Catálogos!R:R))","v":{"$error":"#N/A"}},null,null,null,null,{"$f":"IF(CD9=FALSE,\"COL. INCORRECTA\",LOOKUP(CONCATENATE(AE9,\" - \",AC9),Catálogos!T:T,Catálogos!Y:Y))","v":{"$error":"#N/A"}},{"$f":"IF(CD9=FALSE,\"COL. INCORRECTA\",LOOKUP(CONCATENATE(AE9,\" - \",AC9),Catálogos!T:T,Catálogos!X:X))","v":{"$error":"#N/A"}}," -SELECCIONAR-",null," -SELECCIONAR-",null,null," -SELECCIONAR-",null,null,null," -SELECCIONAR-",null,null," -SELECCIONAR-"," -SELECCIONAR-",null,null,null,null,null," -SELECCIONAR-",null,null,null,null,null,null," -SELECCIONAR-",null,null,null,null,null,null," -SELECCIONAR-",null,null,null,null,null,null," -SELECCIONAR-",null,null,{"$f":"LOOKUP(AB9,Catálogos!AP:AP,Catálogos!AO:AO)","v":"ERR"},{"$f":"CONCATENATE(LOOKUP(AC9,Catálogos!O:O,Catálogos!P:P),\".\",LOOKUP(AC9,Catálogos!O:O,Catálogos!Q:Q))","v":{"$error":"#N/A"}},{"$f":"IF(AC9=LOOKUP(CONCATENATE(AE9,\" - \",AC9),Catálogos!T:T,Catálogos!V:V),LOOKUP(CONCATENATE(AE9,\" - \",AC9),Catálogos!T:T,Catálogos!W:W),FALSE)","v":{"$error":"#N/A"}},{"$f":"LOOKUP(BD9,Catálogos!AM:AM,Catálogos!AL:AL)","v":"ERR"},{"$f":"LOOKUP(BK9,Catálogos!AM:AM,Catálogos!AL:AL)","v":"ERR"},{"$f":"LOOKUP(BR9,Catálogos!AM:AM,Catálogos!AL:AL)","v":"ERR"},{"$f":"LOOKUP(BY9,Catálogos!AM:AM,Catálogos!AL:AL)","v":"ERR"},0]
[null,null,null,null,null,null,null," -SELECCIONAR-"," -SELECCIONAR-"," -SELECCIONAR-",null," -SELECCIONAR-"," -SELECCIONAR-"," -SELECCIONAR-"," -SELECCIONAR-",null,null," -SELECCIONAR-",null,null,null," -SELECCIONAR-",null,null," -SELECCIONAR-",null," -SELECCIONAR-"," -SELECCIONAR-",null,{"$f":"IF(AC10=FALSE, LOOKUP(AC10,Catálogos!O:O),LOOKUP(AC10,Catálogos!O:O,Catálogos!R:R))","v":{"$error":"#N/A"}},null,null,null,null,{"$f":"IF(CD10=FALSE,\"COL. INCORRECTA\",LOOKUP(CONCATENATE(AE10,\" - \",AC10),Catálogos!T:T,Catálogos!Y:Y))","v":{"$error":"#N/A"}},{"$f":"IF(CD10=FALSE,\"COL. INCORRECTA\",LOOKUP(CONCATENATE(AE10,\" - \",AC10),Catálogos!T:T,Catálogos!X:X))","v":{"$error":"#N/A"}}," -SELECCIONAR-",null," -SELECCIONAR-",null,null," -SELECCIONAR-",null,null,null," -SELECCIONAR-",null,null," -SELECCIONAR-"," -SELECCIONAR-",null,null,null,null,null," -SELECCIONAR-",null,null,null,null,null,null," -SELECCIONAR-",null,null,null,null,null,null," -SELECCIONAR-",null,null,null,null,null,null," -SELECCIONAR-",null,null,{"$f":"LOOKUP(AB10,Catálogos!AP:AP,Catálogos!AO:AO)","v":"ERR"},{"$f":"CONCATENATE(LOOKUP(AC10,Catálogos!O:O,Catálogos!P:P),\".\",LOOKUP(AC10,Catálogos!O:O,Catálogos!Q:Q))","v":{"$error":"#N/A"}},{"$f":"IF(AC10=LOOKUP(CONCATENATE(AE10,\" - \",AC10),Catálogos!T:T,Catálogos!V:V),LOOKUP(CONCATENATE(AE10,\" - \",AC10),Catálogos!T:T,Catálogos!W:W),FALSE)","v":{"$error":"#N/A"}},{"$f":"LOOKUP(BD10,Catálogos!AM:AM,Catálogos!AL:AL)","v":"ERR"},{"$f":"LOOKUP(BK10,Catálogos!AM:AM,Catálogos!AL:AL)","v":"ERR"},{"$f":"LOOKUP(BR10,Catálogos!AM:AM,Catálogos!AL:AL)","v":"ERR"},{"$f":"LOOKUP(BY10,Catálogos!AM:AM,Catálogos!AL:AL)","v":"ERR"},0]
[null,null,null,null,null,null,null," -SELECCIONAR-"," -SELECCIONAR-"," -SELECCIONAR-",null," -SELECCIONAR-"," -SELECCIONAR-"," -SELECCIONAR-"," -SELECCIONAR-",null,null," -SELECCIONAR-",null,null,null," -SELECCIONAR-",null,null," -SELECCIONAR-",null," -SELECCIONAR-"," -SELECCIONAR-",null,{"$f":"IF(AC11=FALSE, LOOKUP(AC11,Catálogos!O:O),LOOKUP(AC11,Catálogos!O:O,Catálogos!R:R))","v":{"$error":"#N/A"}},null,null,null,null,{"$f":"IF(CD11=FALSE,\"COL. INCORRECTA\",LOOKUP(CONCATENATE(AE11,\" - \",AC11),Catálogos!T:T,Catálogos!Y:Y))","v":{"$error":"#N/A"}},{"$f":"IF(CD11=FALSE,\"COL. INCORRECTA\",LOOKUP(CONCATENATE(AE11,\" - \",AC11),Catálogos!T:T,Catálogos!X:X))","v":{"$error":"#N/A"}}," -SELECCIONAR-",null," -SELECCIONAR-",null,null," -SELECCIONAR-",null,null,null," -SELECCIONAR-",null,null," -SELECCIONAR-"," -SELECCIONAR-",null,null,null,null,null," -SELECCIONAR-",null,null,null,null,null,null," -SELECCIONAR-",null,null,null,null,null,null," -SELECCIONAR-",null,null,null,null,null,null," -SELECCIONAR-",null,null,{"$f":"LOOKUP(AB11,Catálogos!AP:AP,Catálogos!AO:AO)","v":"ERR"},{"$f":"CONCATENATE(LOOKUP(AC11,Catálogos!O:O,Catálogos!P:P),\".\",LOOKUP(AC11,Catálogos!O:O,Catálogos!Q:Q))","v":{"$error":"#N/A"}},{"$f":"IF(AC11=LOOKUP(CONCATENATE(AE11,\" - \",AC11),Catálogos!T:T,Catálogos!V:V),LOOKUP(CONCATENATE(AE11,\" - \",AC11),Catálogos!T:T,Catálogos!W:W),FALSE)","v":{"$error":"#N/A"}},{"$f":"LOOKUP(BD11,Catálogos!AM:AM,Catálogos!AL:AL)","v":"ERR"},{"$f":"LOOKUP(BK11,Catálogos!AM:AM,Catálogos!AL:AL)","v":"ERR"},{"$f":"LOOKUP(BR11,Catálogos!AM:AM,Catálogos!AL:AL)","v":"ERR"},{"$f":"LOOKUP(BY11,Catálogos!AM:AM,Catálogos!AL:AL)","v":"ERR"},0]
[null,null,null,null,null,null,null," -SELECCIONAR-"," -SELECCIONAR-"," -SELECCIONAR-",null," -SELECCIONAR-"," -SELECCIONAR-"," -SELECCIONAR-"," -SELECCIONAR-",null,null," -SELECCIONAR-",null,null,null," -SELECCIONAR-",null,null," -SELECCIONAR-",null," -SELECCIONAR-"," -SELECCIONAR-",null,{"$f":"IF(AC12=FALSE, LOOKUP(AC12,Catálogos!O:O),LOOKUP(AC12,Catálogos!O:O,Catálogos!R:R))","v":{"$error":"#N/A"}},null,null,null,null,{"$f":"IF(CD12=FALSE,\"COL. INCORRECTA\",LOOKUP(CONCATENATE(AE12,\" - \",AC12),Catálogos!T:T,Catálogos!Y:Y))","v":{"$error":"#N/A"}},{"$f":"IF(CD12=FALSE,\"COL. INCORRECTA\",LOOKUP(CONCATENATE(AE12,\" - \",AC12),Catálogos!T:T,Catálogos!X:X))","v":{"$error":"#N/A"}}," -SELECCIONAR-",null," -SELECCIONAR-",null,null," -SELECCIONAR-",null,null,null," -SELECCIONAR-",null,null," -SELECCIONAR-"," -SELECCIONAR-",null,null,null,null,null," -SELECCIONAR-",null,null,null,null,null,null," -SELECCIONAR-",null,null,null,null,null,null," -SELECCIONAR-",null,null,null,null,null,null," -SELECCIONAR-",null,null,{"$f":"LOOKUP(AB12,Catálogos!AP:AP,Catálogos!AO:AO)","v":"ERR"},{"$f":"CONCATENATE(LOOKUP(AC12,Catálogos!O:O,Catálogos!P:P),\".\",LOOKUP(AC12,Catálogos!O:O,Catálogos!Q:Q))","v":{"$error":"#N/A"}},{"$f":"IF(AC12=LOOKUP(CONCATENATE(AE12,\" - \",AC12),Catálogos!T:T,Catálogos!V:V),LOOKUP(CONCATENATE(AE12,\" - \",AC12),Catálogos!T:T,Catálogos!W:W),FALSE)","v":{"$error":"#N/A"}},{"$f":"LOOKUP(BD12,Catálogos!AM:AM,Catálogos!AL:AL)","v":"ERR"},{"$f":"LOOKUP(BK12,Catálogos!AM:AM,Catálogos!AL:AL)","v":"ERR"},{"$f":"LOOKUP(BR12,Catálogos!AM:AM,Catálogos!AL:AL)","v":"ERR"},{"$f":"LOOKUP(BY12,Catálogos!AM:AM,Catálogos!AL:AL)","v":"ERR"},0]
[null,null,null,null,null,null,null," -SELECCIONAR-"," -SELECCIONAR-"," -SELECCIONAR-",null," -SELECCIONAR-"," -SELECCIONAR-"," -SELECCIONAR-"," -SELECCIONAR-",null,null," -SELECCIONAR-",null,null,null," -SELECCIONAR-",null,null," -SELECCIONAR-",null," -SELECCIONAR-"," -SELECCIONAR-",null,{"$f":"IF(AC13=FALSE, LOOKUP(AC13,Catálogos!O:O),LOOKUP(AC13,Catálogos!O:O,Catálogos!R:R))","v":{"$error":"#N/A"}},null,null,null,null,{"$f":"IF(CD13=FALSE,\"COL. INCORRECTA\",LOOKUP(CONCATENATE(AE13,\" - \",AC13),Catálogos!T:T,Catálogos!Y:Y))","v":{"$error":"#N/A"}},{"$f":"IF(CD13=FALSE,\"COL. INCORRECTA\",LOOKUP(CONCATENATE(AE13,\" - \",AC13),Catálogos!T:T,Catálogos!X:X))","v":{"$error":"#N/A"}}," -SELECCIONAR-",null," -SELECCIONAR-",null,null," -SELECCIONAR-",null,null,null," -SELECCIONAR-",null,null," -SELECCIONAR-"," -SELECCIONAR-",null,null,null,null,null," -SELECCIONAR-",null,null,null,null,null,null," -SELECCIONAR-",null,null,null,null,null,null," -SELECCIONAR-",null,null,null,null,null,null," -SELECCIONAR-",null,null,{"$f":"LOOKUP(AB13,Catálogos!AP:AP,Catálogos!AO:AO)","v":"ERR"},{"$f":"CONCATENATE(LOOKUP(AC13,Catálogos!O:O,Catálogos!P:P),\".\",LOOKUP(AC13,Catálogos!O:O,Catálogos!Q:Q))","v":{"$error":"#N/A"}},{"$f":"IF(AC13=LOOKUP(CONCATENATE(AE13,\" - \",AC13),Catálogos!T:T,Catálogos!V:V),LOOKUP(CONCATENATE(AE13,\" - \",AC13),Catálogos!T:T,Catálogos!W:W),FALSE)","v":{"$error":"#N/A"}},{"$f":"LOOKUP(BD13,Catálogos!AM:AM,Catálogos!AL:AL)","v":"ERR"},{"$f":"LOOKUP(BK13,Catálogos!AM:AM,Catálogos!AL:AL)","v":"ERR"},{"$f":"LOOKUP(BR13,Catálogos!AM:AM,Catálogos!AL:AL)","v":"ERR"},{"$f":"LOOKUP(BY13,Catálogos!AM:AM,Catálogos!AL:AL)","v":"ERR"},0]
[null,null,null,null,null,null,null," -SELECCIONAR-"," -SELECCIONAR-"," -SELECCIONAR-",null," -SELECCIONAR-"," -SELECCIONAR-"," -SELECCIONAR-"," -SELECCIONAR-",null,null," -SELECCIONAR-",null,null,null," -SELECCIONAR-",null,null," -SELECCIONAR-",null," -SELECCIONAR-"," -SELECCIONAR-",null,{"$f":"IF(AC14=FALSE, LOOKUP(AC14,Catálogos!O:O),LOOKUP(AC14,Catálogos!O:O,Catálogos!R:R))","v":{"$error":"#N/A"}},null,null,null,null,{"$f":"IF(CD14=FALSE,\"COL. INCORRECTA\",LOOKUP(CONCATENATE(AE14,\" - \",AC14),Catálogos!T:T,Catálogos!Y:Y))","v":{"$error":"#N/A"}},{"$f":"IF(CD14=FALSE,\"COL. INCORRECTA\",LOOKUP(CONCATENATE(AE14,\" - \",AC14),Catálogos!T:T,Catálogos!X:X))","v":{"$error":"#N/A"}}," -SELECCIONAR-",null," -SELECCIONAR-",null,null," -SELECCIONAR-",null,null,null," -SELECCIONAR-",null,null," -SELECCIONAR-"," -SELECCIONAR-",null,null,null,null,null," -SELECCIONAR-",null,null,null,null,null,null," -SELECCIONAR-",null,null,null,null,null,null," -SELECCIONAR-",null,null,null,null,null,null," -SELECCIONAR-",null,null,{"$f":"LOOKUP(AB14,Catálogos!AP:AP,Catálogos!AO:AO)","v":"ERR"},{"$f":"CONCATENATE(LOOKUP(AC14,Catálogos!O:O,Catálogos!P:P),\".\",LOOKUP(AC14,Catálogos!O:O,Catálogos!Q:Q))","v":{"$error":"#N/A"}},{"$f":"IF(AC14=LOOKUP(CONCATENATE(AE14,\" - \",AC14),Catálogos!T:T,Catálogos!V:V),LOOKUP(CONCATENATE(AE14,\" - \",AC14),Catálogos!T:T,Catálogos!W:W),FALSE)","v":{"$error":"#N/A"}},{"$f":"LOOKUP(BD14,Catálogos!AM:AM,Catálogos!AL:AL)","v":"ERR"},{"$f":"LOOKUP(BK14,Catálogos!AM:AM,Catálogos!AL:AL)","v":"ERR"},{"$f":"LOOKUP(BR14,Catálogos!AM:AM,Catálogos!AL:AL)","v":"ERR"},{"$f":"LOOKUP(BY14,Catálogos!AM:AM,Catálogos!AL:AL)","v":"ERR"},0]
[null,null,null,null,null,null,null," -SELECCIONAR-"," -SELECCIONAR-"," -SELECCIONAR-",null," -SELECCIONAR-"," -SELECCIONAR-"," -SELECCIONAR-"," -SELECCIONAR-",null,null," -SELECCIONAR-",null,null,null," -SELECCIONAR-",null,null," -SELECCIONAR-",null," -SELECCIONAR-"," -SELECCIONAR-",null,{"$f":"IF(AC15=FALSE, LOOKUP(AC15,Catálogos!O:O),LOOKUP(AC15,Catálogos!O:O,Catálogos!R:R))","v":{"$error":"#N/A"}},null,null,null,null,{"$f":"IF(CD15=FALSE,\"COL. INCORRECTA\",LOOKUP(CONCATENATE(AE15,\" - \",AC15),Catálogos!T:T,Catálogos!Y:Y))","v":{"$error":"#N/A"}},{"$f":"IF(CD15=FALSE,\"COL. INCORRECTA\",LOOKUP(CONCATENATE(AE15,\" - \",AC15),Catálogos!T:T,Catálogos!X:X))","v":{"$error":"#N/A"}}," -SELECCIONAR-",null," -SELECCIONAR-",null,null," -SELECCIONAR-",null,null,null," -SELECCIONAR-",null,null," -SELECCIONAR-"," -SELECCIONAR-",null,null,null,null,null," -SELECCIONAR-",null,null,null,null,null,null," -SELECCIONAR-",null,null,null,null,null,null," -SELECCIONAR-",null,null,null,null,null,null," -SELECCIONAR-",null,null,{"$f":"LOOKUP(AB15,Catálogos!AP:AP,Catálogos!AO:AO)","v":"ERR"},{"$f":"CONCATENATE(LOOKUP(AC15,Catálogos!O:O,Catálogos!P:P),\".\",LOOKUP(AC15,Catálogos!O:O,Catálogos!Q:Q))","v":{"$error":"#N/A"}},{"$f":"IF(AC15=LOOKUP(CONCATENATE(AE15,\" - \",AC15),Catálogos!T:T,Catálogos!V:V),LOOKUP(CONCATENATE(AE15,\" - \",AC15),Catálogos!T:T,Catálogos!W:W),FALSE)","v":{"$error":"#N/A"}},{"$f":"LOOKUP(BD15,Catálogos!AM:AM,Catálogos!AL:AL)","v":"ERR"},{"$f":"LOOKUP(BK15,Catálogos!AM:AM,Catálogos!AL:AL)","v":"ERR"},{"$f":"LOOKUP(BR15,Catálogos!AM:AM,Catálogos!AL:AL)","v":"ERR"},{"$f":"LOOKUP(BY15,Catálogos!AM:AM,Catálogos!AL:AL)","v":"ERR"},0]
[null,null,null,null,null,null,null," -SELECCIONAR-"," -SELECCIONAR-"," -SELECCIONAR-",null," -SELECCIONAR-"," -SELECCIONAR-"," -SELECCIONAR-"," -SELECCIONAR-",null,null," -SELECCIONAR-",null,null,null," -SELECCIONAR-",null,null," -SELECCIONAR-",null," -SELECCIONAR-"," -SELECCIONAR-",null,{"$f":"IF(AC16=FALSE, LOOKUP(AC16,Catálogos!O:O),LOOKUP(AC16,Catálogos!O:O,Catálogos!R:R))","v":{"$error":"#N/A"}},null,null,null,null,{"$f":"IF(CD16=FALSE,\"COL. INCORRECTA\",LOOKUP(CONCATENATE(AE16,\" - \",AC16),Catálogos!T:T,Catálogos!Y:Y))","v":{"$error":"#N/A"}},{"$f":"IF(CD16=FALSE,\"COL. INCORRECTA\",LOOKUP(CONCATENATE(AE16,\" - \",AC16),Catálogos!T:T,Catálogos!X:X))","v":{"$error":"#N/A"}}," -SELECCIONAR-",null," -SELECCIONAR-",null,null," -SELECCIONAR-",null,null,null," -SELECCIONAR-",null,null," -SELECCIONAR-"," -SELECCIONAR-",null,null,null,null,null," -SELECCIONAR-",null,null,null,null,null,null," -SELECCIONAR-",null,null,null,null,null,null," -SELECCIONAR-",null,null,null,null,null,null," -SELECCIONAR-",null,null,{"$f":"LOOKUP(AB16,Catálogos!AP:AP,Catálogos!AO:AO)","v":"ERR"},{"$f":"CONCATENATE(LOOKUP(AC16,Catálogos!O:O,Catálogos!P:P),\".\",LOOKUP(AC16,Catálogos!O:O,Catálogos!Q:Q))","v":{"$error":"#N/A"}},{"$f":"IF(AC16=LOOKUP(CONCATENATE(AE16,\" - \",AC16),Catálogos!T:T,Catálogos!V:V),LOOKUP(CONCATENATE(AE16,\" - \",AC16),Catálogos!T:T,Catálogos!W:W),FALSE)","v":{"$error":"#N/A"}},{"$f":"LOOKUP(BD16,Catálogos!AM:AM,Catálogos!AL:AL)","v":"ERR"},{"$f":"LOOKUP(BK16,Catálogos!AM:AM,Catálogos!AL:AL)","v":"ERR"},{"$f":"LOOKUP(BR16,Catálogos!AM:AM,Catálogos!AL:AL)","v":"ERR"},{"$f":"LOOKUP(BY16,Catálogos!AM:AM,Catálogos!AL:AL)","v":"ERR"},0]
[null,null,null,null,null,null,null," -SELECCIONAR-"," -SELECCIONAR-"," -SELECCIONAR-",null," -SELECCIONAR-"," -SELECCIONAR-"," -SELECCIONAR-"," -SELECCIONAR-",null,null," -SELECCIONAR-",null,null,null," -SELECCIONAR-",null,null," -SELECCIONAR-",null," -SELECCIONAR-"," -SELECCIONAR-",null,{"$f":"IF(AC17=FALSE, LOOKUP(AC17,Catálogos!O:O),LOOKUP(AC17,Catálogos!O:O,Catálogos!R:R))","v":{"$error":"#N/A"}},null,null,null,null,{"$f":"IF(CD17=FALSE,\"COL. INCORRECTA\",LOOKUP(CONCATENATE(AE17,\" - \",AC17),Catálogos!T:T,Catálogos!Y:Y))","v":{"$error":"#N/A"}},{"$f":"IF(CD17=FALSE,\"COL. INCORRECTA\",LOOKUP(CONCATENATE(AE17,\" - \",AC17),Catálogos!T:T,Catálogos!X:X))","v":{"$error":"#N/A"}}," -SELECCIONAR-",null," -SELECCIONAR-",null,null," -SELECCIONAR-",null,null,null," -SELECCIONAR-",null,null," -SELECCIONAR-"," -SELECCIONAR-",null,null,null,null,null," -SELECCIONAR-",null,null,null,null,null,null," -SELECCIONAR-",null,null,null,null,null,null," -SELECCIONAR-",null,null,null,null,null,null," -SELECCIONAR-",null,null,{"$f":"LOOKUP(AB17,Catálogos!AP:AP,Catálogos!AO:AO)","v":"ERR"},{"$f":"CONCATENATE(LOOKUP(AC17,Catálogos!O:O,Catálogos!P:P),\".\",LOOKUP(AC17,Catálogos!O:O,Catálogos!Q:Q))","v":{"$error":"#N/A"}},{"$f":"IF(AC17=LOOKUP(CONCATENATE(AE17,\" - \",AC17),Catálogos!T:T,Catálogos!V:V),LOOKUP(CONCATENATE(AE17,\" - \",AC17),Catálogos!T:T,Catálogos!W:W),FALSE)","v":{"$error":"#N/A"}},{"$f":"LOOKUP(BD17,Catálogos!AM:AM,Catálogos!AL:AL)","v":"ERR"},{"$f":"LOOKUP(BK17,Catálogos!AM:AM,Catálogos!AL:AL)","v":"ERR"},{"$f":"LOOKUP(BR17,Catálogos!AM:AM,Catálogos!AL:AL)","v":"ERR"},{"$f":"LOOKUP(BY17,Catálogos!AM:AM,Catálogos!AL:AL)","v":"ERR"},0]
[null,null,null,null,null,null,null," -SELECCIONAR-"," -SELECCIONAR-"," -SELECCIONAR-",null," -SELECCIONAR-"," -SELECCIONAR-"," -SELECCIONAR-"," -SELECCIONAR-",null,null," -SELECCIONAR-",null,null,null," -SELECCIONAR-",null,null," -SELECCIONAR-",null," -SELECCIONAR-"," -SELECCIONAR-",null,{"$f":"IF(AC18=FALSE, LOOKUP(AC18,Catálogos!O:O),LOOKUP(AC18,Catálogos!O:O,Catálogos!R:R))","v":{"$error":"#N/A"}},null,null,null,null,{"$f":"IF(CD18=FALSE,\"COL. INCORRECTA\",LOOKUP(CONCATENATE(AE18,\" - \",AC18),Catálogos!T:T,Catálogos!Y:Y))","v":{"$error":"#N/A"}},{"$f":"IF(CD18=FALSE,\"COL. INCORRECTA\",LOOKUP(CONCATENATE(AE18,\" - \",AC18),Catálogos!T:T,Catálogos!X:X))","v":{"$error":"#N/A"}}," -SELECCIONAR-",""," -SELECCIONAR-",null,null," -SELECCIONAR-",null,null,null," -SELECCIONAR-",null,null," -SELECCIONAR-"," -SELECCIONAR-",null,null,null,null,null," -SELECCIONAR-",null,null,null,null,null,null," -SELECCIONAR-",null,null,null,null,null,null," -SELECCIONAR-",null,null,null,null,null,null," -SELECCIONAR-",null,null,{"$f":"LOOKUP(AB18,Catálogos!AP:AP,Catálogos!AO:AO)","v":"ERR"},{"$f":"CONCATENATE(LOOKUP(AC18,Catálogos!O:O,Catálogos!P:P),\".\",LOOKUP(AC18,Catálogos!O:O,Catálogos!Q:Q))","v":{"$error":"#N/A"}},{"$f":"IF(AC18=LOOKUP(CONCATENATE(AE18,\" - \",AC18),Catálogos!T:T,Catálogos!V:V),LOOKUP(CONCATENATE(AE18,\" - \",AC18),Catálogos!T:T,Catálogos!W:W),FALSE)","v":{"$error":"#N/A"}},{"$f":"LOOKUP(BD18,Catálogos!AM:AM,Catálogos!AL:AL)","v":"ERR"},{"$f":"LOOKUP(BK18,Catálogos!AM:AM,Catálogos!AL:AL)","v":"ERR"},{"$f":"LOOKUP(BR18,Catálogos!AM:AM,Catálogos!AL:AL)","v":"ERR"},{"$f":"LOOKUP(BY18,Catálogos!AM:AM,Catálogos!AL:AL)","v":"ERR"},0]
[null,null,null,null,null,null,null," -SELECCIONAR-"," -SELECCIONAR-"," -SELECCIONAR-",null," -SELECCIONAR-"," -SELECCIONAR-"," -SELECCIONAR-"," -SELECCIONAR-",null,null," -SELECCIONAR-",null,null,null," -SELECCIONAR-",null,null," -SELECCIONAR-",null," -SELECCIONAR-"," -SELECCIONAR-",null,{"$f":"IF(AC19=FALSE, LOOKUP(AC19,Catálogos!O:O),LOOKUP(AC19,Catálogos!O:O,Catálogos!R:R))","v":{"$error":"#N/A"}},null,null,null,null,{"$f":"IF(CD19=FALSE,\"COL. INCORRECTA\",LOOKUP(CONCATENATE(AE19,\" - \",AC19),Catálogos!T:T,Catálogos!Y:Y))","v":{"$error":"#N/A"}},{"$f":"IF(CD19=FALSE,\"COL. INCORRECTA\",LOOKUP(CONCATENATE(AE19,\" - \",AC19),Catálogos!T:T,Catálogos!X:X))","v":{"$error":"#N/A"}}," -SELECCIONAR-",""," -SELECCIONAR-",null,null," -SELECCIONAR-",null,null,null," -SELECCIONAR-",null,null," -SELECCIONAR-"," -SELECCIONAR-",null,null,null,null,null," -SELECCIONAR-",null,null,null,null,null,null," -SELECCIONAR-",null,null,null,null,null,null," -SELECCIONAR-",null,null,null,null,null,null," -SELECCIONAR-",null,null,{"$f":"LOOKUP(AB19,Catálogos!AP:AP,Catálogos!AO:AO)","v":"ERR"},{"$f":"CONCATENATE(LOOKUP(AC19,Catálogos!O:O,Catálogos!P:P),\".\",LOOKUP(AC19,Catálogos!O:O,Catálogos!Q:Q))","v":{"$error":"#N/A"}},{"$f":"IF(AC19=LOOKUP(CONCATENATE(AE19,\" - \",AC19),Catálogos!T:T,Catálogos!V:V),LOOKUP(CONCATENATE(AE19,\" - \",AC19),Catálogos!T:T,Catálogos!W:W),FALSE)","v":{"$error":"#N/A"}},{"$f":"LOOKUP(BD19,Catálogos!AM:AM,Catálogos!AL:AL)","v":"ERR"},{"$f":"LOOKUP(BK19,Catálogos!AM:AM,Catálogos!AL:AL)","v":"ERR"},{"$f":"LOOKUP(BR19,Catálogos!AM:AM,Catálogos!AL:AL)","v":"ERR"},{"$f":"LOOKUP(BY19,Catálogos!AM:AM,Catálogos!AL:AL)","v":"ERR"},0]
[null,null,null,null,null,null,null," -SELECCIONAR-"," -SELECCIONAR-"," -SELECCIONAR-",null," -SELECCIONAR-"," -SELECCIONAR-"," -SELECCIONAR-"," -SELECCIONAR-",null,null," -SELECCIONAR-",null,null,null," -SELECCIONAR-",null,null," -SELECCIONAR-",null," -SELECCIONAR-"," -SELECCIONAR-",null,{"$f":"IF(AC20=FALSE, LOOKUP(AC20,Catálogos!O:O),LOOKUP(AC20,Catálogos!O:O,Catálogos!R:R))","v":{"$error":"#N/A"}},null,null,null,null,{"$f":"IF(CD20=FALSE,\"COL. INCORRECTA\",LOOKUP(CONCATENATE(AE20,\" - \",AC20),Catálogos!T:T,Catálogos!Y:Y))","v":{"$error":"#N/A"}},{"$f":"IF(CD20=FALSE,\"COL. INCORRECTA\",LOOKUP(CONCATENATE(AE20,\" - \",AC20),Catálogos!T:T,Catálogos!X:X))","v":{"$error":"#N/A"}}," -SELECCIONAR-",""," -SELECCIONAR-",null,null," -SELECCIONAR-",null,null,null," -SELECCIONAR-",null,null," -SELECCIONAR-"," -SELECCIONAR-",null,null,null,null,null," -SELECCIONAR-",null,null,null,null,null,null," -SELECCIONAR-",null,null,null,null,null,null," -SELECCIONAR-",null,null,null,null,null,null," -SELECCIONAR-",null,null,{"$f":"LOOKUP(AB20,Catálogos!AP:AP,Catálogos!AO:AO)","v":"ERR"},{"$f":"CONCATENATE(LOOKUP(AC20,Catálogos!O:O,Catálogos!P:P),\".\",LOOKUP(AC20,Catálogos!O:O,Catálogos!Q:Q))","v":{"$error":"#N/A"}},{"$f":"IF(AC20=LOOKUP(CONCATENATE(AE20,\" - \",AC20),Catálogos!T:T,Catálogos!V:V),LOOKUP(CONCATENATE(AE20,\" - \",AC20),Catálogos!T:T,Catálogos!W:W),FALSE)","v":{"$error":"#N/A"}},{"$f":"LOOKUP(BD20,Catálogos!AM:AM,Catálogos!AL:AL)","v":"ERR"},{"$f":"LOOKUP(BK20,Catálogos!AM:AM,Catálogos!AL:AL)","v":"ERR"},{"$f":"LOOKUP(BR20,Catálogos!AM:AM,Catálogos!AL:AL)","v":"ERR"},{"$f":"LOOKUP(BY20,Catálogos!AM:AM,Catálogos!AL:AL)","v":"ERR"},0]
[null,null,null,null,null,null,null," -SELECCIONAR-"," -SELECCIONAR-"," -SELECCIONAR-",null," -SELECCIONAR-"," -SELECCIONAR-"," -SELECCIONAR-"," -SELECCIONAR-",null,null," -SELECCIONAR-",null,null,null," -SELECCIONAR-",null,null," -SELECCIONAR-",null," -SELECCIONAR-"," -SELECCIONAR-",null,{"$f":"IF(AC21=FALSE, LOOKUP(AC21,Catálogos!O:O),LOOKUP(AC21,Catálogos!O:O,Catálogos!R:R))","v":{"$error":"#N/A"}},"",null,null,null,{"$f":"IF(CD21=FALSE,\"COL. INCORRECTA\",LOOKUP(CONCATENATE(AE21,\" - \",AC21),Catálogos!T:T,Catálogos!Y:Y))","v":{"$error":"#N/A"}},{"$f":"IF(CD21=FALSE,\"COL. INCORRECTA\",LOOKUP(CONCATENATE(AE21,\" - \",AC21),Catálogos!T:T,Catálogos!X:X))","v":{"$error":"#N/A"}}," -SELECCIONAR-",""," -SELECCIONAR-",null,null," -SELECCIONAR-",null,null,null," -SELECCIONAR-",null,null," -SELECCIONAR-"," -SELECCIONAR-",null,null,null,null,null," -SELECCIONAR-",null,null,null,null,null,null," -SELECCIONAR-",null,null,null,null,null,null," -SELECCIONAR-",null,null,null,null,null,null," -SELECCIONAR-",null,null,{"$f":"LOOKUP(AB21,Catálogos!AP:AP,Catálogos!AO:AO)","v":"ERR"},{"$f":"CONCATENATE(LOOKUP(AC21,Catálogos!O:O,Catálogos!P:P),\".\",LOOKUP(AC21,Catálogos!O:O,Catálogos!Q:Q))","v":{"$error":"#N/A"}},{"$f":"IF(AC21=LOOKUP(CONCATENATE(AE21,\" - \",AC21),Catálogos!T:T,Catálogos!V:V),LOOKUP(CONCATENATE(AE21,\" - \",AC21),Catálogos!T:T,Catálogos!W:W),FALSE)","v":{"$error":"#N/A"}},{"$f":"LOOKUP(BD21,Catálogos!AM:AM,Catálogos!AL:AL)","v":"ERR"},{"$f":"LOOKUP(BK21,Catálogos!AM:AM,Catálogos!AL:AL)","v":"ERR"},{"$f":"LOOKUP(BR21,Catálogos!AM:AM,Catálogos!AL:AL)","v":"ERR"},{"$f":"LOOKUP(BY21,Catálogos!AM:AM,Catálogos!AL:AL)","v":"ERR"},0]
[null,null,null,null,null,null,null," -SELECCIONAR-"," -SELECCIONAR-"," -SELECCIONAR-",null," -SELECCIONAR-"," -SELECCIONAR-"," -SELECCIONAR-"," -SELECCIONAR-",null,null," -SELECCIONAR-",null,null,null," -SELECCIONAR-",null,null," -SELECCIONAR-",null," -SELECCIONAR-"," -SELECCIONAR-",null,{"$f":"IF(AC22=FALSE, LOOKUP(AC22,Catálogos!O:O),LOOKUP(AC22,Catálogos!O:O,Catálogos!R:R))","v":{"$error":"#N/A"}},"",null,null,null,{"$f":"IF(CD22=FALSE,\"COL. INCORRECTA\",LOOKUP(CONCATENATE(AE22,\" - \",AC22),Catálogos!T:T,Catálogos!Y:Y))","v":{"$error":"#N/A"}},{"$f":"IF(CD22=FALSE,\"COL. INCORRECTA\",LOOKUP(CONCATENATE(AE22,\" - \",AC22),Catálogos!T:T,Catálogos!X:X))","v":{"$error":"#N/A"}}," -SELECCIONAR-",""," -SELECCIONAR-",null,null," -SELECCIONAR-",null,null,null," -SELECCIONAR-",null,null," -SELECCIONAR-"," -SELECCIONAR-",null,null,null,null,null," -SELECCIONAR-",null,null,null,null,null,null," -SELECCIONAR-",null,null,null,null,null,null," -SELECCIONAR-",null,null,null,null,null,null," -SELECCIONAR-",null,null,{"$f":"LOOKUP(AB22,Catálogos!AP:AP,Catálogos!AO:AO)","v":"ERR"},{"$f":"CONCATENATE(LOOKUP(AC22,Catálogos!O:O,Catálogos!P:P),\".\",LOOKUP(AC22,Catálogos!O:O,Catálogos!Q:Q))","v":{"$error":"#N/A"}},{"$f":"IF(AC22=LOOKUP(CONCATENATE(AE22,\" - \",AC22),Catálogos!T:T,Catálogos!V:V),LOOKUP(CONCATENATE(AE22,\" - \",AC22),Catálogos!T:T,Catálogos!W:W),FALSE)","v":{"$error":"#N/A"}},{"$f":"LOOKUP(BD22,Catálogos!AM:AM,Catálogos!AL:AL)","v":"ERR"},{"$f":"LOOKUP(BK22,Catálogos!AM:AM,Catálogos!AL:AL)","v":"ERR"},{"$f":"LOOKUP(BR22,Catálogos!AM:AM,Catálogos!AL:AL)","v":"ERR"},{"$f":"LOOKUP(BY22,Catálogos!AM:AM,Catálogos!AL:AL)","v":"ERR"},0]
[null,null,null,null,null,null,null," -SELECCIONAR-"," -SELECCIONAR-"," -SELECCIONAR-",null," -SELECCIONAR-"," -SELECCIONAR-"," -SELECCIONAR-"," -SELECCIONAR-",null,null," -SELECCIONAR-",null,null,null," -SELECCIONAR-",null,null," -SELECCIONAR-",null," -SELECCIONAR-"," -SELECCIONAR-",null,{"$f":"IF(AC23=FALSE, LOOKUP(AC23,Catálogos!O:O),LOOKUP(AC23,Catálogos!O:O,Catálogos!R:R))","v":{"$error":"#N/A"}},"",null,null,null,{"$f":"IF(CD23=FALSE,\"COL. INCORRECTA\",LOOKUP(CONCATENATE(AE23,\" - \",AC23),Catálogos!T:T,Catálogos!Y:Y))","v":{"$error":"#N/A"}},{"$f":"IF(CD23=FALSE,\"COL. INCORRECTA\",LOOKUP(CONCATENATE(AE23,\" - \",AC23),Catálogos!T:T,Catálogos!X:X))","v":{"$error":"#N/A"}}," -SELECCIONAR-",""," -SELECCIONAR-",null,null," -SELECCIONAR-",null,null,null," -SELECCIONAR-",null,null," -SELECCIONAR-"," -SELECCIONAR-",null,null,null,null,null," -SELECCIONAR-",null,null,null,null,null,null," -SELECCIONAR-",null,null,null,null,null,null," -SELECCIONAR-",null,null,null,null,null,null," -SELECCIONAR-",null,null,{"$f":"LOOKUP(AB23,Catálogos!AP:AP,Catálogos!AO:AO)","v":"ERR"},{"$f":"CONCATENATE(LOOKUP(AC23,Catálogos!O:O,Catálogos!P:P),\".\",LOOKUP(AC23,Catálogos!O:O,Catálogos!Q:Q))","v":{"$error":"#N/A"}},{"$f":"IF(AC23=LOOKUP(CONCATENATE(AE23,\" - \",AC23),Catálogos!T:T,Catálogos!V:V),LOOKUP(CONCATENATE(AE23,\" - \",AC23),Catálogos!T:T,Catálogos!W:W),FALSE)","v":{"$error":"#N/A"}},{"$f":"LOOKUP(BD23,Catálogos!AM:AM,Catálogos!AL:AL)","v":"ERR"},{"$f":"LOOKUP(BK23,Catálogos!AM:AM,Catálogos!AL:AL)","v":"ERR"},{"$f":"LOOKUP(BR23,Catálogos!AM:AM,Catálogos!AL:AL)","v":"ERR"},{"$f":"LOOKUP(BY23,Catálogos!AM:AM,Catálogos!AL:AL)","v":"ERR"},0]
[null,null,null,null,null,null,null," -SELECCIONAR-"," -SELECCIONAR-"," -SELECCIONAR-",null," -SELECCIONAR-"," -SELECCIONAR-"," -SELECCIONAR-"," -SELECCIONAR-",null,null," -SELECCIONAR-",null,null,null," -SELECCIONAR-",null,null," -SELECCIONAR-",null," -SELECCIONAR-"," -SELECCIONAR-",null,{"$f":"IF(AC24=FALSE, LOOKUP(AC24,Catálogos!O:O),LOOKUP(AC24,Catálogos!O:O,Catálogos!R:R))","v":{"$error":"#N/A"}},"",null,null,null,{"$f":"IF(CD24=FALSE,\"COL. INCORRECTA\",LOOKUP(CONCATENATE(AE24,\" - \",AC24),Catálogos!T:T,Catálogos!Y:Y))","v":{"$error":"#N/A"}},{"$f":"IF(CD24=FALSE,\"COL. INCORRECTA\",LOOKUP(CONCATENATE(AE24,\" - \",AC24),Catálogos!T:T,Catálogos!X:X))","v":{"$error":"#N/A"}}," -SELECCIONAR-",""," -SELECCIONAR-",null,null," -SELECCIONAR-",null,null,null," -SELECCIONAR-",null,null," -SELECCIONAR-"," -SELECCIONAR-",null,null,null,null,null," -SELECCIONAR-",null,null,null,null,null,null," -SELECCIONAR-",null,null,null,null,null,null," -SELECCIONAR-",null,null,null,null,null,null," -SELECCIONAR-",null,null,{"$f":"LOOKUP(AB24,Catálogos!AP:AP,Catálogos!AO:AO)","v":"ERR"},{"$f":"CONCATENATE(LOOKUP(AC24,Catálogos!O:O,Catálogos!P:P),\".\",LOOKUP(AC24,Catálogos!O:O,Catálogos!Q:Q))","v":{"$error":"#N/A"}},{"$f":"IF(AC24=LOOKUP(CONCATENATE(AE24,\" - \",AC24),Catálogos!T:T,Catálogos!V:V),LOOKUP(CONCATENATE(AE24,\" - \",AC24),Catálogos!T:T,Catálogos!W:W),FALSE)","v":{"$error":"#N/A"}},{"$f":"LOOKUP(BD24,Catálogos!AM:AM,Catálogos!AL:AL)","v":"ERR"},{"$f":"LOOKUP(BK24,Catálogos!AM:AM,Catálogos!AL:AL)","v":"ERR"},{"$f":"LOOKUP(BR24,Catálogos!AM:AM,Catálogos!AL:AL)","v":"ERR"},{"$f":"LOOKUP(BY24,Catálogos!AM:AM,Catálogos!AL:AL)","v":"ERR"},0]
[null,null,null,null,null,null,null," -SELECCIONAR-"," -SELECCIONAR-"," -SELECCIONAR-",null," -SELECCIONAR-"," -SELECCIONAR-"," -SELECCIONAR-"," -SELECCIONAR-",null,null," -SELECCIONAR-",null,null,null," -SELECCIONAR-",null,null," -SELECCIONAR-",null," -SELECCIONAR-"," -SELECCIONAR-",null,{"$f":"IF(AC25=FALSE, LOOKUP(AC25,Catálogos!O:O),LOOKUP(AC25,Catálogos!O:O,Catálogos!R:R))","v":{"$error":"#N/A"}},"",null,null,null,{"$f":"IF(CD25=FALSE,\"COL. INCORRECTA\",LOOKUP(CONCATENATE(AE25,\" - \",AC25),Catálogos!T:T,Catálogos!Y:Y))","v":{"$error":"#N/A"}},{"$f":"IF(CD25=FALSE,\"COL. INCORRECTA\",LOOKUP(CONCATENATE(AE25,\" - \",AC25),Catálogos!T:T,Catálogos!X:X))","v":{"$error":"#N/A"}}," -SELECCIONAR-",""," -SELECCIONAR-",null,null," -SELECCIONAR-",null,null,null," -SELECCIONAR-",null,null," -SELECCIONAR-"," -SELECCIONAR-",null,null,null,null,null," -SELECCIONAR-",null,null,null,null,null,null," -SELECCIONAR-",null,null,null,null,null,null," -SELECCIONAR-",null,null,null,null,null,null," -SELECCIONAR-",null,null,{"$f":"LOOKUP(AB25,Catálogos!AP:AP,Catálogos!AO:AO)","v":"ERR"},{"$f":"CONCATENATE(LOOKUP(AC25,Catálogos!O:O,Catálogos!P:P),\".\",LOOKUP(AC25,Catálogos!O:O,Catálogos!Q:Q))","v":{"$error":"#N/A"}},{"$f":"IF(AC25=LOOKUP(CONCATENATE(AE25,\" - \",AC25),Catálogos!T:T,Catálogos!V:V),LOOKUP(CONCATENATE(AE25,\" - \",AC25),Catálogos!T:T,Catálogos!W:W),FALSE)","v":{"$error":"#N/A"}},{"$f":"LOOKUP(BD25,Catálogos!AM:AM,Catálogos!AL:AL)","v":"ERR"},{"$f":"LOOKUP(BK25,Catálogos!AM:AM,Catálogos!AL:AL)","v":"ERR"},{"$f":"LOOKUP(BR25,Catálogos!AM:AM,Catálogos!AL:AL)","v":"ERR"},{"$f":"LOOKUP(BY25,Catálogos!AM:AM,Catálogos!AL:AL)","v":"ERR"},0]
[null,null,null,null,null,null,null," -SELECCIONAR-"," -SELECCIONAR-"," -SELECCIONAR-",null," -SELECCIONAR-"," -SELECCIONAR-"," -SELECCIONAR-"," -SELECCIONAR-",null,null," -SELECCIONAR-",null,null,null," -SELECCIONAR-",null,null," -SELECCIONAR-",null," -SELECCIONAR-"," -SELECCIONAR-",null,{"$f":"IF(AC26=FALSE, LOOKUP(AC26,Catálogos!O:O),LOOKUP(AC26,Catálogos!O:O,Catálogos!R:R))","v":{"$error":"#N/A"}},"",null,null,null,{"$f":"IF(CD26=FALSE,\"COL. INCORRECTA\",LOOKUP(CONCATENATE(AE26,\" - \",AC26),Catálogos!T:T,Catálogos!Y:Y))","v":{"$error":"#N/A"}},{"$f":"IF(CD26=FALSE,\"COL. INCORRECTA\",LOOKUP(CONCATENATE(AE26,\" - \",AC26),Catálogos!T:T,Catálogos!X:X))","v":{"$error":"#N/A"}}," -SELECCIONAR-",""," -SELECCIONAR-",null,null," -SELECCIONAR-",null,null,null," -SELECCIONAR-",null,null," -SELECCIONAR-"," -SELECCIONAR-",null,null,null,null,null," -SELECCIONAR-",null,null,null,null,null,null," -SELECCIONAR-",null,null,null,null,null,null," -SELECCIONAR-",null,null,null,null,null,null," -SELECCIONAR-",null,null,{"$f":"LOOKUP(AB26,Catálogos!AP:AP,Catálogos!AO:AO)","v":"ERR"},{"$f":"CONCATENATE(LOOKUP(AC26,Catálogos!O:O,Catálogos!P:P),\".\",LOOKUP(AC26,Catálogos!O:O,Catálogos!Q:Q))","v":{"$error":"#N/A"}},{"$f":"IF(AC26=LOOKUP(CONCATENATE(AE26,\" - \",AC26),Catálogos!T:T,Catálogos!V:V),LOOKUP(CONCATENATE(AE26,\" - \",AC26),Catálogos!T:T,Catálogos!W:W),FALSE)","v":{"$error":"#N/A"}},{"$f":"LOOKUP(BD26,Catálogos!AM:AM,Catálogos!AL:AL)","v":"ERR"},{"$f":"LOOKUP(BK26,Catálogos!AM:AM,Catálogos!AL:AL)","v":"ERR"},{"$f":"LOOKUP(BR26,Catálogos!AM:AM,Catálogos!AL:AL)","v":"ERR"},{"$f":"LOOKUP(BY26,Catálogos!AM:AM,Catálogos!AL:AL)","v":"ERR"},0]
[null,null,null,null,null,null,null," -SELECCIONAR-"," -SELECCIONAR-"," -SELECCIONAR-",null," -SELECCIONAR-"," -SELECCIONAR-"," -SELECCIONAR-"," -SELECCIONAR-",null,null," -SELECCIONAR-",null,null,null," -SELECCIONAR-",null,null," -SELECCIONAR-",null," -SELECCIONAR-"," -SELECCIONAR-",null,{"$f":"IF(AC27=FALSE, LOOKUP(AC27,Catálogos!O:O),LOOKUP(AC27,Catálogos!O:O,Catálogos!R:R))","v":{"$error":"#N/A"}},"",null,null,null,{"$f":"IF(CD27=FALSE,\"COL. INCORRECTA\",LOOKUP(CONCATENATE(AE27,\" - \",AC27),Catálogos!T:T,Catálogos!Y:Y))","v":{"$error":"#N/A"}},{"$f":"IF(CD27=FALSE,\"COL. INCORRECTA\",LOOKUP(CONCATENATE(AE27,\" - \",AC27),Catálogos!T:T,Catálogos!X:X))","v":{"$error":"#N/A"}}," -SELECCIONAR-",""," -SELECCIONAR-",null,null," -SELECCIONAR-",null,null,null," -SELECCIONAR-",null,null," -SELECCIONAR-"," -SELECCIONAR-",null,null,null,null,null," -SELECCIONAR-",null,null,null,null,null,null," -SELECCIONAR-",null,null,null,null,null,null," -SELECCIONAR-",null,null,null,null,null,null," -SELECCIONAR-",null,null,{"$f":"LOOKUP(AB27,Catálogos!AP:AP,Catálogos!AO:AO)","v":"ERR"},{"$f":"CONCATENATE(LOOKUP(AC27,Catálogos!O:O,Catálogos!P:P),\".\",LOOKUP(AC27,Catálogos!O:O,Catálogos!Q:Q))","v":{"$error":"#N/A"}},{"$f":"IF(AC27=LOOKUP(CONCATENATE(AE27,\" - \",AC27),Catálogos!T:T,Catálogos!V:V),LOOKUP(CONCATENATE(AE27,\" - \",AC27),Catálogos!T:T,Catálogos!W:W),FALSE)","v":{"$error":"#N/A"}},{"$f":"LOOKUP(BD27,Catálogos!AM:AM,Catálogos!AL:AL)","v":"ERR"},{"$f":"LOOKUP(BK27,Catálogos!AM:AM,Catálogos!AL:AL)","v":"ERR"},{"$f":"LOOKUP(BR27,Catálogos!AM:AM,Catálogos!AL:AL)","v":"ERR"},{"$f":"LOOKUP(BY27,Catálogos!AM:AM,Catálogos!AL:AL)","v":"ERR"},0]
[null,null,null,null,null,null,null," -SELECCIONAR-"," -SELECCIONAR-"," -SELECCIONAR-",null," -SELECCIONAR-"," -SELECCIONAR-"," -SELECCIONAR-"," -SELECCIONAR-",null,null," -SELECCIONAR-",null,null,null," -SELECCIONAR-",null,null," -SELECCIONAR-",null," -SELECCIONAR-"," -SELECCIONAR-",null,{"$f":"IF(AC28=FALSE, LOOKUP(AC28,Catálogos!O:O),LOOKUP(AC28,Catálogos!O:O,Catálogos!R:R))","v":{"$error":"#N/A"}},"",null,null,null,{"$f":"IF(CD28=FALSE,\"COL. INCORRECTA\",LOOKUP(CONCATENATE(AE28,\" - \",AC28),Catálogos!T:T,Catálogos!Y:Y))","v":{"$error":"#N/A"}},{"$f":"IF(CD28=FALSE,\"COL. INCORRECTA\",LOOKUP(CONCATENATE(AE28,\" - \",AC28),Catálogos!T:T,Catálogos!X:X))","v":{"$error":"#N/A"}}," -SELECCIONAR-",""," -SELECCIONAR-",null,null," -SELECCIONAR-",null,null,null," -SELECCIONAR-",null,null," -SELECCIONAR-"," -SELECCIONAR-",null,null,null,null,null," -SELECCIONAR-",null,null,null,null,null,null," -SELECCIONAR-",null,null,null,null,null,null," -SELECCIONAR-",null,null,null,null,null,null," -SELECCIONAR-",null,null,{"$f":"LOOKUP(AB28,Catálogos!AP:AP,Catálogos!AO:AO)","v":"ERR"},{"$f":"CONCATENATE(LOOKUP(AC28,Catálogos!O:O,Catálogos!P:P),\".\",LOOKUP(AC28,Catálogos!O:O,Catálogos!Q:Q))","v":{"$error":"#N/A"}},{"$f":"IF(AC28=LOOKUP(CONCATENATE(AE28,\" - \",AC28),Catálogos!T:T,Catálogos!V:V),LOOKUP(CONCATENATE(AE28,\" - \",AC28),Catálogos!T:T,Catálogos!W:W),FALSE)","v":{"$error":"#N/A"}},{"$f":"LOOKUP(BD28,Catálogos!AM:AM,Catálogos!AL:AL)","v":"ERR"},{"$f":"LOOKUP(BK28,Catálogos!AM:AM,Catálogos!AL:AL)","v":"ERR"},{"$f":"LOOKUP(BR28,Catálogos!AM:AM,Catálogos!AL:AL)","v":"ERR"},{"$f":"LOOKUP(BY28,Catálogos!AM:AM,Catálogos!AL:AL)","v":"ERR"},0]
[null,null,null,null,null,null,null," -SELECCIONAR-"," -SELECCIONAR-"," -SELECCIONAR-",null," -SELECCIONAR-"," -SELECCIONAR-"," -SELECCIONAR-"," -SELECCIONAR-",null,null," -SELECCIONAR-",null,null,null," -SELECCIONAR-",null,null," -SELECCIONAR-",null," -SELECCIONAR-"," -SELECCIONAR-",null,{"$f":"IF(AC29=FALSE, LOOKUP(AC29,Catálogos!O:O),LOOKUP(AC29,Catálogos!O:O,Catálogos!R:R))","v":{"$error":"#N/A"}},"",null,null,null,{"$f":"IF(CD29=FALSE,\"COL. INCORRECTA\",LOOKUP(CONCATENATE(AE29,\" - \",AC29),Catálogos!T:T,Catálogos!Y:Y))","v":{"$error":"#N/A"}},{"$f":"IF(CD29=FALSE,\"COL. INCORRECTA\",LOOKUP(CONCATENATE(AE29,\" - \",AC29),Catálogos!T:T,Catálogos!X:X))","v":{"$error":"#N/A"}}," -SELECCIONAR-",""," -SELECCIONAR-",null,null," -SELECCIONAR-",null,null,null," -SELECCIONAR-",null,null," -SELECCIONAR-"," -SELECCIONAR-",null,null,null,null,null," -SELECCIONAR-",null,null,null,null,null,null," -SELECCIONAR-",null,null,null,null,null,null," -SELECCIONAR-",null,null,null,null,null,null," -SELECCIONAR-",null,null,{"$f":"LOOKUP(AB29,Catálogos!AP:AP,Catálogos!AO:AO)","v":"ERR"},{"$f":"CONCATENATE(LOOKUP(AC29,Catálogos!O:O,Catálogos!P:P),\".\",LOOKUP(AC29,Catálogos!O:O,Catálogos!Q:Q))","v":{"$error":"#N/A"}},{"$f":"IF(AC29=LOOKUP(CONCATENATE(AE29,\" - \",AC29),Catálogos!T:T,Catálogos!V:V),LOOKUP(CONCATENATE(AE29,\" - \",AC29),Catálogos!T:T,Catálogos!W:W),FALSE)","v":{"$error":"#N/A"}},{"$f":"LOOKUP(BD29,Catálogos!AM:AM,Catálogos!AL:AL)","v":"ERR"},{"$f":"LOOKUP(BK29,Catálogos!AM:AM,Catálogos!AL:AL)","v":"ERR"},{"$f":"LOOKUP(BR29,Catálogos!AM:AM,Catálogos!AL:AL)","v":"ERR"},{"$f":"LOOKUP(BY29,Catálogos!AM:AM,Catálogos!AL:AL)","v":"ERR"},0]
[null,null,null,null,null,null,null," -SELECCIONAR-"," -SELECCIONAR-"," -SELECCIONAR-",null," -SELECCIONAR-"," -SELECCIONAR-"," -SELECCIONAR-"," -SELECCIONAR-",null,null," -SELECCIONAR-",null,null,null," -SELECCIONAR-",null,null," -SELECCIONAR-",null," -SELECCIONAR-"," -SELECCIONAR-",null,{"$f":"IF(AC30=FALSE, LOOKUP(AC30,Catálogos!O:O),LOOKUP(AC30,Catálogos!O:O,Catálogos!R:R))","v":{"$error":"#N/A"}},"",null,null,null,{"$f":"IF(CD30=FALSE,\"COL. INCORRECTA\",LOOKUP(CONCATENATE(AE30,\" - \",AC30),Catálogos!T:T,Catálogos!Y:Y))","v":{"$error":"#N/A"}},{"$f":"IF(CD30=FALSE,\"COL. INCORRECTA\",LOOKUP(CONCATENATE(AE30,\" - \",AC30),Catálogos!T:T,Catálogos!X:X))","v":{"$error":"#N/A"}}," -SELECCIONAR-",""," -SELECCIONAR-",null,null," -SELECCIONAR-",null,null,null," -SELECCIONAR-",null,null," -SELECCIONAR-"," -SELECCIONAR-",null,null,null,null,null," -SELECCIONAR-",null,null,null,null,null,null," -SELECCIONAR-",null,null,null,null,null,null," -SELECCIONAR-",null,null,null,null,null,null," -SELECCIONAR-",null,null,{"$f":"LOOKUP(AB30,Catálogos!AP:AP,Catálogos!AO:AO)","v":"ERR"},{"$f":"CONCATENATE(LOOKUP(AC30,Catálogos!O:O,Catálogos!P:P),\".\",LOOKUP(AC30,Catálogos!O:O,Catálogos!Q:Q))","v":{"$error":"#N/A"}},{"$f":"IF(AC30=LOOKUP(CONCATENATE(AE30,\" - \",AC30),Catálogos!T:T,Catálogos!V:V),LOOKUP(CONCATENATE(AE30,\" - \",AC30),Catálogos!T:T,Catálogos!W:W),FALSE)","v":{"$error":"#N/A"}},{"$f":"LOOKUP(BD30,Catálogos!AM:AM,Catálogos!AL:AL)","v":"ERR"},{"$f":"LOOKUP(BK30,Catálogos!AM:AM,Catálogos!AL:AL)","v":"ERR"},{"$f":"LOOKUP(BR30,Catálogos!AM:AM,Catálogos!AL:AL)","v":"ERR"},{"$f":"LOOKUP(BY30,Catálogos!AM:AM,Catálogos!AL:AL)","v":"ERR"},0]
[null,null,null,null,null,null,null," -SELECCIONAR-"," -SELECCIONAR-"," -SELECCIONAR-",null," -SELECCIONAR-"," -SELECCIONAR-"," -SELECCIONAR-"," -SELECCIONAR-",null,null," -SELECCIONAR-",null,null,null," -SELECCIONAR-",null,null," -SELECCIONAR-",null," -SELECCIONAR-"," -SELECCIONAR-",null,{"$f":"IF(AC31=FALSE, LOOKUP(AC31,Catálogos!O:O),LOOKUP(AC31,Catálogos!O:O,Catálogos!R:R))","v":{"$error":"#N/A"}},"",null,null,null,{"$f":"IF(CD31=FALSE,\"COL. INCORRECTA\",LOOKUP(CONCATENATE(AE31,\" - \",AC31),Catálogos!T:T,Catálogos!Y:Y))","v":{"$error":"#N/A"}},{"$f":"IF(CD31=FALSE,\"COL. INCORRECTA\",LOOKUP(CONCATENATE(AE31,\" - \",AC31),Catálogos!T:T,Catálogos!X:X))","v":{"$error":"#N/A"}}," -SELECCIONAR-",""," -SELECCIONAR-",null,null," -SELECCIONAR-",null,null,null," -SELECCIONAR-",null,null," -SELECCIONAR-"," -SELECCIONAR-",null,null,null,null,null," -SELECCIONAR-",null,null,null,null,null,null," -SELECCIONAR-",null,null,null,null,null,null," -SELECCIONAR-",null,null,null,null,null,null," -SELECCIONAR-",null,null,{"$f":"LOOKUP(AB31,Catálogos!AP:AP,Catálogos!AO:AO)","v":"ERR"},{"$f":"CONCATENATE(LOOKUP(AC31,Catálogos!O:O,Catálogos!P:P),\".\",LOOKUP(AC31,Catálogos!O:O,Catálogos!Q:Q))","v":{"$error":"#N/A"}},{"$f":"IF(AC31=LOOKUP(CONCATENATE(AE31,\" - \",AC31),Catálogos!T:T,Catálogos!V:V),LOOKUP(CONCATENATE(AE31,\" - \",AC31),Catálogos!T:T,Catálogos!W:W),FALSE)","v":{"$error":"#N/A"}},{"$f":"LOOKUP(BD31,Catálogos!AM:AM,Catálogos!AL:AL)","v":"ERR"},{"$f":"LOOKUP(BK31,Catálogos!AM:AM,Catálogos!AL:AL)","v":"ERR"},{"$f":"LOOKUP(BR31,Catálogos!AM:AM,Catálogos!AL:AL)","v":"ERR"},{"$f":"LOOKUP(BY31,Catálogos!AM:AM,Catálogos!AL:AL)","v":"ERR"},0]
[null,null,null,null,null,null,null," -SELECCIONAR-"," -SELECCIONAR-"," -SELECCIONAR-",null," -SELECCIONAR-"," -SELECCIONAR-"," -SELECCIONAR-"," -SELECCIONAR-",null,null," -SELECCIONAR-",null,null,null," -SELECCIONAR-",null,null," -SELECCIONAR-",null," -SELECCIONAR-"," -SELECCIONAR-",null,{"$f":"IF(AC32=FALSE, LOOKUP(AC32,Catálogos!O:O),LOOKUP(AC32,Catálogos!O:O,Catálogos!R:R))","v":{"$error":"#N/A"}},"",null,null,null,{"$f":"IF(CD32=FALSE,\"COL. INCORRECTA\",LOOKUP(CONCATENATE(AE32,\" - \",AC32),Catálogos!T:T,Catálogos!Y:Y))","v":{"$error":"#N/A"}},{"$f":"IF(CD32=FALSE,\"COL. INCORRECTA\",LOOKUP(CONCATENATE(AE32,\" - \",AC32),Catálogos!T:T,Catálogos!X:X))","v":{"$error":"#N/A"}}," -SELECCIONAR-",""," -SELECCIONAR-",null,null," -SELECCIONAR-",null,null,null," -SELECCIONAR-",null,null," -SELECCIONAR-"," -SELECCIONAR-",null,null,null,null,null," -SELECCIONAR-",null,null,null,null,null,null," -SELECCIONAR-",null,null,null,null,null,null," -SELECCIONAR-",null,null,null,null,null,null," -SELECCIONAR-",null,null,{"$f":"LOOKUP(AB32,Catálogos!AP:AP,Catálogos!AO:AO)","v":"ERR"},{"$f":"CONCATENATE(LOOKUP(AC32,Catálogos!O:O,Catálogos!P:P),\".\",LOOKUP(AC32,Catálogos!O:O,Catálogos!Q:Q))","v":{"$error":"#N/A"}},{"$f":"IF(AC32=LOOKUP(CONCATENATE(AE32,\" - \",AC32),Catálogos!T:T,Catálogos!V:V),LOOKUP(CONCATENATE(AE32,\" - \",AC32),Catálogos!T:T,Catálogos!W:W),FALSE)","v":{"$error":"#N/A"}},{"$f":"LOOKUP(BD32,Catálogos!AM:AM,Catálogos!AL:AL)","v":"ERR"},{"$f":"LOOKUP(BK32,Catálogos!AM:AM,Catálogos!AL:AL)","v":"ERR"},{"$f":"LOOKUP(BR32,Catálogos!AM:AM,Catálogos!AL:AL)","v":"ERR"},{"$f":"LOOKUP(BY32,Catálogos!AM:AM,Catálogos!AL:AL)","v":"ERR"},0]
[null,null,null,null,null,null,null," -SELECCIONAR-"," -SELECCIONAR-"," -SELECCIONAR-",null," -SELECCIONAR-"," -SELECCIONAR-"," -SELECCIONAR-"," -SELECCIONAR-",null,null," -SELECCIONAR-",null,null,null," -SELECCIONAR-",null,null," -SELECCIONAR-",null," -SELECCIONAR-"," -SELECCIONAR-",null,{"$f":"IF(AC33=FALSE, LOOKUP(AC33,Catálogos!O:O),LOOKUP(AC33,Catálogos!O:O,Catálogos!R:R))","v":{"$error":"#N/A"}},"",null,null,null,{"$f":"IF(CD33=FALSE,\"COL. INCORRECTA\",LOOKUP(CONCATENATE(AE33,\" - \",AC33),Catálogos!T:T,Catálogos!Y:Y))","v":{"$error":"#N/A"}},{"$f":"IF(CD33=FALSE,\"COL. INCORRECTA\",LOOKUP(CONCATENATE(AE33,\" - \",AC33),Catálogos!T:T,Catálogos!X:X))","v":{"$error":"#N/A"}}," -SELECCIONAR-",""," -SELECCIONAR-",null,null," -SELECCIONAR-",null,null,null," -SELECCIONAR-",null,null," -SELECCIONAR-"," -SELECCIONAR-",null,null,null,null,null," -SELECCIONAR-",null,null,null,null,null,null," -SELECCIONAR-",null,null,null,null,null,null," -SELECCIONAR-",null,null,null,null,null,null," -SELECCIONAR-",null,null,{"$f":"LOOKUP(AB33,Catálogos!AP:AP,Catálogos!AO:AO)","v":"ERR"},{"$f":"CONCATENATE(LOOKUP(AC33,Catálogos!O:O,Catálogos!P:P),\".\",LOOKUP(AC33,Catálogos!O:O,Catálogos!Q:Q))","v":{"$error":"#N/A"}},{"$f":"IF(AC33=LOOKUP(CONCATENATE(AE33,\" - \",AC33),Catálogos!T:T,Catálogos!V:V),LOOKUP(CONCATENATE(AE33,\" - \",AC33),Catálogos!T:T,Catálogos!W:W),FALSE)","v":{"$error":"#N/A"}},{"$f":"LOOKUP(BD33,Catálogos!AM:AM,Catálogos!AL:AL)","v":"ERR"},{"$f":"LOOKUP(BK33,Catálogos!AM:AM,Catálogos!AL:AL)","v":"ERR"},{"$f":"LOOKUP(BR33,Catálogos!AM:AM,Catálogos!AL:AL)","v":"ERR"},{"$f":"LOOKUP(BY33,Catálogos!AM:AM,Catálogos!AL:AL)","v":"ERR"},0]
[null,null,null,null,null,null,null," -SELECCIONAR-"," -SELECCIONAR-"," -SELECCIONAR-",null," -SELECCIONAR-"," -SELECCIONAR-"," -SELECCIONAR-"," -SELECCIONAR-",null,null," -SELECCIONAR-",null,null,null," -SELECCIONAR-",null,null," -SELECCIONAR-",null," -SELECCIONAR-"," -SELECCIONAR-",null,{"$f":"IF(AC34=FALSE, LOOKUP(AC34,Catálogos!O:O),LOOKUP(AC34,Catálogos!O:O,Catálogos!R:R))","v":{"$error":"#N/A"}},"",null,null,null,{"$f":"IF(CD34=FALSE,\"COL. INCORRECTA\",LOOKUP(CONCATENATE(AE34,\" - \",AC34),Catálogos!T:T,Catálogos!Y:Y))","v":{"$error":"#N/A"}},{"$f":"IF(CD34=FALSE,\"COL. INCORRECTA\",LOOKUP(CONCATENATE(AE34,\" - \",AC34),Catálogos!T:T,Catálogos!X:X))","v":{"$error":"#N/A"}}," -SELECCIONAR-",""," -SELECCIONAR-",null,null," -SELECCIONAR-",null,null,null," -SELECCIONAR-",null,null," -SELECCIONAR-"," -SELECCIONAR-",null,null,null,null,null," -SELECCIONAR-",null,null,null,null,null,null," -SELECCIONAR-",null,null,null,null,null,null," -SELECCIONAR-",null,null,null,null,null,null," -SELECCIONAR-",null,null,{"$f":"LOOKUP(AB34,Catálogos!AP:AP,Catálogos!AO:AO)","v":"ERR"},{"$f":"CONCATENATE(LOOKUP(AC34,Catálogos!O:O,Catálogos!P:P),\".\",LOOKUP(AC34,Catálogos!O:O,Catálogos!Q:Q))","v":{"$error":"#N/A"}},{"$f":"IF(AC34=LOOKUP(CONCATENATE(AE34,\" - \",AC34),Catálogos!T:T,Catálogos!V:V),LOOKUP(CONCATENATE(AE34,\" - \",AC34),Catálogos!T:T,Catálogos!W:W),FALSE)","v":{"$error":"#N/A"}},{"$f":"LOOKUP(BD34,Catálogos!AM:AM,Catálogos!AL:AL)","v":"ERR"},{"$f":"LOOKUP(BK34,Catálogos!AM:AM,Catálogos!AL:AL)","v":"ERR"},{"$f":"LOOKUP(BR34,Catálogos!AM:AM,Catálogos!AL:AL)","v":"ERR"},{"$f":"LOOKUP(BY34,Catálogos!AM:AM,Catálogos!AL:AL)","v":"ERR"},0]
[null,null,null,null,null,null,null," -SELECCIONAR-"," -SELECCIONAR-"," -SELECCIONAR-",null," -SELECCIONAR-"," -SELECCIONAR-"," -SELECCIONAR-"," -SELECCIONAR-",null,null," -SELECCIONAR-",null,null,null," -SELECCIONAR-",null,null," -SELECCIONAR-",null," -SELECCIONAR-"," -SELECCIONAR-",null,{"$f":"IF(AC35=FALSE, LOOKUP(AC35,Catálogos!O:O),LOOKUP(AC35,Catálogos!O:O,Catálogos!R:R))","v":{"$error":"#N/A"}},"",null,null,null,{"$f":"IF(CD35=FALSE,\"COL. INCORRECTA\",LOOKUP(CONCATENATE(AE35,\" - \",AC35),Catálogos!T:T,Catálogos!Y:Y))","v":{"$error":"#N/A"}},{"$f":"IF(CD35=FALSE,\"COL. INCORRECTA\",LOOKUP(CONCATENATE(AE35,\" - \",AC35),Catálogos!T:T,Catálogos!X:X))","v":{"$error":"#N/A"}}," -SELECCIONAR-",""," -SELECCIONAR-",null,null," -SELECCIONAR-",null,null,null," -SELECCIONAR-",null,null," -SELECCIONAR-"," -SELECCIONAR-",null,null,null,null,null," -SELECCIONAR-",null,null,null,null,null,null," -SELECCIONAR-",null,null,null,null,null,null," -SELECCIONAR-",null,null,null,null,null,null," -SELECCIONAR-",null,null,{"$f":"LOOKUP(AB35,Catálogos!AP:AP,Catálogos!AO:AO)","v":"ERR"},{"$f":"CONCATENATE(LOOKUP(AC35,Catálogos!O:O,Catálogos!P:P),\".\",LOOKUP(AC35,Catálogos!O:O,Catálogos!Q:Q))","v":{"$error":"#N/A"}},{"$f":"IF(AC35=LOOKUP(CONCATENATE(AE35,\" - \",AC35),Catálogos!T:T,Catálogos!V:V),LOOKUP(CONCATENATE(AE35,\" - \",AC35),Catálogos!T:T,Catálogos!W:W),FALSE)","v":{"$error":"#N/A"}},{"$f":"LOOKUP(BD35,Catálogos!AM:AM,Catálogos!AL:AL)","v":"ERR"},{"$f":"LOOKUP(BK35,Catálogos!AM:AM,Catálogos!AL:AL)","v":"ERR"},{"$f":"LOOKUP(BR35,Catálogos!AM:AM,Catálogos!AL:AL)","v":"ERR"},{"$f":"LOOKUP(BY35,Catálogos!AM:AM,Catálogos!AL:AL)","v":"ERR"},0]
[null,null,null,null,null,null,null," -SELECCIONAR-"," -SELECCIONAR-"," -SELECCIONAR-",null," -SELECCIONAR-"," -SELECCIONAR-"," -SELECCIONAR-"," -SELECCIONAR-",null,null," -SELECCIONAR-",null,null,null," -SELECCIONAR-",null,null," -SELECCIONAR-",null," -SELECCIONAR-"," -SELECCIONAR-",null,{"$f":"IF(AC36=FALSE, LOOKUP(AC36,Catálogos!O:O),LOOKUP(AC36,Catálogos!O:O,Catálogos!R:R))","v":{"$error":"#N/A"}},"",null,null,null,{"$f":"IF(CD36=FALSE,\"COL. INCORRECTA\",LOOKUP(CONCATENATE(AE36,\" - \",AC36),Catálogos!T:T,Catálogos!Y:Y))","v":{"$error":"#N/A"}},{"$f":"IF(CD36=FALSE,\"COL. INCORRECTA\",LOOKUP(CONCATENATE(AE36,\" - \",AC36),Catálogos!T:T,Catálogos!X:X))","v":{"$error":"#N/A"}}," -SELECCIONAR-",""," -SELECCIONAR-",null,null," -SELECCIONAR-",null,null,null," -SELECCIONAR-",null,null," -SELECCIONAR-"," -SELECCIONAR-",null,null,null,null,null," -SELECCIONAR-",null,null,null,null,null,null," -SELECCIONAR-",null,null,null,null,null,null," -SELECCIONAR-",null,null,null,null,null,null," -SELECCIONAR-",null,null,{"$f":"LOOKUP(AB36,Catálogos!AP:AP,Catálogos!AO:AO)","v":"ERR"},{"$f":"CONCATENATE(LOOKUP(AC36,Catálogos!O:O,Catálogos!P:P),\".\",LOOKUP(AC36,Catálogos!O:O,Catálogos!Q:Q))","v":{"$error":"#N/A"}},{"$f":"IF(AC36=LOOKUP(CONCATENATE(AE36,\" - \",AC36),Catálogos!T:T,Catálogos!V:V),LOOKUP(CONCATENATE(AE36,\" - \",AC36),Catálogos!T:T,Catálogos!W:W),FALSE)","v":{"$error":"#N/A"}},{"$f":"LOOKUP(BD36,Catálogos!AM:AM,Catálogos!AL:AL)","v":"ERR"},{"$f":"LOOKUP(BK36,Catálogos!AM:AM,Catálogos!AL:AL)","v":"ERR"},{"$f":"LOOKUP(BR36,Catálogos!AM:AM,Catálogos!AL:AL)","v":"ERR"},{"$f":"LOOKUP(BY36,Catálogos!AM:AM,Catálogos!AL:AL)","v":"ERR"},0]
[null,null,null,null,null,null,null," -SELECCIONAR-"," -SELECCIONAR-"," -SELECCIONAR-",null," -SELECCIONAR-"," -SELECCIONAR-"," -SELECCIONAR-"," -SELECCIONAR-",null,null," -SELECCIONAR-",null,null,null," -SELECCIONAR-",null,null," -SELECCIONAR-",null," -SELECCIONAR-"," -SELECCIONAR-",null,{"$f":"IF(AC37=FALSE, LOOKUP(AC37,Catálogos!O:O),LOOKUP(AC37,Catálogos!O:O,Catálogos!R:R))","v":{"$error":"#N/A"}},"",null,null,null,{"$f":"IF(CD37=FALSE,\"COL. INCORRECTA\",LOOKUP(CONCATENATE(AE37,\" - \",AC37),Catálogos!T:T,Catálogos!Y:Y))","v":{"$error":"#N/A"}},{"$f":"IF(CD37=FALSE,\"COL. INCORRECTA\",LOOKUP(CONCATENATE(AE37,\" - \",AC37),Catálogos!T:T,Catálogos!X:X))","v":{"$error":"#N/A"}}," -SELECCIONAR-",""," -SELECCIONAR-",null,null," -SELECCIONAR-",null,null,null," -SELECCIONAR-",null,null," -SELECCIONAR-"," -SELECCIONAR-",null,null,null,null,null," -SELECCIONAR-",null,null,null,null,null,null," -SELECCIONAR-",null,null,null,null,null,null," -SELECCIONAR-",null,null,null,null,null,null," -SELECCIONAR-",null,null,{"$f":"LOOKUP(AB37,Catálogos!AP:AP,Catálogos!AO:AO)","v":"ERR"},{"$f":"CONCATENATE(LOOKUP(AC37,Catálogos!O:O,Catálogos!P:P),\".\",LOOKUP(AC37,Catálogos!O:O,Catálogos!Q:Q))","v":{"$error":"#N/A"}},{"$f":"IF(AC37=LOOKUP(CONCATENATE(AE37,\" - \",AC37),Catálogos!T:T,Catálogos!V:V),LOOKUP(CONCATENATE(AE37,\" - \",AC37),Catálogos!T:T,Catálogos!W:W),FALSE)","v":{"$error":"#N/A"}},{"$f":"LOOKUP(BD37,Catálogos!AM:AM,Catálogos!AL:AL)","v":"ERR"},{"$f":"LOOKUP(BK37,Catálogos!AM:AM,Catálogos!AL:AL)","v":"ERR"},{"$f":"LOOKUP(BR37,Catálogos!AM:AM,Catálogos!AL:AL)","v":"ERR"},{"$f":"LOOKUP(BY37,Catálogos!AM:AM,Catálogos!AL:AL)","v":"ERR"},0]
[null,null,null,null,null,null,null," -SELECCIONAR-"," -SELECCIONAR-"," -SELECCIONAR-",null," -SELECCIONAR-"," -SELECCIONAR-"," -SELECCIONAR-"," -SELECCIONAR-",null,null," -SELECCIONAR-",null,null,null," -SELECCIONAR-",null,null," -SELECCIONAR-",null," -SELECCIONAR-"," -SELECCIONAR-",null,{"$f":"IF(AC38=FALSE, LOOKUP(AC38,Catálogos!O:O),LOOKUP(AC38,Catálogos!O:O,Catálogos!R:R))","v":{"$error":"#N/A"}},"",null,null,null,{"$f":"IF(CD38=FALSE,\"COL. INCORRECTA\",LOOKUP(CONCATENATE(AE38,\" - \",AC38),Catálogos!T:T,Catálogos!Y:Y))","v":{"$error":"#N/A"}},{"$f":"IF(CD38=FALSE,\"COL. INCORRECTA\",LOOKUP(CONCATENATE(AE38,\" - \",AC38),Catálogos!T:T,Catálogos!X:X))","v":{"$error":"#N/A"}}," -SELECCIONAR-",""," -SELECCIONAR-",null,null," -SELECCIONAR-",null,null,null," -SELECCIONAR-",null,null," -SELECCIONAR-"," -SELECCIONAR-",null,null,null,null,null," -SELECCIONAR-",null,null,null,null,null,null," -SELECCIONAR-",null,null,null,null,null,null," -SELECCIONAR-",null,null,null,null,null,null," -SELECCIONAR-",null,null,{"$f":"LOOKUP(AB38,Catálogos!AP:AP,Catálogos!AO:AO)","v":"ERR"},{"$f":"CONCATENATE(LOOKUP(AC38,Catálogos!O:O,Catálogos!P:P),\".\",LOOKUP(AC38,Catálogos!O:O,Catálogos!Q:Q))","v":{"$error":"#N/A"}},{"$f":"IF(AC38=LOOKUP(CONCATENATE(AE38,\" - \",AC38),Catálogos!T:T,Catálogos!V:V),LOOKUP(CONCATENATE(AE38,\" - \",AC38),Catálogos!T:T,Catálogos!W:W),FALSE)","v":{"$error":"#N/A"}},{"$f":"LOOKUP(BD38,Catálogos!AM:AM,Catálogos!AL:AL)","v":"ERR"},{"$f":"LOOKUP(BK38,Catálogos!AM:AM,Catálogos!AL:AL)","v":"ERR"},{"$f":"LOOKUP(BR38,Catálogos!AM:AM,Catálogos!AL:AL)","v":"ERR"},{"$f":"LOOKUP(BY38,Catálogos!AM:AM,Catálogos!AL:AL)","v":"ERR"},0]
[null,null,null,null,null,null,null," -SELECCIONAR-"," -SELECCIONAR-"," -SELECCIONAR-",null," -SELECCIONAR-"," -SELECCIONAR-"," -SELECCIONAR-"," -SELECCIONAR-",null,null," -SELECCIONAR-",null,null,null," -SELECCIONAR-",null,null," -SELECCIONAR-",null," -SELECCIONAR-"," -SELECCIONAR-",null,{"$f":"IF(AC39=FALSE, LOOKUP(AC39,Catálogos!O:O),LOOKUP(AC39,Catálogos!O:O,Catálogos!R:R))","v":{"$error":"#N/A"}},"",null,null,null,{"$f":"IF(CD39=FALSE,\"COL. INCORRECTA\",LOOKUP(CONCATENATE(AE39,\" - \",AC39),Catálogos!T:T,Catálogos!Y:Y))","v":{"$error":"#N/A"}},{"$f":"IF(CD39=FALSE,\"COL. INCORRECTA\",LOOKUP(CONCATENATE(AE39,\" - \",AC39),Catálogos!T:T,Catálogos!X:X))","v":{"$error":"#N/A"}}," -SELECCIONAR-",""," -SELECCIONAR-",null,null," -SELECCIONAR-",null,null,null," -SELECCIONAR-",null,null," -SELECCIONAR-"," -SELECCIONAR-",null,null,null,null,null," -SELECCIONAR-",null,null,null,null,null,null," -SELECCIONAR-",null,null,null,null,null,null," -SELECCIONAR-",null,null,null,null,null,null," -SELECCIONAR-",null,null,{"$f":"LOOKUP(AB39,Catálogos!AP:AP,Catálogos!AO:AO)","v":"ERR"},{"$f":"CONCATENATE(LOOKUP(AC39,Catálogos!O:O,Catálogos!P:P),\".\",LOOKUP(AC39,Catálogos!O:O,Catálogos!Q:Q))","v":{"$error":"#N/A"}},{"$f":"IF(AC39=LOOKUP(CONCATENATE(AE39,\" - \",AC39),Catálogos!T:T,Catálogos!V:V),LOOKUP(CONCATENATE(AE39,\" - \",AC39),Catálogos!T:T,Catálogos!W:W),FALSE)","v":{"$error":"#N/A"}},{"$f":"LOOKUP(BD39,Catálogos!AM:AM,Catálogos!AL:AL)","v":"ERR"},{"$f":"LOOKUP(BK39,Catálogos!AM:AM,Catálogos!AL:AL)","v":"ERR"},{"$f":"LOOKUP(BR39,Catálogos!AM:AM,Catálogos!AL:AL)","v":"ERR"},{"$f":"LOOKUP(BY39,Catálogos!AM:AM,Catálogos!AL:AL)","v":"ERR"},0]
[null,null,null,null,null,null,null," -SELECCIONAR-"," -SELECCIONAR-"," -SELECCIONAR-",null," -SELECCIONAR-"," -SELECCIONAR-"," -SELECCIONAR-"," -SELECCIONAR-",null,null," -SELECCIONAR-",null,null,null," -SELECCIONAR-",null,null," -SELECCIONAR-",null," -SELECCIONAR-"," -SELECCIONAR-",null,{"$f":"IF(AC40=FALSE, LOOKUP(AC40,Catálogos!O:O),LOOKUP(AC40,Catálogos!O:O,Catálogos!R:R))","v":{"$error":"#N/A"}},"",null,null,null,{"$f":"IF(CD40=FALSE,\"COL. INCORRECTA\",LOOKUP(CONCATENATE(AE40,\" - \",AC40),Catálogos!T:T,Catálogos!Y:Y))","v":{"$error":"#N/A"}},{"$f":"IF(CD40=FALSE,\"COL. INCORRECTA\",LOOKUP(CONCATENATE(AE40,\" - \",AC40),Catálogos!T:T,Catálogos!X:X))","v":{"$error":"#N/A"}}," -SELECCIONAR-",""," -SELECCIONAR-",null,null," -SELECCIONAR-",null,null,null," -SELECCIONAR-",null,null," -SELECCIONAR-"," -SELECCIONAR-",null,null,null,null,null," -SELECCIONAR-",null,null,null,null,null,null," -SELECCIONAR-",null,null,null,null,null,null," -SELECCIONAR-",null,null,null,null,null,null," -SELECCIONAR-",null,null,{"$f":"LOOKUP(AB40,Catálogos!AP:AP,Catálogos!AO:AO)","v":"ERR"},{"$f":"CONCATENATE(LOOKUP(AC40,Catálogos!O:O,Catálogos!P:P),\".\",LOOKUP(AC40,Catálogos!O:O,Catálogos!Q:Q))","v":{"$error":"#N/A"}},{"$f":"IF(AC40=LOOKUP(CONCATENATE(AE40,\" - \",AC40),Catálogos!T:T,Catálogos!V:V),LOOKUP(CONCATENATE(AE40,\" - \",AC40),Catálogos!T:T,Catálogos!W:W),FALSE)","v":{"$error":"#N/A"}},{"$f":"LOOKUP(BD40,Catálogos!AM:AM,Catálogos!AL:AL)","v":"ERR"},{"$f":"LOOKUP(BK40,Catálogos!AM:AM,Catálogos!AL:AL)","v":"ERR"},{"$f":"LOOKUP(BR40,Catálogos!AM:AM,Catálogos!AL:AL)","v":"ERR"},{"$f":"LOOKUP(BY40,Catálogos!AM:AM,Catálogos!AL:AL)","v":"ERR"},0]
[null,null,null,null,null,null,null," -SELECCIONAR-"," -SELECCIONAR-"," -SELECCIONAR-",null," -SELECCIONAR-"," -SELECCIONAR-"," -SELECCIONAR-"," -SELECCIONAR-",null,null," -SELECCIONAR-",null,null,null," -SELECCIONAR-",null,null," -SELECCIONAR-",null," -SELECCIONAR-"," -SELECCIONAR-",null,{"$f":"IF(AC41=FALSE, LOOKUP(AC41,Catálogos!O:O),LOOKUP(AC41,Catálogos!O:O,Catálogos!R:R))","v":{"$error":"#N/A"}},"",null,null,null,{"$f":"IF(CD41=FALSE,\"COL. INCORRECTA\",LOOKUP(CONCATENATE(AE41,\" - \",AC41),Catálogos!T:T,Catálogos!Y:Y))","v":{"$error":"#N/A"}},{"$f":"IF(CD41=FALSE,\"COL. INCORRECTA\",LOOKUP(CONCATENATE(AE41,\" - \",AC41),Catálogos!T:T,Catálogos!X:X))","v":{"$error":"#N/A"}}," -SELECCIONAR-",""," -SELECCIONAR-",null,null," -SELECCIONAR-",null,null,null," -SELECCIONAR-",null,null," -SELECCIONAR-"," -SELECCIONAR-",null,null,null,null,null," -SELECCIONAR-",null,null,null,null,null,null," -SELECCIONAR-",null,null,null,null,null,null," -SELECCIONAR-",null,null,null,null,null,null," -SELECCIONAR-",null,null,{"$f":"LOOKUP(AB41,Catálogos!AP:AP,Catálogos!AO:AO)","v":"ERR"},{"$f":"CONCATENATE(LOOKUP(AC41,Catálogos!O:O,Catálogos!P:P),\".\",LOOKUP(AC41,Catálogos!O:O,Catálogos!Q:Q))","v":{"$error":"#N/A"}},{"$f":"IF(AC41=LOOKUP(CONCATENATE(AE41,\" - \",AC41),Catálogos!T:T,Catálogos!V:V),LOOKUP(CONCATENATE(AE41,\" - \",AC41),Catálogos!T:T,Catálogos!W:W),FALSE)","v":{"$error":"#N/A"}},{"$f":"LOOKUP(BD41,Catálogos!AM:AM,Catálogos!AL:AL)","v":"ERR"},{"$f":"LOOKUP(BK41,Catálogos!AM:AM,Catálogos!AL:AL)","v":"ERR"},{"$f":"LOOKUP(BR41,Catálogos!AM:AM,Catálogos!AL:AL)","v":"ERR"},{"$f":"LOOKUP(BY41,Catálogos!AM:AM,Catálogos!AL:AL)","v":"ERR"},0]
[null,null,null,null,null,null,null," -SELECCIONAR-"," -SELECCIONAR-"," -SELECCIONAR-",null," -SELECCIONAR-"," -SELECCIONAR-"," -SELECCIONAR-"," -SELECCIONAR-",null,null," -SELECCIONAR-",null,null,null," -SELECCIONAR-",null,null," -SELECCIONAR-",null," -SELECCIONAR-"," -SELECCIONAR-",null,{"$f":"IF(AC42=FALSE, LOOKUP(AC42,Catálogos!O:O),LOOKUP(AC42,Catálogos!O:O,Catálogos!R:R))","v":{"$error":"#N/A"}},"",null,null,null,{"$f":"IF(CD42=FALSE,\"COL. INCORRECTA\",LOOKUP(CONCATENATE(AE42,\" - \",AC42),Catálogos!T:T,Catálogos!Y:Y))","v":{"$error":"#N/A"}},{"$f":"IF(CD42=FALSE,\"COL. INCORRECTA\",LOOKUP(CONCATENATE(AE42,\" - \",AC42),Catálogos!T:T,Catálogos!X:X))","v":{"$error":"#N/A"}}," -SELECCIONAR-",""," -SELECCIONAR-",null,null," -SELECCIONAR-",null,null,null," -SELECCIONAR-",null,null," -SELECCIONAR-"," -SELECCIONAR-",null,null,null,null,null," -SELECCIONAR-",null,null,null,null,null,null," -SELECCIONAR-",null,null,null,null,null,null," -SELECCIONAR-",null,null,null,null,null,null," -SELECCIONAR-",null,null,{"$f":"LOOKUP(AB42,Catálogos!AP:AP,Catálogos!AO:AO)","v":"ERR"},{"$f":"CONCATENATE(LOOKUP(AC42,Catálogos!O:O,Catálogos!P:P),\".\",LOOKUP(AC42,Catálogos!O:O,Catálogos!Q:Q))","v":{"$error":"#N/A"}},{"$f":"IF(AC42=LOOKUP(CONCATENATE(AE42,\" - \",AC42),Catálogos!T:T,Catálogos!V:V),LOOKUP(CONCATENATE(AE42,\" - \",AC42),Catálogos!T:T,Catálogos!W:W),FALSE)","v":{"$error":"#N/A"}},{"$f":"LOOKUP(BD42,Catálogos!AM:AM,Catálogos!AL:AL)","v":"ERR"},{"$f":"LOOKUP(BK42,Catálogos!AM:AM,Catálogos!AL:AL)","v":"ERR"},{"$f":"LOOKUP(BR42,Catálogos!AM:AM,Catálogos!AL:AL)","v":"ERR"},{"$f":"LOOKUP(BY42,Catálogos!AM:AM,Catálogos!AL:AL)","v":"ERR"},0]
[null,null,null,null,null,null,null," -SELECCIONAR-"," -SELECCIONAR-"," -SELECCIONAR-",null," -SELECCIONAR-"," -SELECCIONAR-"," -SELECCIONAR-"," -SELECCIONAR-",null,null," -SELECCIONAR-",null,null,null," -SELECCIONAR-",null,null," -SELECCIONAR-",null," -SELECCIONAR-"," -SELECCIONAR-",null,{"$f":"IF(AC43=FALSE, LOOKUP(AC43,Catálogos!O:O),LOOKUP(AC43,Catálogos!O:O,Catálogos!R:R))","v":{"$error":"#N/A"}},"",null,null,null,{"$f":"IF(CD43=FALSE,\"COL. INCORRECTA\",LOOKUP(CONCATENATE(AE43,\" - \",AC43),Catálogos!T:T,Catálogos!Y:Y))","v":{"$error":"#N/A"}},{"$f":"IF(CD43=FALSE,\"COL. INCORRECTA\",LOOKUP(CONCATENATE(AE43,\" - \",AC43),Catálogos!T:T,Catálogos!X:X))","v":{"$error":"#N/A"}}," -SELECCIONAR-",""," -SELECCIONAR-",null,null," -SELECCIONAR-",null,null,null," -SELECCIONAR-",null,null," -SELECCIONAR-"," -SELECCIONAR-",null,null,null,null,null," -SELECCIONAR-",null,null,null,null,null,null," -SELECCIONAR-",null,null,null,null,null,null," -SELECCIONAR-",null,null,null,null,null,null," -SELECCIONAR-",null,null,{"$f":"LOOKUP(AB43,Catálogos!AP:AP,Catálogos!AO:AO)","v":"ERR"},{"$f":"CONCATENATE(LOOKUP(AC43,Catálogos!O:O,Catálogos!P:P),\".\",LOOKUP(AC43,Catálogos!O:O,Catálogos!Q:Q))","v":{"$error":"#N/A"}},{"$f":"IF(AC43=LOOKUP(CONCATENATE(AE43,\" - \",AC43),Catálogos!T:T,Catálogos!V:V),LOOKUP(CONCATENATE(AE43,\" - \",AC43),Catálogos!T:T,Catálogos!W:W),FALSE)","v":{"$error":"#N/A"}},{"$f":"LOOKUP(BD43,Catálogos!AM:AM,Catálogos!AL:AL)","v":"ERR"},{"$f":"LOOKUP(BK43,Catálogos!AM:AM,Catálogos!AL:AL)","v":"ERR"},{"$f":"LOOKUP(BR43,Catálogos!AM:AM,Catálogos!AL:AL)","v":"ERR"},{"$f":"LOOKUP(BY43,Catálogos!AM:AM,Catálogos!AL:AL)","v":"ERR"},0]
[null,null,null,null,null,null,null," -SELECCIONAR-"," -SELECCIONAR-"," -SELECCIONAR-",null," -SELECCIONAR-"," -SELECCIONAR-"," -SELECCIONAR-"," -SELECCIONAR-",null,null," -SELECCIONAR-",null,null,null," -SELECCIONAR-",null,null," -SELECCIONAR-",null," -SELECCIONAR-"," -SELECCIONAR-",null,{"$f":"IF(AC44=FALSE, LOOKUP(AC44,Catálogos!O:O),LOOKUP(AC44,Catálogos!O:O,Catálogos!R:R))","v":{"$error":"#N/A"}},"",null,null,null,{"$f":"IF(CD44=FALSE,\"COL. INCORRECTA\",LOOKUP(CONCATENATE(AE44,\" - \",AC44),Catálogos!T:T,Catálogos!Y:Y))","v":{"$error":"#N/A"}},{"$f":"IF(CD44=FALSE,\"COL. INCORRECTA\",LOOKUP(CONCATENATE(AE44,\" - \",AC44),Catálogos!T:T,Catálogos!X:X))","v":{"$error":"#N/A"}}," -SELECCIONAR-",""," -SELECCIONAR-",null,null," -SELECCIONAR-",null,null,null," -SELECCIONAR-",null,null," -SELECCIONAR-"," -SELECCIONAR-",null,null,null,null,null," -SELECCIONAR-",null,null,null,null,null,null," -SELECCIONAR-",null,null,null,null,null,null," -SELECCIONAR-",null,null,null,null,null,null," -SELECCIONAR-",null,null,{"$f":"LOOKUP(AB44,Catálogos!AP:AP,Catálogos!AO:AO)","v":"ERR"},{"$f":"CONCATENATE(LOOKUP(AC44,Catálogos!O:O,Catálogos!P:P),\".\",LOOKUP(AC44,Catálogos!O:O,Catálogos!Q:Q))","v":{"$error":"#N/A"}},{"$f":"IF(AC44=LOOKUP(CONCATENATE(AE44,\" - \",AC44),Catálogos!T:T,Catálogos!V:V),LOOKUP(CONCATENATE(AE44,\" - \",AC44),Catálogos!T:T,Catálogos!W:W),FALSE)","v":{"$error":"#N/A"}},{"$f":"LOOKUP(BD44,Catálogos!AM:AM,Catálogos!AL:AL)","v":"ERR"},{"$f":"LOOKUP(BK44,Catálogos!AM:AM,Catálogos!AL:AL)","v":"ERR"},{"$f":"LOOKUP(BR44,Catálogos!AM:AM,Catálogos!AL:AL)","v":"ERR"},{"$f":"LOOKUP(BY44,Catálogos!AM:AM,Catálogos!AL:AL)","v":"ERR"},0]
[null,null,null,null,null,null,null," -SELECCIONAR-"," -SELECCIONAR-"," -SELECCIONAR-",null," -SELECCIONAR-"," -SELECCIONAR-"," -SELECCIONAR-"," -SELECCIONAR-",null,null," -SELECCIONAR-",null,null,null," -SELECCIONAR-",null,null," -SELECCIONAR-",null," -SELECCIONAR-"," -SELECCIONAR-",null,{"$f":"IF(AC45=FALSE, LOOKUP(AC45,Catálogos!O:O),LOOKUP(AC45,Catálogos!O:O,Catálogos!R:R))","v":{"$error":"#N/A"}},"",null,null,null,{"$f":"IF(CD45=FALSE,\"COL. INCORRECTA\",LOOKUP(CONCATENATE(AE45,\" - \",AC45),Catálogos!T:T,Catálogos!Y:Y))","v":{"$error":"#N/A"}},{"$f":"IF(CD45=FALSE,\"COL. INCORRECTA\",LOOKUP(CONCATENATE(AE45,\" - \",AC45),Catálogos!T:T,Catálogos!X:X))","v":{"$error":"#N/A"}}," -SELECCIONAR-",""," -SELECCIONAR-",null,null," -SELECCIONAR-",null,null,null," -SELECCIONAR-",null,null," -SELECCIONAR-"," -SELECCIONAR-",null,null,null,null,null," -SELECCIONAR-",null,null,null,null,null,null," -SELECCIONAR-",null,null,null,null,null,null," -SELECCIONAR-",null,null,null,null,null,null," -SELECCIONAR-",null,null,{"$f":"LOOKUP(AB45,Catálogos!AP:AP,Catálogos!AO:AO)","v":"ERR"},{"$f":"CONCATENATE(LOOKUP(AC45,Catálogos!O:O,Catálogos!P:P),\".\",LOOKUP(AC45,Catálogos!O:O,Catálogos!Q:Q))","v":{"$error":"#N/A"}},{"$f":"IF(AC45=LOOKUP(CONCATENATE(AE45,\" - \",AC45),Catálogos!T:T,Catálogos!V:V),LOOKUP(CONCATENATE(AE45,\" - \",AC45),Catálogos!T:T,Catálogos!W:W),FALSE)","v":{"$error":"#N/A"}},{"$f":"LOOKUP(BD45,Catálogos!AM:AM,Catálogos!AL:AL)","v":"ERR"},{"$f":"LOOKUP(BK45,Catálogos!AM:AM,Catálogos!AL:AL)","v":"ERR"},{"$f":"LOOKUP(BR45,Catálogos!AM:AM,Catálogos!AL:AL)","v":"ERR"},{"$f":"LOOKUP(BY45,Catálogos!AM:AM,Catálogos!AL:AL)","v":"ERR"},0]
[null,null,null,null,null,null,null," -SELECCIONAR-"," -SELECCIONAR-"," -SELECCIONAR-",null," -SELECCIONAR-"," -SELECCIONAR-"," -SELECCIONAR-"," -SELECCIONAR-",null,null," -SELECCIONAR-",null,null,null," -SELECCIONAR-",null,null," -SELECCIONAR-",null," -SELECCIONAR-"," -SELECCIONAR-",null,{"$f":"IF(AC46=FALSE, LOOKUP(AC46,Catálogos!O:O),LOOKUP(AC46,Catálogos!O:O,Catálogos!R:R))","v":{"$error":"#N/A"}},"",null,null,null,{"$f":"IF(CD46=FALSE,\"COL. INCORRECTA\",LOOKUP(CONCATENATE(AE46,\" - \",AC46),Catálogos!T:T,Catálogos!Y:Y))","v":{"$error":"#N/A"}},{"$f":"IF(CD46=FALSE,\"COL. INCORRECTA\",LOOKUP(CONCATENATE(AE46,\" - \",AC46),Catálogos!T:T,Catálogos!X:X))","v":{"$error":"#N/A"}}," -SELECCIONAR-",""," -SELECCIONAR-",null,null," -SELECCIONAR-",null,null,null," -SELECCIONAR-",null,null," -SELECCIONAR-"," -SELECCIONAR-",null,null,null,null,null," -SELECCIONAR-",null,null,null,null,null,null," -SELECCIONAR-",null,null,null,null,null,null," -SELECCIONAR-",null,null,null,null,null,null," -SELECCIONAR-",null,null,{"$f":"LOOKUP(AB46,Catálogos!AP:AP,Catálogos!AO:AO)","v":"ERR"},{"$f":"CONCATENATE(LOOKUP(AC46,Catálogos!O:O,Catálogos!P:P),\".\",LOOKUP(AC46,Catálogos!O:O,Catálogos!Q:Q))","v":{"$error":"#N/A"}},{"$f":"IF(AC46=LOOKUP(CONCATENATE(AE46,\" - \",AC46),Catálogos!T:T,Catálogos!V:V),LOOKUP(CONCATENATE(AE46,\" - \",AC46),Catálogos!T:T,Catálogos!W:W),FALSE)","v":{"$error":"#N/A"}},{"$f":"LOOKUP(BD46,Catálogos!AM:AM,Catálogos!AL:AL)","v":"ERR"},{"$f":"LOOKUP(BK46,Catálogos!AM:AM,Catálogos!AL:AL)","v":"ERR"},{"$f":"LOOKUP(BR46,Catálogos!AM:AM,Catálogos!AL:AL)","v":"ERR"},{"$f":"LOOKUP(BY46,Catálogos!AM:AM,Catálogos!AL:AL)","v":"ERR"},0]
[null,null,null,null,null,null,null," -SELECCIONAR-"," -SELECCIONAR-"," -SELECCIONAR-",null," -SELECCIONAR-"," -SELECCIONAR-"," -SELECCIONAR-"," -SELECCIONAR-",null,null," -SELECCIONAR-",null,null,null," -SELECCIONAR-",null,null," -SELECCIONAR-",null," -SELECCIONAR-"," -SELECCIONAR-",null,{"$f":"IF(AC47=FALSE, LOOKUP(AC47,Catálogos!O:O),LOOKUP(AC47,Catálogos!O:O,Catálogos!R:R))","v":{"$error":"#N/A"}},"",null,null,null,{"$f":"IF(CD47=FALSE,\"COL. INCORRECTA\",LOOKUP(CONCATENATE(AE47,\" - \",AC47),Catálogos!T:T,Catálogos!Y:Y))","v":{"$error":"#N/A"}},{"$f":"IF(CD47=FALSE,\"COL. INCORRECTA\",LOOKUP(CONCATENATE(AE47,\" - \",AC47),Catálogos!T:T,Catálogos!X:X))","v":{"$error":"#N/A"}}," -SELECCIONAR-",""," -SELECCIONAR-",null,null," -SELECCIONAR-",null,null,null," -SELECCIONAR-",null,null," -SELECCIONAR-"," -SELECCIONAR-",null,null,null,null,null," -SELECCIONAR-",null,null,null,null,null,null," -SELECCIONAR-",null,null,null,null,null,null," -SELECCIONAR-",null,null,null,null,null,null," -SELECCIONAR-",null,null,{"$f":"LOOKUP(AB47,Catálogos!AP:AP,Catálogos!AO:AO)","v":"ERR"},{"$f":"CONCATENATE(LOOKUP(AC47,Catálogos!O:O,Catálogos!P:P),\".\",LOOKUP(AC47,Catálogos!O:O,Catálogos!Q:Q))","v":{"$error":"#N/A"}},{"$f":"IF(AC47=LOOKUP(CONCATENATE(AE47,\" - \",AC47),Catálogos!T:T,Catálogos!V:V),LOOKUP(CONCATENATE(AE47,\" - \",AC47),Catálogos!T:T,Catálogos!W:W),FALSE)","v":{"$error":"#N/A"}},{"$f":"LOOKUP(BD47,Catálogos!AM:AM,Catálogos!AL:AL)","v":"ERR"},{"$f":"LOOKUP(BK47,Catálogos!AM:AM,Catálogos!AL:AL)","v":"ERR"},{"$f":"LOOKUP(BR47,Catálogos!AM:AM,Catálogos!AL:AL)","v":"ERR"},{"$f":"LOOKUP(BY47,Catálogos!AM:AM,Catálogos!AL:AL)","v":"ERR"},0]
[null,null,null,null,null,null,null," -SELECCIONAR-"," -SELECCIONAR-"," -SELECCIONAR-",null," -SELECCIONAR-"," -SELECCIONAR-"," -SELECCIONAR-"," -SELECCIONAR-",null,null," -SELECCIONAR-",null,null,null," -SELECCIONAR-",null,null," -SELECCIONAR-",null," -SELECCIONAR-"," -SELECCIONAR-",null,{"$f":"IF(AC48=FALSE, LOOKUP(AC48,Catálogos!O:O),LOOKUP(AC48,Catálogos!O:O,Catálogos!R:R))","v":{"$error":"#N/A"}},"",null,null,null,{"$f":"IF(CD48=FALSE,\"COL. INCORRECTA\",LOOKUP(CONCATENATE(AE48,\" - \",AC48),Catálogos!T:T,Catálogos!Y:Y))","v":{"$error":"#N/A"}},{"$f":"IF(CD48=FALSE,\"COL. INCORRECTA\",LOOKUP(CONCATENATE(AE48,\" - \",AC48),Catálogos!T:T,Catálogos!X:X))","v":{"$error":"#N/A"}}," -SELECCIONAR-",""," -SELECCIONAR-",null,null," -SELECCIONAR-",null,null,null," -SELECCIONAR-",null,null," -SELECCIONAR-"," -SELECCIONAR-",null,null,null,null,null," -SELECCIONAR-",null,null,null,null,null,null," -SELECCIONAR-",null,null,null,null,null,null," -SELECCIONAR-",null,null,null,null,null,null," -SELECCIONAR-",null,null,{"$f":"LOOKUP(AB48,Catálogos!AP:AP,Catálogos!AO:AO)","v":"ERR"},{"$f":"CONCATENATE(LOOKUP(AC48,Catálogos!O:O,Catálogos!P:P),\".\",LOOKUP(AC48,Catálogos!O:O,Catálogos!Q:Q))","v":{"$error":"#N/A"}},{"$f":"IF(AC48=LOOKUP(CONCATENATE(AE48,\" - \",AC48),Catálogos!T:T,Catálogos!V:V),LOOKUP(CONCATENATE(AE48,\" - \",AC48),Catálogos!T:T,Catálogos!W:W),FALSE)","v":{"$error":"#N/A"}},{"$f":"LOOKUP(BD48,Catálogos!AM:AM,Catálogos!AL:AL)","v":"ERR"},{"$f":"LOOKUP(BK48,Catálogos!AM:AM,Catálogos!AL:AL)","v":"ERR"},{"$f":"LOOKUP(BR48,Catálogos!AM:AM,Catálogos!AL:AL)","v":"ERR"},{"$f":"LOOKUP(BY48,Catálogos!AM:AM,Catálogos!AL:AL)","v":"ERR"},0]
[null,null,null,null,null,null,null," -SELECCIONAR-"," -SELECCIONAR-"," -SELECCIONAR-",null," -SELECCIONAR-"," -SELECCIONAR-"," -SELECCIONAR-"," -SELECCIONAR-",null,null," -SELECCIONAR-",null,null,null," -SELECCIONAR-",null,null," -SELECCIONAR-",null," -SELECCIONAR-"," -SELECCIONAR-",null,{"$f":"IF(AC49=FALSE, LOOKUP(AC49,Catálogos!O:O),LOOKUP(AC49,Catálogos!O:O,Catálogos!R:R))","v":{"$error":"#N/A"}},"",null,null,null,{"$f":"IF(CD49=FALSE,\"COL. INCORRECTA\",LOOKUP(CONCATENATE(AE49,\" - \",AC49),Catálogos!T:T,Catálogos!Y:Y))","v":{"$error":"#N/A"}},{"$f":"IF(CD49=FALSE,\"COL. INCORRECTA\",LOOKUP(CONCATENATE(AE49,\" - \",AC49),Catálogos!T:T,Catálogos!X:X))","v":{"$error":"#N/A"}}," -SELECCIONAR-",""," -SELECCIONAR-",null,null," -SELECCIONAR-",null,null,null," -SELECCIONAR-",null,null," -SELECCIONAR-"," -SELECCIONAR-",null,null,null,null,null," -SELECCIONAR-",null,null,null,null,null,null," -SELECCIONAR-",null,null,null,null,null,null," -SELECCIONAR-",null,null,null,null,null,null," -SELECCIONAR-",null,null,{"$f":"LOOKUP(AB49,Catálogos!AP:AP,Catálogos!AO:AO)","v":"ERR"},{"$f":"CONCATENATE(LOOKUP(AC49,Catálogos!O:O,Catálogos!P:P),\".\",LOOKUP(AC49,Catálogos!O:O,Catálogos!Q:Q))","v":{"$error":"#N/A"}},{"$f":"IF(AC49=LOOKUP(CONCATENATE(AE49,\" - \",AC49),Catálogos!T:T,Catálogos!V:V),LOOKUP(CONCATENATE(AE49,\" - \",AC49),Catálogos!T:T,Catálogos!W:W),FALSE)","v":{"$error":"#N/A"}},{"$f":"LOOKUP(BD49,Catálogos!AM:AM,Catálogos!AL:AL)","v":"ERR"},{"$f":"LOOKUP(BK49,Catálogos!AM:AM,Catálogos!AL:AL)","v":"ERR"},{"$f":"LOOKUP(BR49,Catálogos!AM:AM,Catálogos!AL:AL)","v":"ERR"},{"$f":"LOOKUP(BY49,Catálogos!AM:AM,Catálogos!AL:AL)","v":"ERR"},0]
[null,null,null,null,null,null,null," -SELECCIONAR-"," -SELECCIONAR-"," -SELECCIONAR-",null," -SELECCIONAR-"," -SELECCIONAR-"," -SELECCIONAR-"," -SELECCIONAR-",null,null," -SELECCIONAR-",null,null,null," -SELECCIONAR-",null,null," -SELECCIONAR-",null," -SELECCIONAR-"," -SELECCIONAR-",null,{"$f":"IF(AC50=FALSE, LOOKUP(AC50,Catálogos!O:O),LOOKUP(AC50,Catálogos!O:O,Catálogos!R:R))","v":{"$error":"#N/A"}},"",null,null,null,{"$f":"IF(CD50=FALSE,\"COL. INCORRECTA\",LOOKUP(CONCATENATE(AE50,\" - \",AC50),Catálogos!T:T,Catálogos!Y:Y))","v":{"$error":"#N/A"}},{"$f":"IF(CD50=FALSE,\"COL. INCORRECTA\",LOOKUP(CONCATENATE(AE50,\" - \",AC50),Catálogos!T:T,Catálogos!X:X))","v":{"$error":"#N/A"}}," -SELECCIONAR-",""," -SELECCIONAR-",null,null," -SELECCIONAR-",null,null,null," -SELECCIONAR-",null,null," -SELECCIONAR-"," -SELECCIONAR-",null,null,null,null,null," -SELECCIONAR-",null,null,null,null,null,null," -SELECCIONAR-",null,null,null,null,null,null," -SELECCIONAR-",null,null,null,null,null,null," -SELECCIONAR-",null,null,{"$f":"LOOKUP(AB50,Catálogos!AP:AP,Catálogos!AO:AO)","v":"ERR"},{"$f":"CONCATENATE(LOOKUP(AC50,Catálogos!O:O,Catálogos!P:P),\".\",LOOKUP(AC50,Catálogos!O:O,Catálogos!Q:Q))","v":{"$error":"#N/A"}},{"$f":"IF(AC50=LOOKUP(CONCATENATE(AE50,\" - \",AC50),Catálogos!T:T,Catálogos!V:V),LOOKUP(CONCATENATE(AE50,\" - \",AC50),Catálogos!T:T,Catálogos!W:W),FALSE)","v":{"$error":"#N/A"}},{"$f":"LOOKUP(BD50,Catálogos!AM:AM,Catálogos!AL:AL)","v":"ERR"},{"$f":"LOOKUP(BK50,Catálogos!AM:AM,Catálogos!AL:AL)","v":"ERR"},{"$f":"LOOKUP(BR50,Catálogos!AM:AM,Catálogos!AL:AL)","v":"ERR"},{"$f":"LOOKUP(BY50,Catálogos!AM:AM,Catálogos!AL:AL)","v":"ERR"},0]
[null,null,null,null,null,null,null," -SELECCIONAR-"," -SELECCIONAR-"," -SELECCIONAR-",null," -SELECCIONAR-"," -SELECCIONAR-"," -SELECCIONAR-"," -SELECCIONAR-",null,null," -SELECCIONAR-",null,null,null," -SELECCIONAR-",null,null," -SELECCIONAR-",null," -SELECCIONAR-"," -SELECCIONAR-",null,{"$f":"IF(AC51=FALSE, LOOKUP(AC51,Catálogos!O:O),LOOKUP(AC51,Catálogos!O:O,Catálogos!R:R))","v":{"$error":"#N/A"}},"",null,null,null,{"$f":"IF(CD51=FALSE,\"COL. INCORRECTA\",LOOKUP(CONCATENATE(AE51,\" - \",AC51),Catálogos!T:T,Catálogos!Y:Y))","v":{"$error":"#N/A"}},{"$f":"IF(CD51=FALSE,\"COL. INCORRECTA\",LOOKUP(CONCATENATE(AE51,\" - \",AC51),Catálogos!T:T,Catálogos!X:X))","v":{"$error":"#N/A"}}," -SELECCIONAR-",""," -SELECCIONAR-",null,null," -SELECCIONAR-",null,null,null," -SELECCIONAR-",null,null," -SELECCIONAR-"," -SELECCIONAR-",null,null,null,null,null," -SELECCIONAR-",null,null,null,null,null,null," -SELECCIONAR-",null,null,null,null,null,null," -SELECCIONAR-",null,null,null,null,null,null," -SELECCIONAR-",null,null,{"$f":"LOOKUP(AB51,Catálogos!AP:AP,Catálogos!AO:AO)","v":"ERR"},{"$f":"CONCATENATE(LOOKUP(AC51,Catálogos!O:O,Catálogos!P:P),\".\",LOOKUP(AC51,Catálogos!O:O,Catálogos!Q:Q))","v":{"$error":"#N/A"}},{"$f":"IF(AC51=LOOKUP(CONCATENATE(AE51,\" - \",AC51),Catálogos!T:T,Catálogos!V:V),LOOKUP(CONCATENATE(AE51,\" - \",AC51),Catálogos!T:T,Catálogos!W:W),FALSE)","v":{"$error":"#N/A"}},{"$f":"LOOKUP(BD51,Catálogos!AM:AM,Catálogos!AL:AL)","v":"ERR"},{"$f":"LOOKUP(BK51,Catálogos!AM:AM,Catálogos!AL:AL)","v":"ERR"},{"$f":"LOOKUP(BR51,Catálogos!AM:AM,Catálogos!AL:AL)","v":"ERR"},{"$f":"LOOKUP(BY51,Catálogos!AM:AM,Catálogos!AL:AL)","v":"ERR"},0]
[null,null,null,null,null,null,null," -SELECCIONAR-"," -SELECCIONAR-"," -SELECCIONAR-",null," -SELECCIONAR-"," -SELECCIONAR-"," -SELECCIONAR-"," -SELECCIONAR-",null,null," -SELECCIONAR-",null,null,null," -SELECCIONAR-",null,null," -SELECCIONAR-",null," -SELECCIONAR-"," -SELECCIONAR-",null,{"$f":"IF(AC52=FALSE, LOOKUP(AC52,Catálogos!O:O),LOOKUP(AC52,Catálogos!O:O,Catálogos!R:R))","v":{"$error":"#N/A"}},"",null,null,null,{"$f":"IF(CD52=FALSE,\"COL. INCORRECTA\",LOOKUP(CONCATENATE(AE52,\" - \",AC52),Catálogos!T:T,Catálogos!Y:Y))","v":{"$error":"#N/A"}},{"$f":"IF(CD52=FALSE,\"COL. INCORRECTA\",LOOKUP(CONCATENATE(AE52,\" - \",AC52),Catálogos!T:T,Catálogos!X:X))","v":{"$error":"#N/A"}}," -SELECCIONAR-",""," -SELECCIONAR-",null,null," -SELECCIONAR-",null,null,null," -SELECCIONAR-",null,null," -SELECCIONAR-"," -SELECCIONAR-",null,null,null,null,null," -SELECCIONAR-",null,null,null,null,null,null," -SELECCIONAR-",null,null,null,null,null,null," -SELECCIONAR-",null,null,null,null,null,null," -SELECCIONAR-",null,null,{"$f":"LOOKUP(AB52,Catálogos!AP:AP,Catálogos!AO:AO)","v":"ERR"},{"$f":"CONCATENATE(LOOKUP(AC52,Catálogos!O:O,Catálogos!P:P),\".\",LOOKUP(AC52,Catálogos!O:O,Catálogos!Q:Q))","v":{"$error":"#N/A"}},{"$f":"IF(AC52=LOOKUP(CONCATENATE(AE52,\" - \",AC52),Catálogos!T:T,Catálogos!V:V),LOOKUP(CONCATENATE(AE52,\" - \",AC52),Catálogos!T:T,Catálogos!W:W),FALSE)","v":{"$error":"#N/A"}},{"$f":"LOOKUP(BD52,Catálogos!AM:AM,Catálogos!AL:AL)","v":"ERR"},{"$f":"LOOKUP(BK52,Catálogos!AM:AM,Catálogos!AL:AL)","v":"ERR"},{"$f":"LOOKUP(BR52,Catálogos!AM:AM,Catálogos!AL:AL)","v":"ERR"},{"$f":"LOOKUP(BY52,Catálogos!AM:AM,Catálogos!AL:AL)","v":"ERR"},0]
[null,null,null,null,null,null,null," -SELECCIONAR-"," -SELECCIONAR-"," -SELECCIONAR-",null," -SELECCIONAR-"," -SELECCIONAR-"," -SELECCIONAR-"," -SELECCIONAR-",null,null," -SELECCIONAR-",null,null,null," -SELECCIONAR-",null,null," -SELECCIONAR-",null," -SELECCIONAR-"," -SELECCIONAR-",null,{"$f":"IF(AC53=FALSE, LOOKUP(AC53,Catálogos!O:O),LOOKUP(AC53,Catálogos!O:O,Catálogos!R:R))","v":{"$error":"#N/A"}},"",null,null,null,{"$f":"IF(CD53=FALSE,\"COL. INCORRECTA\",LOOKUP(CONCATENATE(AE53,\" - \",AC53),Catálogos!T:T,Catálogos!Y:Y))","v":{"$error":"#N/A"}},{"$f":"IF(CD53=FALSE,\"COL. INCORRECTA\",LOOKUP(CONCATENATE(AE53,\" - \",AC53),Catálogos!T:T,Catálogos!X:X))","v":{"$error":"#N/A"}}," -SELECCIONAR-",""," -SELECCIONAR-",null,null," -SELECCIONAR-",null,null,null," -SELECCIONAR-",null,null," -SELECCIONAR-"," -SELECCIONAR-",null,null,null,null,null," -SELECCIONAR-",null,null,null,null,null,null," -SELECCIONAR-",null,null,null,null,null,null," -SELECCIONAR-",null,null,null,null,null,null," -SELECCIONAR-",null,null,{"$f":"LOOKUP(AB53,Catálogos!AP:AP,Catálogos!AO:AO)","v":"ERR"},{"$f":"CONCATENATE(LOOKUP(AC53,Catálogos!O:O,Catálogos!P:P),\".\",LOOKUP(AC53,Catálogos!O:O,Catálogos!Q:Q))","v":{"$error":"#N/A"}},{"$f":"IF(AC53=LOOKUP(CONCATENATE(AE53,\" - \",AC53),Catálogos!T:T,Catálogos!V:V),LOOKUP(CONCATENATE(AE53,\" - \",AC53),Catálogos!T:T,Catálogos!W:W),FALSE)","v":{"$error":"#N/A"}},{"$f":"LOOKUP(BD53,Catálogos!AM:AM,Catálogos!AL:AL)","v":"ERR"},{"$f":"LOOKUP(BK53,Catálogos!AM:AM,Catálogos!AL:AL)","v":"ERR"},{"$f":"LOOKUP(BR53,Catálogos!AM:AM,Catálogos!AL:AL)","v":"ERR"},{"$f":"LOOKUP(BY53,Catálogos!AM:AM,Catálogos!AL:AL)","v":"ERR"},0]
[null,null,null,null,null,null,null," -SELECCIONAR-"," -SELECCIONAR-"," -SELECCIONAR-",null," -SELECCIONAR-"," -SELECCIONAR-"," -SELECCIONAR-"," -SELECCIONAR-",null,null," -SELECCIONAR-",null,null,null," -SELECCIONAR-",null,null," -SELECCIONAR-",null," -SELECCIONAR-"," -SELECCIONAR-",null,{"$f":"IF(AC54=FALSE, LOOKUP(AC54,Catálogos!O:O),LOOKUP(AC54,Catálogos!O:O,Catálogos!R:R))","v":{"$error":"#N/A"}},"",null,null,null,{"$f":"IF(CD54=FALSE,\"COL. INCORRECTA\",LOOKUP(CONCATENATE(AE54,\" - \",AC54),Catálogos!T:T,Catálogos!Y:Y))","v":{"$error":"#N/A"}},{"$f":"IF(CD54=FALSE,\"COL. INCORRECTA\",LOOKUP(CONCATENATE(AE54,\" - \",AC54),Catálogos!T:T,Catálogos!X:X))","v":{"$error":"#N/A"}}," -SELECCIONAR-",""," -SELECCIONAR-",null,null," -SELECCIONAR-",null,null,null," -SELECCIONAR-",null,null," -SELECCIONAR-"," -SELECCIONAR-",null,null,null,null,null," -SELECCIONAR-",null,null,null,null,null,null," -SELECCIONAR-",null,null,null,null,null,null," -SELECCIONAR-",null,null,null,null,null,null," -SELECCIONAR-",null,null,{"$f":"LOOKUP(AB54,Catálogos!AP:AP,Catálogos!AO:AO)","v":"ERR"},{"$f":"CONCATENATE(LOOKUP(AC54,Catálogos!O:O,Catálogos!P:P),\".\",LOOKUP(AC54,Catálogos!O:O,Catálogos!Q:Q))","v":{"$error":"#N/A"}},{"$f":"IF(AC54=LOOKUP(CONCATENATE(AE54,\" - \",AC54),Catálogos!T:T,Catálogos!V:V),LOOKUP(CONCATENATE(AE54,\" - \",AC54),Catálogos!T:T,Catálogos!W:W),FALSE)","v":{"$error":"#N/A"}},{"$f":"LOOKUP(BD54,Catálogos!AM:AM,Catálogos!AL:AL)","v":"ERR"},{"$f":"LOOKUP(BK54,Catálogos!AM:AM,Catálogos!AL:AL)","v":"ERR"},{"$f":"LOOKUP(BR54,Catálogos!AM:AM,Catálogos!AL:AL)","v":"ERR"},{"$f":"LOOKUP(BY54,Catálogos!AM:AM,Catálogos!AL:AL)","v":"ERR"},0]
[null,null,null,null,null,null,null," -SELECCIONAR-"," -SELECCIONAR-"," -SELECCIONAR-",null," -SELECCIONAR-"," -SELECCIONAR-"," -SELECCIONAR-"," -SELECCIONAR-",null,null," -SELECCIONAR-",null,null,null," -SELECCIONAR-",null,null," -SELECCIONAR-",null," -SELECCIONAR-"," -SELECCIONAR-",null,{"$f":"IF(AC55=FALSE, LOOKUP(AC55,Catálogos!O:O),LOOKUP(AC55,Catálogos!O:O,Catálogos!R:R))","v":{"$error":"#N/A"}},"",null,null,null,{"$f":"IF(CD55=FALSE,\"COL. INCORRECTA\",LOOKUP(CONCATENATE(AE55,\" - \",AC55),Catálogos!T:T,Catálogos!Y:Y))","v":{"$error":"#N/A"}},{"$f":"IF(CD55=FALSE,\"COL. INCORRECTA\",LOOKUP(CONCATENATE(AE55,\" - \",AC55),Catálogos!T:T,Catálogos!X:X))","v":{"$error":"#N/A"}}," -SELECCIONAR-",""," -SELECCIONAR-",null,null," -SELECCIONAR-",null,null,null," -SELECCIONAR-",null,null," -SELECCIONAR-"," -SELECCIONAR-",null,null,null,null,null," -SELECCIONAR-",null,null,null,null,null,null," -SELECCIONAR-",null,null,null,null,null,null," -SELECCIONAR-",null,null,null,null,null,null," -SELECCIONAR-",null,null,{"$f":"LOOKUP(AB55,Catálogos!AP:AP,Catálogos!AO:AO)","v":"ERR"},{"$f":"CONCATENATE(LOOKUP(AC55,Catálogos!O:O,Catálogos!P:P),\".\",LOOKUP(AC55,Catálogos!O:O,Catálogos!Q:Q))","v":{"$error":"#N/A"}},{"$f":"IF(AC55=LOOKUP(CONCATENATE(AE55,\" - \",AC55),Catálogos!T:T,Catálogos!V:V),LOOKUP(CONCATENATE(AE55,\" - \",AC55),Catálogos!T:T,Catálogos!W:W),FALSE)","v":{"$error":"#N/A"}},{"$f":"LOOKUP(BD55,Catálogos!AM:AM,Catálogos!AL:AL)","v":"ERR"},{"$f":"LOOKUP(BK55,Catálogos!AM:AM,Catálogos!AL:AL)","v":"ERR"},{"$f":"LOOKUP(BR55,Catálogos!AM:AM,Catálogos!AL:AL)","v":"ERR"},{"$f":"LOOKUP(BY55,Catálogos!AM:AM,Catálogos!AL:AL)","v":"ERR"},0]
[null,null,null,null,null,null,null," -SELECCIONAR-"," -SELECCIONAR-"," -SELECCIONAR-",null," -SELECCIONAR-"," -SELECCIONAR-"," -SELECCIONAR-"," -SELECCIONAR-",null,null," -SELECCIONAR-",null,null,null," -SELECCIONAR-",null,null," -SELECCIONAR-",null," -SELECCIONAR-"," -SELECCIONAR-",null,{"$f":"IF(AC56=FALSE, LOOKUP(AC56,Catálogos!O:O),LOOKUP(AC56,Catálogos!O:O,Catálogos!R:R))","v":{"$error":"#N/A"}},"",null,null,null,{"$f":"IF(CD56=FALSE,\"COL. INCORRECTA\",LOOKUP(CONCATENATE(AE56,\" - \",AC56),Catálogos!T:T,Catálogos!Y:Y))","v":{"$error":"#N/A"}},{"$f":"IF(CD56=FALSE,\"COL. INCORRECTA\",LOOKUP(CONCATENATE(AE56,\" - \",AC56),Catálogos!T:T,Catálogos!X:X))","v":{"$error":"#N/A"}}," -SELECCIONAR-",""," -SELECCIONAR-",null,null," -SELECCIONAR-",null,null,null," -SELECCIONAR-",null,null," -SELECCIONAR-"," -SELECCIONAR-",null,null,null,null,null," -SELECCIONAR-",null,null,null,null,null,null," -SELECCIONAR-",null,null,null,null,null,null," -SELECCIONAR-",null,null,null,null,null,null," -SELECCIONAR-",null,null,{"$f":"LOOKUP(AB56,Catálogos!AP:AP,Catálogos!AO:AO)","v":"ERR"},{"$f":"CONCATENATE(LOOKUP(AC56,Catálogos!O:O,Catálogos!P:P),\".\",LOOKUP(AC56,Catálogos!O:O,Catálogos!Q:Q))","v":{"$error":"#N/A"}},{"$f":"IF(AC56=LOOKUP(CONCATENATE(AE56,\" - \",AC56),Catálogos!T:T,Catálogos!V:V),LOOKUP(CONCATENATE(AE56,\" - \",AC56),Catálogos!T:T,Catálogos!W:W),FALSE)","v":{"$error":"#N/A"}},{"$f":"LOOKUP(BD56,Catálogos!AM:AM,Catálogos!AL:AL)","v":"ERR"},{"$f":"LOOKUP(BK56,Catálogos!AM:AM,Catálogos!AL:AL)","v":"ERR"},{"$f":"LOOKUP(BR56,Catálogos!AM:AM,Catálogos!AL:AL)","v":"ERR"},{"$f":"LOOKUP(BY56,Catálogos!AM:AM,Catálogos!AL:AL)","v":"ERR"},0]
[null,null,null,null,null,null,null," -SELECCIONAR-"," -SELECCIONAR-"," -SELECCIONAR-",null," -SELECCIONAR-"," -SELECCIONAR-"," -SELECCIONAR-"," -SELECCIONAR-",null,null," -SELECCIONAR-",null,null,null," -SELECCIONAR-",null,null," -SELECCIONAR-",null," -SELECCIONAR-"," -SELECCIONAR-",null,{"$f":"IF(AC57=FALSE, LOOKUP(AC57,Catálogos!O:O),LOOKUP(AC57,Catálogos!O:O,Catálogos!R:R))","v":{"$error":"#N/A"}},"",null,null,null,{"$f":"IF(CD57=FALSE,\"COL. INCORRECTA\",LOOKUP(CONCATENATE(AE57,\" - \",AC57),Catálogos!T:T,Catálogos!Y:Y))","v":{"$error":"#N/A"}},{"$f":"IF(CD57=FALSE,\"COL. INCORRECTA\",LOOKUP(CONCATENATE(AE57,\" - \",AC57),Catálogos!T:T,Catálogos!X:X))","v":{"$error":"#N/A"}}," -SELECCIONAR-",""," -SELECCIONAR-",null,null," -SELECCIONAR-",null,null,null," -SELECCIONAR-",null,null," -SELECCIONAR-"," -SELECCIONAR-",null,null,null,null,null," -SELECCIONAR-",null,null,null,null,null,null," -SELECCIONAR-",null,null,null,null,null,null," -SELECCIONAR-",null,null,null,null,null,null," -SELECCIONAR-",null,null,{"$f":"LOOKUP(AB57,Catálogos!AP:AP,Catálogos!AO:AO)","v":"ERR"},{"$f":"CONCATENATE(LOOKUP(AC57,Catálogos!O:O,Catálogos!P:P),\".\",LOOKUP(AC57,Catálogos!O:O,Catálogos!Q:Q))","v":{"$error":"#N/A"}},{"$f":"IF(AC57=LOOKUP(CONCATENATE(AE57,\" - \",AC57),Catálogos!T:T,Catálogos!V:V),LOOKUP(CONCATENATE(AE57,\" - \",AC57),Catálogos!T:T,Catálogos!W:W),FALSE)","v":{"$error":"#N/A"}},{"$f":"LOOKUP(BD57,Catálogos!AM:AM,Catálogos!AL:AL)","v":"ERR"},{"$f":"LOOKUP(BK57,Catálogos!AM:AM,Catálogos!AL:AL)","v":"ERR"},{"$f":"LOOKUP(BR57,Catálogos!AM:AM,Catálogos!AL:AL)","v":"ERR"},{"$f":"LOOKUP(BY57,Catálogos!AM:AM,Catálogos!AL:AL)","v":"ERR"},0]
[null,null,null,null,null,null,null," -SELECCIONAR-"," -SELECCIONAR-"," -SELECCIONAR-",null," -SELECCIONAR-"," -SELECCIONAR-"," -SELECCIONAR-"," -SELECCIONAR-",null,null," -SELECCIONAR-",null,null,null," -SELECCIONAR-",null,null," -SELECCIONAR-",null," -SELECCIONAR-"," -SELECCIONAR-",null,{"$f":"IF(AC58=FALSE, LOOKUP(AC58,Catálogos!O:O),LOOKUP(AC58,Catálogos!O:O,Catálogos!R:R))","v":{"$error":"#N/A"}},"",null,null,null,{"$f":"IF(CD58=FALSE,\"COL. INCORRECTA\",LOOKUP(CONCATENATE(AE58,\" - \",AC58),Catálogos!T:T,Catálogos!Y:Y))","v":{"$error":"#N/A"}},{"$f":"IF(CD58=FALSE,\"COL. INCORRECTA\",LOOKUP(CONCATENATE(AE58,\" - \",AC58),Catálogos!T:T,Catálogos!X:X))","v":{"$error":"#N/A"}}," -SELECCIONAR-",""," -SELECCIONAR-",null,null," -SELECCIONAR-",null,null,null," -SELECCIONAR-",null,null," -SELECCIONAR-"," -SELECCIONAR-",null,null,null,null,null," -SELECCIONAR-",null,null,null,null,null,null," -SELECCIONAR-",null,null,null,null,null,null," -SELECCIONAR-",null,null,null,null,null,null," -SELECCIONAR-",null,null,{"$f":"LOOKUP(AB58,Catálogos!AP:AP,Catálogos!AO:AO)","v":"ERR"},{"$f":"CONCATENATE(LOOKUP(AC58,Catálogos!O:O,Catálogos!P:P),\".\",LOOKUP(AC58,Catálogos!O:O,Catálogos!Q:Q))","v":{"$error":"#N/A"}},{"$f":"IF(AC58=LOOKUP(CONCATENATE(AE58,\" - \",AC58),Catálogos!T:T,Catálogos!V:V),LOOKUP(CONCATENATE(AE58,\" - \",AC58),Catálogos!T:T,Catálogos!W:W),FALSE)","v":{"$error":"#N/A"}},{"$f":"LOOKUP(BD58,Catálogos!AM:AM,Catálogos!AL:AL)","v":"ERR"},{"$f":"LOOKUP(BK58,Catálogos!AM:AM,Catálogos!AL:AL)","v":"ERR"},{"$f":"LOOKUP(BR58,Catálogos!AM:AM,Catálogos!AL:AL)","v":"ERR"},{"$f":"LOOKUP(BY58,Catálogos!AM:AM,Catálogos!AL:AL)","v":"ERR"},0]
[null,null,null,null,null,null,null," -SELECCIONAR-"," -SELECCIONAR-"," -SELECCIONAR-",null," -SELECCIONAR-"," -SELECCIONAR-"," -SELECCIONAR-"," -SELECCIONAR-",null,null," -SELECCIONAR-",null,null,null," -SELECCIONAR-",null,null," -SELECCIONAR-",null," -SELECCIONAR-"," -SELECCIONAR-",null,{"$f":"IF(AC59=FALSE, LOOKUP(AC59,Catálogos!O:O),LOOKUP(AC59,Catálogos!O:O,Catálogos!R:R))","v":{"$error":"#N/A"}},"",null,null,null,{"$f":"IF(CD59=FALSE,\"COL. INCORRECTA\",LOOKUP(CONCATENATE(AE59,\" - \",AC59),Catálogos!T:T,Catálogos!Y:Y))","v":{"$error":"#N/A"}},{"$f":"IF(CD59=FALSE,\"COL. INCORRECTA\",LOOKUP(CONCATENATE(AE59,\" - \",AC59),Catálogos!T:T,Catálogos!X:X))","v":{"$error":"#N/A"}}," -SELECCIONAR-",""," -SELECCIONAR-",null,null," -SELECCIONAR-",null,null,null," -SELECCIONAR-",null,null," -SELECCIONAR-"," -SELECCIONAR-",null,null,null,null,null," -SELECCIONAR-",null,null,null,null,null,null," -SELECCIONAR-",null,null,null,null,null,null," -SELECCIONAR-",null,null,null,null,null,null," -SELECCIONAR-",null,null,{"$f":"LOOKUP(AB59,Catálogos!AP:AP,Catálogos!AO:AO)","v":"ERR"},{"$f":"CONCATENATE(LOOKUP(AC59,Catálogos!O:O,Catálogos!P:P),\".\",LOOKUP(AC59,Catálogos!O:O,Catálogos!Q:Q))","v":{"$error":"#N/A"}},{"$f":"IF(AC59=LOOKUP(CONCATENATE(AE59,\" - \",AC59),Catálogos!T:T,Catálogos!V:V),LOOKUP(CONCATENATE(AE59,\" - \",AC59),Catálogos!T:T,Catálogos!W:W),FALSE)","v":{"$error":"#N/A"}},{"$f":"LOOKUP(BD59,Catálogos!AM:AM,Catálogos!AL:AL)","v":"ERR"},{"$f":"LOOKUP(BK59,Catálogos!AM:AM,Catálogos!AL:AL)","v":"ERR"},{"$f":"LOOKUP(BR59,Catálogos!AM:AM,Catálogos!AL:AL)","v":"ERR"},{"$f":"LOOKUP(BY59,Catálogos!AM:AM,Catálogos!AL:AL)","v":"ERR"},0]
[null,null,null,null,null,null,null," -SELECCIONAR-"," -SELECCIONAR-"," -SELECCIONAR-",null," -SELECCIONAR-"," -SELECCIONAR-"," -SELECCIONAR-"," -SELECCIONAR-",null,null," -SELECCIONAR-",null,null,null," -SELECCIONAR-",null,null," -SELECCIONAR-",null," -SELECCIONAR-"," -SELECCIONAR-",null,{"$f":"IF(AC60=FALSE, LOOKUP(AC60,Catálogos!O:O),LOOKUP(AC60,Catálogos!O:O,Catálogos!R:R))","v":{"$error":"#N/A"}},"",null,null,null,{"$f":"IF(CD60=FALSE,\"COL. INCORRECTA\",LOOKUP(CONCATENATE(AE60,\" - \",AC60),Catálogos!T:T,Catálogos!Y:Y))","v":{"$error":"#N/A"}},{"$f":"IF(CD60=FALSE,\"COL. INCORRECTA\",LOOKUP(CONCATENATE(AE60,\" - \",AC60),Catálogos!T:T,Catálogos!X:X))","v":{"$error":"#N/A"}}," -SELECCIONAR-",""," -SELECCIONAR-",null,null," -SELECCIONAR-",null,null,null," -SELECCIONAR-",null,null," -SELECCIONAR-"," -SELECCIONAR-",null,null,null,null,null," -SELECCIONAR-",null,null,null,null,null,null," -SELECCIONAR-",null,null,null,null,null,null," -SELECCIONAR-",null,null,null,null,null,null," -SELECCIONAR-",null,null,{"$f":"LOOKUP(AB60,Catálogos!AP:AP,Catálogos!AO:AO)","v":"ERR"},{"$f":"CONCATENATE(LOOKUP(AC60,Catálogos!O:O,Catálogos!P:P),\".\",LOOKUP(AC60,Catálogos!O:O,Catálogos!Q:Q))","v":{"$error":"#N/A"}},{"$f":"IF(AC60=LOOKUP(CONCATENATE(AE60,\" - \",AC60),Catálogos!T:T,Catálogos!V:V),LOOKUP(CONCATENATE(AE60,\" - \",AC60),Catálogos!T:T,Catálogos!W:W),FALSE)","v":{"$error":"#N/A"}},{"$f":"LOOKUP(BD60,Catálogos!AM:AM,Catálogos!AL:AL)","v":"ERR"},{"$f":"LOOKUP(BK60,Catálogos!AM:AM,Catálogos!AL:AL)","v":"ERR"},{"$f":"LOOKUP(BR60,Catálogos!AM:AM,Catálogos!AL:AL)","v":"ERR"},{"$f":"LOOKUP(BY60,Catálogos!AM:AM,Catálogos!AL:AL)","v":"ERR"},0]
[null,null,null,null,null,null,null," -SELECCIONAR-"," -SELECCIONAR-"," -SELECCIONAR-",null," -SELECCIONAR-"," -SELECCIONAR-"," -SELECCIONAR-"," -SELECCIONAR-",null,null," -SELECCIONAR-",null,null,null," -SELECCIONAR-",null,null," -SELECCIONAR-",null," -SELECCIONAR-"," -SELECCIONAR-",null,{"$f":"IF(AC61=FALSE, LOOKUP(AC61,Catálogos!O:O),LOOKUP(AC61,Catálogos!O:O,Catálogos!R:R))","v":{"$error":"#N/A"}},"",null,null,null,{"$f":"IF(CD61=FALSE,\"COL. INCORRECTA\",LOOKUP(CONCATENATE(AE61,\" - \",AC61),Catálogos!T:T,Catálogos!Y:Y))","v":{"$error":"#N/A"}},{"$f":"IF(CD61=FALSE,\"COL. INCORRECTA\",LOOKUP(CONCATENATE(AE61,\" - \",AC61),Catálogos!T:T,Catálogos!X:X))","v":{"$error":"#N/A"}}," -SELECCIONAR-",""," -SELECCIONAR-",null,null," -SELECCIONAR-",null,null,null," -SELECCIONAR-",null,null," -SELECCIONAR-"," -SELECCIONAR-",null,null,null,null,null," -SELECCIONAR-",null,null,null,null,null,null," -SELECCIONAR-",null,null,null,null,null,null," -SELECCIONAR-",null,null,null,null,null,null," -SELECCIONAR-",null,null,{"$f":"LOOKUP(AB61,Catálogos!AP:AP,Catálogos!AO:AO)","v":"ERR"},{"$f":"CONCATENATE(LOOKUP(AC61,Catálogos!O:O,Catálogos!P:P),\".\",LOOKUP(AC61,Catálogos!O:O,Catálogos!Q:Q))","v":{"$error":"#N/A"}},{"$f":"IF(AC61=LOOKUP(CONCATENATE(AE61,\" - \",AC61),Catálogos!T:T,Catálogos!V:V),LOOKUP(CONCATENATE(AE61,\" - \",AC61),Catálogos!T:T,Catálogos!W:W),FALSE)","v":{"$error":"#N/A"}},{"$f":"LOOKUP(BD61,Catálogos!AM:AM,Catálogos!AL:AL)","v":"ERR"},{"$f":"LOOKUP(BK61,Catálogos!AM:AM,Catálogos!AL:AL)","v":"ERR"},{"$f":"LOOKUP(BR61,Catálogos!AM:AM,Catálogos!AL:AL)","v":"ERR"},{"$f":"LOOKUP(BY61,Catálogos!AM:AM,Catálogos!AL:AL)","v":"ERR"},0]
[null,null,null,null,null,null,null," -SELECCIONAR-"," -SELECCIONAR-"," -SELECCIONAR-",null," -SELECCIONAR-"," -SELECCIONAR-"," -SELECCIONAR-"," -SELECCIONAR-",null,null," -SELECCIONAR-",null,null,null," -SELECCIONAR-",null,null," -SELECCIONAR-",null," -SELECCIONAR-"," -SELECCIONAR-",null,{"$f":"IF(AC62=FALSE, LOOKUP(AC62,Catálogos!O:O),LOOKUP(AC62,Catálogos!O:O,Catálogos!R:R))","v":{"$error":"#N/A"}},"",null,null,null,{"$f":"IF(CD62=FALSE,\"COL. INCORRECTA\",LOOKUP(CONCATENATE(AE62,\" - \",AC62),Catálogos!T:T,Catálogos!Y:Y))","v":{"$error":"#N/A"}},{"$f":"IF(CD62=FALSE,\"COL. INCORRECTA\",LOOKUP(CONCATENATE(AE62,\" - \",AC62),Catálogos!T:T,Catálogos!X:X))","v":{"$error":"#N/A"}}," -SELECCIONAR-",""," -SELECCIONAR-",null,null," -SELECCIONAR-",null,null,null," -SELECCIONAR-",null,null," -SELECCIONAR-"," -SELECCIONAR-",null,null,null,null,null," -SELECCIONAR-",null,null,null,null,null,null," -SELECCIONAR-",null,null,null,null,null,null," -SELECCIONAR-",null,null,null,null,null,null," -SELECCIONAR-",null,null,{"$f":"LOOKUP(AB62,Catálogos!AP:AP,Catálogos!AO:AO)","v":"ERR"},{"$f":"CONCATENATE(LOOKUP(AC62,Catálogos!O:O,Catálogos!P:P),\".\",LOOKUP(AC62,Catálogos!O:O,Catálogos!Q:Q))","v":{"$error":"#N/A"}},{"$f":"IF(AC62=LOOKUP(CONCATENATE(AE62,\" - \",AC62),Catálogos!T:T,Catálogos!V:V),LOOKUP(CONCATENATE(AE62,\" - \",AC62),Catálogos!T:T,Catálogos!W:W),FALSE)","v":{"$error":"#N/A"}},{"$f":"LOOKUP(BD62,Catálogos!AM:AM,Catálogos!AL:AL)","v":"ERR"},{"$f":"LOOKUP(BK62,Catálogos!AM:AM,Catálogos!AL:AL)","v":"ERR"},{"$f":"LOOKUP(BR62,Catálogos!AM:AM,Catálogos!AL:AL)","v":"ERR"},{"$f":"LOOKUP(BY62,Catálogos!AM:AM,Catálogos!AL:AL)","v":"ERR"},0]
[null,null,null,null,null,null,null," -SELECCIONAR-"," -SELECCIONAR-"," -SELECCIONAR-",null," -SELECCIONAR-"," -SELECCIONAR-"," -SELECCIONAR-"," -SELECCIONAR-",null,null," -SELECCIONAR-",null,null,null," -SELECCIONAR-",null,null," -SELECCIONAR-",null," -SELECCIONAR-"," -SELECCIONAR-",null,{"$f":"IF(AC63=FALSE, LOOKUP(AC63,Catálogos!O:O),LOOKUP(AC63,Catálogos!O:O,Catálogos!R:R))","v":{"$error":"#N/A"}},"",null,null,null,{"$f":"IF(CD63=FALSE,\"COL. INCORRECTA\",LOOKUP(CONCATENATE(AE63,\" - \",AC63),Catálogos!T:T,Catálogos!Y:Y))","v":{"$error":"#N/A"}},{"$f":"IF(CD63=FALSE,\"COL. INCORRECTA\",LOOKUP(CONCATENATE(AE63,\" - \",AC63),Catálogos!T:T,Catálogos!X:X))","v":{"$error":"#N/A"}}," -SELECCIONAR-",""," -SELECCIONAR-",null,null," -SELECCIONAR-",null,null,null," -SELECCIONAR-",null,null," -SELECCIONAR-"," -SELECCIONAR-",null,null,null,null,null," -SELECCIONAR-",null,null,null,null,null,null," -SELECCIONAR-",null,null,null,null,null,null," -SELECCIONAR-",null,null,null,null,null,null," -SELECCIONAR-",null,null,{"$f":"LOOKUP(AB63,Catálogos!AP:AP,Catálogos!AO:AO)","v":"ERR"},{"$f":"CONCATENATE(LOOKUP(AC63,Catálogos!O:O,Catálogos!P:P),\".\",LOOKUP(AC63,Catálogos!O:O,Catálogos!Q:Q))","v":{"$error":"#N/A"}},{"$f":"IF(AC63=LOOKUP(CONCATENATE(AE63,\" - \",AC63),Catálogos!T:T,Catálogos!V:V),LOOKUP(CONCATENATE(AE63,\" - \",AC63),Catálogos!T:T,Catálogos!W:W),FALSE)","v":{"$error":"#N/A"}},{"$f":"LOOKUP(BD63,Catálogos!AM:AM,Catálogos!AL:AL)","v":"ERR"},{"$f":"LOOKUP(BK63,Catálogos!AM:AM,Catálogos!AL:AL)","v":"ERR"},{"$f":"LOOKUP(BR63,Catálogos!AM:AM,Catálogos!AL:AL)","v":"ERR"},{"$f":"LOOKUP(BY63,Catálogos!AM:AM,Catálogos!AL:AL)","v":"ERR"},0]
[null,null,null,null,null,null,null," -SELECCIONAR-"," -SELECCIONAR-"," -SELECCIONAR-",null," -SELECCIONAR-"," -SELECCIONAR-"," -SELECCIONAR-"," -SELECCIONAR-",null,null," -SELECCIONAR-",null,null,null," -SELECCIONAR-",null,null," -SELECCIONAR-",null," -SELECCIONAR-"," -SELECCIONAR-",null,{"$f":"IF(AC64=FALSE, LOOKUP(AC64,Catálogos!O:O),LOOKUP(AC64,Catálogos!O:O,Catálogos!R:R))","v":{"$error":"#N/A"}},"",null,null,null,{"$f":"IF(CD64=FALSE,\"COL. INCORRECTA\",LOOKUP(CONCATENATE(AE64,\" - \",AC64),Catálogos!T:T,Catálogos!Y:Y))","v":{"$error":"#N/A"}},{"$f":"IF(CD64=FALSE,\"COL. INCORRECTA\",LOOKUP(CONCATENATE(AE64,\" - \",AC64),Catálogos!T:T,Catálogos!X:X))","v":{"$error":"#N/A"}}," -SELECCIONAR-",""," -SELECCIONAR-",null,null," -SELECCIONAR-",null,null,null," -SELECCIONAR-",null,null," -SELECCIONAR-"," -SELECCIONAR-",null,null,null,null,null," -SELECCIONAR-",null,null,null,null,null,null," -SELECCIONAR-",null,null,null,null,null,null," -SELECCIONAR-",null,null,null,null,null,null," -SELECCIONAR-",null,null,{"$f":"LOOKUP(AB64,Catálogos!AP:AP,Catálogos!AO:AO)","v":"ERR"},{"$f":"CONCATENATE(LOOKUP(AC64,Catálogos!O:O,Catálogos!P:P),\".\",LOOKUP(AC64,Catálogos!O:O,Catálogos!Q:Q))","v":{"$error":"#N/A"}},{"$f":"IF(AC64=LOOKUP(CONCATENATE(AE64,\" - \",AC64),Catálogos!T:T,Catálogos!V:V),LOOKUP(CONCATENATE(AE64,\" - \",AC64),Catálogos!T:T,Catálogos!W:W),FALSE)","v":{"$error":"#N/A"}},{"$f":"LOOKUP(BD64,Catálogos!AM:AM,Catálogos!AL:AL)","v":"ERR"},{"$f":"LOOKUP(BK64,Catálogos!AM:AM,Catálogos!AL:AL)","v":"ERR"},{"$f":"LOOKUP(BR64,Catálogos!AM:AM,Catálogos!AL:AL)","v":"ERR"},{"$f":"LOOKUP(BY64,Catálogos!AM:AM,Catálogos!AL:AL)","v":"ERR"},0]
[null,null,null,null,null,null,null," -SELECCIONAR-"," -SELECCIONAR-"," -SELECCIONAR-",null," -SELECCIONAR-"," -SELECCIONAR-"," -SELECCIONAR-"," -SELECCIONAR-",null,null," -SELECCIONAR-",null,null,null," -SELECCIONAR-",null,null," -SELECCIONAR-",null," -SELECCIONAR-"," -SELECCIONAR-",null,{"$f":"IF(AC65=FALSE, LOOKUP(AC65,Catálogos!O:O),LOOKUP(AC65,Catálogos!O:O,Catálogos!R:R))","v":{"$error":"#N/A"}},"",null,null,null,{"$f":"IF(CD65=FALSE,\"COL. INCORRECTA\",LOOKUP(CONCATENATE(AE65,\" - \",AC65),Catálogos!T:T,Catálogos!Y:Y))","v":{"$error":"#N/A"}},{"$f":"IF(CD65=FALSE,\"COL. INCORRECTA\",LOOKUP(CONCATENATE(AE65,\" - \",AC65),Catálogos!T:T,Catálogos!X:X))","v":{"$error":"#N/A"}}," -SELECCIONAR-",""," -SELECCIONAR-",null,null," -SELECCIONAR-",null,null,null," -SELECCIONAR-",null,null," -SELECCIONAR-"," -SELECCIONAR-",null,null,null,null,null," -SELECCIONAR-",null,null,null,null,null,null," -SELECCIONAR-",null,null,null,null,null,null," -SELECCIONAR-",null,null,null,null,null,null," -SELECCIONAR-",null,null,{"$f":"LOOKUP(AB65,Catálogos!AP:AP,Catálogos!AO:AO)","v":"ERR"},{"$f":"CONCATENATE(LOOKUP(AC65,Catálogos!O:O,Catálogos!P:P),\".\",LOOKUP(AC65,Catálogos!O:O,Catálogos!Q:Q))","v":{"$error":"#N/A"}},{"$f":"IF(AC65=LOOKUP(CONCATENATE(AE65,\" - \",AC65),Catálogos!T:T,Catálogos!V:V),LOOKUP(CONCATENATE(AE65,\" - \",AC65),Catálogos!T:T,Catálogos!W:W),FALSE)","v":{"$error":"#N/A"}},{"$f":"LOOKUP(BD65,Catálogos!AM:AM,Catálogos!AL:AL)","v":"ERR"},{"$f":"LOOKUP(BK65,Catálogos!AM:AM,Catálogos!AL:AL)","v":"ERR"},{"$f":"LOOKUP(BR65,Catálogos!AM:AM,Catálogos!AL:AL)","v":"ERR"},{"$f":"LOOKUP(BY65,Catálogos!AM:AM,Catálogos!AL:AL)","v":"ERR"},0]
[null,null,null,null,null,null,null," -SELECCIONAR-"," -SELECCIONAR-"," -SELECCIONAR-",null," -SELECCIONAR-"," -SELECCIONAR-"," -SELECCIONAR-"," -SELECCIONAR-",null,null," -SELECCIONAR-",null,null,null," -SELECCIONAR-",null,null," -SELECCIONAR-",null," -SELECCIONAR-"," -SELECCIONAR-",null,{"$f":"IF(AC66=FALSE, LOOKUP(AC66,Catálogos!O:O),LOOKUP(AC66,Catálogos!O:O,Catálogos!R:R))","v":{"$error":"#N/A"}},"",null,null,null,{"$f":"IF(CD66=FALSE,\"COL. INCORRECTA\",LOOKUP(CONCATENATE(AE66,\" - \",AC66),Catálogos!T:T,Catálogos!Y:Y))","v":{"$error":"#N/A"}},{"$f":"IF(CD66=FALSE,\"COL. INCORRECTA\",LOOKUP(CONCATENATE(AE66,\" - \",AC66),Catálogos!T:T,Catálogos!X:X))","v":{"$error":"#N/A"}}," -SELECCIONAR-",""," -SELECCIONAR-",null,null," -SELECCIONAR-",null,null,null," -SELECCIONAR-",null,null," -SELECCIONAR-"," -SELECCIONAR-",null,null,null,null,null," -SELECCIONAR-",null,null,null,null,null,null," -SELECCIONAR-",null,null,null,null,null,null," -SELECCIONAR-",null,null,null,null,null,null," -SELECCIONAR-",null,null,{"$f":"LOOKUP(AB66,Catálogos!AP:AP,Catálogos!AO:AO)","v":"ERR"},{"$f":"CONCATENATE(LOOKUP(AC66,Catálogos!O:O,Catálogos!P:P),\".\",LOOKUP(AC66,Catálogos!O:O,Catálogos!Q:Q))","v":{"$error":"#N/A"}},{"$f":"IF(AC66=LOOKUP(CONCATENATE(AE66,\" - \",AC66),Catálogos!T:T,Catálogos!V:V),LOOKUP(CONCATENATE(AE66,\" - \",AC66),Catálogos!T:T,Catálogos!W:W),FALSE)","v":{"$error":"#N/A"}},{"$f":"LOOKUP(BD66,Catálogos!AM:AM,Catálogos!AL:AL)","v":"ERR"},{"$f":"LOOKUP(BK66,Catálogos!AM:AM,Catálogos!AL:AL)","v":"ERR"},{"$f":"LOOKUP(BR66,Catálogos!AM:AM,Catálogos!AL:AL)","v":"ERR"},{"$f":"LOOKUP(BY66,Catálogos!AM:AM,Catálogos!AL:AL)","v":"ERR"},0]
[null,null,null,null,null,null,null," -SELECCIONAR-"," -SELECCIONAR-"," -SELECCIONAR-",null," -SELECCIONAR-"," -SELECCIONAR-"," -SELECCIONAR-"," -SELECCIONAR-",null,null," -SELECCIONAR-",null,null,null," -SELECCIONAR-",null,null," -SELECCIONAR-",null," -SELECCIONAR-"," -SELECCIONAR-",null,{"$f":"IF(AC67=FALSE, LOOKUP(AC67,Catálogos!O:O),LOOKUP(AC67,Catálogos!O:O,Catálogos!R:R))","v":{"$error":"#N/A"}},"",null,null,null,{"$f":"IF(CD67=FALSE,\"COL. INCORRECTA\",LOOKUP(CONCATENATE(AE67,\" - \",AC67),Catálogos!T:T,Catálogos!Y:Y))","v":{"$error":"#N/A"}},{"$f":"IF(CD67=FALSE,\"COL. INCORRECTA\",LOOKUP(CONCATENATE(AE67,\" - \",AC67),Catálogos!T:T,Catálogos!X:X))","v":{"$error":"#N/A"}}," -SELECCIONAR-",""," -SELECCIONAR-",null,null," -SELECCIONAR-",null,null,null," -SELECCIONAR-",null,null," -SELECCIONAR-"," -SELECCIONAR-",null,null,null,null,null," -SELECCIONAR-",null,null,null,null,null,null," -SELECCIONAR-",null,null,null,null,null,null," -SELECCIONAR-",null,null,null,null,null,null," -SELECCIONAR-",null,null,{"$f":"LOOKUP(AB67,Catálogos!AP:AP,Catálogos!AO:AO)","v":"ERR"},{"$f":"CONCATENATE(LOOKUP(AC67,Catálogos!O:O,Catálogos!P:P),\".\",LOOKUP(AC67,Catálogos!O:O,Catálogos!Q:Q))","v":{"$error":"#N/A"}},{"$f":"IF(AC67=LOOKUP(CONCATENATE(AE67,\" - \",AC67),Catálogos!T:T,Catálogos!V:V),LOOKUP(CONCATENATE(AE67,\" - \",AC67),Catálogos!T:T,Catálogos!W:W),FALSE)","v":{"$error":"#N/A"}},{"$f":"LOOKUP(BD67,Catálogos!AM:AM,Catálogos!AL:AL)","v":"ERR"},{"$f":"LOOKUP(BK67,Catálogos!AM:AM,Catálogos!AL:AL)","v":"ERR"},{"$f":"LOOKUP(BR67,Catálogos!AM:AM,Catálogos!AL:AL)","v":"ERR"},{"$f":"LOOKUP(BY67,Catálogos!AM:AM,Catálogos!AL:AL)","v":"ERR"},0]
[null,null,null,null,null,null,null," -SELECCIONAR-"," -SELECCIONAR-"," -SELECCIONAR-",null," -SELECCIONAR-"," -SELECCIONAR-"," -SELECCIONAR-"," -SELECCIONAR-",null,null," -SELECCIONAR-",null,null,null," -SELECCIONAR-",null,null," -SELECCIONAR-",null," -SELECCIONAR-"," -SELECCIONAR-",null,{"$f":"IF(AC68=FALSE, LOOKUP(AC68,Catálogos!O:O),LOOKUP(AC68,Catálogos!O:O,Catálogos!R:R))","v":{"$error":"#N/A"}},"",null,null,null,{"$f":"IF(CD68=FALSE,\"COL. INCORRECTA\",LOOKUP(CONCATENATE(AE68,\" - \",AC68),Catálogos!T:T,Catálogos!Y:Y))","v":{"$error":"#N/A"}},{"$f":"IF(CD68=FALSE,\"COL. INCORRECTA\",LOOKUP(CONCATENATE(AE68,\" - \",AC68),Catálogos!T:T,Catálogos!X:X))","v":{"$error":"#N/A"}}," -SELECCIONAR-",""," -SELECCIONAR-",null,null," -SELECCIONAR-",null,null,null," -SELECCIONAR-",null,null," -SELECCIONAR-"," -SELECCIONAR-",null,null,null,null,null," -SELECCIONAR-",null,null,null,null,null,null," -SELECCIONAR-",null,null,null,null,null,null," -SELECCIONAR-",null,null,null,null,null,null," -SELECCIONAR-",null,null,{"$f":"LOOKUP(AB68,Catálogos!AP:AP,Catálogos!AO:AO)","v":"ERR"},{"$f":"CONCATENATE(LOOKUP(AC68,Catálogos!O:O,Catálogos!P:P),\".\",LOOKUP(AC68,Catálogos!O:O,Catálogos!Q:Q))","v":{"$error":"#N/A"}},{"$f":"IF(AC68=LOOKUP(CONCATENATE(AE68,\" - \",AC68),Catálogos!T:T,Catálogos!V:V),LOOKUP(CONCATENATE(AE68,\" - \",AC68),Catálogos!T:T,Catálogos!W:W),FALSE)","v":{"$error":"#N/A"}},{"$f":"LOOKUP(BD68,Catálogos!AM:AM,Catálogos!AL:AL)","v":"ERR"},{"$f":"LOOKUP(BK68,Catálogos!AM:AM,Catálogos!AL:AL)","v":"ERR"},{"$f":"LOOKUP(BR68,Catálogos!AM:AM,Catálogos!AL:AL)","v":"ERR"},{"$f":"LOOKUP(BY68,Catálogos!AM:AM,Catálogos!AL:AL)","v":"ERR"},0]
[null,null,null,null,null,null,null," -SELECCIONAR-"," -SELECCIONAR-"," -SELECCIONAR-",null," -SELECCIONAR-"," -SELECCIONAR-"," -SELECCIONAR-"," -SELECCIONAR-",null,null," -SELECCIONAR-",null,null,null," -SELECCIONAR-",null,null," -SELECCIONAR-",null," -SELECCIONAR-"," -SELECCIONAR-",null,{"$f":"IF(AC69=FALSE, LOOKUP(AC69,Catálogos!O:O),LOOKUP(AC69,Catálogos!O:O,Catálogos!R:R))","v":{"$error":"#N/A"}},"",null,null,null,{"$f":"IF(CD69=FALSE,\"COL. INCORRECTA\",LOOKUP(CONCATENATE(AE69,\" - \",AC69),Catálogos!T:T,Catálogos!Y:Y))","v":{"$error":"#N/A"}},{"$f":"IF(CD69=FALSE,\"COL. INCORRECTA\",LOOKUP(CONCATENATE(AE69,\" - \",AC69),Catálogos!T:T,Catálogos!X:X))","v":{"$error":"#N/A"}}," -SELECCIONAR-",""," -SELECCIONAR-",null,null," -SELECCIONAR-",null,null,null," -SELECCIONAR-",null,null," -SELECCIONAR-"," -SELECCIONAR-",null,null,null,null,null," -SELECCIONAR-",null,null,null,null,null,null," -SELECCIONAR-",null,null,null,null,null,null," -SELECCIONAR-",null,null,null,null,null,null," -SELECCIONAR-",null,null,{"$f":"LOOKUP(AB69,Catálogos!AP:AP,Catálogos!AO:AO)","v":"ERR"},{"$f":"CONCATENATE(LOOKUP(AC69,Catálogos!O:O,Catálogos!P:P),\".\",LOOKUP(AC69,Catálogos!O:O,Catálogos!Q:Q))","v":{"$error":"#N/A"}},{"$f":"IF(AC69=LOOKUP(CONCATENATE(AE69,\" - \",AC69),Catálogos!T:T,Catálogos!V:V),LOOKUP(CONCATENATE(AE69,\" - \",AC69),Catálogos!T:T,Catálogos!W:W),FALSE)","v":{"$error":"#N/A"}},{"$f":"LOOKUP(BD69,Catálogos!AM:AM,Catálogos!AL:AL)","v":"ERR"},{"$f":"LOOKUP(BK69,Catálogos!AM:AM,Catálogos!AL:AL)","v":"ERR"},{"$f":"LOOKUP(BR69,Catálogos!AM:AM,Catálogos!AL:AL)","v":"ERR"},{"$f":"LOOKUP(BY69,Catálogos!AM:AM,Catálogos!AL:AL)","v":"ERR"},{"$f":"SUM(BE69+BL69+BS69+BZ69)","v":0}]
[null,null,null,null,null,null,null," -SELECCIONAR-"," -SELECCIONAR-"," -SELECCIONAR-",null," -SELECCIONAR-"," -SELECCIONAR-"," -SELECCIONAR-"," -SELECCIONAR-",null,null," -SELECCIONAR-",null,null,null," -SELECCIONAR-",null,null," -SELECCIONAR-",null," -SELECCIONAR-"," -SELECCIONAR-",null,{"$f":"IF(AC70=FALSE, LOOKUP(AC70,Catálogos!O:O),LOOKUP(AC70,Catálogos!O:O,Catálogos!R:R))","v":{"$error":"#N/A"}},"",null,null,null,{"$f":"IF(CD70=FALSE,\"COL. INCORRECTA\",LOOKUP(CONCATENATE(AE70,\" - \",AC70),Catálogos!T:T,Catálogos!Y:Y))","v":{"$error":"#N/A"}},{"$f":"IF(CD70=FALSE,\"COL. INCORRECTA\",LOOKUP(CONCATENATE(AE70,\" - \",AC70),Catálogos!T:T,Catálogos!X:X))","v":{"$error":"#N/A"}}," -SELECCIONAR-",""," -SELECCIONAR-",null,null," -SELECCIONAR-",null,null,null," -SELECCIONAR-",null,null," -SELECCIONAR-"," -SELECCIONAR-",null,null,null,null,null," -SELECCIONAR-",null,null,null,null,null,null," -SELECCIONAR-",null,null,null,null,null,null," -SELECCIONAR-",null,null,null,null,null,null," -SELECCIONAR-",null,null,{"$f":"LOOKUP(AB70,Catálogos!AP:AP,Catálogos!AO:AO)","v":"ERR"},{"$f":"CONCATENATE(LOOKUP(AC70,Catálogos!O:O,Catálogos!P:P),\".\",LOOKUP(AC70,Catálogos!O:O,Catálogos!Q:Q))","v":{"$error":"#N/A"}},{"$f":"IF(AC70=LOOKUP(CONCATENATE(AE70,\" - \",AC70),Catálogos!T:T,Catálogos!V:V),LOOKUP(CONCATENATE(AE70,\" - \",AC70),Catálogos!T:T,Catálogos!W:W),FALSE)","v":{"$error":"#N/A"}},{"$f":"LOOKUP(BD70,Catálogos!AM:AM,Catálogos!AL:AL)","v":"ERR"},{"$f":"LOOKUP(BK70,Catálogos!AM:AM,Catálogos!AL:AL)","v":"ERR"},{"$f":"LOOKUP(BR70,Catálogos!AM:AM,Catálogos!AL:AL)","v":"ERR"},{"$f":"LOOKUP(BY70,Catálogos!AM:AM,Catálogos!AL:AL)","v":"ERR"},0]
[null,null,null,null,null,null,null," -SELECCIONAR-"," -SELECCIONAR-"," -SELECCIONAR-",null," -SELECCIONAR-"," -SELECCIONAR-"," -SELECCIONAR-"," -SELECCIONAR-",null,null," -SELECCIONAR-",null,null,null," -SELECCIONAR-",null,null," -SELECCIONAR-",null," -SELECCIONAR-"," -SELECCIONAR-",null,{"$f":"IF(AC71=FALSE, LOOKUP(AC71,Catálogos!O:O),LOOKUP(AC71,Catálogos!O:O,Catálogos!R:R))","v":{"$error":"#N/A"}},"",null,null,null,{"$f":"IF(CD71=FALSE,\"COL. INCORRECTA\",LOOKUP(CONCATENATE(AE71,\" - \",AC71),Catálogos!T:T,Catálogos!Y:Y))","v":{"$error":"#N/A"}},{"$f":"IF(CD71=FALSE,\"COL. INCORRECTA\",LOOKUP(CONCATENATE(AE71,\" - \",AC71),Catálogos!T:T,Catálogos!X:X))","v":{"$error":"#N/A"}}," -SELECCIONAR-",""," -SELECCIONAR-",null,null," -SELECCIONAR-",null,null,null," -SELECCIONAR-",null,null," -SELECCIONAR-"," -SELECCIONAR-",null,null,null,null,null," -SELECCIONAR-",null,null,null,null,null,null," -SELECCIONAR-",null,null,null,null,null,null," -SELECCIONAR-",null,null,null,null,null,null," -SELECCIONAR-",null,null,{"$f":"LOOKUP(AB71,Catálogos!AP:AP,Catálogos!AO:AO)","v":"ERR"},{"$f":"CONCATENATE(LOOKUP(AC71,Catálogos!O:O,Catálogos!P:P),\".\",LOOKUP(AC71,Catálogos!O:O,Catálogos!Q:Q))","v":{"$error":"#N/A"}},{"$f":"IF(AC71=LOOKUP(CONCATENATE(AE71,\" - \",AC71),Catálogos!T:T,Catálogos!V:V),LOOKUP(CONCATENATE(AE71,\" - \",AC71),Catálogos!T:T,Catálogos!W:W),FALSE)","v":{"$error":"#N/A"}},{"$f":"LOOKUP(BD71,Catálogos!AM:AM,Catálogos!AL:AL)","v":"ERR"},{"$f":"LOOKUP(BK71,Catálogos!AM:AM,Catálogos!AL:AL)","v":"ERR"},{"$f":"LOOKUP(BR71,Catálogos!AM:AM,Catálogos!AL:AL)","v":"ERR"},{"$f":"LOOKUP(BY71,Catálogos!AM:AM,Catálogos!AL:AL)","v":"ERR"},0]
[null,null,null,null,null,null,null," -SELECCIONAR-"," -SELECCIONAR-"," -SELECCIONAR-",null," -SELECCIONAR-"," -SELECCIONAR-"," -SELECCIONAR-"," -SELECCIONAR-",null,null," -SELECCIONAR-",null,null,null," -SELECCIONAR-",null,null," -SELECCIONAR-",null," -SELECCIONAR-"," -SELECCIONAR-",null,{"$f":"IF(AC72=FALSE, LOOKUP(AC72,Catálogos!O:O),LOOKUP(AC72,Catálogos!O:O,Catálogos!R:R))","v":{"$error":"#N/A"}},"",null,null,null,{"$f":"IF(CD72=FALSE,\"COL. INCORRECTA\",LOOKUP(CONCATENATE(AE72,\" - \",AC72),Catálogos!T:T,Catálogos!Y:Y))","v":{"$error":"#N/A"}},{"$f":"IF(CD72=FALSE,\"COL. INCORRECTA\",LOOKUP(CONCATENATE(AE72,\" - \",AC72),Catálogos!T:T,Catálogos!X:X))","v":{"$error":"#N/A"}}," -SELECCIONAR-",""," -SELECCIONAR-",null,null," -SELECCIONAR-",null,null,null," -SELECCIONAR-",null,null," -SELECCIONAR-"," -SELECCIONAR-",null,null,null,null,null," -SELECCIONAR-",null,null,null,null,null,null," -SELECCIONAR-",null,null,null,null,null,null," -SELECCIONAR-",null,null,null,null,null,null," -SELECCIONAR-",null,null,{"$f":"LOOKUP(AB72,Catálogos!AP:AP,Catálogos!AO:AO)","v":"ERR"},{"$f":"CONCATENATE(LOOKUP(AC72,Catálogos!O:O,Catálogos!P:P),\".\",LOOKUP(AC72,Catálogos!O:O,Catálogos!Q:Q))","v":{"$error":"#N/A"}},{"$f":"IF(AC72=LOOKUP(CONCATENATE(AE72,\" - \",AC72),Catálogos!T:T,Catálogos!V:V),LOOKUP(CONCATENATE(AE72,\" - \",AC72),Catálogos!T:T,Catálogos!W:W),FALSE)","v":{"$error":"#N/A"}},{"$f":"LOOKUP(BD72,Catálogos!AM:AM,Catálogos!AL:AL)","v":"ERR"},{"$f":"LOOKUP(BK72,Catálogos!AM:AM,Catálogos!AL:AL)","v":"ERR"},{"$f":"LOOKUP(BR72,Catálogos!AM:AM,Catálogos!AL:AL)","v":"ERR"},{"$f":"LOOKUP(BY72,Catálogos!AM:AM,Catálogos!AL:AL)","v":"ERR"},0]
[null,null,null,null,null,null,null," -SELECCIONAR-"," -SELECCIONAR-"," -SELECCIONAR-",null," -SELECCIONAR-"," -SELECCIONAR-"," -SELECCIONAR-"," -SELECCIONAR-",null,null," -SELECCIONAR-",null,null,null," -SELECCIONAR-",null,null," -SELECCIONAR-",null," -SELECCIONAR-"," -SELECCIONAR-",null,{"$f":"IF(AC73=FALSE, LOOKUP(AC73,Catálogos!O:O),LOOKUP(AC73,Catálogos!O:O,Catálogos!R:R))","v":{"$error":"#N/A"}},"",null,null,null,{"$f":"IF(CD73=FALSE,\"COL. INCORRECTA\",LOOKUP(CONCATENATE(AE73,\" - \",AC73),Catálogos!T:T,Catálogos!Y:Y))","v":{"$error":"#N/A"}},{"$f":"IF(CD73=FALSE,\"COL. INCORRECTA\",LOOKUP(CONCATENATE(AE73,\" - \",AC73),Catálogos!T:T,Catálogos!X:X))","v":{"$error":"#N/A"}}," -SELECCIONAR-",""," -SELECCIONAR-",null,null," -SELECCIONAR-",null,null,null," -SELECCIONAR-",null,null," -SELECCIONAR-"," -SELECCIONAR-",null,null,null,null,null," -SELECCIONAR-",null,null,null,null,null,null," -SELECCIONAR-",null,null,null,null,null,null," -SELECCIONAR-",null,null,null,null,null,null," -SELECCIONAR-",null,null,{"$f":"LOOKUP(AB73,Catálogos!AP:AP,Catálogos!AO:AO)","v":"ERR"},{"$f":"CONCATENATE(LOOKUP(AC73,Catálogos!O:O,Catálogos!P:P),\".\",LOOKUP(AC73,Catálogos!O:O,Catálogos!Q:Q))","v":{"$error":"#N/A"}},{"$f":"IF(AC73=LOOKUP(CONCATENATE(AE73,\" - \",AC73),Catálogos!T:T,Catálogos!V:V),LOOKUP(CONCATENATE(AE73,\" - \",AC73),Catálogos!T:T,Catálogos!W:W),FALSE)","v":{"$error":"#N/A"}},{"$f":"LOOKUP(BD73,Catálogos!AM:AM,Catálogos!AL:AL)","v":"ERR"},{"$f":"LOOKUP(BK73,Catálogos!AM:AM,Catálogos!AL:AL)","v":"ERR"},{"$f":"LOOKUP(BR73,Catálogos!AM:AM,Catálogos!AL:AL)","v":"ERR"},{"$f":"LOOKUP(BY73,Catálogos!AM:AM,Catálogos!AL:AL)","v":"ERR"},0]
[null,null,null,null,null,null,null," -SELECCIONAR-"," -SELECCIONAR-"," -SELECCIONAR-",null," -SELECCIONAR-"," -SELECCIONAR-"," -SELECCIONAR-"," -SELECCIONAR-",null,null," -SELECCIONAR-",null,null,null," -SELECCIONAR-",null,null," -SELECCIONAR-",null," -SELECCIONAR-"," -SELECCIONAR-",null,{"$f":"IF(AC74=FALSE, LOOKUP(AC74,Catálogos!O:O),LOOKUP(AC74,Catálogos!O:O,Catálogos!R:R))","v":{"$error":"#N/A"}},"",null,null,null,{"$f":"IF(CD74=FALSE,\"COL. INCORRECTA\",LOOKUP(CONCATENATE(AE74,\" - \",AC74),Catálogos!T:T,Catálogos!Y:Y))","v":{"$error":"#N/A"}},{"$f":"IF(CD74=FALSE,\"COL. INCORRECTA\",LOOKUP(CONCATENATE(AE74,\" - \",AC74),Catálogos!T:T,Catálogos!X:X))","v":{"$error":"#N/A"}}," -SELECCIONAR-",""," -SELECCIONAR-",null,null," -SELECCIONAR-",null,null,null," -SELECCIONAR-",null,null," -SELECCIONAR-"," -SELECCIONAR-",null,null,null,null,null," -SELECCIONAR-",null,null,null,null,null,null," -SELECCIONAR-",null,null,null,null,null,null," -SELECCIONAR-",null,null,null,null,null,null," -SELECCIONAR-",null,null,{"$f":"LOOKUP(AB74,Catálogos!AP:AP,Catálogos!AO:AO)","v":"ERR"},{"$f":"CONCATENATE(LOOKUP(AC74,Catálogos!O:O,Catálogos!P:P),\".\",LOOKUP(AC74,Catálogos!O:O,Catálogos!Q:Q))","v":{"$error":"#N/A"}},{"$f":"IF(AC74=LOOKUP(CONCATENATE(AE74,\" - \",AC74),Catálogos!T:T,Catálogos!V:V),LOOKUP(CONCATENATE(AE74,\" - \",AC74),Catálogos!T:T,Catálogos!W:W),FALSE)","v":{"$error":"#N/A"}},{"$f":"LOOKUP(BD74,Catálogos!AM:AM,Catálogos!AL:AL)","v":"ERR"},{"$f":"LOOKUP(BK74,Catálogos!AM:AM,Catálogos!AL:AL)","v":"ERR"},{"$f":"LOOKUP(BR74,Catálogos!AM:AM,Catálogos!AL:AL)","v":"ERR"},{"$f":"LOOKUP(BY74,Catálogos!AM:AM,Catálogos!AL:AL)","v":"ERR"},0]
[null,null,null,null,null,null,null," -SELECCIONAR-"," -SELECCIONAR-"," -SELECCIONAR-",null," -SELECCIONAR-"," -SELECCIONAR-"," -SELECCIONAR-"," -SELECCIONAR-",null,null," -SELECCIONAR-",null,null,null," -SELECCIONAR-",null,null," -SELECCIONAR-",null," -SELECCIONAR-"," -SELECCIONAR-",null,{"$f":"IF(AC75=FALSE, LOOKUP(AC75,Catálogos!O:O),LOOKUP(AC75,Catálogos!O:O,Catálogos!R:R))","v":{"$error":"#N/A"}},"",null,null,null,{"$f":"IF(CD75=FALSE,\"COL. INCORRECTA\",LOOKUP(CONCATENATE(AE75,\" - \",AC75),Catálogos!T:T,Catálogos!Y:Y))","v":{"$error":"#N/A"}},{"$f":"IF(CD75=FALSE,\"COL. INCORRECTA\",LOOKUP(CONCATENATE(AE75,\" - \",AC75),Catálogos!T:T,Catálogos!X:X))","v":{"$error":"#N/A"}}," -SELECCIONAR-",""," -SELECCIONAR-",null,null," -SELECCIONAR-",null,null,null," -SELECCIONAR-",null,null," -SELECCIONAR-"," -SELECCIONAR-",null,null,null,null,null," -SELECCIONAR-",null,null,null,null,null,null," -SELECCIONAR-",null,null,null,null,null,null," -SELECCIONAR-",null,null,null,null,null,null," -SELECCIONAR-",null,null,{"$f":"LOOKUP(AB75,Catálogos!AP:AP,Catálogos!AO:AO)","v":"ERR"},{"$f":"CONCATENATE(LOOKUP(AC75,Catálogos!O:O,Catálogos!P:P),\".\",LOOKUP(AC75,Catálogos!O:O,Catálogos!Q:Q))","v":{"$error":"#N/A"}},{"$f":"IF(AC75=LOOKUP(CONCATENATE(AE75,\" - \",AC75),Catálogos!T:T,Catálogos!V:V),LOOKUP(CONCATENATE(AE75,\" - \",AC75),Catálogos!T:T,Catálogos!W:W),FALSE)","v":{"$error":"#N/A"}},{"$f":"LOOKUP(BD75,Catálogos!AM:AM,Catálogos!AL:AL)","v":"ERR"},{"$f":"LOOKUP(BK75,Catálogos!AM:AM,Catálogos!AL:AL)","v":"ERR"},{"$f":"LOOKUP(BR75,Catálogos!AM:AM,Catálogos!AL:AL)","v":"ERR"},{"$f":"LOOKUP(BY75,Catálogos!AM:AM,Catálogos!AL:AL)","v":"ERR"},0]
[null,null,null,null,null,null,null," -SELECCIONAR-"," -SELECCIONAR-"," -SELECCIONAR-",null," -SELECCIONAR-"," -SELECCIONAR-"," -SELECCIONAR-"," -SELECCIONAR-",null,null," -SELECCIONAR-",null,null,null," -SELECCIONAR-",null,null," -SELECCIONAR-",null," -SELECCIONAR-"," -SELECCIONAR-",null,{"$f":"IF(AC76=FALSE, LOOKUP(AC76,Catálogos!O:O),LOOKUP(AC76,Catálogos!O:O,Catálogos!R:R))","v":{"$error":"#N/A"}},"",null,null,null,{"$f":"IF(CD76=FALSE,\"COL. INCORRECTA\",LOOKUP(CONCATENATE(AE76,\" - \",AC76),Catálogos!T:T,Catálogos!Y:Y))","v":{"$error":"#N/A"}},{"$f":"IF(CD76=FALSE,\"COL. INCORRECTA\",LOOKUP(CONCATENATE(AE76,\" - \",AC76),Catálogos!T:T,Catálogos!X:X))","v":{"$error":"#N/A"}}," -SELECCIONAR-",""," -SELECCIONAR-",null,null," -SELECCIONAR-",null,null,null," -SELECCIONAR-",null,null," -SELECCIONAR-"," -SELECCIONAR-",null,null,null,null,null," -SELECCIONAR-",null,null,null,null,null,null," -SELECCIONAR-",null,null,null,null,null,null," -SELECCIONAR-",null,null,null,null,null,null," -SELECCIONAR-",null,null,{"$f":"LOOKUP(AB76,Catálogos!AP:AP,Catálogos!AO:AO)","v":"ERR"},{"$f":"CONCATENATE(LOOKUP(AC76,Catálogos!O:O,Catálogos!P:P),\".\",LOOKUP(AC76,Catálogos!O:O,Catálogos!Q:Q))","v":{"$error":"#N/A"}},{"$f":"IF(AC76=LOOKUP(CONCATENATE(AE76,\" - \",AC76),Catálogos!T:T,Catálogos!V:V),LOOKUP(CONCATENATE(AE76,\" - \",AC76),Catálogos!T:T,Catálogos!W:W),FALSE)","v":{"$error":"#N/A"}},{"$f":"LOOKUP(BD76,Catálogos!AM:AM,Catálogos!AL:AL)","v":"ERR"},{"$f":"LOOKUP(BK76,Catálogos!AM:AM,Catálogos!AL:AL)","v":"ERR"},{"$f":"LOOKUP(BR76,Catálogos!AM:AM,Catálogos!AL:AL)","v":"ERR"},{"$f":"LOOKUP(BY76,Catálogos!AM:AM,Catálogos!AL:AL)","v":"ERR"},0]
[null,null,null,null,null,null,null," -SELECCIONAR-"," -SELECCIONAR-"," -SELECCIONAR-",null," -SELECCIONAR-"," -SELECCIONAR-"," -SELECCIONAR-"," -SELECCIONAR-",null,null," -SELECCIONAR-",null,null,null," -SELECCIONAR-",null,null," -SELECCIONAR-",null," -SELECCIONAR-"," -SELECCIONAR-",null,{"$f":"IF(AC77=FALSE, LOOKUP(AC77,Catálogos!O:O),LOOKUP(AC77,Catálogos!O:O,Catálogos!R:R))","v":{"$error":"#N/A"}},"",null,null,null,{"$f":"IF(CD77=FALSE,\"COL. INCORRECTA\",LOOKUP(CONCATENATE(AE77,\" - \",AC77),Catálogos!T:T,Catálogos!Y:Y))","v":{"$error":"#N/A"}},{"$f":"IF(CD77=FALSE,\"COL. INCORRECTA\",LOOKUP(CONCATENATE(AE77,\" - \",AC77),Catálogos!T:T,Catálogos!X:X))","v":{"$error":"#N/A"}}," -SELECCIONAR-",""," -SELECCIONAR-",null,null," -SELECCIONAR-",null,null,null," -SELECCIONAR-",null,null," -SELECCIONAR-"," -SELECCIONAR-",null,null,null,null,null," -SELECCIONAR-",null,null,null,null,null,null," -SELECCIONAR-",null,null,null,null,null,null," -SELECCIONAR-",null,null,null,null,null,null," -SELECCIONAR-",null,null,{"$f":"LOOKUP(AB77,Catálogos!AP:AP,Catálogos!AO:AO)","v":"ERR"},{"$f":"CONCATENATE(LOOKUP(AC77,Catálogos!O:O,Catálogos!P:P),\".\",LOOKUP(AC77,Catálogos!O:O,Catálogos!Q:Q))","v":{"$error":"#N/A"}},{"$f":"IF(AC77=LOOKUP(CONCATENATE(AE77,\" - \",AC77),Catálogos!T:T,Catálogos!V:V),LOOKUP(CONCATENATE(AE77,\" - \",AC77),Catálogos!T:T,Catálogos!W:W),FALSE)","v":{"$error":"#N/A"}},{"$f":"LOOKUP(BD77,Catálogos!AM:AM,Catálogos!AL:AL)","v":"ERR"},{"$f":"LOOKUP(BK77,Catálogos!AM:AM,Catálogos!AL:AL)","v":"ERR"},{"$f":"LOOKUP(BR77,Catálogos!AM:AM,Catálogos!AL:AL)","v":"ERR"},{"$f":"LOOKUP(BY77,Catálogos!AM:AM,Catálogos!AL:AL)","v":"ERR"},0]
[null,null,null,null,null,null,null," -SELECCIONAR-"," -SELECCIONAR-"," -SELECCIONAR-",null," -SELECCIONAR-"," -SELECCIONAR-"," -SELECCIONAR-"," -SELECCIONAR-",null,null," -SELECCIONAR-",null,null,null," -SELECCIONAR-",null,null," -SELECCIONAR-",null," -SELECCIONAR-"," -SELECCIONAR-",null,{"$f":"IF(AC78=FALSE, LOOKUP(AC78,Catálogos!O:O),LOOKUP(AC78,Catálogos!O:O,Catálogos!R:R))","v":{"$error":"#N/A"}},"",null,null,null,{"$f":"IF(CD78=FALSE,\"COL. INCORRECTA\",LOOKUP(CONCATENATE(AE78,\" - \",AC78),Catálogos!T:T,Catálogos!Y:Y))","v":{"$error":"#N/A"}},{"$f":"IF(CD78=FALSE,\"COL. INCORRECTA\",LOOKUP(CONCATENATE(AE78,\" - \",AC78),Catálogos!T:T,Catálogos!X:X))","v":{"$error":"#N/A"}}," -SELECCIONAR-",""," -SELECCIONAR-",null,null," -SELECCIONAR-",null,null,null," -SELECCIONAR-",null,null," -SELECCIONAR-"," -SELECCIONAR-",null,null,null,null,null," -SELECCIONAR-",null,null,null,null,null,null," -SELECCIONAR-",null,null,null,null,null,null," -SELECCIONAR-",null,null,null,null,null,null," -SELECCIONAR-",null,null,{"$f":"LOOKUP(AB78,Catálogos!AP:AP,Catálogos!AO:AO)","v":"ERR"},{"$f":"CONCATENATE(LOOKUP(AC78,Catálogos!O:O,Catálogos!P:P),\".\",LOOKUP(AC78,Catálogos!O:O,Catálogos!Q:Q))","v":{"$error":"#N/A"}},{"$f":"IF(AC78=LOOKUP(CONCATENATE(AE78,\" - \",AC78),Catálogos!T:T,Catálogos!V:V),LOOKUP(CONCATENATE(AE78,\" - \",AC78),Catálogos!T:T,Catálogos!W:W),FALSE)","v":{"$error":"#N/A"}},{"$f":"LOOKUP(BD78,Catálogos!AM:AM,Catálogos!AL:AL)","v":"ERR"},{"$f":"LOOKUP(BK78,Catálogos!AM:AM,Catálogos!AL:AL)","v":"ERR"},{"$f":"LOOKUP(BR78,Catálogos!AM:AM,Catálogos!AL:AL)","v":"ERR"},{"$f":"LOOKUP(BY78,Catálogos!AM:AM,Catálogos!AL:AL)","v":"ERR"},0]
[null,null,null,null,null,null,null," -SELECCIONAR-"," -SELECCIONAR-"," -SELECCIONAR-",null," -SELECCIONAR-"," -SELECCIONAR-"," -SELECCIONAR-"," -SELECCIONAR-",null,null," -SELECCIONAR-",null,null,null," -SELECCIONAR-",null,null," -SELECCIONAR-",null," -SELECCIONAR-"," -SELECCIONAR-",null,{"$f":"IF(AC79=FALSE, LOOKUP(AC79,Catálogos!O:O),LOOKUP(AC79,Catálogos!O:O,Catálogos!R:R))","v":{"$error":"#N/A"}},"",null,null,null,{"$f":"IF(CD79=FALSE,\"COL. INCORRECTA\",LOOKUP(CONCATENATE(AE79,\" - \",AC79),Catálogos!T:T,Catálogos!Y:Y))","v":{"$error":"#N/A"}},{"$f":"IF(CD79=FALSE,\"COL. INCORRECTA\",LOOKUP(CONCATENATE(AE79,\" - \",AC79),Catálogos!T:T,Catálogos!X:X))","v":{"$error":"#N/A"}}," -SELECCIONAR-",""," -SELECCIONAR-",null,null," -SELECCIONAR-",null,null,null," -SELECCIONAR-",null,null," -SELECCIONAR-"," -SELECCIONAR-",null,null,null,null,null," -SELECCIONAR-",null,null,null,null,null,null," -SELECCIONAR-",null,null,null,null,null,null," -SELECCIONAR-",null,null,null,null,null,null," -SELECCIONAR-",null,null,{"$f":"LOOKUP(AB79,Catálogos!AP:AP,Catálogos!AO:AO)","v":"ERR"},{"$f":"CONCATENATE(LOOKUP(AC79,Catálogos!O:O,Catálogos!P:P),\".\",LOOKUP(AC79,Catálogos!O:O,Catálogos!Q:Q))","v":{"$error":"#N/A"}},{"$f":"IF(AC79=LOOKUP(CONCATENATE(AE79,\" - \",AC79),Catálogos!T:T,Catálogos!V:V),LOOKUP(CONCATENATE(AE79,\" - \",AC79),Catálogos!T:T,Catálogos!W:W),FALSE)","v":{"$error":"#N/A"}},{"$f":"LOOKUP(BD79,Catálogos!AM:AM,Catálogos!AL:AL)","v":"ERR"},{"$f":"LOOKUP(BK79,Catálogos!AM:AM,Catálogos!AL:AL)","v":"ERR"},{"$f":"LOOKUP(BR79,Catálogos!AM:AM,Catálogos!AL:AL)","v":"ERR"},{"$f":"LOOKUP(BY79,Catálogos!AM:AM,Catálogos!AL:AL)","v":"ERR"},0]
[null,null,null,null,null,null,null," -SELECCIONAR-"," -SELECCIONAR-"," -SELECCIONAR-",null," -SELECCIONAR-"," -SELECCIONAR-"," -SELECCIONAR-"," -SELECCIONAR-",null,null," -SELECCIONAR-",null,null,null," -SELECCIONAR-",null,null," -SELECCIONAR-",null," -SELECCIONAR-"," -SELECCIONAR-",null,{"$f":"IF(AC80=FALSE, LOOKUP(AC80,Catálogos!O:O),LOOKUP(AC80,Catálogos!O:O,Catálogos!R:R))","v":{"$error":"#N/A"}},"",null,null,null,{"$f":"IF(CD80=FALSE,\"COL. INCORRECTA\",LOOKUP(CONCATENATE(AE80,\" - \",AC80),Catálogos!T:T,Catálogos!Y:Y))","v":{"$error":"#N/A"}},{"$f":"IF(CD80=FALSE,\"COL. INCORRECTA\",LOOKUP(CONCATENATE(AE80,\" - \",AC80),Catálogos!T:T,Catálogos!X:X))","v":{"$error":"#N/A"}}," -SELECCIONAR-",""," -SELECCIONAR-",null,null," -SELECCIONAR-",null,null,null," -SELECCIONAR-",null,null," -SELECCIONAR-"," -SELECCIONAR-",null,null,null,null,null," -SELECCIONAR-",null,null,null,null,null,null," -SELECCIONAR-",null,null,null,null,null,null," -SELECCIONAR-",null,null,null,null,null,null," -SELECCIONAR-",null,null,{"$f":"LOOKUP(AB80,Catálogos!AP:AP,Catálogos!AO:AO)","v":"ERR"},{"$f":"CONCATENATE(LOOKUP(AC80,Catálogos!O:O,Catálogos!P:P),\".\",LOOKUP(AC80,Catálogos!O:O,Catálogos!Q:Q))","v":{"$error":"#N/A"}},{"$f":"IF(AC80=LOOKUP(CONCATENATE(AE80,\" - \",AC80),Catálogos!T:T,Catálogos!V:V),LOOKUP(CONCATENATE(AE80,\" - \",AC80),Catálogos!T:T,Catálogos!W:W),FALSE)","v":{"$error":"#N/A"}},{"$f":"LOOKUP(BD80,Catálogos!AM:AM,Catálogos!AL:AL)","v":"ERR"},{"$f":"LOOKUP(BK80,Catálogos!AM:AM,Catálogos!AL:AL)","v":"ERR"},{"$f":"LOOKUP(BR80,Catálogos!AM:AM,Catálogos!AL:AL)","v":"ERR"},{"$f":"LOOKUP(BY80,Catálogos!AM:AM,Catálogos!AL:AL)","v":"ERR"},0]
[null,null,null,null,null,null,null," -SELECCIONAR-"," -SELECCIONAR-"," -SELECCIONAR-",null," -SELECCIONAR-"," -SELECCIONAR-"," -SELECCIONAR-"," -SELECCIONAR-",null,null," -SELECCIONAR-",null,null,null," -SELECCIONAR-",null,null," -SELECCIONAR-",null," -SELECCIONAR-"," -SELECCIONAR-",null,{"$f":"IF(AC81=FALSE, LOOKUP(AC81,Catálogos!O:O),LOOKUP(AC81,Catálogos!O:O,Catálogos!R:R))","v":{"$error":"#N/A"}},"",null,null,null,{"$f":"IF(CD81=FALSE,\"COL. INCORRECTA\",LOOKUP(CONCATENATE(AE81,\" - \",AC81),Catálogos!T:T,Catálogos!Y:Y))","v":{"$error":"#N/A"}},{"$f":"IF(CD81=FALSE,\"COL. INCORRECTA\",LOOKUP(CONCATENATE(AE81,\" - \",AC81),Catálogos!T:T,Catálogos!X:X))","v":{"$error":"#N/A"}}," -SELECCIONAR-",""," -SELECCIONAR-",null,null," -SELECCIONAR-",null,null,null," -SELECCIONAR-",null,null," -SELECCIONAR-"," -SELECCIONAR-",null,null,null,null,null," -SELECCIONAR-",null,null,null,null,null,null," -SELECCIONAR-",null,null,null,null,null,null," -SELECCIONAR-",null,null,null,null,null,null," -SELECCIONAR-",null,null,{"$f":"LOOKUP(AB81,Catálogos!AP:AP,Catálogos!AO:AO)","v":"ERR"},{"$f":"CONCATENATE(LOOKUP(AC81,Catálogos!O:O,Catálogos!P:P),\".\",LOOKUP(AC81,Catálogos!O:O,Catálogos!Q:Q))","v":{"$error":"#N/A"}},{"$f":"IF(AC81=LOOKUP(CONCATENATE(AE81,\" - \",AC81),Catálogos!T:T,Catálogos!V:V),LOOKUP(CONCATENATE(AE81,\" - \",AC81),Catálogos!T:T,Catálogos!W:W),FALSE)","v":{"$error":"#N/A"}},{"$f":"LOOKUP(BD81,Catálogos!AM:AM,Catálogos!AL:AL)","v":"ERR"},{"$f":"LOOKUP(BK81,Catálogos!AM:AM,Catálogos!AL:AL)","v":"ERR"},{"$f":"LOOKUP(BR81,Catálogos!AM:AM,Catálogos!AL:AL)","v":"ERR"},{"$f":"LOOKUP(BY81,Catálogos!AM:AM,Catálogos!AL:AL)","v":"ERR"},0]
[null,null,null,null,null,null,null," -SELECCIONAR-"," -SELECCIONAR-"," -SELECCIONAR-",null," -SELECCIONAR-"," -SELECCIONAR-"," -SELECCIONAR-"," -SELECCIONAR-",null,null," -SELECCIONAR-",null,null,null," -SELECCIONAR-",null,null," -SELECCIONAR-",null," -SELECCIONAR-"," -SELECCIONAR-",null,{"$f":"IF(AC82=FALSE, LOOKUP(AC82,Catálogos!O:O),LOOKUP(AC82,Catálogos!O:O,Catálogos!R:R))","v":{"$error":"#N/A"}},"",null,null,null,{"$f":"IF(CD82=FALSE,\"COL. INCORRECTA\",LOOKUP(CONCATENATE(AE82,\" - \",AC82),Catálogos!T:T,Catálogos!Y:Y))","v":{"$error":"#N/A"}},{"$f":"IF(CD82=FALSE,\"COL. INCORRECTA\",LOOKUP(CONCATENATE(AE82,\" - \",AC82),Catálogos!T:T,Catálogos!X:X))","v":{"$error":"#N/A"}}," -SELECCIONAR-",""," -SELECCIONAR-",null,null," -SELECCIONAR-",null,null,null," -SELECCIONAR-",null,null," -SELECCIONAR-"," -SELECCIONAR-",null,null,null,null,null," -SELECCIONAR-",null,null,null,null,null,null," -SELECCIONAR-",null,null,null,null,null,null," -SELECCIONAR-",null,null,null,null,null,null," -SELECCIONAR-",null,null,{"$f":"LOOKUP(AB82,Catálogos!AP:AP,Catálogos!AO:AO)","v":"ERR"},{"$f":"CONCATENATE(LOOKUP(AC82,Catálogos!O:O,Catálogos!P:P),\".\",LOOKUP(AC82,Catálogos!O:O,Catálogos!Q:Q))","v":{"$error":"#N/A"}},{"$f":"IF(AC82=LOOKUP(CONCATENATE(AE82,\" - \",AC82),Catálogos!T:T,Catálogos!V:V),LOOKUP(CONCATENATE(AE82,\" - \",AC82),Catálogos!T:T,Catálogos!W:W),FALSE)","v":{"$error":"#N/A"}},{"$f":"LOOKUP(BD82,Catálogos!AM:AM,Catálogos!AL:AL)","v":"ERR"},{"$f":"LOOKUP(BK82,Catálogos!AM:AM,Catálogos!AL:AL)","v":"ERR"},{"$f":"LOOKUP(BR82,Catálogos!AM:AM,Catálogos!AL:AL)","v":"ERR"},{"$f":"LOOKUP(BY82,Catálogos!AM:AM,Catálogos!AL:AL)","v":"ERR"},0]
[null,null,null,null,null,null,null," -SELECCIONAR-"," -SELECCIONAR-"," -SELECCIONAR-",null," -SELECCIONAR-"," -SELECCIONAR-"," -SELECCIONAR-"," -SELECCIONAR-",null,null," -SELECCIONAR-",null,null,null," -SELECCIONAR-",null,null," -SELECCIONAR-",null," -SELECCIONAR-"," -SELECCIONAR-",null,{"$f":"IF(AC83=FALSE, LOOKUP(AC83,Catálogos!O:O),LOOKUP(AC83,Catálogos!O:O,Catálogos!R:R))","v":{"$error":"#N/A"}},"",null,null,null,{"$f":"IF(CD83=FALSE,\"COL. INCORRECTA\",LOOKUP(CONCATENATE(AE83,\" - \",AC83),Catálogos!T:T,Catálogos!Y:Y))","v":{"$error":"#N/A"}},{"$f":"IF(CD83=FALSE,\"COL. INCORRECTA\",LOOKUP(CONCATENATE(AE83,\" - \",AC83),Catálogos!T:T,Catálogos!X:X))","v":{"$error":"#N/A"}}," -SELECCIONAR-",""," -SELECCIONAR-",null,null," -SELECCIONAR-",null,null,null," -SELECCIONAR-",null,null," -SELECCIONAR-"," -SELECCIONAR-",null,null,null,null,null," -SELECCIONAR-",null,null,null,null,null,null," -SELECCIONAR-",null,null,null,null,null,null," -SELECCIONAR-",null,null,null,null,null,null," -SELECCIONAR-",null,null,{"$f":"LOOKUP(AB83,Catálogos!AP:AP,Catálogos!AO:AO)","v":"ERR"},{"$f":"CONCATENATE(LOOKUP(AC83,Catálogos!O:O,Catálogos!P:P),\".\",LOOKUP(AC83,Catálogos!O:O,Catálogos!Q:Q))","v":{"$error":"#N/A"}},{"$f":"IF(AC83=LOOKUP(CONCATENATE(AE83,\" - \",AC83),Catálogos!T:T,Catálogos!V:V),LOOKUP(CONCATENATE(AE83,\" - \",AC83),Catálogos!T:T,Catálogos!W:W),FALSE)","v":{"$error":"#N/A"}},{"$f":"LOOKUP(BD83,Catálogos!AM:AM,Catálogos!AL:AL)","v":"ERR"},{"$f":"LOOKUP(BK83,Catálogos!AM:AM,Catálogos!AL:AL)","v":"ERR"},{"$f":"LOOKUP(BR83,Catálogos!AM:AM,Catálogos!AL:AL)","v":"ERR"},{"$f":"LOOKUP(BY83,Catálogos!AM:AM,Catálogos!AL:AL)","v":"ERR"},0]
[null,null,null,null,null,null,null," -SELECCIONAR-"," -SELECCIONAR-"," -SELECCIONAR-",null," -SELECCIONAR-"," -SELECCIONAR-"," -SELECCIONAR-"," -SELECCIONAR-",null,null," -SELECCIONAR-",null,null,null," -SELECCIONAR-",null,null," -SELECCIONAR-",null," -SELECCIONAR-"," -SELECCIONAR-",null,{"$f":"IF(AC84=FALSE, LOOKUP(AC84,Catálogos!O:O),LOOKUP(AC84,Catálogos!O:O,Catálogos!R:R))","v":{"$error":"#N/A"}},"",null,null,null,{"$f":"IF(CD84=FALSE,\"COL. INCORRECTA\",LOOKUP(CONCATENATE(AE84,\" - \",AC84),Catálogos!T:T,Catálogos!Y:Y))","v":{"$error":"#N/A"}},{"$f":"IF(CD84=FALSE,\"COL. INCORRECTA\",LOOKUP(CONCATENATE(AE84,\" - \",AC84),Catálogos!T:T,Catálogos!X:X))","v":{"$error":"#N/A"}}," -SELECCIONAR-",""," -SELECCIONAR-",null,null," -SELECCIONAR-",null,null,null," -SELECCIONAR-",null,null," -SELECCIONAR-"," -SELECCIONAR-",null,null,null,null,null," -SELECCIONAR-",null,null,null,null,null,null," -SELECCIONAR-",null,null,null,null,null,null," -SELECCIONAR-",null,null,null,null,null,null," -SELECCIONAR-",null,null,{"$f":"LOOKUP(AB84,Catálogos!AP:AP,Catálogos!AO:AO)","v":"ERR"},{"$f":"CONCATENATE(LOOKUP(AC84,Catálogos!O:O,Catálogos!P:P),\".\",LOOKUP(AC84,Catálogos!O:O,Catálogos!Q:Q))","v":{"$error":"#N/A"}},{"$f":"IF(AC84=LOOKUP(CONCATENATE(AE84,\" - \",AC84),Catálogos!T:T,Catálogos!V:V),LOOKUP(CONCATENATE(AE84,\" - \",AC84),Catálogos!T:T,Catálogos!W:W),FALSE)","v":{"$error":"#N/A"}},{"$f":"LOOKUP(BD84,Catálogos!AM:AM,Catálogos!AL:AL)","v":"ERR"},{"$f":"LOOKUP(BK84,Catálogos!AM:AM,Catálogos!AL:AL)","v":"ERR"},{"$f":"LOOKUP(BR84,Catálogos!AM:AM,Catálogos!AL:AL)","v":"ERR"},{"$f":"LOOKUP(BY84,Catálogos!AM:AM,Catálogos!AL:AL)","v":"ERR"},0]
[null,null,null,null,null,null,null," -SELECCIONAR-"," -SELECCIONAR-"," -SELECCIONAR-",null," -SELECCIONAR-"," -SELECCIONAR-"," -SELECCIONAR-"," -SELECCIONAR-",null,null," -SELECCIONAR-",null,null,null," -SELECCIONAR-",null,null," -SELECCIONAR-",null," -SELECCIONAR-"," -SELECCIONAR-",null,{"$f":"IF(AC85=FALSE, LOOKUP(AC85,Catálogos!O:O),LOOKUP(AC85,Catálogos!O:O,Catálogos!R:R))","v":{"$error":"#N/A"}},"",null,null,null,{"$f":"IF(CD85=FALSE,\"COL. INCORRECTA\",LOOKUP(CONCATENATE(AE85,\" - \",AC85),Catálogos!T:T,Catálogos!Y:Y))","v":{"$error":"#N/A"}},{"$f":"IF(CD85=FALSE,\"COL. INCORRECTA\",LOOKUP(CONCATENATE(AE85,\" - \",AC85),Catálogos!T:T,Catálogos!X:X))","v":{"$error":"#N/A"}}," -SELECCIONAR-",""," -SELECCIONAR-",null,null," -SELECCIONAR-",null,null,null," -SELECCIONAR-",null,null," -SELECCIONAR-"," -SELECCIONAR-",null,null,null,null,null," -SELECCIONAR-",null,null,null,null,null,null," -SELECCIONAR-",null,null,null,null,null,null," -SELECCIONAR-",null,null,null,null,null,null," -SELECCIONAR-",null,null,{"$f":"LOOKUP(AB85,Catálogos!AP:AP,Catálogos!AO:AO)","v":"ERR"},{"$f":"CONCATENATE(LOOKUP(AC85,Catálogos!O:O,Catálogos!P:P),\".\",LOOKUP(AC85,Catálogos!O:O,Catálogos!Q:Q))","v":{"$error":"#N/A"}},{"$f":"IF(AC85=LOOKUP(CONCATENATE(AE85,\" - \",AC85),Catálogos!T:T,Catálogos!V:V),LOOKUP(CONCATENATE(AE85,\" - \",AC85),Catálogos!T:T,Catálogos!W:W),FALSE)","v":{"$error":"#N/A"}},{"$f":"LOOKUP(BD85,Catálogos!AM:AM,Catálogos!AL:AL)","v":"ERR"},{"$f":"LOOKUP(BK85,Catálogos!AM:AM,Catálogos!AL:AL)","v":"ERR"},{"$f":"LOOKUP(BR85,Catálogos!AM:AM,Catálogos!AL:AL)","v":"ERR"},{"$f":"LOOKUP(BY85,Catálogos!AM:AM,Catálogos!AL:AL)","v":"ERR"},0]
[null,null,null,null,null,null,null," -SELECCIONAR-"," -SELECCIONAR-"," -SELECCIONAR-",null," -SELECCIONAR-"," -SELECCIONAR-"," -SELECCIONAR-"," -SELECCIONAR-",null,null," -SELECCIONAR-",null,null,null," -SELECCIONAR-",null,null," -SELECCIONAR-",null," -SELECCIONAR-"," -SELECCIONAR-",null,{"$f":"IF(AC86=FALSE, LOOKUP(AC86,Catálogos!O:O),LOOKUP(AC86,Catálogos!O:O,Catálogos!R:R))","v":{"$error":"#N/A"}},"",null,null,null,{"$f":"IF(CD86=FALSE,\"COL. INCORRECTA\",LOOKUP(CONCATENATE(AE86,\" - \",AC86),Catálogos!T:T,Catálogos!Y:Y))","v":{"$error":"#N/A"}},{"$f":"IF(CD86=FALSE,\"COL. INCORRECTA\",LOOKUP(CONCATENATE(AE86,\" - \",AC86),Catálogos!T:T,Catálogos!X:X))","v":{"$error":"#N/A"}}," -SELECCIONAR-",""," -SELECCIONAR-",null,null," -SELECCIONAR-",null,null,null," -SELECCIONAR-",null,null," -SELECCIONAR-"," -SELECCIONAR-",null,null,null,null,null," -SELECCIONAR-",null,null,null,null,null,null," -SELECCIONAR-",null,null,null,null,null,null," -SELECCIONAR-",null,null,null,null,null,null," -SELECCIONAR-",null,null,{"$f":"LOOKUP(AB86,Catálogos!AP:AP,Catálogos!AO:AO)","v":"ERR"},{"$f":"CONCATENATE(LOOKUP(AC86,Catálogos!O:O,Catálogos!P:P),\".\",LOOKUP(AC86,Catálogos!O:O,Catálogos!Q:Q))","v":{"$error":"#N/A"}},{"$f":"IF(AC86=LOOKUP(CONCATENATE(AE86,\" - \",AC86),Catálogos!T:T,Catálogos!V:V),LOOKUP(CONCATENATE(AE86,\" - \",AC86),Catálogos!T:T,Catálogos!W:W),FALSE)","v":{"$error":"#N/A"}},{"$f":"LOOKUP(BD86,Catálogos!AM:AM,Catálogos!AL:AL)","v":"ERR"},{"$f":"LOOKUP(BK86,Catálogos!AM:AM,Catálogos!AL:AL)","v":"ERR"},{"$f":"LOOKUP(BR86,Catálogos!AM:AM,Catálogos!AL:AL)","v":"ERR"},{"$f":"LOOKUP(BY86,Catálogos!AM:AM,Catálogos!AL:AL)","v":"ERR"},0]
[null,null,null,null,null,null,null," -SELECCIONAR-"," -SELECCIONAR-"," -SELECCIONAR-",null," -SELECCIONAR-"," -SELECCIONAR-"," -SELECCIONAR-"," -SELECCIONAR-",null,null," -SELECCIONAR-",null,null,null," -SELECCIONAR-",null,null," -SELECCIONAR-",null," -SELECCIONAR-"," -SELECCIONAR-",null,{"$f":"IF(AC87=FALSE, LOOKUP(AC87,Catálogos!O:O),LOOKUP(AC87,Catálogos!O:O,Catálogos!R:R))","v":{"$error":"#N/A"}},"",null,null,null,{"$f":"IF(CD87=FALSE,\"COL. INCORRECTA\",LOOKUP(CONCATENATE(AE87,\" - \",AC87),Catálogos!T:T,Catálogos!Y:Y))","v":{"$error":"#N/A"}},{"$f":"IF(CD87=FALSE,\"COL. INCORRECTA\",LOOKUP(CONCATENATE(AE87,\" - \",AC87),Catálogos!T:T,Catálogos!X:X))","v":{"$error":"#N/A"}}," -SELECCIONAR-",""," -SELECCIONAR-",null,null," -SELECCIONAR-",null,null,null," -SELECCIONAR-",null,null," -SELECCIONAR-"," -SELECCIONAR-",null,null,null,null,null," -SELECCIONAR-",null,null,null,null,null,null," -SELECCIONAR-",null,null,null,null,null,null," -SELECCIONAR-",null,null,null,null,null,null," -SELECCIONAR-",null,null,{"$f":"LOOKUP(AB87,Catálogos!AP:AP,Catálogos!AO:AO)","v":"ERR"},{"$f":"CONCATENATE(LOOKUP(AC87,Catálogos!O:O,Catálogos!P:P),\".\",LOOKUP(AC87,Catálogos!O:O,Catálogos!Q:Q))","v":{"$error":"#N/A"}},{"$f":"IF(AC87=LOOKUP(CONCATENATE(AE87,\" - \",AC87),Catálogos!T:T,Catálogos!V:V),LOOKUP(CONCATENATE(AE87,\" - \",AC87),Catálogos!T:T,Catálogos!W:W),FALSE)","v":{"$error":"#N/A"}},{"$f":"LOOKUP(BD87,Catálogos!AM:AM,Catálogos!AL:AL)","v":"ERR"},{"$f":"LOOKUP(BK87,Catálogos!AM:AM,Catálogos!AL:AL)","v":"ERR"},{"$f":"LOOKUP(BR87,Catálogos!AM:AM,Catálogos!AL:AL)","v":"ERR"},{"$f":"LOOKUP(BY87,Catálogos!AM:AM,Catálogos!AL:AL)","v":"ERR"},0]
[null,null,null,null,null,null,null," -SELECCIONAR-"," -SELECCIONAR-"," -SELECCIONAR-",null," -SELECCIONAR-"," -SELECCIONAR-"," -SELECCIONAR-"," -SELECCIONAR-",null,null," -SELECCIONAR-",null,null,null," -SELECCIONAR-",null,null," -SELECCIONAR-",null," -SELECCIONAR-"," -SELECCIONAR-",null,{"$f":"IF(AC88=FALSE, LOOKUP(AC88,Catálogos!O:O),LOOKUP(AC88,Catálogos!O:O,Catálogos!R:R))","v":{"$error":"#N/A"}},"",null,null,null,{"$f":"IF(CD88=FALSE,\"COL. INCORRECTA\",LOOKUP(CONCATENATE(AE88,\" - \",AC88),Catálogos!T:T,Catálogos!Y:Y))","v":{"$error":"#N/A"}},{"$f":"IF(CD88=FALSE,\"COL. INCORRECTA\",LOOKUP(CONCATENATE(AE88,\" - \",AC88),Catálogos!T:T,Catálogos!X:X))","v":{"$error":"#N/A"}}," -SELECCIONAR-",""," -SELECCIONAR-",null,null," -SELECCIONAR-",null,null,null," -SELECCIONAR-",null,null," -SELECCIONAR-"," -SELECCIONAR-",null,null,null,null,null," -SELECCIONAR-",null,null,null,null,null,null," -SELECCIONAR-",null,null,null,null,null,null," -SELECCIONAR-",null,null,null,null,null,null," -SELECCIONAR-",null,null,{"$f":"LOOKUP(AB88,Catálogos!AP:AP,Catálogos!AO:AO)","v":"ERR"},{"$f":"CONCATENATE(LOOKUP(AC88,Catálogos!O:O,Catálogos!P:P),\".\",LOOKUP(AC88,Catálogos!O:O,Catálogos!Q:Q))","v":{"$error":"#N/A"}},{"$f":"IF(AC88=LOOKUP(CONCATENATE(AE88,\" - \",AC88),Catálogos!T:T,Catálogos!V:V),LOOKUP(CONCATENATE(AE88,\" - \",AC88),Catálogos!T:T,Catálogos!W:W),FALSE)","v":{"$error":"#N/A"}},{"$f":"LOOKUP(BD88,Catálogos!AM:AM,Catálogos!AL:AL)","v":"ERR"},{"$f":"LOOKUP(BK88,Catálogos!AM:AM,Catálogos!AL:AL)","v":"ERR"},{"$f":"LOOKUP(BR88,Catálogos!AM:AM,Catálogos!AL:AL)","v":"ERR"},{"$f":"LOOKUP(BY88,Catálogos!AM:AM,Catálogos!AL:AL)","v":"ERR"},0]
[null,null,null,null,null,null,null," -SELECCIONAR-"," -SELECCIONAR-"," -SELECCIONAR-",null," -SELECCIONAR-"," -SELECCIONAR-"," -SELECCIONAR-"," -SELECCIONAR-",null,null," -SELECCIONAR-",null,null,null," -SELECCIONAR-",null,null," -SELECCIONAR-",null," -SELECCIONAR-"," -SELECCIONAR-",null,{"$f":"IF(AC89=FALSE, LOOKUP(AC89,Catálogos!O:O),LOOKUP(AC89,Catálogos!O:O,Catálogos!R:R))","v":{"$error":"#N/A"}},"",null,null,null,{"$f":"IF(CD89=FALSE,\"COL. INCORRECTA\",LOOKUP(CONCATENATE(AE89,\" - \",AC89),Catálogos!T:T,Catálogos!Y:Y))","v":{"$error":"#N/A"}},{"$f":"IF(CD89=FALSE,\"COL. INCORRECTA\",LOOKUP(CONCATENATE(AE89,\" - \",AC89),Catálogos!T:T,Catálogos!X:X))","v":{"$error":"#N/A"}}," -SELECCIONAR-",""," -SELECCIONAR-",null,null," -SELECCIONAR-",null,null,null," -SELECCIONAR-",null,null," -SELECCIONAR-"," -SELECCIONAR-",null,null,null,null,null," -SELECCIONAR-",null,null,null,null,null,null," -SELECCIONAR-",null,null,null,null,null,null," -SELECCIONAR-",null,null,null,null,null,null," -SELECCIONAR-",null,null,{"$f":"LOOKUP(AB89,Catálogos!AP:AP,Catálogos!AO:AO)","v":"ERR"},{"$f":"CONCATENATE(LOOKUP(AC89,Catálogos!O:O,Catálogos!P:P),\".\",LOOKUP(AC89,Catálogos!O:O,Catálogos!Q:Q))","v":{"$error":"#N/A"}},{"$f":"IF(AC89=LOOKUP(CONCATENATE(AE89,\" - \",AC89),Catálogos!T:T,Catálogos!V:V),LOOKUP(CONCATENATE(AE89,\" - \",AC89),Catálogos!T:T,Catálogos!W:W),FALSE)","v":{"$error":"#N/A"}},{"$f":"LOOKUP(BD89,Catálogos!AM:AM,Catálogos!AL:AL)","v":"ERR"},{"$f":"LOOKUP(BK89,Catálogos!AM:AM,Catálogos!AL:AL)","v":"ERR"},{"$f":"LOOKUP(BR89,Catálogos!AM:AM,Catálogos!AL:AL)","v":"ERR"},{"$f":"LOOKUP(BY89,Catálogos!AM:AM,Catálogos!AL:AL)","v":"ERR"},0]
[null,null,null,null,null,null,null," -SELECCIONAR-"," -SELECCIONAR-"," -SELECCIONAR-",null," -SELECCIONAR-"," -SELECCIONAR-"," -SELECCIONAR-"," -SELECCIONAR-",null,null," -SELECCIONAR-",null,null,null," -SELECCIONAR-",null,null," -SELECCIONAR-",null," -SELECCIONAR-"," -SELECCIONAR-",null,{"$f":"IF(AC90=FALSE, LOOKUP(AC90,Catálogos!O:O),LOOKUP(AC90,Catálogos!O:O,Catálogos!R:R))","v":{"$error":"#N/A"}},"",null,null,null,{"$f":"IF(CD90=FALSE,\"COL. INCORRECTA\",LOOKUP(CONCATENATE(AE90,\" - \",AC90),Catálogos!T:T,Catálogos!Y:Y))","v":{"$error":"#N/A"}},{"$f":"IF(CD90=FALSE,\"COL. INCORRECTA\",LOOKUP(CONCATENATE(AE90,\" - \",AC90),Catálogos!T:T,Catálogos!X:X))","v":{"$error":"#N/A"}}," -SELECCIONAR-",""," -SELECCIONAR-",null,null," -SELECCIONAR-",null,null,null," -SELECCIONAR-",null,null," -SELECCIONAR-"," -SELECCIONAR-",null,null,null,null,null," -SELECCIONAR-",null,null,null,null,null,null," -SELECCIONAR-",null,null,null,null,null,null," -SELECCIONAR-",null,null,null,null,null,null," -SELECCIONAR-",null,null,{"$f":"LOOKUP(AB90,Catálogos!AP:AP,Catálogos!AO:AO)","v":"ERR"},{"$f":"CONCATENATE(LOOKUP(AC90,Catálogos!O:O,Catálogos!P:P),\".\",LOOKUP(AC90,Catálogos!O:O,Catálogos!Q:Q))","v":{"$error":"#N/A"}},{"$f":"IF(AC90=LOOKUP(CONCATENATE(AE90,\" - \",AC90),Catálogos!T:T,Catálogos!V:V),LOOKUP(CONCATENATE(AE90,\" - \",AC90),Catálogos!T:T,Catálogos!W:W),FALSE)","v":{"$error":"#N/A"}},{"$f":"LOOKUP(BD90,Catálogos!AM:AM,Catálogos!AL:AL)","v":"ERR"},{"$f":"LOOKUP(BK90,Catálogos!AM:AM,Catálogos!AL:AL)","v":"ERR"},{"$f":"LOOKUP(BR90,Catálogos!AM:AM,Catálogos!AL:AL)","v":"ERR"},{"$f":"LOOKUP(BY90,Catálogos!AM:AM,Catálogos!AL:AL)","v":"ERR"},0]
[null,null,null,null,null,null,null," -SELECCIONAR-"," -SELECCIONAR-"," -SELECCIONAR-",null," -SELECCIONAR-"," -SELECCIONAR-"," -SELECCIONAR-"," -SELECCIONAR-",null,null," -SELECCIONAR-",null,null,null," -SELECCIONAR-",null,null," -SELECCIONAR-",null," -SELECCIONAR-"," -SELECCIONAR-",null,{"$f":"IF(AC91=FALSE, LOOKUP(AC91,Catálogos!O:O),LOOKUP(AC91,Catálogos!O:O,Catálogos!R:R))","v":{"$error":"#N/A"}},"",null,null,null,{"$f":"IF(CD91=FALSE,\"COL. INCORRECTA\",LOOKUP(CONCATENATE(AE91,\" - \",AC91),Catálogos!T:T,Catálogos!Y:Y))","v":{"$error":"#N/A"}},{"$f":"IF(CD91=FALSE,\"COL. INCORRECTA\",LOOKUP(CONCATENATE(AE91,\" - \",AC91),Catálogos!T:T,Catálogos!X:X))","v":{"$error":"#N/A"}}," -SELECCIONAR-",""," -SELECCIONAR-",null,null," -SELECCIONAR-",null,null,null," -SELECCIONAR-",null,null," -SELECCIONAR-"," -SELECCIONAR-",null,null,null,null,null," -SELECCIONAR-",null,null,null,null,null,null," -SELECCIONAR-",null,null,null,null,null,null," -SELECCIONAR-",null,null,null,null,null,null," -SELECCIONAR-",null,null,{"$f":"LOOKUP(AB91,Catálogos!AP:AP,Catálogos!AO:AO)","v":"ERR"},{"$f":"CONCATENATE(LOOKUP(AC91,Catálogos!O:O,Catálogos!P:P),\".\",LOOKUP(AC91,Catálogos!O:O,Catálogos!Q:Q))","v":{"$error":"#N/A"}},{"$f":"IF(AC91=LOOKUP(CONCATENATE(AE91,\" - \",AC91),Catálogos!T:T,Catálogos!V:V),LOOKUP(CONCATENATE(AE91,\" - \",AC91),Catálogos!T:T,Catálogos!W:W),FALSE)","v":{"$error":"#N/A"}},{"$f":"LOOKUP(BD91,Catálogos!AM:AM,Catálogos!AL:AL)","v":"ERR"},{"$f":"LOOKUP(BK91,Catálogos!AM:AM,Catálogos!AL:AL)","v":"ERR"},{"$f":"LOOKUP(BR91,Catálogos!AM:AM,Catálogos!AL:AL)","v":"ERR"},{"$f":"LOOKUP(BY91,Catálogos!AM:AM,Catálogos!AL:AL)","v":"ERR"},0]
[null,null,null,null,null,null,null," -SELECCIONAR-"," -SELECCIONAR-"," -SELECCIONAR-",null," -SELECCIONAR-"," -SELECCIONAR-"," -SELECCIONAR-"," -SELECCIONAR-",null,null," -SELECCIONAR-",null,null,null," -SELECCIONAR-",null,null," -SELECCIONAR-",null," -SELECCIONAR-"," -SELECCIONAR-",null,{"$f":"IF(AC92=FALSE, LOOKUP(AC92,Catálogos!O:O),LOOKUP(AC92,Catálogos!O:O,Catálogos!R:R))","v":{"$error":"#N/A"}},"",null,null,null,{"$f":"IF(CD92=FALSE,\"COL. INCORRECTA\",LOOKUP(CONCATENATE(AE92,\" - \",AC92),Catálogos!T:T,Catálogos!Y:Y))","v":{"$error":"#N/A"}},{"$f":"IF(CD92=FALSE,\"COL. INCORRECTA\",LOOKUP(CONCATENATE(AE92,\" - \",AC92),Catálogos!T:T,Catálogos!X:X))","v":{"$error":"#N/A"}}," -SELECCIONAR-",""," -SELECCIONAR-",null,null," -SELECCIONAR-",null,null,null," -SELECCIONAR-",null,null," -SELECCIONAR-"," -SELECCIONAR-",null,null,null,null,null," -SELECCIONAR-",null,null,null,null,null,null," -SELECCIONAR-",null,null,null,null,null,null," -SELECCIONAR-",null,null,null,null,null,null," -SELECCIONAR-",null,null,{"$f":"LOOKUP(AB92,Catálogos!AP:AP,Catálogos!AO:AO)","v":"ERR"},{"$f":"CONCATENATE(LOOKUP(AC92,Catálogos!O:O,Catálogos!P:P),\".\",LOOKUP(AC92,Catálogos!O:O,Catálogos!Q:Q))","v":{"$error":"#N/A"}},{"$f":"IF(AC92=LOOKUP(CONCATENATE(AE92,\" - \",AC92),Catálogos!T:T,Catálogos!V:V),LOOKUP(CONCATENATE(AE92,\" - \",AC92),Catálogos!T:T,Catálogos!W:W),FALSE)","v":{"$error":"#N/A"}},{"$f":"LOOKUP(BD92,Catálogos!AM:AM,Catálogos!AL:AL)","v":"ERR"},{"$f":"LOOKUP(BK92,Catálogos!AM:AM,Catálogos!AL:AL)","v":"ERR"},{"$f":"LOOKUP(BR92,Catálogos!AM:AM,Catálogos!AL:AL)","v":"ERR"},{"$f":"LOOKUP(BY92,Catálogos!AM:AM,Catálogos!AL:AL)","v":"ERR"},0]
[null,null,null,null,null,null,null," -SELECCIONAR-"," -SELECCIONAR-"," -SELECCIONAR-",null," -SELECCIONAR-"," -SELECCIONAR-"," -SELECCIONAR-"," -SELECCIONAR-",null,null," -SELECCIONAR-",null,null,null," -SELECCIONAR-",null,null," -SELECCIONAR-",null," -SELECCIONAR-"," -SELECCIONAR-",null,{"$f":"IF(AC93=FALSE, LOOKUP(AC93,Catálogos!O:O),LOOKUP(AC93,Catálogos!O:O,Catálogos!R:R))","v":{"$error":"#N/A"}},"",null,null,null,{"$f":"IF(CD93=FALSE,\"COL. INCORRECTA\",LOOKUP(CONCATENATE(AE93,\" - \",AC93),Catálogos!T:T,Catálogos!Y:Y))","v":{"$error":"#N/A"}},{"$f":"IF(CD93=FALSE,\"COL. INCORRECTA\",LOOKUP(CONCATENATE(AE93,\" - \",AC93),Catálogos!T:T,Catálogos!X:X))","v":{"$error":"#N/A"}}," -SELECCIONAR-",""," -SELECCIONAR-",null,null," -SELECCIONAR-",null,null,null," -SELECCIONAR-",null,null," -SELECCIONAR-"," -SELECCIONAR-",null,null,null,null,null," -SELECCIONAR-",null,null,null,null,null,null," -SELECCIONAR-",null,null,null,null,null,null," -SELECCIONAR-",null,null,null,null,null,null," -SELECCIONAR-",null,null,{"$f":"LOOKUP(AB93,Catálogos!AP:AP,Catálogos!AO:AO)","v":"ERR"},{"$f":"CONCATENATE(LOOKUP(AC93,Catálogos!O:O,Catálogos!P:P),\".\",LOOKUP(AC93,Catálogos!O:O,Catálogos!Q:Q))","v":{"$error":"#N/A"}},{"$f":"IF(AC93=LOOKUP(CONCATENATE(AE93,\" - \",AC93),Catálogos!T:T,Catálogos!V:V),LOOKUP(CONCATENATE(AE93,\" - \",AC93),Catálogos!T:T,Catálogos!W:W),FALSE)","v":{"$error":"#N/A"}},{"$f":"LOOKUP(BD93,Catálogos!AM:AM,Catálogos!AL:AL)","v":"ERR"},{"$f":"LOOKUP(BK93,Catálogos!AM:AM,Catálogos!AL:AL)","v":"ERR"},{"$f":"LOOKUP(BR93,Catálogos!AM:AM,Catálogos!AL:AL)","v":"ERR"},{"$f":"LOOKUP(BY93,Catálogos!AM:AM,Catálogos!AL:AL)","v":"ERR"},0]
[null,null,null,null,null,null,null," -SELECCIONAR-"," -SELECCIONAR-"," -SELECCIONAR-",null," -SELECCIONAR-"," -SELECCIONAR-"," -SELECCIONAR-"," -SELECCIONAR-",null,null," -SELECCIONAR-",null,null,null," -SELECCIONAR-",null,null," -SELECCIONAR-",null," -SELECCIONAR-"," -SELECCIONAR-",null,{"$f":"IF(AC94=FALSE, LOOKUP(AC94,Catálogos!O:O),LOOKUP(AC94,Catálogos!O:O,Catálogos!R:R))","v":{"$error":"#N/A"}},"",null,null,null,{"$f":"IF(CD94=FALSE,\"COL. INCORRECTA\",LOOKUP(CONCATENATE(AE94,\" - \",AC94),Catálogos!T:T,Catálogos!Y:Y))","v":{"$error":"#N/A"}},{"$f":"IF(CD94=FALSE,\"COL. INCORRECTA\",LOOKUP(CONCATENATE(AE94,\" - \",AC94),Catálogos!T:T,Catálogos!X:X))","v":{"$error":"#N/A"}}," -SELECCIONAR-",""," -SELECCIONAR-",null,null," -SELECCIONAR-",null,null,null," -SELECCIONAR-",null,null," -SELECCIONAR-"," -SELECCIONAR-",null,null,null,null,null," -SELECCIONAR-",null,null,null,null,null,null," -SELECCIONAR-",null,null,null,null,null,null," -SELECCIONAR-",null,null,null,null,null,null," -SELECCIONAR-",null,null,{"$f":"LOOKUP(AB94,Catálogos!AP:AP,Catálogos!AO:AO)","v":"ERR"},{"$f":"CONCATENATE(LOOKUP(AC94,Catálogos!O:O,Catálogos!P:P),\".\",LOOKUP(AC94,Catálogos!O:O,Catálogos!Q:Q))","v":{"$error":"#N/A"}},{"$f":"IF(AC94=LOOKUP(CONCATENATE(AE94,\" - \",AC94),Catálogos!T:T,Catálogos!V:V),LOOKUP(CONCATENATE(AE94,\" - \",AC94),Catálogos!T:T,Catálogos!W:W),FALSE)","v":{"$error":"#N/A"}},{"$f":"LOOKUP(BD94,Catálogos!AM:AM,Catálogos!AL:AL)","v":"ERR"},{"$f":"LOOKUP(BK94,Catálogos!AM:AM,Catálogos!AL:AL)","v":"ERR"},{"$f":"LOOKUP(BR94,Catálogos!AM:AM,Catálogos!AL:AL)","v":"ERR"},{"$f":"LOOKUP(BY94,Catálogos!AM:AM,Catálogos!AL:AL)","v":"ERR"},0]
[null,null,null,null,null,null,null," -SELECCIONAR-"," -SELECCIONAR-"," -SELECCIONAR-",null," -SELECCIONAR-"," -SELECCIONAR-"," -SELECCIONAR-"," -SELECCIONAR-",null,null," -SELECCIONAR-",null,null,null," -SELECCIONAR-",null,null," -SELECCIONAR-",null," -SELECCIONAR-"," -SELECCIONAR-",null,{"$f":"IF(AC95=FALSE, LOOKUP(AC95,Catálogos!O:O),LOOKUP(AC95,Catálogos!O:O,Catálogos!R:R))","v":{"$error":"#N/A"}},"",null,null,null,{"$f":"IF(CD95=FALSE,\"COL. INCORRECTA\",LOOKUP(CONCATENATE(AE95,\" - \",AC95),Catálogos!T:T,Catálogos!Y:Y))","v":{"$error":"#N/A"}},{"$f":"IF(CD95=FALSE,\"COL. INCORRECTA\",LOOKUP(CONCATENATE(AE95,\" - \",AC95),Catálogos!T:T,Catálogos!X:X))","v":{"$error":"#N/A"}}," -SELECCIONAR-",""," -SELECCIONAR-",null,null," -SELECCIONAR-",null,null,null," -SELECCIONAR-",null,null," -SELECCIONAR-"," -SELECCIONAR-",null,null,null,null,null," -SELECCIONAR-",null,null,null,null,null,null," -SELECCIONAR-",null,null,null,null,null,null," -SELECCIONAR-",null,null,null,null,null,null," -SELECCIONAR-",null,null,{"$f":"LOOKUP(AB95,Catálogos!AP:AP,Catálogos!AO:AO)","v":"ERR"},{"$f":"CONCATENATE(LOOKUP(AC95,Catálogos!O:O,Catálogos!P:P),\".\",LOOKUP(AC95,Catálogos!O:O,Catálogos!Q:Q))","v":{"$error":"#N/A"}},{"$f":"IF(AC95=LOOKUP(CONCATENATE(AE95,\" - \",AC95),Catálogos!T:T,Catálogos!V:V),LOOKUP(CONCATENATE(AE95,\" - \",AC95),Catálogos!T:T,Catálogos!W:W),FALSE)","v":{"$error":"#N/A"}},{"$f":"LOOKUP(BD95,Catálogos!AM:AM,Catálogos!AL:AL)","v":"ERR"},{"$f":"LOOKUP(BK95,Catálogos!AM:AM,Catálogos!AL:AL)","v":"ERR"},{"$f":"LOOKUP(BR95,Catálogos!AM:AM,Catálogos!AL:AL)","v":"ERR"},{"$f":"LOOKUP(BY95,Catálogos!AM:AM,Catálogos!AL:AL)","v":"ERR"},0]
[null,null,null,null,null,null,null," -SELECCIONAR-"," -SELECCIONAR-"," -SELECCIONAR-",null," -SELECCIONAR-"," -SELECCIONAR-"," -SELECCIONAR-"," -SELECCIONAR-",null,null," -SELECCIONAR-",null,null,null," -SELECCIONAR-",null,null," -SELECCIONAR-",null," -SELECCIONAR-"," -SELECCIONAR-",null,{"$f":"IF(AC96=FALSE, LOOKUP(AC96,Catálogos!O:O),LOOKUP(AC96,Catálogos!O:O,Catálogos!R:R))","v":{"$error":"#N/A"}},"",null,null,null,{"$f":"IF(CD96=FALSE,\"COL. INCORRECTA\",LOOKUP(CONCATENATE(AE96,\" - \",AC96),Catálogos!T:T,Catálogos!Y:Y))","v":{"$error":"#N/A"}},{"$f":"IF(CD96=FALSE,\"COL. INCORRECTA\",LOOKUP(CONCATENATE(AE96,\" - \",AC96),Catálogos!T:T,Catálogos!X:X))","v":{"$error":"#N/A"}}," -SELECCIONAR-",""," -SELECCIONAR-",null,null," -SELECCIONAR-",null,null,null," -SELECCIONAR-",null,null," -SELECCIONAR-"," -SELECCIONAR-",null,null,null,null,null," -SELECCIONAR-",null,null,null,null,null,null," -SELECCIONAR-",null,null,null,null,null,null," -SELECCIONAR-",null,null,null,null,null,null," -SELECCIONAR-",null,null,{"$f":"LOOKUP(AB96,Catálogos!AP:AP,Catálogos!AO:AO)","v":"ERR"},{"$f":"CONCATENATE(LOOKUP(AC96,Catálogos!O:O,Catálogos!P:P),\".\",LOOKUP(AC96,Catálogos!O:O,Catálogos!Q:Q))","v":{"$error":"#N/A"}},{"$f":"IF(AC96=LOOKUP(CONCATENATE(AE96,\" - \",AC96),Catálogos!T:T,Catálogos!V:V),LOOKUP(CONCATENATE(AE96,\" - \",AC96),Catálogos!T:T,Catálogos!W:W),FALSE)","v":{"$error":"#N/A"}},{"$f":"LOOKUP(BD96,Catálogos!AM:AM,Catálogos!AL:AL)","v":"ERR"},{"$f":"LOOKUP(BK96,Catálogos!AM:AM,Catálogos!AL:AL)","v":"ERR"},{"$f":"LOOKUP(BR96,Catálogos!AM:AM,Catálogos!AL:AL)","v":"ERR"},{"$f":"LOOKUP(BY96,Catálogos!AM:AM,Catálogos!AL:AL)","v":"ERR"},0]
[null,null,null,null,null,null,null," -SELECCIONAR-"," -SELECCIONAR-"," -SELECCIONAR-",null," -SELECCIONAR-"," -SELECCIONAR-"," -SELECCIONAR-"," -SELECCIONAR-",null,null," -SELECCIONAR-",null,null,null," -SELECCIONAR-",null,null," -SELECCIONAR-",null," -SELECCIONAR-"," -SELECCIONAR-",null,{"$f":"IF(AC97=FALSE, LOOKUP(AC97,Catálogos!O:O),LOOKUP(AC97,Catálogos!O:O,Catálogos!R:R))","v":{"$error":"#N/A"}},"",null,null,null,{"$f":"IF(CD97=FALSE,\"COL. INCORRECTA\",LOOKUP(CONCATENATE(AE97,\" - \",AC97),Catálogos!T:T,Catálogos!Y:Y))","v":{"$error":"#N/A"}},{"$f":"IF(CD97=FALSE,\"COL. INCORRECTA\",LOOKUP(CONCATENATE(AE97,\" - \",AC97),Catálogos!T:T,Catálogos!X:X))","v":{"$error":"#N/A"}}," -SELECCIONAR-",""," -SELECCIONAR-",null,null," -SELECCIONAR-",null,null,null," -SELECCIONAR-",null,null," -SELECCIONAR-"," -SELECCIONAR-",null,null,null,null,null," -SELECCIONAR-",null,null,null,null,null,null," -SELECCIONAR-",null,null,null,null,null,null," -SELECCIONAR-",null,null,null,null,null,null," -SELECCIONAR-",null,null,{"$f":"LOOKUP(AB97,Catálogos!AP:AP,Catálogos!AO:AO)","v":"ERR"},{"$f":"CONCATENATE(LOOKUP(AC97,Catálogos!O:O,Catálogos!P:P),\".\",LOOKUP(AC97,Catálogos!O:O,Catálogos!Q:Q))","v":{"$error":"#N/A"}},{"$f":"IF(AC97=LOOKUP(CONCATENATE(AE97,\" - \",AC97),Catálogos!T:T,Catálogos!V:V),LOOKUP(CONCATENATE(AE97,\" - \",AC97),Catálogos!T:T,Catálogos!W:W),FALSE)","v":{"$error":"#N/A"}},{"$f":"LOOKUP(BD97,Catálogos!AM:AM,Catálogos!AL:AL)","v":"ERR"},{"$f":"LOOKUP(BK97,Catálogos!AM:AM,Catálogos!AL:AL)","v":"ERR"},{"$f":"LOOKUP(BR97,Catálogos!AM:AM,Catálogos!AL:AL)","v":"ERR"},{"$f":"LOOKUP(BY97,Catálogos!AM:AM,Catálogos!AL:AL)","v":"ERR"},0]
[null,null,null,null,null,null,null," -SELECCIONAR-"," -SELECCIONAR-"," -SELECCIONAR-",null," -SELECCIONAR-"," -SELECCIONAR-"," -SELECCIONAR-"," -SELECCIONAR-",null,null," -SELECCIONAR-",null,null,null," -SELECCIONAR-",null,null," -SELECCIONAR-",null," -SELECCIONAR-"," -SELECCIONAR-",null,{"$f":"IF(AC98=FALSE, LOOKUP(AC98,Catálogos!O:O),LOOKUP(AC98,Catálogos!O:O,Catálogos!R:R))","v":{"$error":"#N/A"}},"",null,null,null,{"$f":"IF(CD98=FALSE,\"COL. INCORRECTA\",LOOKUP(CONCATENATE(AE98,\" - \",AC98),Catálogos!T:T,Catálogos!Y:Y))","v":{"$error":"#N/A"}},{"$f":"IF(CD98=FALSE,\"COL. INCORRECTA\",LOOKUP(CONCATENATE(AE98,\" - \",AC98),Catálogos!T:T,Catálogos!X:X))","v":{"$error":"#N/A"}}," -SELECCIONAR-",""," -SELECCIONAR-",null,null," -SELECCIONAR-",null,null,null," -SELECCIONAR-",null,null," -SELECCIONAR-"," -SELECCIONAR-",null,null,null,null,null," -SELECCIONAR-",null,null,null,null,null,null," -SELECCIONAR-",null,null,null,null,null,null," -SELECCIONAR-",null,null,null,null,null,null," -SELECCIONAR-",null,null,{"$f":"LOOKUP(AB98,Catálogos!AP:AP,Catálogos!AO:AO)","v":"ERR"},{"$f":"CONCATENATE(LOOKUP(AC98,Catálogos!O:O,Catálogos!P:P),\".\",LOOKUP(AC98,Catálogos!O:O,Catálogos!Q:Q))","v":{"$error":"#N/A"}},{"$f":"IF(AC98=LOOKUP(CONCATENATE(AE98,\" - \",AC98),Catálogos!T:T,Catálogos!V:V),LOOKUP(CONCATENATE(AE98,\" - \",AC98),Catálogos!T:T,Catálogos!W:W),FALSE)","v":{"$error":"#N/A"}},{"$f":"LOOKUP(BD98,Catálogos!AM:AM,Catálogos!AL:AL)","v":"ERR"},{"$f":"LOOKUP(BK98,Catálogos!AM:AM,Catálogos!AL:AL)","v":"ERR"},{"$f":"LOOKUP(BR98,Catálogos!AM:AM,Catálogos!AL:AL)","v":"ERR"},{"$f":"LOOKUP(BY98,Catálogos!AM:AM,Catálogos!AL:AL)","v":"ERR"},0]
[null,null,null,null,null,null,null," -SELECCIONAR-"," -SELECCIONAR-"," -SELECCIONAR-",null," -SELECCIONAR-"," -SELECCIONAR-"," -SELECCIONAR-"," -SELECCIONAR-",null,null," -SELECCIONAR-",null,null,null," -SELECCIONAR-",null,null," -SELECCIONAR-",null," -SELECCIONAR-"," -SELECCIONAR-",null,{"$f":"IF(AC99=FALSE, LOOKUP(AC99,Catálogos!O:O),LOOKUP(AC99,Catálogos!O:O,Catálogos!R:R))","v":{"$error":"#N/A"}},"",null,null,null,{"$f":"IF(CD99=FALSE,\"COL. INCORRECTA\",LOOKUP(CONCATENATE(AE99,\" - \",AC99),Catálogos!T:T,Catálogos!Y:Y))","v":{"$error":"#N/A"}},{"$f":"IF(CD99=FALSE,\"COL. INCORRECTA\",LOOKUP(CONCATENATE(AE99,\" - \",AC99),Catálogos!T:T,Catálogos!X:X))","v":{"$error":"#N/A"}}," -SELECCIONAR-",""," -SELECCIONAR-",null,null," -SELECCIONAR-",null,null,null," -SELECCIONAR-",null,null," -SELECCIONAR-"," -SELECCIONAR-",null,null,null,null,null," -SELECCIONAR-",null,null,null,null,null,null," -SELECCIONAR-",null,null,null,null,null,null," -SELECCIONAR-",null,null,null,null,null,null," -SELECCIONAR-",null,null,{"$f":"LOOKUP(AB99,Catálogos!AP:AP,Catálogos!AO:AO)","v":"ERR"},{"$f":"CONCATENATE(LOOKUP(AC99,Catálogos!O:O,Catálogos!P:P),\".\",LOOKUP(AC99,Catálogos!O:O,Catálogos!Q:Q))","v":{"$error":"#N/A"}},{"$f":"IF(AC99=LOOKUP(CONCATENATE(AE99,\" - \",AC99),Catálogos!T:T,Catálogos!V:V),LOOKUP(CONCATENATE(AE99,\" - \",AC99),Catálogos!T:T,Catálogos!W:W),FALSE)","v":{"$error":"#N/A"}},{"$f":"LOOKUP(BD99,Catálogos!AM:AM,Catálogos!AL:AL)","v":"ERR"},{"$f":"LOOKUP(BK99,Catálogos!AM:AM,Catálogos!AL:AL)","v":"ERR"},{"$f":"LOOKUP(BR99,Catálogos!AM:AM,Catálogos!AL:AL)","v":"ERR"},{"$f":"LOOKUP(BY99,Catálogos!AM:AM,Catálogos!AL:AL)","v":"ERR"},0]
[null,null,null,null,null,null,null," -SELECCIONAR-"," -SELECCIONAR-"," -SELECCIONAR-",null," -SELECCIONAR-"," -SELECCIONAR-"," -SELECCIONAR-"," -SELECCIONAR-",null,null," -SELECCIONAR-",null,null,null," -SELECCIONAR-",null,null," -SELECCIONAR-",null," -SELECCIONAR-"," -SELECCIONAR-",null,{"$f":"IF(AC100=FALSE, LOOKUP(AC100,Catálogos!O:O),LOOKUP(AC100,Catálogos!O:O,Catálogos!R:R))","v":{"$error":"#N/A"}},"",null,null,null,{"$f":"IF(CD100=FALSE,\"COL. INCORRECTA\",LOOKUP(CONCATENATE(AE100,\" - \",AC100),Catálogos!T:T,Catálogos!Y:Y))","v":{"$error":"#N/A"}},{"$f":"IF(CD100=FALSE,\"COL. INCORRECTA\",LOOKUP(CONCATENATE(AE100,\" - \",AC100),Catálogos!T:T,Catálogos!X:X))","v":{"$error":"#N/A"}}," -SELECCIONAR-",""," -SELECCIONAR-",null,null," -SELECCIONAR-",null,null,null," -SELECCIONAR-",null,null," -SELECCIONAR-"," -SELECCIONAR-",null,null,null,null,null," -SELECCIONAR-",null,null,null,null,null,null," -SELECCIONAR-",null,null,null,null,null,null," -SELECCIONAR-",null,null,null,null,null,null," -SELECCIONAR-",null,null,{"$f":"LOOKUP(AB100,Catálogos!AP:AP,Catálogos!AO:AO)","v":"ERR"},{"$f":"CONCATENATE(LOOKUP(AC100,Catálogos!O:O,Catálogos!P:P),\".\",LOOKUP(AC100,Catálogos!O:O,Catálogos!Q:Q))","v":{"$error":"#N/A"}},{"$f":"IF(AC100=LOOKUP(CONCATENATE(AE100,\" - \",AC100),Catálogos!T:T,Catálogos!V:V),LOOKUP(CONCATENATE(AE100,\" - \",AC100),Catálogos!T:T,Catálogos!W:W),FALSE)","v":{"$error":"#N/A"}},{"$f":"LOOKUP(BD100,Catálogos!AM:AM,Catálogos!AL:AL)","v":"ERR"},{"$f":"LOOKUP(BK100,Catálogos!AM:AM,Catálogos!AL:AL)","v":"ERR"},{"$f":"LOOKUP(BR100,Catálogos!AM:AM,Catálogos!AL:AL)","v":"ERR"},{"$f":"LOOKUP(BY100,Catálogos!AM:AM,Catálogos!AL:AL)","v":"ERR"},0]
[null,null,null,null,null,null,null," -SELECCIONAR-"," -SELECCIONAR-"," -SELECCIONAR-",null," -SELECCIONAR-"," -SELECCIONAR-"," -SELECCIONAR-"," -SELECCIONAR-",null,null," -SELECCIONAR-",null,null,null," -SELECCIONAR-",null,null," -SELECCIONAR-",null," -SELECCIONAR-"," -SELECCIONAR-",null,{"$f":"IF(AC101=FALSE, LOOKUP(AC101,Catálogos!O:O),LOOKUP(AC101,Catálogos!O:O,Catálogos!R:R))","v":{"$error":"#N/A"}},"",null,null,null,{"$f":"IF(CD101=FALSE,\"COL. INCORRECTA\",LOOKUP(CONCATENATE(AE101,\" - \",AC101),Catálogos!T:T,Catálogos!Y:Y))","v":{"$error":"#N/A"}},{"$f":"IF(CD101=FALSE,\"COL. INCORRECTA\",LOOKUP(CONCATENATE(AE101,\" - \",AC101),Catálogos!T:T,Catálogos!X:X))","v":{"$error":"#N/A"}}," -SELECCIONAR-",""," -SELECCIONAR-",null,null," -SELECCIONAR-",null,null,null," -SELECCIONAR-",null,null," -SELECCIONAR-"," -SELECCIONAR-",null,null,null,null,null," -SELECCIONAR-",null,null,null,null,null,null," -SELECCIONAR-",null,null,null,null,null,null," -SELECCIONAR-",null,null,null,null,null,null," -SELECCIONAR-",null,null,{"$f":"LOOKUP(AB101,Catálogos!AP:AP,Catálogos!AO:AO)","v":"ERR"},{"$f":"CONCATENATE(LOOKUP(AC101,Catálogos!O:O,Catálogos!P:P),\".\",LOOKUP(AC101,Catálogos!O:O,Catálogos!Q:Q))","v":{"$error":"#N/A"}},{"$f":"IF(AC101=LOOKUP(CONCATENATE(AE101,\" - \",AC101),Catálogos!T:T,Catálogos!V:V),LOOKUP(CONCATENATE(AE101,\" - \",AC101),Catálogos!T:T,Catálogos!W:W),FALSE)","v":{"$error":"#N/A"}},{"$f":"LOOKUP(BD101,Catálogos!AM:AM,Catálogos!AL:AL)","v":"ERR"},{"$f":"LOOKUP(BK101,Catálogos!AM:AM,Catálogos!AL:AL)","v":"ERR"},{"$f":"LOOKUP(BR101,Catálogos!AM:AM,Catálogos!AL:AL)","v":"ERR"},{"$f":"LOOKUP(BY101,Catálogos!AM:AM,Catálogos!AL:AL)","v":"ERR"},0]
[null,null,null,null,null,null,null," -SELECCIONAR-"," -SELECCIONAR-"," -SELECCIONAR-",null," -SELECCIONAR-"," -SELECCIONAR-"," -SELECCIONAR-"," -SELECCIONAR-",null,null," -SELECCIONAR-",null,null,null," -SELECCIONAR-",null,null," -SELECCIONAR-",null," -SELECCIONAR-"," -SELECCIONAR-",null,{"$f":"IF(AC102=FALSE, LOOKUP(AC102,Catálogos!O:O),LOOKUP(AC102,Catálogos!O:O,Catálogos!R:R))","v":{"$error":"#N/A"}},"",null,null,null,{"$f":"IF(CD102=FALSE,\"COL. INCORRECTA\",LOOKUP(CONCATENATE(AE102,\" - \",AC102),Catálogos!T:T,Catálogos!Y:Y))","v":{"$error":"#N/A"}},{"$f":"IF(CD102=FALSE,\"COL. INCORRECTA\",LOOKUP(CONCATENATE(AE102,\" - \",AC102),Catálogos!T:T,Catálogos!X:X))","v":{"$error":"#N/A"}}," -SELECCIONAR-",""," -SELECCIONAR-",null,null," -SELECCIONAR-",null,null,null," -SELECCIONAR-",null,null," -SELECCIONAR-"," -SELECCIONAR-",null,null,null,null,null," -SELECCIONAR-",null,null,null,null,null,null," -SELECCIONAR-",null,null,null,null,null,null," -SELECCIONAR-",null,null,null,null,null,null," -SELECCIONAR-",null,null,{"$f":"LOOKUP(AB102,Catálogos!AP:AP,Catálogos!AO:AO)","v":"ERR"},{"$f":"CONCATENATE(LOOKUP(AC102,Catálogos!O:O,Catálogos!P:P),\".\",LOOKUP(AC102,Catálogos!O:O,Catálogos!Q:Q))","v":{"$error":"#N/A"}},{"$f":"IF(AC102=LOOKUP(CONCATENATE(AE102,\" - \",AC102),Catálogos!T:T,Catálogos!V:V),LOOKUP(CONCATENATE(AE102,\" - \",AC102),Catálogos!T:T,Catálogos!W:W),FALSE)","v":{"$error":"#N/A"}},{"$f":"LOOKUP(BD102,Catálogos!AM:AM,Catálogos!AL:AL)","v":"ERR"},{"$f":"LOOKUP(BK102,Catálogos!AM:AM,Catálogos!AL:AL)","v":"ERR"},{"$f":"LOOKUP(BR102,Catálogos!AM:AM,Catálogos!AL:AL)","v":"ERR"},{"$f":"LOOKUP(BY102,Catálogos!AM:AM,Catálogos!AL:AL)","v":"ERR"},0]
[null,null,null,null,null,null,null," -SELECCIONAR-"," -SELECCIONAR-"," -SELECCIONAR-",null," -SELECCIONAR-"," -SELECCIONAR-"," -SELECCIONAR-"," -SELECCIONAR-",null,null," -SELECCIONAR-",null,null,null," -SELECCIONAR-",null,null," -SELECCIONAR-",null," -SELECCIONAR-"," -SELECCIONAR-",null,{"$f":"IF(AC103=FALSE, LOOKUP(AC103,Catálogos!O:O),LOOKUP(AC103,Catálogos!O:O,Catálogos!R:R))","v":{"$error":"#N/A"}},"",null,null,null,{"$f":"IF(CD103=FALSE,\"COL. INCORRECTA\",LOOKUP(CONCATENATE(AE103,\" - \",AC103),Catálogos!T:T,Catálogos!Y:Y))","v":{"$error":"#N/A"}},{"$f":"IF(CD103=FALSE,\"COL. INCORRECTA\",LOOKUP(CONCATENATE(AE103,\" - \",AC103),Catálogos!T:T,Catálogos!X:X))","v":{"$error":"#N/A"}}," -SELECCIONAR-",""," -SELECCIONAR-",null,null," -SELECCIONAR-",null,null,null," -SELECCIONAR-",null,null," -SELECCIONAR-"," -SELECCIONAR-",null,null,null,null,null," -SELECCIONAR-",null,null,null,null,null,null," -SELECCIONAR-",null,null,null,null,null,null," -SELECCIONAR-",null,null,null,null,null,null," -SELECCIONAR-",null,null,{"$f":"LOOKUP(AB103,Catálogos!AP:AP,Catálogos!AO:AO)","v":"ERR"},{"$f":"CONCATENATE(LOOKUP(AC103,Catálogos!O:O,Catálogos!P:P),\".\",LOOKUP(AC103,Catálogos!O:O,Catálogos!Q:Q))","v":{"$error":"#N/A"}},{"$f":"IF(AC103=LOOKUP(CONCATENATE(AE103,\" - \",AC103),Catálogos!T:T,Catálogos!V:V),LOOKUP(CONCATENATE(AE103,\" - \",AC103),Catálogos!T:T,Catálogos!W:W),FALSE)","v":{"$error":"#N/A"}},{"$f":"LOOKUP(BD103,Catálogos!AM:AM,Catálogos!AL:AL)","v":"ERR"},{"$f":"LOOKUP(BK103,Catálogos!AM:AM,Catálogos!AL:AL)","v":"ERR"},{"$f":"LOOKUP(BR103,Catálogos!AM:AM,Catálogos!AL:AL)","v":"ERR"},{"$f":"LOOKUP(BY103,Catálogos!AM:AM,Catálogos!AL:AL)","v":"ERR"},0]
[null,null,null,null,null,null,null," -SELECCIONAR-"," -SELECCIONAR-"," -SELECCIONAR-",null," -SELECCIONAR-"," -SELECCIONAR-"," -SELECCIONAR-"," -SELECCIONAR-",null,null," -SELECCIONAR-",null,null,null," -SELECCIONAR-",null,null," -SELECCIONAR-",null," -SELECCIONAR-"," -SELECCIONAR-",null,{"$f":"IF(AC104=FALSE, LOOKUP(AC104,Catálogos!O:O),LOOKUP(AC104,Catálogos!O:O,Catálogos!R:R))","v":{"$error":"#N/A"}},"",null,null,null,{"$f":"IF(CD104=FALSE,\"COL. INCORRECTA\",LOOKUP(CONCATENATE(AE104,\" - \",AC104),Catálogos!T:T,Catálogos!Y:Y))","v":{"$error":"#N/A"}},{"$f":"IF(CD104=FALSE,\"COL. INCORRECTA\",LOOKUP(CONCATENATE(AE104,\" - \",AC104),Catálogos!T:T,Catálogos!X:X))","v":{"$error":"#N/A"}}," -SELECCIONAR-",""," -SELECCIONAR-",null,null," -SELECCIONAR-",null,null,null," -SELECCIONAR-",null,null," -SELECCIONAR-"," -SELECCIONAR-",null,null,null,null,null," -SELECCIONAR-",null,null,null,null,null,null," -SELECCIONAR-",null,null,null,null,null,null," -SELECCIONAR-",null,null,null,null,null,null," -SELECCIONAR-",null,null,{"$f":"LOOKUP(AB104,Catálogos!AP:AP,Catálogos!AO:AO)","v":"ERR"},{"$f":"CONCATENATE(LOOKUP(AC104,Catálogos!O:O,Catálogos!P:P),\".\",LOOKUP(AC104,Catálogos!O:O,Catálogos!Q:Q))","v":{"$error":"#N/A"}},{"$f":"IF(AC104=LOOKUP(CONCATENATE(AE104,\" - \",AC104),Catálogos!T:T,Catálogos!V:V),LOOKUP(CONCATENATE(AE104,\" - \",AC104),Catálogos!T:T,Catálogos!W:W),FALSE)","v":{"$error":"#N/A"}},{"$f":"LOOKUP(BD104,Catálogos!AM:AM,Catálogos!AL:AL)","v":"ERR"},{"$f":"LOOKUP(BK104,Catálogos!AM:AM,Catálogos!AL:AL)","v":"ERR"},{"$f":"LOOKUP(BR104,Catálogos!AM:AM,Catálogos!AL:AL)","v":"ERR"},{"$f":"LOOKUP(BY104,Catálogos!AM:AM,Catálogos!AL:AL)","v":"ERR"},0]
[null,null,null,null,null,null,null," -SELECCIONAR-"," -SELECCIONAR-"," -SELECCIONAR-",null," -SELECCIONAR-"," -SELECCIONAR-"," -SELECCIONAR-"," -SELECCIONAR-",null,null," -SELECCIONAR-",null,null,null," -SELECCIONAR-",null,null," -SELECCIONAR-",null," -SELECCIONAR-"," -SELECCIONAR-",null,{"$f":"IF(AC105=FALSE, LOOKUP(AC105,Catálogos!O:O),LOOKUP(AC105,Catálogos!O:O,Catálogos!R:R))","v":{"$error":"#N/A"}},"",null,null,null,{"$f":"IF(CD105=FALSE,\"COL. INCORRECTA\",LOOKUP(CONCATENATE(AE105,\" - \",AC105),Catálogos!T:T,Catálogos!Y:Y))","v":{"$error":"#N/A"}},{"$f":"IF(CD105=FALSE,\"COL. INCORRECTA\",LOOKUP(CONCATENATE(AE105,\" - \",AC105),Catálogos!T:T,Catálogos!X:X))","v":{"$error":"#N/A"}}," -SELECCIONAR-",""," -SELECCIONAR-",null,null," -SELECCIONAR-",null,null,null," -SELECCIONAR-",null,null," -SELECCIONAR-"," -SELECCIONAR-",null,null,null,null,null," -SELECCIONAR-",null,null,null,null,null,null," -SELECCIONAR-",null,null,null,null,null,null," -SELECCIONAR-",null,null,null,null,null,null," -SELECCIONAR-",null,null,{"$f":"LOOKUP(AB105,Catálogos!AP:AP,Catálogos!AO:AO)","v":"ERR"},{"$f":"CONCATENATE(LOOKUP(AC105,Catálogos!O:O,Catálogos!P:P),\".\",LOOKUP(AC105,Catálogos!O:O,Catálogos!Q:Q))","v":{"$error":"#N/A"}},{"$f":"IF(AC105=LOOKUP(CONCATENATE(AE105,\" - \",AC105),Catálogos!T:T,Catálogos!V:V),LOOKUP(CONCATENATE(AE105,\" - \",AC105),Catálogos!T:T,Catálogos!W:W),FALSE)","v":{"$error":"#N/A"}},{"$f":"LOOKUP(BD105,Catálogos!AM:AM,Catálogos!AL:AL)","v":"ERR"},{"$f":"LOOKUP(BK105,Catálogos!AM:AM,Catálogos!AL:AL)","v":"ERR"},{"$f":"LOOKUP(BR105,Catálogos!AM:AM,Catálogos!AL:AL)","v":"ERR"},{"$f":"LOOKUP(BY105,Catálogos!AM:AM,Catálogos!AL:AL)","v":"ERR"},0]
[null,null,null,null,null,null,null," -SELECCIONAR-"," -SELECCIONAR-"," -SELECCIONAR-",null," -SELECCIONAR-"," -SELECCIONAR-"," -SELECCIONAR-"," -SELECCIONAR-",null,null," -SELECCIONAR-",null,null,null," -SELECCIONAR-",null,null," -SELECCIONAR-",null," -SELECCIONAR-"," -SELECCIONAR-",null,{"$f":"IF(AC106=FALSE, LOOKUP(AC106,Catálogos!O:O),LOOKUP(AC106,Catálogos!O:O,Catálogos!R:R))","v":{"$error":"#N/A"}},"",null,null,null,{"$f":"IF(CD106=FALSE,\"COL. INCORRECTA\",LOOKUP(CONCATENATE(AE106,\" - \",AC106),Catálogos!T:T,Catálogos!Y:Y))","v":{"$error":"#N/A"}},{"$f":"IF(CD106=FALSE,\"COL. INCORRECTA\",LOOKUP(CONCATENATE(AE106,\" - \",AC106),Catálogos!T:T,Catálogos!X:X))","v":{"$error":"#N/A"}}," -SELECCIONAR-",""," -SELECCIONAR-",null,null," -SELECCIONAR-",null,null,null," -SELECCIONAR-",null,null," -SELECCIONAR-"," -SELECCIONAR-",null,null,null,null,null," -SELECCIONAR-",null,null,null,null,null,null," -SELECCIONAR-",null,null,null,null,null,null," -SELECCIONAR-",null,null,null,null,null,null," -SELECCIONAR-",null,null,{"$f":"LOOKUP(AB106,Catálogos!AP:AP,Catálogos!AO:AO)","v":"ERR"},{"$f":"CONCATENATE(LOOKUP(AC106,Catálogos!O:O,Catálogos!P:P),\".\",LOOKUP(AC106,Catálogos!O:O,Catálogos!Q:Q))","v":{"$error":"#N/A"}},{"$f":"IF(AC106=LOOKUP(CONCATENATE(AE106,\" - \",AC106),Catálogos!T:T,Catálogos!V:V),LOOKUP(CONCATENATE(AE106,\" - \",AC106),Catálogos!T:T,Catálogos!W:W),FALSE)","v":{"$error":"#N/A"}},{"$f":"LOOKUP(BD106,Catálogos!AM:AM,Catálogos!AL:AL)","v":"ERR"},{"$f":"LOOKUP(BK106,Catálogos!AM:AM,Catálogos!AL:AL)","v":"ERR"},{"$f":"LOOKUP(BR106,Catálogos!AM:AM,Catálogos!AL:AL)","v":"ERR"},{"$f":"LOOKUP(BY106,Catálogos!AM:AM,Catálogos!AL:AL)","v":"ERR"},0]
[null,null,null,null,null,null,null," -SELECCIONAR-"," -SELECCIONAR-"," -SELECCIONAR-",null," -SELECCIONAR-"," -SELECCIONAR-"," -SELECCIONAR-"," -SELECCIONAR-",null,null," -SELECCIONAR-",null,null,null," -SELECCIONAR-",null,null," -SELECCIONAR-",null," -SELECCIONAR-"," -SELECCIONAR-",null,{"$f":"IF(AC107=FALSE, LOOKUP(AC107,Catálogos!O:O),LOOKUP(AC107,Catálogos!O:O,Catálogos!R:R))","v":{"$error":"#N/A"}},"",null,null,null,{"$f":"IF(CD107=FALSE,\"COL. INCORRECTA\",LOOKUP(CONCATENATE(AE107,\" - \",AC107),Catálogos!T:T,Catálogos!Y:Y))","v":{"$error":"#N/A"}},{"$f":"IF(CD107=FALSE,\"COL. INCORRECTA\",LOOKUP(CONCATENATE(AE107,\" - \",AC107),Catálogos!T:T,Catálogos!X:X))","v":{"$error":"#N/A"}}," -SELECCIONAR-",""," -SELECCIONAR-",null,null," -SELECCIONAR-",null,null,null," -SELECCIONAR-",null,null," -SELECCIONAR-"," -SELECCIONAR-",null,null,null,null,null," -SELECCIONAR-",null,null,null,null,null,null," -SELECCIONAR-",null,null,null,null,null,null," -SELECCIONAR-",null,null,null,null,null,null," -SELECCIONAR-",null,null,{"$f":"LOOKUP(AB107,Catálogos!AP:AP,Catálogos!AO:AO)","v":"ERR"},{"$f":"CONCATENATE(LOOKUP(AC107,Catálogos!O:O,Catálogos!P:P),\".\",LOOKUP(AC107,Catálogos!O:O,Catálogos!Q:Q))","v":{"$error":"#N/A"}},{"$f":"IF(AC107=LOOKUP(CONCATENATE(AE107,\" - \",AC107),Catálogos!T:T,Catálogos!V:V),LOOKUP(CONCATENATE(AE107,\" - \",AC107),Catálogos!T:T,Catálogos!W:W),FALSE)","v":{"$error":"#N/A"}},{"$f":"LOOKUP(BD107,Catálogos!AM:AM,Catálogos!AL:AL)","v":"ERR"},{"$f":"LOOKUP(BK107,Catálogos!AM:AM,Catálogos!AL:AL)","v":"ERR"},{"$f":"LOOKUP(BR107,Catálogos!AM:AM,Catálogos!AL:AL)","v":"ERR"},{"$f":"LOOKUP(BY107,Catálogos!AM:AM,Catálogos!AL:AL)","v":"ERR"},0]
[null,null,null,null,null,null,null," -SELECCIONAR-"," -SELECCIONAR-"," -SELECCIONAR-",null," -SELECCIONAR-"," -SELECCIONAR-"," -SELECCIONAR-"," -SELECCIONAR-",null,null," -SELECCIONAR-",null,null,null," -SELECCIONAR-",null,null," -SELECCIONAR-",null," -SELECCIONAR-"," -SELECCIONAR-",null,{"$f":"IF(AC108=FALSE, LOOKUP(AC108,Catálogos!O:O),LOOKUP(AC108,Catálogos!O:O,Catálogos!R:R))","v":{"$error":"#N/A"}},"",null,null,null,{"$f":"IF(CD108=FALSE,\"COL. INCORRECTA\",LOOKUP(CONCATENATE(AE108,\" - \",AC108),Catálogos!T:T,Catálogos!Y:Y))","v":{"$error":"#N/A"}},{"$f":"IF(CD108=FALSE,\"COL. INCORRECTA\",LOOKUP(CONCATENATE(AE108,\" - \",AC108),Catálogos!T:T,Catálogos!X:X))","v":{"$error":"#N/A"}}," -SELECCIONAR-",""," -SELECCIONAR-",null,null," -SELECCIONAR-",null,null,null," -SELECCIONAR-",null,null," -SELECCIONAR-"," -SELECCIONAR-",null,null,null,null,null," -SELECCIONAR-",null,null,null,null,null,null," -SELECCIONAR-",null,null,null,null,null,null," -SELECCIONAR-",null,null,null,null,null,null," -SELECCIONAR-",null,null,{"$f":"LOOKUP(AB108,Catálogos!AP:AP,Catálogos!AO:AO)","v":"ERR"},{"$f":"CONCATENATE(LOOKUP(AC108,Catálogos!O:O,Catálogos!P:P),\".\",LOOKUP(AC108,Catálogos!O:O,Catálogos!Q:Q))","v":{"$error":"#N/A"}},{"$f":"IF(AC108=LOOKUP(CONCATENATE(AE108,\" - \",AC108),Catálogos!T:T,Catálogos!V:V),LOOKUP(CONCATENATE(AE108,\" - \",AC108),Catálogos!T:T,Catálogos!W:W),FALSE)","v":{"$error":"#N/A"}},{"$f":"LOOKUP(BD108,Catálogos!AM:AM,Catálogos!AL:AL)","v":"ERR"},{"$f":"LOOKUP(BK108,Catálogos!AM:AM,Catálogos!AL:AL)","v":"ERR"},{"$f":"LOOKUP(BR108,Catálogos!AM:AM,Catálogos!AL:AL)","v":"ERR"},{"$f":"LOOKUP(BY108,Catálogos!AM:AM,Catálogos!AL:AL)","v":"ERR"},0]
[null,null,null,null,null,null,null," -SELECCIONAR-"," -SELECCIONAR-"," -SELECCIONAR-",null," -SELECCIONAR-"," -SELECCIONAR-"," -SELECCIONAR-"," -SELECCIONAR-",null,null," -SELECCIONAR-",null,null,null," -SELECCIONAR-",null,null," -SELECCIONAR-",null," -SELECCIONAR-"," -SELECCIONAR-",null,{"$f":"IF(AC109=FALSE, LOOKUP(AC109,Catálogos!O:O),LOOKUP(AC109,Catálogos!O:O,Catálogos!R:R))","v":{"$error":"#N/A"}},"",null,null,null,{"$f":"IF(CD109=FALSE,\"COL. INCORRECTA\",LOOKUP(CONCATENATE(AE109,\" - \",AC109),Catálogos!T:T,Catálogos!Y:Y))","v":{"$error":"#N/A"}},{"$f":"IF(CD109=FALSE,\"COL. INCORRECTA\",LOOKUP(CONCATENATE(AE109,\" - \",AC109),Catálogos!T:T,Catálogos!X:X))","v":{"$error":"#N/A"}}," -SELECCIONAR-",""," -SELECCIONAR-",null,null," -SELECCIONAR-",null,null,null," -SELECCIONAR-",null,null," -SELECCIONAR-"," -SELECCIONAR-",null,null,null,null,null," -SELECCIONAR-",null,null,null,null,null,null," -SELECCIONAR-",null,null,null,null,null,null," -SELECCIONAR-",null,null,null,null,null,null," -SELECCIONAR-",null,null,{"$f":"LOOKUP(AB109,Catálogos!AP:AP,Catálogos!AO:AO)","v":"ERR"},{"$f":"CONCATENATE(LOOKUP(AC109,Catálogos!O:O,Catálogos!P:P),\".\",LOOKUP(AC109,Catálogos!O:O,Catálogos!Q:Q))","v":{"$error":"#N/A"}},{"$f":"IF(AC109=LOOKUP(CONCATENATE(AE109,\" - \",AC109),Catálogos!T:T,Catálogos!V:V),LOOKUP(CONCATENATE(AE109,\" - \",AC109),Catálogos!T:T,Catálogos!W:W),FALSE)","v":{"$error":"#N/A"}},{"$f":"LOOKUP(BD109,Catálogos!AM:AM,Catálogos!AL:AL)","v":"ERR"},{"$f":"LOOKUP(BK109,Catálogos!AM:AM,Catálogos!AL:AL)","v":"ERR"},{"$f":"LOOKUP(BR109,Catálogos!AM:AM,Catálogos!AL:AL)","v":"ERR"},{"$f":"LOOKUP(BY109,Catálogos!AM:AM,Catálogos!AL:AL)","v":"ERR"},0]
[null,null,null,null,null,null,null," -SELECCIONAR-"," -SELECCIONAR-"," -SELECCIONAR-",null," -SELECCIONAR-"," -SELECCIONAR-"," -SELECCIONAR-"," -SELECCIONAR-",null,null," -SELECCIONAR-",null,null,null," -SELECCIONAR-",null,null," -SELECCIONAR-",null," -SELECCIONAR-"," -SELECCIONAR-",null,{"$f":"IF(AC110=FALSE, LOOKUP(AC110,Catálogos!O:O),LOOKUP(AC110,Catálogos!O:O,Catálogos!R:R))","v":{"$error":"#N/A"}},"",null,null,null,{"$f":"IF(CD110=FALSE,\"COL. INCORRECTA\",LOOKUP(CONCATENATE(AE110,\" - \",AC110),Catálogos!T:T,Catálogos!Y:Y))","v":{"$error":"#N/A"}},{"$f":"IF(CD110=FALSE,\"COL. INCORRECTA\",LOOKUP(CONCATENATE(AE110,\" - \",AC110),Catálogos!T:T,Catálogos!X:X))","v":{"$error":"#N/A"}}," -SELECCIONAR-",""," -SELECCIONAR-",null,null," -SELECCIONAR-",null,null,null," -SELECCIONAR-",null,null," -SELECCIONAR-"," -SELECCIONAR-",null,null,null,null,null," -SELECCIONAR-",null,null,null,null,null,null," -SELECCIONAR-",null,null,null,null,null,null," -SELECCIONAR-",null,null,null,null,null,null," -SELECCIONAR-",null,null,{"$f":"LOOKUP(AB110,Catálogos!AP:AP,Catálogos!AO:AO)","v":"ERR"},{"$f":"CONCATENATE(LOOKUP(AC110,Catálogos!O:O,Catálogos!P:P),\".\",LOOKUP(AC110,Catálogos!O:O,Catálogos!Q:Q))","v":{"$error":"#N/A"}},{"$f":"IF(AC110=LOOKUP(CONCATENATE(AE110,\" - \",AC110),Catálogos!T:T,Catálogos!V:V),LOOKUP(CONCATENATE(AE110,\" - \",AC110),Catálogos!T:T,Catálogos!W:W),FALSE)","v":{"$error":"#N/A"}},{"$f":"LOOKUP(BD110,Catálogos!AM:AM,Catálogos!AL:AL)","v":"ERR"},{"$f":"LOOKUP(BK110,Catálogos!AM:AM,Catálogos!AL:AL)","v":"ERR"},{"$f":"LOOKUP(BR110,Catálogos!AM:AM,Catálogos!AL:AL)","v":"ERR"},{"$f":"LOOKUP(BY110,Catálogos!AM:AM,Catálogos!AL:AL)","v":"ERR"},0]
[null,null,null,null,null,null,null," -SELECCIONAR-"," -SELECCIONAR-"," -SELECCIONAR-",null," -SELECCIONAR-"," -SELECCIONAR-"," -SELECCIONAR-"," -SELECCIONAR-",null,null," -SELECCIONAR-",null,null,null," -SELECCIONAR-",null,null," -SELECCIONAR-",null," -SELECCIONAR-"," -SELECCIONAR-",null,{"$f":"IF(AC111=FALSE, LOOKUP(AC111,Catálogos!O:O),LOOKUP(AC111,Catálogos!O:O,Catálogos!R:R))","v":{"$error":"#N/A"}},"",null,null,null,{"$f":"IF(CD111=FALSE,\"COL. INCORRECTA\",LOOKUP(CONCATENATE(AE111,\" - \",AC111),Catálogos!T:T,Catálogos!Y:Y))","v":{"$error":"#N/A"}},{"$f":"IF(CD111=FALSE,\"COL. INCORRECTA\",LOOKUP(CONCATENATE(AE111,\" - \",AC111),Catálogos!T:T,Catálogos!X:X))","v":{"$error":"#N/A"}}," -SELECCIONAR-",""," -SELECCIONAR-",null,null," -SELECCIONAR-",null,null,null," -SELECCIONAR-",null,null," -SELECCIONAR-"," -SELECCIONAR-",null,null,null,null,null," -SELECCIONAR-",null,null,null,null,null,null," -SELECCIONAR-",null,null,null,null,null,null," -SELECCIONAR-",null,null,null,null,null,null," -SELECCIONAR-",null,null,{"$f":"LOOKUP(AB111,Catálogos!AP:AP,Catálogos!AO:AO)","v":"ERR"},{"$f":"CONCATENATE(LOOKUP(AC111,Catálogos!O:O,Catálogos!P:P),\".\",LOOKUP(AC111,Catálogos!O:O,Catálogos!Q:Q))","v":{"$error":"#N/A"}},{"$f":"IF(AC111=LOOKUP(CONCATENATE(AE111,\" - \",AC111),Catálogos!T:T,Catálogos!V:V),LOOKUP(CONCATENATE(AE111,\" - \",AC111),Catálogos!T:T,Catálogos!W:W),FALSE)","v":{"$error":"#N/A"}},{"$f":"LOOKUP(BD111,Catálogos!AM:AM,Catálogos!AL:AL)","v":"ERR"},{"$f":"LOOKUP(BK111,Catálogos!AM:AM,Catálogos!AL:AL)","v":"ERR"},{"$f":"LOOKUP(BR111,Catálogos!AM:AM,Catálogos!AL:AL)","v":"ERR"},{"$f":"LOOKUP(BY111,Catálogos!AM:AM,Catálogos!AL:AL)","v":"ERR"},0]
[null,null,null,null,null,null,null," -SELECCIONAR-"," -SELECCIONAR-"," -SELECCIONAR-",null," -SELECCIONAR-"," -SELECCIONAR-"," -SELECCIONAR-"," -SELECCIONAR-",null,null," -SELECCIONAR-",null,null,null," -SELECCIONAR-",null,null," -SELECCIONAR-",null," -SELECCIONAR-"," -SELECCIONAR-",null,{"$f":"IF(AC112=FALSE, LOOKUP(AC112,Catálogos!O:O),LOOKUP(AC112,Catálogos!O:O,Catálogos!R:R))","v":{"$error":"#N/A"}},"",null,null,null,{"$f":"IF(CD112=FALSE,\"COL. INCORRECTA\",LOOKUP(CONCATENATE(AE112,\" - \",AC112),Catálogos!T:T,Catálogos!Y:Y))","v":{"$error":"#N/A"}},{"$f":"IF(CD112=FALSE,\"COL. INCORRECTA\",LOOKUP(CONCATENATE(AE112,\" - \",AC112),Catálogos!T:T,Catálogos!X:X))","v":{"$error":"#N/A"}}," -SELECCIONAR-",""," -SELECCIONAR-",null,null," -SELECCIONAR-",null,null,null," -SELECCIONAR-",null,null," -SELECCIONAR-"," -SELECCIONAR-",null,null,null,null,null," -SELECCIONAR-",null,null,null,null,null,null," -SELECCIONAR-",null,null,null,null,null,null," -SELECCIONAR-",null,null,null,null,null,null," -SELECCIONAR-",null,null,{"$f":"LOOKUP(AB112,Catálogos!AP:AP,Catálogos!AO:AO)","v":"ERR"},{"$f":"CONCATENATE(LOOKUP(AC112,Catálogos!O:O,Catálogos!P:P),\".\",LOOKUP(AC112,Catálogos!O:O,Catálogos!Q:Q))","v":{"$error":"#N/A"}},{"$f":"IF(AC112=LOOKUP(CONCATENATE(AE112,\" - \",AC112),Catálogos!T:T,Catálogos!V:V),LOOKUP(CONCATENATE(AE112,\" - \",AC112),Catálogos!T:T,Catálogos!W:W),FALSE)","v":{"$error":"#N/A"}},{"$f":"LOOKUP(BD112,Catálogos!AM:AM,Catálogos!AL:AL)","v":"ERR"},{"$f":"LOOKUP(BK112,Catálogos!AM:AM,Catálogos!AL:AL)","v":"ERR"},{"$f":"LOOKUP(BR112,Catálogos!AM:AM,Catálogos!AL:AL)","v":"ERR"},{"$f":"LOOKUP(BY112,Catálogos!AM:AM,Catálogos!AL:AL)","v":"ERR"},0]
[null,null,null,null,null,null,null," -SELECCIONAR-"," -SELECCIONAR-"," -SELECCIONAR-",null," -SELECCIONAR-"," -SELECCIONAR-"," -SELECCIONAR-"," -SELECCIONAR-",null,null," -SELECCIONAR-",null,null,null," -SELECCIONAR-",null,null," -SELECCIONAR-",null," -SELECCIONAR-"," -SELECCIONAR-",null,{"$f":"IF(AC113=FALSE, LOOKUP(AC113,Catálogos!O:O),LOOKUP(AC113,Catálogos!O:O,Catálogos!R:R))","v":{"$error":"#N/A"}},"",null,null,null,{"$f":"IF(CD113=FALSE,\"COL. INCORRECTA\",LOOKUP(CONCATENATE(AE113,\" - \",AC113),Catálogos!T:T,Catálogos!Y:Y))","v":{"$error":"#N/A"}},{"$f":"IF(CD113=FALSE,\"COL. INCORRECTA\",LOOKUP(CONCATENATE(AE113,\" - \",AC113),Catálogos!T:T,Catálogos!X:X))","v":{"$error":"#N/A"}}," -SELECCIONAR-",""," -SELECCIONAR-",null,null," -SELECCIONAR-",null,null,null," -SELECCIONAR-",null,null," -SELECCIONAR-"," -SELECCIONAR-",null,null,null,null,null," -SELECCIONAR-",null,null,null,null,null,null," -SELECCIONAR-",null,null,null,null,null,null," -SELECCIONAR-",null,null,null,null,null,null," -SELECCIONAR-",null,null,{"$f":"LOOKUP(AB113,Catálogos!AP:AP,Catálogos!AO:AO)","v":"ERR"},{"$f":"CONCATENATE(LOOKUP(AC113,Catálogos!O:O,Catálogos!P:P),\".\",LOOKUP(AC113,Catálogos!O:O,Catálogos!Q:Q))","v":{"$error":"#N/A"}},{"$f":"IF(AC113=LOOKUP(CONCATENATE(AE113,\" - \",AC113),Catálogos!T:T,Catálogos!V:V),LOOKUP(CONCATENATE(AE113,\" - \",AC113),Catálogos!T:T,Catálogos!W:W),FALSE)","v":{"$error":"#N/A"}},{"$f":"LOOKUP(BD113,Catálogos!AM:AM,Catálogos!AL:AL)","v":"ERR"},{"$f":"LOOKUP(BK113,Catálogos!AM:AM,Catálogos!AL:AL)","v":"ERR"},{"$f":"LOOKUP(BR113,Catálogos!AM:AM,Catálogos!AL:AL)","v":"ERR"},{"$f":"LOOKUP(BY113,Catálogos!AM:AM,Catálogos!AL:AL)","v":"ERR"},0]
[null,null,null,null,null,null,null," -SELECCIONAR-"," -SELECCIONAR-"," -SELECCIONAR-",null," -SELECCIONAR-"," -SELECCIONAR-"," -SELECCIONAR-"," -SELECCIONAR-",null,null," -SELECCIONAR-",null,null,null," -SELECCIONAR-",null,null," -SELECCIONAR-",null," -SELECCIONAR-"," -SELECCIONAR-",null,{"$f":"IF(AC114=FALSE, LOOKUP(AC114,Catálogos!O:O),LOOKUP(AC114,Catálogos!O:O,Catálogos!R:R))","v":{"$error":"#N/A"}},"",null,null,null,{"$f":"IF(CD114=FALSE,\"COL. INCORRECTA\",LOOKUP(CONCATENATE(AE114,\" - \",AC114),Catálogos!T:T,Catálogos!Y:Y))","v":{"$error":"#N/A"}},{"$f":"IF(CD114=FALSE,\"COL. INCORRECTA\",LOOKUP(CONCATENATE(AE114,\" - \",AC114),Catálogos!T:T,Catálogos!X:X))","v":{"$error":"#N/A"}}," -SELECCIONAR-",""," -SELECCIONAR-",null,null," -SELECCIONAR-",null,null,null," -SELECCIONAR-",null,null," -SELECCIONAR-"," -SELECCIONAR-",null,null,null,null,null," -SELECCIONAR-",null,null,null,null,null,null," -SELECCIONAR-",null,null,null,null,null,null," -SELECCIONAR-",null,null,null,null,null,null," -SELECCIONAR-",null,null,{"$f":"LOOKUP(AB114,Catálogos!AP:AP,Catálogos!AO:AO)","v":"ERR"},{"$f":"CONCATENATE(LOOKUP(AC114,Catálogos!O:O,Catálogos!P:P),\".\",LOOKUP(AC114,Catálogos!O:O,Catálogos!Q:Q))","v":{"$error":"#N/A"}},{"$f":"IF(AC114=LOOKUP(CONCATENATE(AE114,\" - \",AC114),Catálogos!T:T,Catálogos!V:V),LOOKUP(CONCATENATE(AE114,\" - \",AC114),Catálogos!T:T,Catálogos!W:W),FALSE)","v":{"$error":"#N/A"}},{"$f":"LOOKUP(BD114,Catálogos!AM:AM,Catálogos!AL:AL)","v":"ERR"},{"$f":"LOOKUP(BK114,Catálogos!AM:AM,Catálogos!AL:AL)","v":"ERR"},{"$f":"LOOKUP(BR114,Catálogos!AM:AM,Catálogos!AL:AL)","v":"ERR"},{"$f":"LOOKUP(BY114,Catálogos!AM:AM,Catálogos!AL:AL)","v":"ERR"},0]
[null,null,null,null,null,null,null," -SELECCIONAR-"," -SELECCIONAR-"," -SELECCIONAR-",null," -SELECCIONAR-"," -SELECCIONAR-"," -SELECCIONAR-"," -SELECCIONAR-",null,null," -SELECCIONAR-",null,null,null," -SELECCIONAR-",null,null," -SELECCIONAR-",null," -SELECCIONAR-"," -SELECCIONAR-",null,{"$f":"IF(AC115=FALSE, LOOKUP(AC115,Catálogos!O:O),LOOKUP(AC115,Catálogos!O:O,Catálogos!R:R))","v":{"$error":"#N/A"}},"",null,null,null,{"$f":"IF(CD115=FALSE,\"COL. INCORRECTA\",LOOKUP(CONCATENATE(AE115,\" - \",AC115),Catálogos!T:T,Catálogos!Y:Y))","v":{"$error":"#N/A"}},{"$f":"IF(CD115=FALSE,\"COL. INCORRECTA\",LOOKUP(CONCATENATE(AE115,\" - \",AC115),Catálogos!T:T,Catálogos!X:X))","v":{"$error":"#N/A"}}," -SELECCIONAR-",""," -SELECCIONAR-",null,null," -SELECCIONAR-",null,null,null," -SELECCIONAR-",null,null," -SELECCIONAR-"," -SELECCIONAR-",null,null,null,null,null," -SELECCIONAR-",null,null,null,null,null,null," -SELECCIONAR-",null,null,null,null,null,null," -SELECCIONAR-",null,null,null,null,null,null," -SELECCIONAR-",null,null,{"$f":"LOOKUP(AB115,Catálogos!AP:AP,Catálogos!AO:AO)","v":"ERR"},{"$f":"CONCATENATE(LOOKUP(AC115,Catálogos!O:O,Catálogos!P:P),\".\",LOOKUP(AC115,Catálogos!O:O,Catálogos!Q:Q))","v":{"$error":"#N/A"}},{"$f":"IF(AC115=LOOKUP(CONCATENATE(AE115,\" - \",AC115),Catálogos!T:T,Catálogos!V:V),LOOKUP(CONCATENATE(AE115,\" - \",AC115),Catálogos!T:T,Catálogos!W:W),FALSE)","v":{"$error":"#N/A"}},{"$f":"LOOKUP(BD115,Catálogos!AM:AM,Catálogos!AL:AL)","v":"ERR"},{"$f":"LOOKUP(BK115,Catálogos!AM:AM,Catálogos!AL:AL)","v":"ERR"},{"$f":"LOOKUP(BR115,Catálogos!AM:AM,Catálogos!AL:AL)","v":"ERR"},{"$f":"LOOKUP(BY115,Catálogos!AM:AM,Catálogos!AL:AL)","v":"ERR"},0]
[null,null,null,null,null,null,null," -SELECCIONAR-"," -SELECCIONAR-"," -SELECCIONAR-",null," -SELECCIONAR-"," -SELECCIONAR-"," -SELECCIONAR-"," -SELECCIONAR-",null,null," -SELECCIONAR-",null,null,null," -SELECCIONAR-",null,null," -SELECCIONAR-",null," -SELECCIONAR-"," -SELECCIONAR-",null,{"$f":"IF(AC116=FALSE, LOOKUP(AC116,Catálogos!O:O),LOOKUP(AC116,Catálogos!O:O,Catálogos!R:R))","v":{"$error":"#N/A"}},"",null,null,null,{"$f":"IF(CD116=FALSE,\"COL. INCORRECTA\",LOOKUP(CONCATENATE(AE116,\" - \",AC116),Catálogos!T:T,Catálogos!Y:Y))","v":{"$error":"#N/A"}},{"$f":"IF(CD116=FALSE,\"COL. INCORRECTA\",LOOKUP(CONCATENATE(AE116,\" - \",AC116),Catálogos!T:T,Catálogos!X:X))","v":{"$error":"#N/A"}}," -SELECCIONAR-",""," -SELECCIONAR-",null,null," -SELECCIONAR-",null,null,null," -SELECCIONAR-",null,null," -SELECCIONAR-"," -SELECCIONAR-",null,null,null,null,null," -SELECCIONAR-",null,null,null,null,null,null," -SELECCIONAR-",null,null,null,null,null,null," -SELECCIONAR-",null,null,null,null,null,null," -SELECCIONAR-",null,null,{"$f":"LOOKUP(AB116,Catálogos!AP:AP,Catálogos!AO:AO)","v":"ERR"},{"$f":"CONCATENATE(LOOKUP(AC116,Catálogos!O:O,Catálogos!P:P),\".\",LOOKUP(AC116,Catálogos!O:O,Catálogos!Q:Q))","v":{"$error":"#N/A"}},{"$f":"IF(AC116=LOOKUP(CONCATENATE(AE116,\" - \",AC116),Catálogos!T:T,Catálogos!V:V),LOOKUP(CONCATENATE(AE116,\" - \",AC116),Catálogos!T:T,Catálogos!W:W),FALSE)","v":{"$error":"#N/A"}},{"$f":"LOOKUP(BD116,Catálogos!AM:AM,Catálogos!AL:AL)","v":"ERR"},{"$f":"LOOKUP(BK116,Catálogos!AM:AM,Catálogos!AL:AL)","v":"ERR"},{"$f":"LOOKUP(BR116,Catálogos!AM:AM,Catálogos!AL:AL)","v":"ERR"},{"$f":"LOOKUP(BY116,Catálogos!AM:AM,Catálogos!AL:AL)","v":"ERR"},0]
[null,null,null,null,null,null,null," -SELECCIONAR-"," -SELECCIONAR-"," -SELECCIONAR-",null," -SELECCIONAR-"," -SELECCIONAR-"," -SELECCIONAR-"," -SELECCIONAR-",null,null," -SELECCIONAR-",null,null,null," -SELECCIONAR-",null,null," -SELECCIONAR-",null," -SELECCIONAR-"," -SELECCIONAR-",null,{"$f":"IF(AC117=FALSE, LOOKUP(AC117,Catálogos!O:O),LOOKUP(AC117,Catálogos!O:O,Catálogos!R:R))","v":{"$error":"#N/A"}},"",null,null,null,{"$f":"IF(CD117=FALSE,\"COL. INCORRECTA\",LOOKUP(CONCATENATE(AE117,\" - \",AC117),Catálogos!T:T,Catálogos!Y:Y))","v":{"$error":"#N/A"}},{"$f":"IF(CD117=FALSE,\"COL. INCORRECTA\",LOOKUP(CONCATENATE(AE117,\" - \",AC117),Catálogos!T:T,Catálogos!X:X))","v":{"$error":"#N/A"}}," -SELECCIONAR-",""," -SELECCIONAR-",null,null," -SELECCIONAR-",null,null,null," -SELECCIONAR-",null,null," -SELECCIONAR-"," -SELECCIONAR-",null,null,null,null,null," -SELECCIONAR-",null,null,null,null,null,null," -SELECCIONAR-",null,null,null,null,null,null," -SELECCIONAR-",null,null,null,null,null,null," -SELECCIONAR-",null,null,{"$f":"LOOKUP(AB117,Catálogos!AP:AP,Catálogos!AO:AO)","v":"ERR"},{"$f":"CONCATENATE(LOOKUP(AC117,Catálogos!O:O,Catálogos!P:P),\".\",LOOKUP(AC117,Catálogos!O:O,Catálogos!Q:Q))","v":{"$error":"#N/A"}},{"$f":"IF(AC117=LOOKUP(CONCATENATE(AE117,\" - \",AC117),Catálogos!T:T,Catálogos!V:V),LOOKUP(CONCATENATE(AE117,\" - \",AC117),Catálogos!T:T,Catálogos!W:W),FALSE)","v":{"$error":"#N/A"}},{"$f":"LOOKUP(BD117,Catálogos!AM:AM,Catálogos!AL:AL)","v":"ERR"},{"$f":"LOOKUP(BK117,Catálogos!AM:AM,Catálogos!AL:AL)","v":"ERR"},{"$f":"LOOKUP(BR117,Catálogos!AM:AM,Catálogos!AL:AL)","v":"ERR"},{"$f":"LOOKUP(BY117,Catálogos!AM:AM,Catálogos!AL:AL)","v":"ERR"},0]
[null,null,null,null,null,null,null," -SELECCIONAR-"," -SELECCIONAR-"," -SELECCIONAR-",null," -SELECCIONAR-"," -SELECCIONAR-"," -SELECCIONAR-"," -SELECCIONAR-",null,null," -SELECCIONAR-",null,null,null," -SELECCIONAR-",null,null," -SELECCIONAR-",null," -SELECCIONAR-"," -SELECCIONAR-",null,{"$f":"IF(AC118=FALSE, LOOKUP(AC118,Catálogos!O:O),LOOKUP(AC118,Catálogos!O:O,Catálogos!R:R))","v":{"$error":"#N/A"}},"",null,null,null,{"$f":"IF(CD118=FALSE,\"COL. INCORRECTA\",LOOKUP(CONCATENATE(AE118,\" - \",AC118),Catálogos!T:T,Catálogos!Y:Y))","v":{"$error":"#N/A"}},{"$f":"IF(CD118=FALSE,\"COL. INCORRECTA\",LOOKUP(CONCATENATE(AE118,\" - \",AC118),Catálogos!T:T,Catálogos!X:X))","v":{"$error":"#N/A"}}," -SELECCIONAR-",""," -SELECCIONAR-",null,null," -SELECCIONAR-",null,null,null," -SELECCIONAR-",null,null," -SELECCIONAR-"," -SELECCIONAR-",null,null,null,null,null," -SELECCIONAR-",null,null,null,null,null,null," -SELECCIONAR-",null,null,null,null,null,null," -SELECCIONAR-",null,null,null,null,null,null," -SELECCIONAR-",null,null,{"$f":"LOOKUP(AB118,Catálogos!AP:AP,Catálogos!AO:AO)","v":"ERR"},{"$f":"CONCATENATE(LOOKUP(AC118,Catálogos!O:O,Catálogos!P:P),\".\",LOOKUP(AC118,Catálogos!O:O,Catálogos!Q:Q))","v":{"$error":"#N/A"}},{"$f":"IF(AC118=LOOKUP(CONCATENATE(AE118,\" - \",AC118),Catálogos!T:T,Catálogos!V:V),LOOKUP(CONCATENATE(AE118,\" - \",AC118),Catálogos!T:T,Catálogos!W:W),FALSE)","v":{"$error":"#N/A"}},{"$f":"LOOKUP(BD118,Catálogos!AM:AM,Catálogos!AL:AL)","v":"ERR"},{"$f":"LOOKUP(BK118,Catálogos!AM:AM,Catálogos!AL:AL)","v":"ERR"},{"$f":"LOOKUP(BR118,Catálogos!AM:AM,Catálogos!AL:AL)","v":"ERR"},{"$f":"LOOKUP(BY118,Catálogos!AM:AM,Catálogos!AL:AL)","v":"ERR"},0]
[null,null,null,null,null,null,null," -SELECCIONAR-"," -SELECCIONAR-"," -SELECCIONAR-",null," -SELECCIONAR-"," -SELECCIONAR-"," -SELECCIONAR-"," -SELECCIONAR-",null,null," -SELECCIONAR-",null,null,null," -SELECCIONAR-",null,null," -SELECCIONAR-",null," -SELECCIONAR-"," -SELECCIONAR-",null,{"$f":"IF(AC119=FALSE, LOOKUP(AC119,Catálogos!O:O),LOOKUP(AC119,Catálogos!O:O,Catálogos!R:R))","v":{"$error":"#N/A"}},"",null,null,null,{"$f":"IF(CD119=FALSE,\"COL. INCORRECTA\",LOOKUP(CONCATENATE(AE119,\" - \",AC119),Catálogos!T:T,Catálogos!Y:Y))","v":{"$error":"#N/A"}},{"$f":"IF(CD119=FALSE,\"COL. INCORRECTA\",LOOKUP(CONCATENATE(AE119,\" - \",AC119),Catálogos!T:T,Catálogos!X:X))","v":{"$error":"#N/A"}}," -SELECCIONAR-",""," -SELECCIONAR-",null,null," -SELECCIONAR-",null,null,null," -SELECCIONAR-",null,null," -SELECCIONAR-"," -SELECCIONAR-",null,null,null,null,null," -SELECCIONAR-",null,null,null,null,null,null," -SELECCIONAR-",null,null,null,null,null,null," -SELECCIONAR-",null,null,null,null,null,null," -SELECCIONAR-",null,null,{"$f":"LOOKUP(AB119,Catálogos!AP:AP,Catálogos!AO:AO)","v":"ERR"},{"$f":"CONCATENATE(LOOKUP(AC119,Catálogos!O:O,Catálogos!P:P),\".\",LOOKUP(AC119,Catálogos!O:O,Catálogos!Q:Q))","v":{"$error":"#N/A"}},{"$f":"IF(AC119=LOOKUP(CONCATENATE(AE119,\" - \",AC119),Catálogos!T:T,Catálogos!V:V),LOOKUP(CONCATENATE(AE119,\" - \",AC119),Catálogos!T:T,Catálogos!W:W),FALSE)","v":{"$error":"#N/A"}},{"$f":"LOOKUP(BD119,Catálogos!AM:AM,Catálogos!AL:AL)","v":"ERR"},{"$f":"LOOKUP(BK119,Catálogos!AM:AM,Catálogos!AL:AL)","v":"ERR"},{"$f":"LOOKUP(BR119,Catálogos!AM:AM,Catálogos!AL:AL)","v":"ERR"},{"$f":"LOOKUP(BY119,Catálogos!AM:AM,Catálogos!AL:AL)","v":"ERR"},0]
[null,null,null,null,null,null,null," -SELECCIONAR-"," -SELECCIONAR-"," -SELECCIONAR-",null," -SELECCIONAR-"," -SELECCIONAR-"," -SELECCIONAR-"," -SELECCIONAR-",null,null," -SELECCIONAR-",null,null,null," -SELECCIONAR-",null,null," -SELECCIONAR-",null," -SELECCIONAR-"," -SELECCIONAR-",null,{"$f":"IF(AC120=FALSE, LOOKUP(AC120,Catálogos!O:O),LOOKUP(AC120,Catálogos!O:O,Catálogos!R:R))","v":{"$error":"#N/A"}},"",null,null,null,{"$f":"IF(CD120=FALSE,\"COL. INCORRECTA\",LOOKUP(CONCATENATE(AE120,\" - \",AC120),Catálogos!T:T,Catálogos!Y:Y))","v":{"$error":"#N/A"}},{"$f":"IF(CD120=FALSE,\"COL. INCORRECTA\",LOOKUP(CONCATENATE(AE120,\" - \",AC120),Catálogos!T:T,Catálogos!X:X))","v":{"$error":"#N/A"}}," -SELECCIONAR-",""," -SELECCIONAR-",null,null," -SELECCIONAR-",null,null,null," -SELECCIONAR-",null,null," -SELECCIONAR-"," -SELECCIONAR-",null,null,null,null,null," -SELECCIONAR-",null,null,null,null,null,null," -SELECCIONAR-",null,null,null,null,null,null," -SELECCIONAR-",null,null,null,null,null,null," -SELECCIONAR-",null,null,{"$f":"LOOKUP(AB120,Catálogos!AP:AP,Catálogos!AO:AO)","v":"ERR"},{"$f":"CONCATENATE(LOOKUP(AC120,Catálogos!O:O,Catálogos!P:P),\".\",LOOKUP(AC120,Catálogos!O:O,Catálogos!Q:Q))","v":{"$error":"#N/A"}},{"$f":"IF(AC120=LOOKUP(CONCATENATE(AE120,\" - \",AC120),Catálogos!T:T,Catálogos!V:V),LOOKUP(CONCATENATE(AE120,\" - \",AC120),Catálogos!T:T,Catálogos!W:W),FALSE)","v":{"$error":"#N/A"}},{"$f":"LOOKUP(BD120,Catálogos!AM:AM,Catálogos!AL:AL)","v":"ERR"},{"$f":"LOOKUP(BK120,Catálogos!AM:AM,Catálogos!AL:AL)","v":"ERR"},{"$f":"LOOKUP(BR120,Catálogos!AM:AM,Catálogos!AL:AL)","v":"ERR"},{"$f":"LOOKUP(BY120,Catálogos!AM:AM,Catálogos!AL:AL)","v":"ERR"},0]
[null,null,null,null,null,null,null," -SELECCIONAR-"," -SELECCIONAR-"," -SELECCIONAR-",null," -SELECCIONAR-"," -SELECCIONAR-"," -SELECCIONAR-"," -SELECCIONAR-",null,null," -SELECCIONAR-",null,null,null," -SELECCIONAR-",null,null," -SELECCIONAR-",null," -SELECCIONAR-"," -SELECCIONAR-",null,{"$f":"IF(AC121=FALSE, LOOKUP(AC121,Catálogos!O:O),LOOKUP(AC121,Catálogos!O:O,Catálogos!R:R))","v":{"$error":"#N/A"}},"",null,null,null,{"$f":"IF(CD121=FALSE,\"COL. INCORRECTA\",LOOKUP(CONCATENATE(AE121,\" - \",AC121),Catálogos!T:T,Catálogos!Y:Y))","v":{"$error":"#N/A"}},{"$f":"IF(CD121=FALSE,\"COL. INCORRECTA\",LOOKUP(CONCATENATE(AE121,\" - \",AC121),Catálogos!T:T,Catálogos!X:X))","v":{"$error":"#N/A"}}," -SELECCIONAR-",""," -SELECCIONAR-",null,null," -SELECCIONAR-",null,null,null," -SELECCIONAR-",null,null," -SELECCIONAR-"," -SELECCIONAR-",null,null,null,null,null," -SELECCIONAR-",null,null,null,null,null,null," -SELECCIONAR-",null,null,null,null,null,null," -SELECCIONAR-",null,null,null,null,null,null," -SELECCIONAR-",null,null,{"$f":"LOOKUP(AB121,Catálogos!AP:AP,Catálogos!AO:AO)","v":"ERR"},{"$f":"CONCATENATE(LOOKUP(AC121,Catálogos!O:O,Catálogos!P:P),\".\",LOOKUP(AC121,Catálogos!O:O,Catálogos!Q:Q))","v":{"$error":"#N/A"}},{"$f":"IF(AC121=LOOKUP(CONCATENATE(AE121,\" - \",AC121),Catálogos!T:T,Catálogos!V:V),LOOKUP(CONCATENATE(AE121,\" - \",AC121),Catálogos!T:T,Catálogos!W:W),FALSE)","v":{"$error":"#N/A"}},{"$f":"LOOKUP(BD121,Catálogos!AM:AM,Catálogos!AL:AL)","v":"ERR"},{"$f":"LOOKUP(BK121,Catálogos!AM:AM,Catálogos!AL:AL)","v":"ERR"},{"$f":"LOOKUP(BR121,Catálogos!AM:AM,Catálogos!AL:AL)","v":"ERR"},{"$f":"LOOKUP(BY121,Catálogos!AM:AM,Catálogos!AL:AL)","v":"ERR"},0]
[null,null,null,null,null,null,null," -SELECCIONAR-"," -SELECCIONAR-"," -SELECCIONAR-",null," -SELECCIONAR-"," -SELECCIONAR-"," -SELECCIONAR-"," -SELECCIONAR-",null,null," -SELECCIONAR-",null,null,null," -SELECCIONAR-",null,null," -SELECCIONAR-",null," -SELECCIONAR-"," -SELECCIONAR-",null,{"$f":"IF(AC122=FALSE, LOOKUP(AC122,Catálogos!O:O),LOOKUP(AC122,Catálogos!O:O,Catálogos!R:R))","v":{"$error":"#N/A"}},"",null,null,null,{"$f":"IF(CD122=FALSE,\"COL. INCORRECTA\",LOOKUP(CONCATENATE(AE122,\" - \",AC122),Catálogos!T:T,Catálogos!Y:Y))","v":{"$error":"#N/A"}},{"$f":"IF(CD122=FALSE,\"COL. INCORRECTA\",LOOKUP(CONCATENATE(AE122,\" - \",AC122),Catálogos!T:T,Catálogos!X:X))","v":{"$error":"#N/A"}}," -SELECCIONAR-",""," -SELECCIONAR-",null,null," -SELECCIONAR-",null,null,null," -SELECCIONAR-",null,null," -SELECCIONAR-"," -SELECCIONAR-",null,null,null,null,null," -SELECCIONAR-",null,null,null,null,null,null," -SELECCIONAR-",null,null,null,null,null,null," -SELECCIONAR-",null,null,null,null,null,null," -SELECCIONAR-",null,null,{"$f":"LOOKUP(AB122,Catálogos!AP:AP,Catálogos!AO:AO)","v":"ERR"},{"$f":"CONCATENATE(LOOKUP(AC122,Catálogos!O:O,Catálogos!P:P),\".\",LOOKUP(AC122,Catálogos!O:O,Catálogos!Q:Q))","v":{"$error":"#N/A"}},{"$f":"IF(AC122=LOOKUP(CONCATENATE(AE122,\" - \",AC122),Catálogos!T:T,Catálogos!V:V),LOOKUP(CONCATENATE(AE122,\" - \",AC122),Catálogos!T:T,Catálogos!W:W),FALSE)","v":{"$error":"#N/A"}},{"$f":"LOOKUP(BD122,Catálogos!AM:AM,Catálogos!AL:AL)","v":"ERR"},{"$f":"LOOKUP(BK122,Catálogos!AM:AM,Catálogos!AL:AL)","v":"ERR"},{"$f":"LOOKUP(BR122,Catálogos!AM:AM,Catálogos!AL:AL)","v":"ERR"},{"$f":"LOOKUP(BY122,Catálogos!AM:AM,Catálogos!AL:AL)","v":"ERR"},0]
[null,null,null,null,null,null,null," -SELECCIONAR-"," -SELECCIONAR-"," -SELECCIONAR-",null," -SELECCIONAR-"," -SELECCIONAR-"," -SELECCIONAR-"," -SELECCIONAR-",null,null," -SELECCIONAR-",null,null,null," -SELECCIONAR-",null,null," -SELECCIONAR-",null," -SELECCIONAR-"," -SELECCIONAR-",null,{"$f":"IF(AC123=FALSE, LOOKUP(AC123,Catálogos!O:O),LOOKUP(AC123,Catálogos!O:O,Catálogos!R:R))","v":{"$error":"#N/A"}},"",null,null,null,{"$f":"IF(CD123=FALSE,\"COL. INCORRECTA\",LOOKUP(CONCATENATE(AE123,\" - \",AC123),Catálogos!T:T,Catálogos!Y:Y))","v":{"$error":"#N/A"}},{"$f":"IF(CD123=FALSE,\"COL. INCORRECTA\",LOOKUP(CONCATENATE(AE123,\" - \",AC123),Catálogos!T:T,Catálogos!X:X))","v":{"$error":"#N/A"}}," -SELECCIONAR-",""," -SELECCIONAR-",null,null," -SELECCIONAR-",null,null,null," -SELECCIONAR-",null,null," -SELECCIONAR-"," -SELECCIONAR-",null,null,null,null,null," -SELECCIONAR-",null,null,null,null,null,null," -SELECCIONAR-",null,null,null,null,null,null," -SELECCIONAR-",null,null,null,null,null,null," -SELECCIONAR-",null,null,{"$f":"LOOKUP(AB123,Catálogos!AP:AP,Catálogos!AO:AO)","v":"ERR"},{"$f":"CONCATENATE(LOOKUP(AC123,Catálogos!O:O,Catálogos!P:P),\".\",LOOKUP(AC123,Catálogos!O:O,Catálogos!Q:Q))","v":{"$error":"#N/A"}},{"$f":"IF(AC123=LOOKUP(CONCATENATE(AE123,\" - \",AC123),Catálogos!T:T,Catálogos!V:V),LOOKUP(CONCATENATE(AE123,\" - \",AC123),Catálogos!T:T,Catálogos!W:W),FALSE)","v":{"$error":"#N/A"}},{"$f":"LOOKUP(BD123,Catálogos!AM:AM,Catálogos!AL:AL)","v":"ERR"},{"$f":"LOOKUP(BK123,Catálogos!AM:AM,Catálogos!AL:AL)","v":"ERR"},{"$f":"LOOKUP(BR123,Catálogos!AM:AM,Catálogos!AL:AL)","v":"ERR"},{"$f":"LOOKUP(BY123,Catálogos!AM:AM,Catálogos!AL:AL)","v":"ERR"},0]
[null,null,null,null,null,null,null," -SELECCIONAR-"," -SELECCIONAR-"," -SELECCIONAR-",null," -SELECCIONAR-"," -SELECCIONAR-"," -SELECCIONAR-"," -SELECCIONAR-",null,null," -SELECCIONAR-",null,null,null," -SELECCIONAR-",null,null," -SELECCIONAR-",null," -SELECCIONAR-"," -SELECCIONAR-",null,{"$f":"IF(AC124=FALSE, LOOKUP(AC124,Catálogos!O:O),LOOKUP(AC124,Catálogos!O:O,Catálogos!R:R))","v":{"$error":"#N/A"}},"",null,null,null,{"$f":"IF(CD124=FALSE,\"COL. INCORRECTA\",LOOKUP(CONCATENATE(AE124,\" - \",AC124),Catálogos!T:T,Catálogos!Y:Y))","v":{"$error":"#N/A"}},{"$f":"IF(CD124=FALSE,\"COL. INCORRECTA\",LOOKUP(CONCATENATE(AE124,\" - \",AC124),Catálogos!T:T,Catálogos!X:X))","v":{"$error":"#N/A"}}," -SELECCIONAR-",""," -SELECCIONAR-",null,null," -SELECCIONAR-",null,null,null," -SELECCIONAR-",null,null," -SELECCIONAR-"," -SELECCIONAR-",null,null,null,null,null," -SELECCIONAR-",null,null,null,null,null,null," -SELECCIONAR-",null,null,null,null,null,null," -SELECCIONAR-",null,null,null,null,null,null," -SELECCIONAR-",null,null,{"$f":"LOOKUP(AB124,Catálogos!AP:AP,Catálogos!AO:AO)","v":"ERR"},{"$f":"CONCATENATE(LOOKUP(AC124,Catálogos!O:O,Catálogos!P:P),\".\",LOOKUP(AC124,Catálogos!O:O,Catálogos!Q:Q))","v":{"$error":"#N/A"}},{"$f":"IF(AC124=LOOKUP(CONCATENATE(AE124,\" - \",AC124),Catálogos!T:T,Catálogos!V:V),LOOKUP(CONCATENATE(AE124,\" - \",AC124),Catálogos!T:T,Catálogos!W:W),FALSE)","v":{"$error":"#N/A"}},{"$f":"LOOKUP(BD124,Catálogos!AM:AM,Catálogos!AL:AL)","v":"ERR"},{"$f":"LOOKUP(BK124,Catálogos!AM:AM,Catálogos!AL:AL)","v":"ERR"},{"$f":"LOOKUP(BR124,Catálogos!AM:AM,Catálogos!AL:AL)","v":"ERR"},{"$f":"LOOKUP(BY124,Catálogos!AM:AM,Catálogos!AL:AL)","v":"ERR"},0]
[null,null,null,null,null,null,null," -SELECCIONAR-"," -SELECCIONAR-"," -SELECCIONAR-",null," -SELECCIONAR-"," -SELECCIONAR-"," -SELECCIONAR-"," -SELECCIONAR-",null,null," -SELECCIONAR-",null,null,null," -SELECCIONAR-",null,null," -SELECCIONAR-",null," -SELECCIONAR-"," -SELECCIONAR-",null,{"$f":"IF(AC125=FALSE, LOOKUP(AC125,Catálogos!O:O),LOOKUP(AC125,Catálogos!O:O,Catálogos!R:R))","v":{"$error":"#N/A"}},"",null,null,null,{"$f":"IF(CD125=FALSE,\"COL. INCORRECTA\",LOOKUP(CONCATENATE(AE125,\" - \",AC125),Catálogos!T:T,Catálogos!Y:Y))","v":{"$error":"#N/A"}},{"$f":"IF(CD125=FALSE,\"COL. INCORRECTA\",LOOKUP(CONCATENATE(AE125,\" - \",AC125),Catálogos!T:T,Catálogos!X:X))","v":{"$error":"#N/A"}}," -SELECCIONAR-",""," -SELECCIONAR-",null,null," -SELECCIONAR-",null,null,null," -SELECCIONAR-",null,null," -SELECCIONAR-"," -SELECCIONAR-",null,null,null,null,null," -SELECCIONAR-",null,null,null,null,null,null," -SELECCIONAR-",null,null,null,null,null,null," -SELECCIONAR-",null,null,null,null,null,null," -SELECCIONAR-",null,null,{"$f":"LOOKUP(AB125,Catálogos!AP:AP,Catálogos!AO:AO)","v":"ERR"},{"$f":"CONCATENATE(LOOKUP(AC125,Catálogos!O:O,Catálogos!P:P),\".\",LOOKUP(AC125,Catálogos!O:O,Catálogos!Q:Q))","v":{"$error":"#N/A"}},{"$f":"IF(AC125=LOOKUP(CONCATENATE(AE125,\" - \",AC125),Catálogos!T:T,Catálogos!V:V),LOOKUP(CONCATENATE(AE125,\" - \",AC125),Catálogos!T:T,Catálogos!W:W),FALSE)","v":{"$error":"#N/A"}},{"$f":"LOOKUP(BD125,Catálogos!AM:AM,Catálogos!AL:AL)","v":"ERR"},{"$f":"LOOKUP(BK125,Catálogos!AM:AM,Catálogos!AL:AL)","v":"ERR"},{"$f":"LOOKUP(BR125,Catálogos!AM:AM,Catálogos!AL:AL)","v":"ERR"},{"$f":"LOOKUP(BY125,Catálogos!AM:AM,Catálogos!AL:AL)","v":"ERR"},0]
[null,null,null,null,null,null,null," -SELECCIONAR-"," -SELECCIONAR-"," -SELECCIONAR-",null," -SELECCIONAR-"," -SELECCIONAR-"," -SELECCIONAR-"," -SELECCIONAR-",null,null," -SELECCIONAR-",null,null,null," -SELECCIONAR-",null,null," -SELECCIONAR-",null," -SELECCIONAR-"," -SELECCIONAR-",null,{"$f":"IF(AC126=FALSE, LOOKUP(AC126,Catálogos!O:O),LOOKUP(AC126,Catálogos!O:O,Catálogos!R:R))","v":{"$error":"#N/A"}},"",null,null,null,{"$f":"IF(CD126=FALSE,\"COL. INCORRECTA\",LOOKUP(CONCATENATE(AE126,\" - \",AC126),Catálogos!T:T,Catálogos!Y:Y))","v":{"$error":"#N/A"}},{"$f":"IF(CD126=FALSE,\"COL. INCORRECTA\",LOOKUP(CONCATENATE(AE126,\" - \",AC126),Catálogos!T:T,Catálogos!X:X))","v":{"$error":"#N/A"}}," -SELECCIONAR-",""," -SELECCIONAR-",null,null," -SELECCIONAR-",null,null,null," -SELECCIONAR-",null,null," -SELECCIONAR-"," -SELECCIONAR-",null,null,null,null,null," -SELECCIONAR-",null,null,null,null,null,null," -SELECCIONAR-",null,null,null,null,null,null," -SELECCIONAR-",null,null,null,null,null,null," -SELECCIONAR-",null,null,{"$f":"LOOKUP(AB126,Catálogos!AP:AP,Catálogos!AO:AO)","v":"ERR"},{"$f":"CONCATENATE(LOOKUP(AC126,Catálogos!O:O,Catálogos!P:P),\".\",LOOKUP(AC126,Catálogos!O:O,Catálogos!Q:Q))","v":{"$error":"#N/A"}},{"$f":"IF(AC126=LOOKUP(CONCATENATE(AE126,\" - \",AC126),Catálogos!T:T,Catálogos!V:V),LOOKUP(CONCATENATE(AE126,\" - \",AC126),Catálogos!T:T,Catálogos!W:W),FALSE)","v":{"$error":"#N/A"}},{"$f":"LOOKUP(BD126,Catálogos!AM:AM,Catálogos!AL:AL)","v":"ERR"},{"$f":"LOOKUP(BK126,Catálogos!AM:AM,Catálogos!AL:AL)","v":"ERR"},{"$f":"LOOKUP(BR126,Catálogos!AM:AM,Catálogos!AL:AL)","v":"ERR"},{"$f":"LOOKUP(BY126,Catálogos!AM:AM,Catálogos!AL:AL)","v":"ERR"},0]
[null,null,null,null,null,null,null," -SELECCIONAR-"," -SELECCIONAR-"," -SELECCIONAR-",null," -SELECCIONAR-"," -SELECCIONAR-"," -SELECCIONAR-"," -SELECCIONAR-",null,null," -SELECCIONAR-",null,null,null," -SELECCIONAR-",null,null," -SELECCIONAR-",null," -SELECCIONAR-"," -SELECCIONAR-",null,{"$f":"IF(AC127=FALSE, LOOKUP(AC127,Catálogos!O:O),LOOKUP(AC127,Catálogos!O:O,Catálogos!R:R))","v":{"$error":"#N/A"}},"",null,null,null,{"$f":"IF(CD127=FALSE,\"COL. INCORRECTA\",LOOKUP(CONCATENATE(AE127,\" - \",AC127),Catálogos!T:T,Catálogos!Y:Y))","v":{"$error":"#N/A"}},{"$f":"IF(CD127=FALSE,\"COL. INCORRECTA\",LOOKUP(CONCATENATE(AE127,\" - \",AC127),Catálogos!T:T,Catálogos!X:X))","v":{"$error":"#N/A"}}," -SELECCIONAR-",""," -SELECCIONAR-",null,null," -SELECCIONAR-",null,null,null," -SELECCIONAR-",null,null," -SELECCIONAR-"," -SELECCIONAR-",null,null,null,null,null," -SELECCIONAR-",null,null,null,null,null,null," -SELECCIONAR-",null,null,null,null,null,null," -SELECCIONAR-",null,null,null,null,null,null," -SELECCIONAR-",null,null,{"$f":"LOOKUP(AB127,Catálogos!AP:AP,Catálogos!AO:AO)","v":"ERR"},{"$f":"CONCATENATE(LOOKUP(AC127,Catálogos!O:O,Catálogos!P:P),\".\",LOOKUP(AC127,Catálogos!O:O,Catálogos!Q:Q))","v":{"$error":"#N/A"}},{"$f":"IF(AC127=LOOKUP(CONCATENATE(AE127,\" - \",AC127),Catálogos!T:T,Catálogos!V:V),LOOKUP(CONCATENATE(AE127,\" - \",AC127),Catálogos!T:T,Catálogos!W:W),FALSE)","v":{"$error":"#N/A"}},{"$f":"LOOKUP(BD127,Catálogos!AM:AM,Catálogos!AL:AL)","v":"ERR"},{"$f":"LOOKUP(BK127,Catálogos!AM:AM,Catálogos!AL:AL)","v":"ERR"},{"$f":"LOOKUP(BR127,Catálogos!AM:AM,Catálogos!AL:AL)","v":"ERR"},{"$f":"LOOKUP(BY127,Catálogos!AM:AM,Catálogos!AL:AL)","v":"ERR"},0]
[null,null,null,null,null,null,null," -SELECCIONAR-"," -SELECCIONAR-"," -SELECCIONAR-",null," -SELECCIONAR-"," -SELECCIONAR-"," -SELECCIONAR-"," -SELECCIONAR-",null,null," -SELECCIONAR-",null,null,null," -SELECCIONAR-",null,null," -SELECCIONAR-",null," -SELECCIONAR-"," -SELECCIONAR-",null,{"$f":"IF(AC128=FALSE, LOOKUP(AC128,Catálogos!O:O),LOOKUP(AC128,Catálogos!O:O,Catálogos!R:R))","v":{"$error":"#N/A"}},"",null,null,null,{"$f":"IF(CD128=FALSE,\"COL. INCORRECTA\",LOOKUP(CONCATENATE(AE128,\" - \",AC128),Catálogos!T:T,Catálogos!Y:Y))","v":{"$error":"#N/A"}},{"$f":"IF(CD128=FALSE,\"COL. INCORRECTA\",LOOKUP(CONCATENATE(AE128,\" - \",AC128),Catálogos!T:T,Catálogos!X:X))","v":{"$error":"#N/A"}}," -SELECCIONAR-",""," -SELECCIONAR-",null,null," -SELECCIONAR-",null,null,null," -SELECCIONAR-",null,null," -SELECCIONAR-"," -SELECCIONAR-",null,null,null,null,null," -SELECCIONAR-",null,null,null,null,null,null," -SELECCIONAR-",null,null,null,null,null,null," -SELECCIONAR-",null,null,null,null,null,null," -SELECCIONAR-",null,null,{"$f":"LOOKUP(AB128,Catálogos!AP:AP,Catálogos!AO:AO)","v":"ERR"},{"$f":"CONCATENATE(LOOKUP(AC128,Catálogos!O:O,Catálogos!P:P),\".\",LOOKUP(AC128,Catálogos!O:O,Catálogos!Q:Q))","v":{"$error":"#N/A"}},{"$f":"IF(AC128=LOOKUP(CONCATENATE(AE128,\" - \",AC128),Catálogos!T:T,Catálogos!V:V),LOOKUP(CONCATENATE(AE128,\" - \",AC128),Catálogos!T:T,Catálogos!W:W),FALSE)","v":{"$error":"#N/A"}},{"$f":"LOOKUP(BD128,Catálogos!AM:AM,Catálogos!AL:AL)","v":"ERR"},{"$f":"LOOKUP(BK128,Catálogos!AM:AM,Catálogos!AL:AL)","v":"ERR"},{"$f":"LOOKUP(BR128,Catálogos!AM:AM,Catálogos!AL:AL)","v":"ERR"},{"$f":"LOOKUP(BY128,Catálogos!AM:AM,Catálogos!AL:AL)","v":"ERR"},0]
[null,null,null,null,null,null,null," -SELECCIONAR-"," -SELECCIONAR-"," -SELECCIONAR-",null," -SELECCIONAR-"," -SELECCIONAR-"," -SELECCIONAR-"," -SELECCIONAR-",null,null," -SELECCIONAR-",null,null,null," -SELECCIONAR-",null,null," -SELECCIONAR-",null," -SELECCIONAR-"," -SELECCIONAR-",null,{"$f":"IF(AC129=FALSE, LOOKUP(AC129,Catálogos!O:O),LOOKUP(AC129,Catálogos!O:O,Catálogos!R:R))","v":{"$error":"#N/A"}},"",null,null,null,{"$f":"IF(CD129=FALSE,\"COL. INCORRECTA\",LOOKUP(CONCATENATE(AE129,\" - \",AC129),Catálogos!T:T,Catálogos!Y:Y))","v":{"$error":"#N/A"}},{"$f":"IF(CD129=FALSE,\"COL. INCORRECTA\",LOOKUP(CONCATENATE(AE129,\" - \",AC129),Catálogos!T:T,Catálogos!X:X))","v":{"$error":"#N/A"}}," -SELECCIONAR-",""," -SELECCIONAR-",null,null," -SELECCIONAR-",null,null,null," -SELECCIONAR-",null,null," -SELECCIONAR-"," -SELECCIONAR-",null,null,null,null,null," -SELECCIONAR-",null,null,null,null,null,null," -SELECCIONAR-",null,null,null,null,null,null," -SELECCIONAR-",null,null,null,null,null,null," -SELECCIONAR-",null,null,{"$f":"LOOKUP(AB129,Catálogos!AP:AP,Catálogos!AO:AO)","v":"ERR"},{"$f":"CONCATENATE(LOOKUP(AC129,Catálogos!O:O,Catálogos!P:P),\".\",LOOKUP(AC129,Catálogos!O:O,Catálogos!Q:Q))","v":{"$error":"#N/A"}},{"$f":"IF(AC129=LOOKUP(CONCATENATE(AE129,\" - \",AC129),Catálogos!T:T,Catálogos!V:V),LOOKUP(CONCATENATE(AE129,\" - \",AC129),Catálogos!T:T,Catálogos!W:W),FALSE)","v":{"$error":"#N/A"}},{"$f":"LOOKUP(BD129,Catálogos!AM:AM,Catálogos!AL:AL)","v":"ERR"},{"$f":"LOOKUP(BK129,Catálogos!AM:AM,Catálogos!AL:AL)","v":"ERR"},{"$f":"LOOKUP(BR129,Catálogos!AM:AM,Catálogos!AL:AL)","v":"ERR"},{"$f":"LOOKUP(BY129,Catálogos!AM:AM,Catálogos!AL:AL)","v":"ERR"},0]
[null,null,null,null,null,null,null," -SELECCIONAR-"," -SELECCIONAR-"," -SELECCIONAR-",null," -SELECCIONAR-"," -SELECCIONAR-"," -SELECCIONAR-"," -SELECCIONAR-",null,null," -SELECCIONAR-",null,null,null," -SELECCIONAR-",null,null," -SELECCIONAR-",null," -SELECCIONAR-"," -SELECCIONAR-",null,{"$f":"IF(AC130=FALSE, LOOKUP(AC130,Catálogos!O:O),LOOKUP(AC130,Catálogos!O:O,Catálogos!R:R))","v":{"$error":"#N/A"}},"",null,null,null,{"$f":"IF(CD130=FALSE,\"COL. INCORRECTA\",LOOKUP(CONCATENATE(AE130,\" - \",AC130),Catálogos!T:T,Catálogos!Y:Y))","v":{"$error":"#N/A"}},{"$f":"IF(CD130=FALSE,\"COL. INCORRECTA\",LOOKUP(CONCATENATE(AE130,\" - \",AC130),Catálogos!T:T,Catálogos!X:X))","v":{"$error":"#N/A"}}," -SELECCIONAR-",""," -SELECCIONAR-",null,null," -SELECCIONAR-",null,null,null," -SELECCIONAR-",null,null," -SELECCIONAR-"," -SELECCIONAR-",null,null,null,null,null," -SELECCIONAR-",null,null,null,null,null,null," -SELECCIONAR-",null,null,null,null,null,null," -SELECCIONAR-",null,null,null,null,null,null," -SELECCIONAR-",null,null,{"$f":"LOOKUP(AB130,Catálogos!AP:AP,Catálogos!AO:AO)","v":"ERR"},{"$f":"CONCATENATE(LOOKUP(AC130,Catálogos!O:O,Catálogos!P:P),\".\",LOOKUP(AC130,Catálogos!O:O,Catálogos!Q:Q))","v":{"$error":"#N/A"}},{"$f":"IF(AC130=LOOKUP(CONCATENATE(AE130,\" - \",AC130),Catálogos!T:T,Catálogos!V:V),LOOKUP(CONCATENATE(AE130,\" - \",AC130),Catálogos!T:T,Catálogos!W:W),FALSE)","v":{"$error":"#N/A"}},{"$f":"LOOKUP(BD130,Catálogos!AM:AM,Catálogos!AL:AL)","v":"ERR"},{"$f":"LOOKUP(BK130,Catálogos!AM:AM,Catálogos!AL:AL)","v":"ERR"},{"$f":"LOOKUP(BR130,Catálogos!AM:AM,Catálogos!AL:AL)","v":"ERR"},{"$f":"LOOKUP(BY130,Catálogos!AM:AM,Catálogos!AL:AL)","v":"ERR"},0]
[null,null,null,null,null,null,null," -SELECCIONAR-"," -SELECCIONAR-"," -SELECCIONAR-",null," -SELECCIONAR-"," -SELECCIONAR-"," -SELECCIONAR-"," -SELECCIONAR-",null,null," -SELECCIONAR-",null,null,null," -SELECCIONAR-",null,null," -SELECCIONAR-",null," -SELECCIONAR-"," -SELECCIONAR-",null,{"$f":"IF(AC131=FALSE, LOOKUP(AC131,Catálogos!O:O),LOOKUP(AC131,Catálogos!O:O,Catálogos!R:R))","v":{"$error":"#N/A"}},"",null,null,null,{"$f":"IF(CD131=FALSE,\"COL. INCORRECTA\",LOOKUP(CONCATENATE(AE131,\" - \",AC131),Catálogos!T:T,Catálogos!Y:Y))","v":{"$error":"#N/A"}},{"$f":"IF(CD131=FALSE,\"COL. INCORRECTA\",LOOKUP(CONCATENATE(AE131,\" - \",AC131),Catálogos!T:T,Catálogos!X:X))","v":{"$error":"#N/A"}}," -SELECCIONAR-",""," -SELECCIONAR-",null,null," -SELECCIONAR-",null,null,null," -SELECCIONAR-",null,null," -SELECCIONAR-"," -SELECCIONAR-",null,null,null,null,null," -SELECCIONAR-",null,null,null,null,null,null," -SELECCIONAR-",null,null,null,null,null,null," -SELECCIONAR-",null,null,null,null,null,null," -SELECCIONAR-",null,null,{"$f":"LOOKUP(AB131,Catálogos!AP:AP,Catálogos!AO:AO)","v":"ERR"},{"$f":"CONCATENATE(LOOKUP(AC131,Catálogos!O:O,Catálogos!P:P),\".\",LOOKUP(AC131,Catálogos!O:O,Catálogos!Q:Q))","v":{"$error":"#N/A"}},{"$f":"IF(AC131=LOOKUP(CONCATENATE(AE131,\" - \",AC131),Catálogos!T:T,Catálogos!V:V),LOOKUP(CONCATENATE(AE131,\" - \",AC131),Catálogos!T:T,Catálogos!W:W),FALSE)","v":{"$error":"#N/A"}},{"$f":"LOOKUP(BD131,Catálogos!AM:AM,Catálogos!AL:AL)","v":"ERR"},{"$f":"LOOKUP(BK131,Catálogos!AM:AM,Catálogos!AL:AL)","v":"ERR"},{"$f":"LOOKUP(BR131,Catálogos!AM:AM,Catálogos!AL:AL)","v":"ERR"},{"$f":"LOOKUP(BY131,Catálogos!AM:AM,Catálogos!AL:AL)","v":"ERR"},0]
[null,null,null,null,null,null,null," -SELECCIONAR-"," -SELECCIONAR-"," -SELECCIONAR-",null," -SELECCIONAR-"," -SELECCIONAR-"," -SELECCIONAR-"," -SELECCIONAR-",null,null," -SELECCIONAR-",null,null,null," -SELECCIONAR-",null,null," -SELECCIONAR-",null," -SELECCIONAR-"," -SELECCIONAR-",null,{"$f":"IF(AC132=FALSE, LOOKUP(AC132,Catálogos!O:O),LOOKUP(AC132,Catálogos!O:O,Catálogos!R:R))","v":{"$error":"#N/A"}},"",null,null,null,{"$f":"IF(CD132=FALSE,\"COL. INCORRECTA\",LOOKUP(CONCATENATE(AE132,\" - \",AC132),Catálogos!T:T,Catálogos!Y:Y))","v":{"$error":"#N/A"}},{"$f":"IF(CD132=FALSE,\"COL. INCORRECTA\",LOOKUP(CONCATENATE(AE132,\" - \",AC132),Catálogos!T:T,Catálogos!X:X))","v":{"$error":"#N/A"}}," -SELECCIONAR-",""," -SELECCIONAR-",null,null," -SELECCIONAR-",null,null,null," -SELECCIONAR-",null,null," -SELECCIONAR-"," -SELECCIONAR-",null,null,null,null,null," -SELECCIONAR-",null,null,null,null,null,null," -SELECCIONAR-",null,null,null,null,null,null," -SELECCIONAR-",null,null,null,null,null,null," -SELECCIONAR-",null,null,{"$f":"LOOKUP(AB132,Catálogos!AP:AP,Catálogos!AO:AO)","v":"ERR"},{"$f":"CONCATENATE(LOOKUP(AC132,Catálogos!O:O,Catálogos!P:P),\".\",LOOKUP(AC132,Catálogos!O:O,Catálogos!Q:Q))","v":{"$error":"#N/A"}},{"$f":"IF(AC132=LOOKUP(CONCATENATE(AE132,\" - \",AC132),Catálogos!T:T,Catálogos!V:V),LOOKUP(CONCATENATE(AE132,\" - \",AC132),Catálogos!T:T,Catálogos!W:W),FALSE)","v":{"$error":"#N/A"}},{"$f":"LOOKUP(BD132,Catálogos!AM:AM,Catálogos!AL:AL)","v":"ERR"},{"$f":"LOOKUP(BK132,Catálogos!AM:AM,Catálogos!AL:AL)","v":"ERR"},{"$f":"LOOKUP(BR132,Catálogos!AM:AM,Catálogos!AL:AL)","v":"ERR"},{"$f":"LOOKUP(BY132,Catálogos!AM:AM,Catálogos!AL:AL)","v":"ERR"},0]
[null,null,null,null,null,null,null," -SELECCIONAR-"," -SELECCIONAR-"," -SELECCIONAR-",null," -SELECCIONAR-"," -SELECCIONAR-"," -SELECCIONAR-"," -SELECCIONAR-",null,null," -SELECCIONAR-",null,null,null," -SELECCIONAR-",null,null," -SELECCIONAR-",null," -SELECCIONAR-"," -SELECCIONAR-",null,{"$f":"IF(AC133=FALSE, LOOKUP(AC133,Catálogos!O:O),LOOKUP(AC133,Catálogos!O:O,Catálogos!R:R))","v":{"$error":"#N/A"}},"",null,null,null,{"$f":"IF(CD133=FALSE,\"COL. INCORRECTA\",LOOKUP(CONCATENATE(AE133,\" - \",AC133),Catálogos!T:T,Catálogos!Y:Y))","v":{"$error":"#N/A"}},{"$f":"IF(CD133=FALSE,\"COL. INCORRECTA\",LOOKUP(CONCATENATE(AE133,\" - \",AC133),Catálogos!T:T,Catálogos!X:X))","v":{"$error":"#N/A"}}," -SELECCIONAR-",""," -SELECCIONAR-",null,null," -SELECCIONAR-",null,null,null," -SELECCIONAR-",null,null," -SELECCIONAR-"," -SELECCIONAR-",null,null,null,null,null," -SELECCIONAR-",null,null,null,null,null,null," -SELECCIONAR-",null,null,null,null,null,null," -SELECCIONAR-",null,null,null,null,null,null," -SELECCIONAR-",null,null,{"$f":"LOOKUP(AB133,Catálogos!AP:AP,Catálogos!AO:AO)","v":"ERR"},{"$f":"CONCATENATE(LOOKUP(AC133,Catálogos!O:O,Catálogos!P:P),\".\",LOOKUP(AC133,Catálogos!O:O,Catálogos!Q:Q))","v":{"$error":"#N/A"}},{"$f":"IF(AC133=LOOKUP(CONCATENATE(AE133,\" - \",AC133),Catálogos!T:T,Catálogos!V:V),LOOKUP(CONCATENATE(AE133,\" - \",AC133),Catálogos!T:T,Catálogos!W:W),FALSE)","v":{"$error":"#N/A"}},{"$f":"LOOKUP(BD133,Catálogos!AM:AM,Catálogos!AL:AL)","v":"ERR"},{"$f":"LOOKUP(BK133,Catálogos!AM:AM,Catálogos!AL:AL)","v":"ERR"},{"$f":"LOOKUP(BR133,Catálogos!AM:AM,Catálogos!AL:AL)","v":"ERR"},{"$f":"LOOKUP(BY133,Catálogos!AM:AM,Catálogos!AL:AL)","v":"ERR"},{"$f":"SUM(BE133+BL133+BS133+BZ133)","v":0}]
[null,null,null,null,null,null,null," -SELECCIONAR-"," -SELECCIONAR-"," -SELECCIONAR-",null," -SELECCIONAR-"," -SELECCIONAR-"," -SELECCIONAR-"," -SELECCIONAR-",null,null," -SELECCIONAR-",null,null,null," -SELECCIONAR-",null,null," -SELECCIONAR-",null," -SELECCIONAR-"," -SELECCIONAR-",null,{"$f":"IF(AC134=FALSE, LOOKUP(AC134,Catálogos!O:O),LOOKUP(AC134,Catálogos!O:O,Catálogos!R:R))","v":{"$error":"#N/A"}},"",null,null,null,{"$f":"IF(CD134=FALSE,\"COL. INCORRECTA\",LOOKUP(CONCATENATE(AE134,\" - \",AC134),Catálogos!T:T,Catálogos!Y:Y))","v":{"$error":"#N/A"}},{"$f":"IF(CD134=FALSE,\"COL. INCORRECTA\",LOOKUP(CONCATENATE(AE134,\" - \",AC134),Catálogos!T:T,Catálogos!X:X))","v":{"$error":"#N/A"}}," -SELECCIONAR-",""," -SELECCIONAR-",null,null," -SELECCIONAR-",null,null,null," -SELECCIONAR-",null,null," -SELECCIONAR-"," -SELECCIONAR-",null,null,null,null,null," -SELECCIONAR-",null,null,null,null,null,null," -SELECCIONAR-",null,null,null,null,null,null," -SELECCIONAR-",null,null,null,null,null,null," -SELECCIONAR-",null,null,{"$f":"LOOKUP(AB134,Catálogos!AP:AP,Catálogos!AO:AO)","v":"ERR"},{"$f":"CONCATENATE(LOOKUP(AC134,Catálogos!O:O,Catálogos!P:P),\".\",LOOKUP(AC134,Catálogos!O:O,Catálogos!Q:Q))","v":{"$error":"#N/A"}},{"$f":"IF(AC134=LOOKUP(CONCATENATE(AE134,\" - \",AC134),Catálogos!T:T,Catálogos!V:V),LOOKUP(CONCATENATE(AE134,\" - \",AC134),Catálogos!T:T,Catálogos!W:W),FALSE)","v":{"$error":"#N/A"}},{"$f":"LOOKUP(BD134,Catálogos!AM:AM,Catálogos!AL:AL)","v":"ERR"},{"$f":"LOOKUP(BK134,Catálogos!AM:AM,Catálogos!AL:AL)","v":"ERR"},{"$f":"LOOKUP(BR134,Catálogos!AM:AM,Catálogos!AL:AL)","v":"ERR"},{"$f":"LOOKUP(BY134,Catálogos!AM:AM,Catálogos!AL:AL)","v":"ERR"},0]
[null,null,null,null,null,null,null," -SELECCIONAR-"," -SELECCIONAR-"," -SELECCIONAR-",null," -SELECCIONAR-"," -SELECCIONAR-"," -SELECCIONAR-"," -SELECCIONAR-",null,null," -SELECCIONAR-",null,null,null," -SELECCIONAR-",null,null," -SELECCIONAR-",null," -SELECCIONAR-"," -SELECCIONAR-",null,{"$f":"IF(AC135=FALSE, LOOKUP(AC135,Catálogos!O:O),LOOKUP(AC135,Catálogos!O:O,Catálogos!R:R))","v":{"$error":"#N/A"}},"",null,null,null,{"$f":"IF(CD135=FALSE,\"COL. INCORRECTA\",LOOKUP(CONCATENATE(AE135,\" - \",AC135),Catálogos!T:T,Catálogos!Y:Y))","v":{"$error":"#N/A"}},{"$f":"IF(CD135=FALSE,\"COL. INCORRECTA\",LOOKUP(CONCATENATE(AE135,\" - \",AC135),Catálogos!T:T,Catálogos!X:X))","v":{"$error":"#N/A"}}," -SELECCIONAR-",""," -SELECCIONAR-",null,null," -SELECCIONAR-",null,null,null," -SELECCIONAR-",null,null," -SELECCIONAR-"," -SELECCIONAR-",null,null,null,null,null," -SELECCIONAR-",null,null,null,null,null,null," -SELECCIONAR-",null,null,null,null,null,null," -SELECCIONAR-",null,null,null,null,null,null," -SELECCIONAR-",null,null,{"$f":"LOOKUP(AB135,Catálogos!AP:AP,Catálogos!AO:AO)","v":"ERR"},{"$f":"CONCATENATE(LOOKUP(AC135,Catálogos!O:O,Catálogos!P:P),\".\",LOOKUP(AC135,Catálogos!O:O,Catálogos!Q:Q))","v":{"$error":"#N/A"}},{"$f":"IF(AC135=LOOKUP(CONCATENATE(AE135,\" - \",AC135),Catálogos!T:T,Catálogos!V:V),LOOKUP(CONCATENATE(AE135,\" - \",AC135),Catálogos!T:T,Catálogos!W:W),FALSE)","v":{"$error":"#N/A"}},{"$f":"LOOKUP(BD135,Catálogos!AM:AM,Catálogos!AL:AL)","v":"ERR"},{"$f":"LOOKUP(BK135,Catálogos!AM:AM,Catálogos!AL:AL)","v":"ERR"},{"$f":"LOOKUP(BR135,Catálogos!AM:AM,Catálogos!AL:AL)","v":"ERR"},{"$f":"LOOKUP(BY135,Catálogos!AM:AM,Catálogos!AL:AL)","v":"ERR"},0]
[null,null,null,null,null,null,null," -SELECCIONAR-"," -SELECCIONAR-"," -SELECCIONAR-",null," -SELECCIONAR-"," -SELECCIONAR-"," -SELECCIONAR-"," -SELECCIONAR-",null,null," -SELECCIONAR-",null,null,null," -SELECCIONAR-",null,null," -SELECCIONAR-",null," -SELECCIONAR-"," -SELECCIONAR-",null,{"$f":"IF(AC136=FALSE, LOOKUP(AC136,Catálogos!O:O),LOOKUP(AC136,Catálogos!O:O,Catálogos!R:R))","v":{"$error":"#N/A"}},"",null,null,null,{"$f":"IF(CD136=FALSE,\"COL. INCORRECTA\",LOOKUP(CONCATENATE(AE136,\" - \",AC136),Catálogos!T:T,Catálogos!Y:Y))","v":{"$error":"#N/A"}},{"$f":"IF(CD136=FALSE,\"COL. INCORRECTA\",LOOKUP(CONCATENATE(AE136,\" - \",AC136),Catálogos!T:T,Catálogos!X:X))","v":{"$error":"#N/A"}}," -SELECCIONAR-",""," -SELECCIONAR-",null,null," -SELECCIONAR-",null,null,null," -SELECCIONAR-",null,null," -SELECCIONAR-"," -SELECCIONAR-",null,null,null,null,null," -SELECCIONAR-",null,null,null,null,null,null," -SELECCIONAR-",null,null,null,null,null,null," -SELECCIONAR-",null,null,null,null,null,null," -SELECCIONAR-",null,null,{"$f":"LOOKUP(AB136,Catálogos!AP:AP,Catálogos!AO:AO)","v":"ERR"},{"$f":"CONCATENATE(LOOKUP(AC136,Catálogos!O:O,Catálogos!P:P),\".\",LOOKUP(AC136,Catálogos!O:O,Catálogos!Q:Q))","v":{"$error":"#N/A"}},{"$f":"IF(AC136=LOOKUP(CONCATENATE(AE136,\" - \",AC136),Catálogos!T:T,Catálogos!V:V),LOOKUP(CONCATENATE(AE136,\" - \",AC136),Catálogos!T:T,Catálogos!W:W),FALSE)","v":{"$error":"#N/A"}},{"$f":"LOOKUP(BD136,Catálogos!AM:AM,Catálogos!AL:AL)","v":"ERR"},{"$f":"LOOKUP(BK136,Catálogos!AM:AM,Catálogos!AL:AL)","v":"ERR"},{"$f":"LOOKUP(BR136,Catálogos!AM:AM,Catálogos!AL:AL)","v":"ERR"},{"$f":"LOOKUP(BY136,Catálogos!AM:AM,Catálogos!AL:AL)","v":"ERR"},0]
[null,null,null,null,null,null,null," -SELECCIONAR-"," -SELECCIONAR-"," -SELECCIONAR-",null," -SELECCIONAR-"," -SELECCIONAR-"," -SELECCIONAR-"," -SELECCIONAR-",null,null," -SELECCIONAR-",null,null,null," -SELECCIONAR-",null,null," -SELECCIONAR-",null," -SELECCIONAR-"," -SELECCIONAR-",null,{"$f":"IF(AC137=FALSE, LOOKUP(AC137,Catálogos!O:O),LOOKUP(AC137,Catálogos!O:O,Catálogos!R:R))","v":{"$error":"#N/A"}},"",null,null,null,{"$f":"IF(CD137=FALSE,\"COL. INCORRECTA\",LOOKUP(CONCATENATE(AE137,\" - \",AC137),Catálogos!T:T,Catálogos!Y:Y))","v":{"$error":"#N/A"}},{"$f":"IF(CD137=FALSE,\"COL. INCORRECTA\",LOOKUP(CONCATENATE(AE137,\" - \",AC137),Catálogos!T:T,Catálogos!X:X))","v":{"$error":"#N/A"}}," -SELECCIONAR-",""," -SELECCIONAR-",null,null," -SELECCIONAR-",null,null,null," -SELECCIONAR-",null,null," -SELECCIONAR-"," -SELECCIONAR-",null,null,null,null,null," -SELECCIONAR-",null,null,null,null,null,null," -SELECCIONAR-",null,null,null,null,null,null," -SELECCIONAR-",null,null,null,null,null,null," -SELECCIONAR-",null,null,{"$f":"LOOKUP(AB137,Catálogos!AP:AP,Catálogos!AO:AO)","v":"ERR"},{"$f":"CONCATENATE(LOOKUP(AC137,Catálogos!O:O,Catálogos!P:P),\".\",LOOKUP(AC137,Catálogos!O:O,Catálogos!Q:Q))","v":{"$error":"#N/A"}},{"$f":"IF(AC137=LOOKUP(CONCATENATE(AE137,\" - \",AC137),Catálogos!T:T,Catálogos!V:V),LOOKUP(CONCATENATE(AE137,\" - \",AC137),Catálogos!T:T,Catálogos!W:W),FALSE)","v":{"$error":"#N/A"}},{"$f":"LOOKUP(BD137,Catálogos!AM:AM,Catálogos!AL:AL)","v":"ERR"},{"$f":"LOOKUP(BK137,Catálogos!AM:AM,Catálogos!AL:AL)","v":"ERR"},{"$f":"LOOKUP(BR137,Catálogos!AM:AM,Catálogos!AL:AL)","v":"ERR"},{"$f":"LOOKUP(BY137,Catálogos!AM:AM,Catálogos!AL:AL)","v":"ERR"},0]
[null,null,null,null,null,null,null," -SELECCIONAR-"," -SELECCIONAR-"," -SELECCIONAR-",null," -SELECCIONAR-"," -SELECCIONAR-"," -SELECCIONAR-"," -SELECCIONAR-",null,null," -SELECCIONAR-",null,null,null," -SELECCIONAR-",null,null," -SELECCIONAR-",null," -SELECCIONAR-"," -SELECCIONAR-",null,{"$f":"IF(AC138=FALSE, LOOKUP(AC138,Catálogos!O:O),LOOKUP(AC138,Catálogos!O:O,Catálogos!R:R))","v":{"$error":"#N/A"}},"",null,null,null,{"$f":"IF(CD138=FALSE,\"COL. INCORRECTA\",LOOKUP(CONCATENATE(AE138,\" - \",AC138),Catálogos!T:T,Catálogos!Y:Y))","v":{"$error":"#N/A"}},{"$f":"IF(CD138=FALSE,\"COL. INCORRECTA\",LOOKUP(CONCATENATE(AE138,\" - \",AC138),Catálogos!T:T,Catálogos!X:X))","v":{"$error":"#N/A"}}," -SELECCIONAR-",""," -SELECCIONAR-",null,null," -SELECCIONAR-",null,null,null," -SELECCIONAR-",null,null," -SELECCIONAR-"," -SELECCIONAR-",null,null,null,null,null," -SELECCIONAR-",null,null,null,null,null,null," -SELECCIONAR-",null,null,null,null,null,null," -SELECCIONAR-",null,null,null,null,null,null," -SELECCIONAR-",null,null,{"$f":"LOOKUP(AB138,Catálogos!AP:AP,Catálogos!AO:AO)","v":"ERR"},{"$f":"CONCATENATE(LOOKUP(AC138,Catálogos!O:O,Catálogos!P:P),\".\",LOOKUP(AC138,Catálogos!O:O,Catálogos!Q:Q))","v":{"$error":"#N/A"}},{"$f":"IF(AC138=LOOKUP(CONCATENATE(AE138,\" - \",AC138),Catálogos!T:T,Catálogos!V:V),LOOKUP(CONCATENATE(AE138,\" - \",AC138),Catálogos!T:T,Catálogos!W:W),FALSE)","v":{"$error":"#N/A"}},{"$f":"LOOKUP(BD138,Catálogos!AM:AM,Catálogos!AL:AL)","v":"ERR"},{"$f":"LOOKUP(BK138,Catálogos!AM:AM,Catálogos!AL:AL)","v":"ERR"},{"$f":"LOOKUP(BR138,Catálogos!AM:AM,Catálogos!AL:AL)","v":"ERR"},{"$f":"LOOKUP(BY138,Catálogos!AM:AM,Catálogos!AL:AL)","v":"ERR"},0]
[null,null,null,null,null,null,null," -SELECCIONAR-"," -SELECCIONAR-"," -SELECCIONAR-",null," -SELECCIONAR-"," -SELECCIONAR-"," -SELECCIONAR-"," -SELECCIONAR-",null,null," -SELECCIONAR-",null,null,null," -SELECCIONAR-",null,null," -SELECCIONAR-",null," -SELECCIONAR-"," -SELECCIONAR-",null,{"$f":"IF(AC139=FALSE, LOOKUP(AC139,Catálogos!O:O),LOOKUP(AC139,Catálogos!O:O,Catálogos!R:R))","v":{"$error":"#N/A"}},"",null,null,null,{"$f":"IF(CD139=FALSE,\"COL. INCORRECTA\",LOOKUP(CONCATENATE(AE139,\" - \",AC139),Catálogos!T:T,Catálogos!Y:Y))","v":{"$error":"#N/A"}},{"$f":"IF(CD139=FALSE,\"COL. INCORRECTA\",LOOKUP(CONCATENATE(AE139,\" - \",AC139),Catálogos!T:T,Catálogos!X:X))","v":{"$error":"#N/A"}}," -SELECCIONAR-",""," -SELECCIONAR-",null,null," -SELECCIONAR-",null,null,null," -SELECCIONAR-",null,null," -SELECCIONAR-"," -SELECCIONAR-",null,null,null,null,null," -SELECCIONAR-",null,null,null,null,null,null," -SELECCIONAR-",null,null,null,null,null,null," -SELECCIONAR-",null,null,null,null,null,null," -SELECCIONAR-",null,null,{"$f":"LOOKUP(AB139,Catálogos!AP:AP,Catálogos!AO:AO)","v":"ERR"},{"$f":"CONCATENATE(LOOKUP(AC139,Catálogos!O:O,Catálogos!P:P),\".\",LOOKUP(AC139,Catálogos!O:O,Catálogos!Q:Q))","v":{"$error":"#N/A"}},{"$f":"IF(AC139=LOOKUP(CONCATENATE(AE139,\" - \",AC139),Catálogos!T:T,Catálogos!V:V),LOOKUP(CONCATENATE(AE139,\" - \",AC139),Catálogos!T:T,Catálogos!W:W),FALSE)","v":{"$error":"#N/A"}},{"$f":"LOOKUP(BD139,Catálogos!AM:AM,Catálogos!AL:AL)","v":"ERR"},{"$f":"LOOKUP(BK139,Catálogos!AM:AM,Catálogos!AL:AL)","v":"ERR"},{"$f":"LOOKUP(BR139,Catálogos!AM:AM,Catálogos!AL:AL)","v":"ERR"},{"$f":"LOOKUP(BY139,Catálogos!AM:AM,Catálogos!AL:AL)","v":"ERR"},0]
[null,null,null,null,null,null,null," -SELECCIONAR-"," -SELECCIONAR-"," -SELECCIONAR-",null," -SELECCIONAR-"," -SELECCIONAR-"," -SELECCIONAR-"," -SELECCIONAR-",null,null," -SELECCIONAR-",null,null,null," -SELECCIONAR-",null,null," -SELECCIONAR-",null," -SELECCIONAR-"," -SELECCIONAR-",null,{"$f":"IF(AC140=FALSE, LOOKUP(AC140,Catálogos!O:O),LOOKUP(AC140,Catálogos!O:O,Catálogos!R:R))","v":{"$error":"#N/A"}},"",null,null,null,{"$f":"IF(CD140=FALSE,\"COL. INCORRECTA\",LOOKUP(CONCATENATE(AE140,\" - \",AC140),Catálogos!T:T,Catálogos!Y:Y))","v":{"$error":"#N/A"}},{"$f":"IF(CD140=FALSE,\"COL. INCORRECTA\",LOOKUP(CONCATENATE(AE140,\" - \",AC140),Catálogos!T:T,Catálogos!X:X))","v":{"$error":"#N/A"}}," -SELECCIONAR-",""," -SELECCIONAR-",null,null," -SELECCIONAR-",null,null,null," -SELECCIONAR-",null,null," -SELECCIONAR-"," -SELECCIONAR-",null,null,null,null,null," -SELECCIONAR-",null,null,null,null,null,null," -SELECCIONAR-",null,null,null,null,null,null," -SELECCIONAR-",null,null,null,null,null,null," -SELECCIONAR-",null,null,{"$f":"LOOKUP(AB140,Catálogos!AP:AP,Catálogos!AO:AO)","v":"ERR"},{"$f":"CONCATENATE(LOOKUP(AC140,Catálogos!O:O,Catálogos!P:P),\".\",LOOKUP(AC140,Catálogos!O:O,Catálogos!Q:Q))","v":{"$error":"#N/A"}},{"$f":"IF(AC140=LOOKUP(CONCATENATE(AE140,\" - \",AC140),Catálogos!T:T,Catálogos!V:V),LOOKUP(CONCATENATE(AE140,\" - \",AC140),Catálogos!T:T,Catálogos!W:W),FALSE)","v":{"$error":"#N/A"}},{"$f":"LOOKUP(BD140,Catálogos!AM:AM,Catálogos!AL:AL)","v":"ERR"},{"$f":"LOOKUP(BK140,Catálogos!AM:AM,Catálogos!AL:AL)","v":"ERR"},{"$f":"LOOKUP(BR140,Catálogos!AM:AM,Catálogos!AL:AL)","v":"ERR"},{"$f":"LOOKUP(BY140,Catálogos!AM:AM,Catálogos!AL:AL)","v":"ERR"},0]
[null,null,null,null,null,null,null," -SELECCIONAR-"," -SELECCIONAR-"," -SELECCIONAR-",null," -SELECCIONAR-"," -SELECCIONAR-"," -SELECCIONAR-"," -SELECCIONAR-",null,null," -SELECCIONAR-",null,null,null," -SELECCIONAR-",null,null," -SELECCIONAR-",null," -SELECCIONAR-"," -SELECCIONAR-",null,{"$f":"IF(AC141=FALSE, LOOKUP(AC141,Catálogos!O:O),LOOKUP(AC141,Catálogos!O:O,Catálogos!R:R))","v":{"$error":"#N/A"}},"",null,null,null,{"$f":"IF(CD141=FALSE,\"COL. INCORRECTA\",LOOKUP(CONCATENATE(AE141,\" - \",AC141),Catálogos!T:T,Catálogos!Y:Y))","v":{"$error":"#N/A"}},{"$f":"IF(CD141=FALSE,\"COL. INCORRECTA\",LOOKUP(CONCATENATE(AE141,\" - \",AC141),Catálogos!T:T,Catálogos!X:X))","v":{"$error":"#N/A"}}," -SELECCIONAR-",""," -SELECCIONAR-",null,null," -SELECCIONAR-",null,null,null," -SELECCIONAR-",null,null," -SELECCIONAR-"," -SELECCIONAR-",null,null,null,null,null," -SELECCIONAR-",null,null,null,null,null,null," -SELECCIONAR-",null,null,null,null,null,null," -SELECCIONAR-",null,null,null,null,null,null," -SELECCIONAR-",null,null,{"$f":"LOOKUP(AB141,Catálogos!AP:AP,Catálogos!AO:AO)","v":"ERR"},{"$f":"CONCATENATE(LOOKUP(AC141,Catálogos!O:O,Catálogos!P:P),\".\",LOOKUP(AC141,Catálogos!O:O,Catálogos!Q:Q))","v":{"$error":"#N/A"}},{"$f":"IF(AC141=LOOKUP(CONCATENATE(AE141,\" - \",AC141),Catálogos!T:T,Catálogos!V:V),LOOKUP(CONCATENATE(AE141,\" - \",AC141),Catálogos!T:T,Catálogos!W:W),FALSE)","v":{"$error":"#N/A"}},{"$f":"LOOKUP(BD141,Catálogos!AM:AM,Catálogos!AL:AL)","v":"ERR"},{"$f":"LOOKUP(BK141,Catálogos!AM:AM,Catálogos!AL:AL)","v":"ERR"},{"$f":"LOOKUP(BR141,Catálogos!AM:AM,Catálogos!AL:AL)","v":"ERR"},{"$f":"LOOKUP(BY141,Catálogos!AM:AM,Catálogos!AL:AL)","v":"ERR"},0]
[null,null,null,null,null,null,null," -SELECCIONAR-"," -SELECCIONAR-"," -SELECCIONAR-",null," -SELECCIONAR-"," -SELECCIONAR-"," -SELECCIONAR-"," -SELECCIONAR-",null,null," -SELECCIONAR-",null,null,null," -SELECCIONAR-",null,null," -SELECCIONAR-",null," -SELECCIONAR-"," -SELECCIONAR-",null,{"$f":"IF(AC142=FALSE, LOOKUP(AC142,Catálogos!O:O),LOOKUP(AC142,Catálogos!O:O,Catálogos!R:R))","v":{"$error":"#N/A"}},"",null,null,null,{"$f":"IF(CD142=FALSE,\"COL. INCORRECTA\",LOOKUP(CONCATENATE(AE142,\" - \",AC142),Catálogos!T:T,Catálogos!Y:Y))","v":{"$error":"#N/A"}},{"$f":"IF(CD142=FALSE,\"COL. INCORRECTA\",LOOKUP(CONCATENATE(AE142,\" - \",AC142),Catálogos!T:T,Catálogos!X:X))","v":{"$error":"#N/A"}}," -SELECCIONAR-",""," -SELECCIONAR-",null,null," -SELECCIONAR-",null,null,null," -SELECCIONAR-",null,null," -SELECCIONAR-"," -SELECCIONAR-",null,null,null,null,null," -SELECCIONAR-",null,null,null,null,null,null," -SELECCIONAR-",null,null,null,null,null,null," -SELECCIONAR-",null,null,null,null,null,null," -SELECCIONAR-",null,null,{"$f":"LOOKUP(AB142,Catálogos!AP:AP,Catálogos!AO:AO)","v":"ERR"},{"$f":"CONCATENATE(LOOKUP(AC142,Catálogos!O:O,Catálogos!P:P),\".\",LOOKUP(AC142,Catálogos!O:O,Catálogos!Q:Q))","v":{"$error":"#N/A"}},{"$f":"IF(AC142=LOOKUP(CONCATENATE(AE142,\" - \",AC142),Catálogos!T:T,Catálogos!V:V),LOOKUP(CONCATENATE(AE142,\" - \",AC142),Catálogos!T:T,Catálogos!W:W),FALSE)","v":{"$error":"#N/A"}},{"$f":"LOOKUP(BD142,Catálogos!AM:AM,Catálogos!AL:AL)","v":"ERR"},{"$f":"LOOKUP(BK142,Catálogos!AM:AM,Catálogos!AL:AL)","v":"ERR"},{"$f":"LOOKUP(BR142,Catálogos!AM:AM,Catálogos!AL:AL)","v":"ERR"},{"$f":"LOOKUP(BY142,Catálogos!AM:AM,Catálogos!AL:AL)","v":"ERR"},0]
[null,null,null,null,null,null,null," -SELECCIONAR-"," -SELECCIONAR-"," -SELECCIONAR-",null," -SELECCIONAR-"," -SELECCIONAR-"," -SELECCIONAR-"," -SELECCIONAR-",null,null," -SELECCIONAR-",null,null,null," -SELECCIONAR-",null,null," -SELECCIONAR-",null," -SELECCIONAR-"," -SELECCIONAR-",null,{"$f":"IF(AC143=FALSE, LOOKUP(AC143,Catálogos!O:O),LOOKUP(AC143,Catálogos!O:O,Catálogos!R:R))","v":{"$error":"#N/A"}},"",null,null,null,{"$f":"IF(CD143=FALSE,\"COL. INCORRECTA\",LOOKUP(CONCATENATE(AE143,\" - \",AC143),Catálogos!T:T,Catálogos!Y:Y))","v":{"$error":"#N/A"}},{"$f":"IF(CD143=FALSE,\"COL. INCORRECTA\",LOOKUP(CONCATENATE(AE143,\" - \",AC143),Catálogos!T:T,Catálogos!X:X))","v":{"$error":"#N/A"}}," -SELECCIONAR-",""," -SELECCIONAR-",null,null," -SELECCIONAR-",null,null,null," -SELECCIONAR-",null,null," -SELECCIONAR-"," -SELECCIONAR-",null,null,null,null,null," -SELECCIONAR-",null,null,null,null,null,null," -SELECCIONAR-",null,null,null,null,null,null," -SELECCIONAR-",null,null,null,null,null,null," -SELECCIONAR-",null,null,{"$f":"LOOKUP(AB143,Catálogos!AP:AP,Catálogos!AO:AO)","v":"ERR"},{"$f":"CONCATENATE(LOOKUP(AC143,Catálogos!O:O,Catálogos!P:P),\".\",LOOKUP(AC143,Catálogos!O:O,Catálogos!Q:Q))","v":{"$error":"#N/A"}},{"$f":"IF(AC143=LOOKUP(CONCATENATE(AE143,\" - \",AC143),Catálogos!T:T,Catálogos!V:V),LOOKUP(CONCATENATE(AE143,\" - \",AC143),Catálogos!T:T,Catálogos!W:W),FALSE)","v":{"$error":"#N/A"}},{"$f":"LOOKUP(BD143,Catálogos!AM:AM,Catálogos!AL:AL)","v":"ERR"},{"$f":"LOOKUP(BK143,Catálogos!AM:AM,Catálogos!AL:AL)","v":"ERR"},{"$f":"LOOKUP(BR143,Catálogos!AM:AM,Catálogos!AL:AL)","v":"ERR"},{"$f":"LOOKUP(BY143,Catálogos!AM:AM,Catálogos!AL:AL)","v":"ERR"},0]
[null,null,null,null,null,null,null," -SELECCIONAR-"," -SELECCIONAR-"," -SELECCIONAR-",null," -SELECCIONAR-"," -SELECCIONAR-"," -SELECCIONAR-"," -SELECCIONAR-",null,null," -SELECCIONAR-",null,null,null," -SELECCIONAR-",null,null," -SELECCIONAR-",null," -SELECCIONAR-"," -SELECCIONAR-",null,{"$f":"IF(AC144=FALSE, LOOKUP(AC144,Catálogos!O:O),LOOKUP(AC144,Catálogos!O:O,Catálogos!R:R))","v":{"$error":"#N/A"}},"",null,null,null,{"$f":"IF(CD144=FALSE,\"COL. INCORRECTA\",LOOKUP(CONCATENATE(AE144,\" - \",AC144),Catálogos!T:T,Catálogos!Y:Y))","v":{"$error":"#N/A"}},{"$f":"IF(CD144=FALSE,\"COL. INCORRECTA\",LOOKUP(CONCATENATE(AE144,\" - \",AC144),Catálogos!T:T,Catálogos!X:X))","v":{"$error":"#N/A"}}," -SELECCIONAR-",""," -SELECCIONAR-",null,null," -SELECCIONAR-",null,null,null," -SELECCIONAR-",null,null," -SELECCIONAR-"," -SELECCIONAR-",null,null,null,null,null," -SELECCIONAR-",null,null,null,null,null,null," -SELECCIONAR-",null,null,null,null,null,null," -SELECCIONAR-",null,null,null,null,null,null," -SELECCIONAR-",null,null,{"$f":"LOOKUP(AB144,Catálogos!AP:AP,Catálogos!AO:AO)","v":"ERR"},{"$f":"CONCATENATE(LOOKUP(AC144,Catálogos!O:O,Catálogos!P:P),\".\",LOOKUP(AC144,Catálogos!O:O,Catálogos!Q:Q))","v":{"$error":"#N/A"}},{"$f":"IF(AC144=LOOKUP(CONCATENATE(AE144,\" - \",AC144),Catálogos!T:T,Catálogos!V:V),LOOKUP(CONCATENATE(AE144,\" - \",AC144),Catálogos!T:T,Catálogos!W:W),FALSE)","v":{"$error":"#N/A"}},{"$f":"LOOKUP(BD144,Catálogos!AM:AM,Catálogos!AL:AL)","v":"ERR"},{"$f":"LOOKUP(BK144,Catálogos!AM:AM,Catálogos!AL:AL)","v":"ERR"},{"$f":"LOOKUP(BR144,Catálogos!AM:AM,Catálogos!AL:AL)","v":"ERR"},{"$f":"LOOKUP(BY144,Catálogos!AM:AM,Catálogos!AL:AL)","v":"ERR"},0]
[null,null,null,null,null,null,null," -SELECCIONAR-"," -SELECCIONAR-"," -SELECCIONAR-",null," -SELECCIONAR-"," -SELECCIONAR-"," -SELECCIONAR-"," -SELECCIONAR-",null,null," -SELECCIONAR-",null,null,null," -SELECCIONAR-",null,null," -SELECCIONAR-",null," -SELECCIONAR-"," -SELECCIONAR-",null,{"$f":"IF(AC145=FALSE, LOOKUP(AC145,Catálogos!O:O),LOOKUP(AC145,Catálogos!O:O,Catálogos!R:R))","v":{"$error":"#N/A"}},"",null,null,null,{"$f":"IF(CD145=FALSE,\"COL. INCORRECTA\",LOOKUP(CONCATENATE(AE145,\" - \",AC145),Catálogos!T:T,Catálogos!Y:Y))","v":{"$error":"#N/A"}},{"$f":"IF(CD145=FALSE,\"COL. INCORRECTA\",LOOKUP(CONCATENATE(AE145,\" - \",AC145),Catálogos!T:T,Catálogos!X:X))","v":{"$error":"#N/A"}}," -SELECCIONAR-",""," -SELECCIONAR-",null,null," -SELECCIONAR-",null,null,null," -SELECCIONAR-",null,null," -SELECCIONAR-"," -SELECCIONAR-",null,null,null,null,null," -SELECCIONAR-",null,null,null,null,null,null," -SELECCIONAR-",null,null,null,null,null,null," -SELECCIONAR-",null,null,null,null,null,null," -SELECCIONAR-",null,null,{"$f":"LOOKUP(AB145,Catálogos!AP:AP,Catálogos!AO:AO)","v":"ERR"},{"$f":"CONCATENATE(LOOKUP(AC145,Catálogos!O:O,Catálogos!P:P),\".\",LOOKUP(AC145,Catálogos!O:O,Catálogos!Q:Q))","v":{"$error":"#N/A"}},{"$f":"IF(AC145=LOOKUP(CONCATENATE(AE145,\" - \",AC145),Catálogos!T:T,Catálogos!V:V),LOOKUP(CONCATENATE(AE145,\" - \",AC145),Catálogos!T:T,Catálogos!W:W),FALSE)","v":{"$error":"#N/A"}},{"$f":"LOOKUP(BD145,Catálogos!AM:AM,Catálogos!AL:AL)","v":"ERR"},{"$f":"LOOKUP(BK145,Catálogos!AM:AM,Catálogos!AL:AL)","v":"ERR"},{"$f":"LOOKUP(BR145,Catálogos!AM:AM,Catálogos!AL:AL)","v":"ERR"},{"$f":"LOOKUP(BY145,Catálogos!AM:AM,Catálogos!AL:AL)","v":"ERR"},0]
[null,null,null,null,null,null,null," -SELECCIONAR-"," -SELECCIONAR-"," -SELECCIONAR-",null," -SELECCIONAR-"," -SELECCIONAR-"," -SELECCIONAR-"," -SELECCIONAR-",null,null," -SELECCIONAR-",null,null,null," -SELECCIONAR-",null,null," -SELECCIONAR-",null," -SELECCIONAR-"," -SELECCIONAR-",null,{"$f":"IF(AC146=FALSE, LOOKUP(AC146,Catálogos!O:O),LOOKUP(AC146,Catálogos!O:O,Catálogos!R:R))","v":{"$error":"#N/A"}},"",null,null,null,{"$f":"IF(CD146=FALSE,\"COL. INCORRECTA\",LOOKUP(CONCATENATE(AE146,\" - \",AC146),Catálogos!T:T,Catálogos!Y:Y))","v":{"$error":"#N/A"}},{"$f":"IF(CD146=FALSE,\"COL. INCORRECTA\",LOOKUP(CONCATENATE(AE146,\" - \",AC146),Catálogos!T:T,Catálogos!X:X))","v":{"$error":"#N/A"}}," -SELECCIONAR-",""," -SELECCIONAR-",null,null," -SELECCIONAR-",null,null,null," -SELECCIONAR-",null,null," -SELECCIONAR-"," -SELECCIONAR-",null,null,null,null,null," -SELECCIONAR-",null,null,null,null,null,null," -SELECCIONAR-",null,null,null,null,null,null," -SELECCIONAR-",null,null,null,null,null,null," -SELECCIONAR-",null,null,{"$f":"LOOKUP(AB146,Catálogos!AP:AP,Catálogos!AO:AO)","v":"ERR"},{"$f":"CONCATENATE(LOOKUP(AC146,Catálogos!O:O,Catálogos!P:P),\".\",LOOKUP(AC146,Catálogos!O:O,Catálogos!Q:Q))","v":{"$error":"#N/A"}},{"$f":"IF(AC146=LOOKUP(CONCATENATE(AE146,\" - \",AC146),Catálogos!T:T,Catálogos!V:V),LOOKUP(CONCATENATE(AE146,\" - \",AC146),Catálogos!T:T,Catálogos!W:W),FALSE)","v":{"$error":"#N/A"}},{"$f":"LOOKUP(BD146,Catálogos!AM:AM,Catálogos!AL:AL)","v":"ERR"},{"$f":"LOOKUP(BK146,Catálogos!AM:AM,Catálogos!AL:AL)","v":"ERR"},{"$f":"LOOKUP(BR146,Catálogos!AM:AM,Catálogos!AL:AL)","v":"ERR"},{"$f":"LOOKUP(BY146,Catálogos!AM:AM,Catálogos!AL:AL)","v":"ERR"},0]
[null,null,null,null,null,null,null," -SELECCIONAR-"," -SELECCIONAR-"," -SELECCIONAR-",null," -SELECCIONAR-"," -SELECCIONAR-"," -SELECCIONAR-"," -SELECCIONAR-",null,null," -SELECCIONAR-",null,null,null," -SELECCIONAR-",null,null," -SELECCIONAR-",null," -SELECCIONAR-"," -SELECCIONAR-",null,{"$f":"IF(AC147=FALSE, LOOKUP(AC147,Catálogos!O:O),LOOKUP(AC147,Catálogos!O:O,Catálogos!R:R))","v":{"$error":"#N/A"}},"",null,null,null,{"$f":"IF(CD147=FALSE,\"COL. INCORRECTA\",LOOKUP(CONCATENATE(AE147,\" - \",AC147),Catálogos!T:T,Catálogos!Y:Y))","v":{"$error":"#N/A"}},{"$f":"IF(CD147=FALSE,\"COL. INCORRECTA\",LOOKUP(CONCATENATE(AE147,\" - \",AC147),Catálogos!T:T,Catálogos!X:X))","v":{"$error":"#N/A"}}," -SELECCIONAR-",""," -SELECCIONAR-",null,null," -SELECCIONAR-",null,null,null," -SELECCIONAR-",null,null," -SELECCIONAR-"," -SELECCIONAR-",null,null,null,null,null," -SELECCIONAR-",null,null,null,null,null,null," -SELECCIONAR-",null,null,null,null,null,null," -SELECCIONAR-",null,null,null,null,null,null," -SELECCIONAR-",null,null,{"$f":"LOOKUP(AB147,Catálogos!AP:AP,Catálogos!AO:AO)","v":"ERR"},{"$f":"CONCATENATE(LOOKUP(AC147,Catálogos!O:O,Catálogos!P:P),\".\",LOOKUP(AC147,Catálogos!O:O,Catálogos!Q:Q))","v":{"$error":"#N/A"}},{"$f":"IF(AC147=LOOKUP(CONCATENATE(AE147,\" - \",AC147),Catálogos!T:T,Catálogos!V:V),LOOKUP(CONCATENATE(AE147,\" - \",AC147),Catálogos!T:T,Catálogos!W:W),FALSE)","v":{"$error":"#N/A"}},{"$f":"LOOKUP(BD147,Catálogos!AM:AM,Catálogos!AL:AL)","v":"ERR"},{"$f":"LOOKUP(BK147,Catálogos!AM:AM,Catálogos!AL:AL)","v":"ERR"},{"$f":"LOOKUP(BR147,Catálogos!AM:AM,Catálogos!AL:AL)","v":"ERR"},{"$f":"LOOKUP(BY147,Catálogos!AM:AM,Catálogos!AL:AL)","v":"ERR"},0]
[null,null,null,null,null,null,null," -SELECCIONAR-"," -SELECCIONAR-"," -SELECCIONAR-",null," -SELECCIONAR-"," -SELECCIONAR-"," -SELECCIONAR-"," -SELECCIONAR-",null,null," -SELECCIONAR-",null,null,null," -SELECCIONAR-",null,null," -SELECCIONAR-",null," -SELECCIONAR-"," -SELECCIONAR-",null,{"$f":"IF(AC148=FALSE, LOOKUP(AC148,Catálogos!O:O),LOOKUP(AC148,Catálogos!O:O,Catálogos!R:R))","v":{"$error":"#N/A"}},"",null,null,null,{"$f":"IF(CD148=FALSE,\"COL. INCORRECTA\",LOOKUP(CONCATENATE(AE148,\" - \",AC148),Catálogos!T:T,Catálogos!Y:Y))","v":{"$error":"#N/A"}},{"$f":"IF(CD148=FALSE,\"COL. INCORRECTA\",LOOKUP(CONCATENATE(AE148,\" - \",AC148),Catálogos!T:T,Catálogos!X:X))","v":{"$error":"#N/A"}}," -SELECCIONAR-",""," -SELECCIONAR-",null,null," -SELECCIONAR-",null,null,null," -SELECCIONAR-",null,null," -SELECCIONAR-"," -SELECCIONAR-",null,null,null,null,null," -SELECCIONAR-",null,null,null,null,null,null," -SELECCIONAR-",null,null,null,null,null,null," -SELECCIONAR-",null,null,null,null,null,null," -SELECCIONAR-",null,null,{"$f":"LOOKUP(AB148,Catálogos!AP:AP,Catálogos!AO:AO)","v":"ERR"},{"$f":"CONCATENATE(LOOKUP(AC148,Catálogos!O:O,Catálogos!P:P),\".\",LOOKUP(AC148,Catálogos!O:O,Catálogos!Q:Q))","v":{"$error":"#N/A"}},{"$f":"IF(AC148=LOOKUP(CONCATENATE(AE148,\" - \",AC148),Catálogos!T:T,Catálogos!V:V),LOOKUP(CONCATENATE(AE148,\" - \",AC148),Catálogos!T:T,Catálogos!W:W),FALSE)","v":{"$error":"#N/A"}},{"$f":"LOOKUP(BD148,Catálogos!AM:AM,Catálogos!AL:AL)","v":"ERR"},{"$f":"LOOKUP(BK148,Catálogos!AM:AM,Catálogos!AL:AL)","v":"ERR"},{"$f":"LOOKUP(BR148,Catálogos!AM:AM,Catálogos!AL:AL)","v":"ERR"},{"$f":"LOOKUP(BY148,Catálogos!AM:AM,Catálogos!AL:AL)","v":"ERR"},0]
[null,null,null,null,null,null,null," -SELECCIONAR-"," -SELECCIONAR-"," -SELECCIONAR-",null," -SELECCIONAR-"," -SELECCIONAR-"," -SELECCIONAR-"," -SELECCIONAR-",null,null," -SELECCIONAR-",null,null,null," -SELECCIONAR-",null,null," -SELECCIONAR-",null," -SELECCIONAR-"," -SELECCIONAR-",null,{"$f":"IF(AC149=FALSE, LOOKUP(AC149,Catálogos!O:O),LOOKUP(AC149,Catálogos!O:O,Catálogos!R:R))","v":{"$error":"#N/A"}},"",null,null,null,{"$f":"IF(CD149=FALSE,\"COL. INCORRECTA\",LOOKUP(CONCATENATE(AE149,\" - \",AC149),Catálogos!T:T,Catálogos!Y:Y))","v":{"$error":"#N/A"}},{"$f":"IF(CD149=FALSE,\"COL. INCORRECTA\",LOOKUP(CONCATENATE(AE149,\" - \",AC149),Catálogos!T:T,Catálogos!X:X))","v":{"$error":"#N/A"}}," -SELECCIONAR-",""," -SELECCIONAR-",null,null," -SELECCIONAR-",null,null,null," -SELECCIONAR-",null,null," -SELECCIONAR-"," -SELECCIONAR-",null,null,null,null,null," -SELECCIONAR-",null,null,null,null,null,null," -SELECCIONAR-",null,null,null,null,null,null," -SELECCIONAR-",null,null,null,null,null,null," -SELECCIONAR-",null,null,{"$f":"LOOKUP(AB149,Catálogos!AP:AP,Catálogos!AO:AO)","v":"ERR"},{"$f":"CONCATENATE(LOOKUP(AC149,Catálogos!O:O,Catálogos!P:P),\".\",LOOKUP(AC149,Catálogos!O:O,Catálogos!Q:Q))","v":{"$error":"#N/A"}},{"$f":"IF(AC149=LOOKUP(CONCATENATE(AE149,\" - \",AC149),Catálogos!T:T,Catálogos!V:V),LOOKUP(CONCATENATE(AE149,\" - \",AC149),Catálogos!T:T,Catálogos!W:W),FALSE)","v":{"$error":"#N/A"}},{"$f":"LOOKUP(BD149,Catálogos!AM:AM,Catálogos!AL:AL)","v":"ERR"},{"$f":"LOOKUP(BK149,Catálogos!AM:AM,Catálogos!AL:AL)","v":"ERR"},{"$f":"LOOKUP(BR149,Catálogos!AM:AM,Catálogos!AL:AL)","v":"ERR"},{"$f":"LOOKUP(BY149,Catálogos!AM:AM,Catálogos!AL:AL)","v":"ERR"},0]
[null,null,null,null,null,null,null," -SELECCIONAR-"," -SELECCIONAR-"," -SELECCIONAR-",null," -SELECCIONAR-"," -SELECCIONAR-"," -SELECCIONAR-"," -SELECCIONAR-",null,null," -SELECCIONAR-",null,null,null," -SELECCIONAR-",null,null," -SELECCIONAR-",null," -SELECCIONAR-"," -SELECCIONAR-",null,{"$f":"IF(AC150=FALSE, LOOKUP(AC150,Catálogos!O:O),LOOKUP(AC150,Catálogos!O:O,Catálogos!R:R))","v":{"$error":"#N/A"}},"",null,null,null,{"$f":"IF(CD150=FALSE,\"COL. INCORRECTA\",LOOKUP(CONCATENATE(AE150,\" - \",AC150),Catálogos!T:T,Catálogos!Y:Y))","v":{"$error":"#N/A"}},{"$f":"IF(CD150=FALSE,\"COL. INCORRECTA\",LOOKUP(CONCATENATE(AE150,\" - \",AC150),Catálogos!T:T,Catálogos!X:X))","v":{"$error":"#N/A"}}," -SELECCIONAR-",""," -SELECCIONAR-",null,null," -SELECCIONAR-",null,null,null," -SELECCIONAR-",null,null," -SELECCIONAR-"," -SELECCIONAR-",null,null,null,null,null," -SELECCIONAR-",null,null,null,null,null,null," -SELECCIONAR-",null,null,null,null,null,null," -SELECCIONAR-",null,null,null,null,null,null," -SELECCIONAR-",null,null,{"$f":"LOOKUP(AB150,Catálogos!AP:AP,Catálogos!AO:AO)","v":"ERR"},{"$f":"CONCATENATE(LOOKUP(AC150,Catálogos!O:O,Catálogos!P:P),\".\",LOOKUP(AC150,Catálogos!O:O,Catálogos!Q:Q))","v":{"$error":"#N/A"}},{"$f":"IF(AC150=LOOKUP(CONCATENATE(AE150,\" - \",AC150),Catálogos!T:T,Catálogos!V:V),LOOKUP(CONCATENATE(AE150,\" - \",AC150),Catálogos!T:T,Catálogos!W:W),FALSE)","v":{"$error":"#N/A"}},{"$f":"LOOKUP(BD150,Catálogos!AM:AM,Catálogos!AL:AL)","v":"ERR"},{"$f":"LOOKUP(BK150,Catálogos!AM:AM,Catálogos!AL:AL)","v":"ERR"},{"$f":"LOOKUP(BR150,Catálogos!AM:AM,Catálogos!AL:AL)","v":"ERR"},{"$f":"LOOKUP(BY150,Catálogos!AM:AM,Catálogos!AL:AL)","v":"ERR"},0]
[null,null,null,null,null,null,null," -SELECCIONAR-"," -SELECCIONAR-"," -SELECCIONAR-",null," -SELECCIONAR-"," -SELECCIONAR-"," -SELECCIONAR-"," -SELECCIONAR-",null,null," -SELECCIONAR-",null,null,null," -SELECCIONAR-",null,null," -SELECCIONAR-",null," -SELECCIONAR-"," -SELECCIONAR-",null,{"$f":"IF(AC151=FALSE, LOOKUP(AC151,Catálogos!O:O),LOOKUP(AC151,Catálogos!O:O,Catálogos!R:R))","v":{"$error":"#N/A"}},"",null,null,null,{"$f":"IF(CD151=FALSE,\"COL. INCORRECTA\",LOOKUP(CONCATENATE(AE151,\" - \",AC151),Catálogos!T:T,Catálogos!Y:Y))","v":{"$error":"#N/A"}},{"$f":"IF(CD151=FALSE,\"COL. INCORRECTA\",LOOKUP(CONCATENATE(AE151,\" - \",AC151),Catálogos!T:T,Catálogos!X:X))","v":{"$error":"#N/A"}}," -SELECCIONAR-",""," -SELECCIONAR-",null,null," -SELECCIONAR-",null,null,null," -SELECCIONAR-",null,null," -SELECCIONAR-"," -SELECCIONAR-",null,null,null,null,null," -SELECCIONAR-",null,null,null,null,null,null," -SELECCIONAR-",null,null,null,null,null,null," -SELECCIONAR-",null,null,null,null,null,null," -SELECCIONAR-",null,null,{"$f":"LOOKUP(AB151,Catálogos!AP:AP,Catálogos!AO:AO)","v":"ERR"},{"$f":"CONCATENATE(LOOKUP(AC151,Catálogos!O:O,Catálogos!P:P),\".\",LOOKUP(AC151,Catálogos!O:O,Catálogos!Q:Q))","v":{"$error":"#N/A"}},{"$f":"IF(AC151=LOOKUP(CONCATENATE(AE151,\" - \",AC151),Catálogos!T:T,Catálogos!V:V),LOOKUP(CONCATENATE(AE151,\" - \",AC151),Catálogos!T:T,Catálogos!W:W),FALSE)","v":{"$error":"#N/A"}},{"$f":"LOOKUP(BD151,Catálogos!AM:AM,Catálogos!AL:AL)","v":"ERR"},{"$f":"LOOKUP(BK151,Catálogos!AM:AM,Catálogos!AL:AL)","v":"ERR"},{"$f":"LOOKUP(BR151,Catálogos!AM:AM,Catálogos!AL:AL)","v":"ERR"},{"$f":"LOOKUP(BY151,Catálogos!AM:AM,Catálogos!AL:AL)","v":"ERR"},0]
[null,null,null,null,null,null,null," -SELECCIONAR-"," -SELECCIONAR-"," -SELECCIONAR-",null," -SELECCIONAR-"," -SELECCIONAR-"," -SELECCIONAR-"," -SELECCIONAR-",null,null," -SELECCIONAR-",null,null,null," -SELECCIONAR-",null,null," -SELECCIONAR-",null," -SELECCIONAR-"," -SELECCIONAR-",null,{"$f":"IF(AC152=FALSE, LOOKUP(AC152,Catálogos!O:O),LOOKUP(AC152,Catálogos!O:O,Catálogos!R:R))","v":{"$error":"#N/A"}},"",null,null,null,{"$f":"IF(CD152=FALSE,\"COL. INCORRECTA\",LOOKUP(CONCATENATE(AE152,\" - \",AC152),Catálogos!T:T,Catálogos!Y:Y))","v":{"$error":"#N/A"}},{"$f":"IF(CD152=FALSE,\"COL. INCORRECTA\",LOOKUP(CONCATENATE(AE152,\" - \",AC152),Catálogos!T:T,Catálogos!X:X))","v":{"$error":"#N/A"}}," -SELECCIONAR-",""," -SELECCIONAR-",null,null," -SELECCIONAR-",null,null,null," -SELECCIONAR-",null,null," -SELECCIONAR-"," -SELECCIONAR-",null,null,null,null,null," -SELECCIONAR-",null,null,null,null,null,null," -SELECCIONAR-",null,null,null,null,null,null," -SELECCIONAR-",null,null,null,null,null,null," -SELECCIONAR-",null,null,{"$f":"LOOKUP(AB152,Catálogos!AP:AP,Catálogos!AO:AO)","v":"ERR"},{"$f":"CONCATENATE(LOOKUP(AC152,Catálogos!O:O,Catálogos!P:P),\".\",LOOKUP(AC152,Catálogos!O:O,Catálogos!Q:Q))","v":{"$error":"#N/A"}},{"$f":"IF(AC152=LOOKUP(CONCATENATE(AE152,\" - \",AC152),Catálogos!T:T,Catálogos!V:V),LOOKUP(CONCATENATE(AE152,\" - \",AC152),Catálogos!T:T,Catálogos!W:W),FALSE)","v":{"$error":"#N/A"}},{"$f":"LOOKUP(BD152,Catálogos!AM:AM,Catálogos!AL:AL)","v":"ERR"},{"$f":"LOOKUP(BK152,Catálogos!AM:AM,Catálogos!AL:AL)","v":"ERR"},{"$f":"LOOKUP(BR152,Catálogos!AM:AM,Catálogos!AL:AL)","v":"ERR"},{"$f":"LOOKUP(BY152,Catálogos!AM:AM,Catálogos!AL:AL)","v":"ERR"},0]
[null,null,null,null,null,null,null," -SELECCIONAR-"," -SELECCIONAR-"," -SELECCIONAR-",null," -SELECCIONAR-"," -SELECCIONAR-"," -SELECCIONAR-"," -SELECCIONAR-",null,null," -SELECCIONAR-",null,null,null," -SELECCIONAR-",null,null," -SELECCIONAR-",null," -SELECCIONAR-"," -SELECCIONAR-",null,{"$f":"IF(AC153=FALSE, LOOKUP(AC153,Catálogos!O:O),LOOKUP(AC153,Catálogos!O:O,Catálogos!R:R))","v":{"$error":"#N/A"}},"",null,null,null,{"$f":"IF(CD153=FALSE,\"COL. INCORRECTA\",LOOKUP(CONCATENATE(AE153,\" - \",AC153),Catálogos!T:T,Catálogos!Y:Y))","v":{"$error":"#N/A"}},{"$f":"IF(CD153=FALSE,\"COL. INCORRECTA\",LOOKUP(CONCATENATE(AE153,\" - \",AC153),Catálogos!T:T,Catálogos!X:X))","v":{"$error":"#N/A"}}," -SELECCIONAR-",""," -SELECCIONAR-",null,null," -SELECCIONAR-",null,null,null," -SELECCIONAR-",null,null," -SELECCIONAR-"," -SELECCIONAR-",null,null,null,null,null," -SELECCIONAR-",null,null,null,null,null,null," -SELECCIONAR-",null,null,null,null,null,null," -SELECCIONAR-",null,null,null,null,null,null," -SELECCIONAR-",null,null,{"$f":"LOOKUP(AB153,Catálogos!AP:AP,Catálogos!AO:AO)","v":"ERR"},{"$f":"CONCATENATE(LOOKUP(AC153,Catálogos!O:O,Catálogos!P:P),\".\",LOOKUP(AC153,Catálogos!O:O,Catálogos!Q:Q))","v":{"$error":"#N/A"}},{"$f":"IF(AC153=LOOKUP(CONCATENATE(AE153,\" - \",AC153),Catálogos!T:T,Catálogos!V:V),LOOKUP(CONCATENATE(AE153,\" - \",AC153),Catálogos!T:T,Catálogos!W:W),FALSE)","v":{"$error":"#N/A"}},{"$f":"LOOKUP(BD153,Catálogos!AM:AM,Catálogos!AL:AL)","v":"ERR"},{"$f":"LOOKUP(BK153,Catálogos!AM:AM,Catálogos!AL:AL)","v":"ERR"},{"$f":"LOOKUP(BR153,Catálogos!AM:AM,Catálogos!AL:AL)","v":"ERR"},{"$f":"LOOKUP(BY153,Catálogos!AM:AM,Catálogos!AL:AL)","v":"ERR"},0]
[null,null,null,null,null,null,null," -SELECCIONAR-"," -SELECCIONAR-"," -SELECCIONAR-",null," -SELECCIONAR-"," -SELECCIONAR-"," -SELECCIONAR-"," -SELECCIONAR-",null,null," -SELECCIONAR-",null,null,null," -SELECCIONAR-",null,null," -SELECCIONAR-",null," -SELECCIONAR-"," -SELECCIONAR-",null,{"$f":"IF(AC154=FALSE, LOOKUP(AC154,Catálogos!O:O),LOOKUP(AC154,Catálogos!O:O,Catálogos!R:R))","v":{"$error":"#N/A"}},"",null,null,null,{"$f":"IF(CD154=FALSE,\"COL. INCORRECTA\",LOOKUP(CONCATENATE(AE154,\" - \",AC154),Catálogos!T:T,Catálogos!Y:Y))","v":{"$error":"#N/A"}},{"$f":"IF(CD154=FALSE,\"COL. INCORRECTA\",LOOKUP(CONCATENATE(AE154,\" - \",AC154),Catálogos!T:T,Catálogos!X:X))","v":{"$error":"#N/A"}}," -SELECCIONAR-",""," -SELECCIONAR-",null,null," -SELECCIONAR-",null,null,null," -SELECCIONAR-",null,null," -SELECCIONAR-"," -SELECCIONAR-",null,null,null,null,null," -SELECCIONAR-",null,null,null,null,null,null," -SELECCIONAR-",null,null,null,null,null,null," -SELECCIONAR-",null,null,null,null,null,null," -SELECCIONAR-",null,null,{"$f":"LOOKUP(AB154,Catálogos!AP:AP,Catálogos!AO:AO)","v":"ERR"},{"$f":"CONCATENATE(LOOKUP(AC154,Catálogos!O:O,Catálogos!P:P),\".\",LOOKUP(AC154,Catálogos!O:O,Catálogos!Q:Q))","v":{"$error":"#N/A"}},{"$f":"IF(AC154=LOOKUP(CONCATENATE(AE154,\" - \",AC154),Catálogos!T:T,Catálogos!V:V),LOOKUP(CONCATENATE(AE154,\" - \",AC154),Catálogos!T:T,Catálogos!W:W),FALSE)","v":{"$error":"#N/A"}},{"$f":"LOOKUP(BD154,Catálogos!AM:AM,Catálogos!AL:AL)","v":"ERR"},{"$f":"LOOKUP(BK154,Catálogos!AM:AM,Catálogos!AL:AL)","v":"ERR"},{"$f":"LOOKUP(BR154,Catálogos!AM:AM,Catálogos!AL:AL)","v":"ERR"},{"$f":"LOOKUP(BY154,Catálogos!AM:AM,Catálogos!AL:AL)","v":"ERR"},0]
[null,null,null,null,null,null,null," -SELECCIONAR-"," -SELECCIONAR-"," -SELECCIONAR-",null," -SELECCIONAR-"," -SELECCIONAR-"," -SELECCIONAR-"," -SELECCIONAR-",null,null," -SELECCIONAR-",null,null,null," -SELECCIONAR-",null,null," -SELECCIONAR-",null," -SELECCIONAR-"," -SELECCIONAR-",null,{"$f":"IF(AC155=FALSE, LOOKUP(AC155,Catálogos!O:O),LOOKUP(AC155,Catálogos!O:O,Catálogos!R:R))","v":{"$error":"#N/A"}},"",null,null,null,{"$f":"IF(CD155=FALSE,\"COL. INCORRECTA\",LOOKUP(CONCATENATE(AE155,\" - \",AC155),Catálogos!T:T,Catálogos!Y:Y))","v":{"$error":"#N/A"}},{"$f":"IF(CD155=FALSE,\"COL. INCORRECTA\",LOOKUP(CONCATENATE(AE155,\" - \",AC155),Catálogos!T:T,Catálogos!X:X))","v":{"$error":"#N/A"}}," -SELECCIONAR-",""," -SELECCIONAR-",null,null," -SELECCIONAR-",null,null,null," -SELECCIONAR-",null,null," -SELECCIONAR-"," -SELECCIONAR-",null,null,null,null,null," -SELECCIONAR-",null,null,null,null,null,null," -SELECCIONAR-",null,null,null,null,null,null," -SELECCIONAR-",null,null,null,null,null,null," -SELECCIONAR-",null,null,{"$f":"LOOKUP(AB155,Catálogos!AP:AP,Catálogos!AO:AO)","v":"ERR"},{"$f":"CONCATENATE(LOOKUP(AC155,Catálogos!O:O,Catálogos!P:P),\".\",LOOKUP(AC155,Catálogos!O:O,Catálogos!Q:Q))","v":{"$error":"#N/A"}},{"$f":"IF(AC155=LOOKUP(CONCATENATE(AE155,\" - \",AC155),Catálogos!T:T,Catálogos!V:V),LOOKUP(CONCATENATE(AE155,\" - \",AC155),Catálogos!T:T,Catálogos!W:W),FALSE)","v":{"$error":"#N/A"}},{"$f":"LOOKUP(BD155,Catálogos!AM:AM,Catálogos!AL:AL)","v":"ERR"},{"$f":"LOOKUP(BK155,Catálogos!AM:AM,Catálogos!AL:AL)","v":"ERR"},{"$f":"LOOKUP(BR155,Catálogos!AM:AM,Catálogos!AL:AL)","v":"ERR"},{"$f":"LOOKUP(BY155,Catálogos!AM:AM,Catálogos!AL:AL)","v":"ERR"},0]
[null,null,null,null,null,null,null," -SELECCIONAR-"," -SELECCIONAR-"," -SELECCIONAR-",null," -SELECCIONAR-"," -SELECCIONAR-"," -SELECCIONAR-"," -SELECCIONAR-",null,null," -SELECCIONAR-",null,null,null," -SELECCIONAR-",null,null," -SELECCIONAR-",null," -SELECCIONAR-"," -SELECCIONAR-",null,{"$f":"IF(AC156=FALSE, LOOKUP(AC156,Catálogos!O:O),LOOKUP(AC156,Catálogos!O:O,Catálogos!R:R))","v":{"$error":"#N/A"}},"",null,null,null,{"$f":"IF(CD156=FALSE,\"COL. INCORRECTA\",LOOKUP(CONCATENATE(AE156,\" - \",AC156),Catálogos!T:T,Catálogos!Y:Y))","v":{"$error":"#N/A"}},{"$f":"IF(CD156=FALSE,\"COL. INCORRECTA\",LOOKUP(CONCATENATE(AE156,\" - \",AC156),Catálogos!T:T,Catálogos!X:X))","v":{"$error":"#N/A"}}," -SELECCIONAR-",""," -SELECCIONAR-",null,null," -SELECCIONAR-",null,null,null," -SELECCIONAR-",null,null," -SELECCIONAR-"," -SELECCIONAR-",null,null,null,null,null," -SELECCIONAR-",null,null,null,null,null,null," -SELECCIONAR-",null,null,null,null,null,null," -SELECCIONAR-",null,null,null,null,null,null," -SELECCIONAR-",null,null,{"$f":"LOOKUP(AB156,Catálogos!AP:AP,Catálogos!AO:AO)","v":"ERR"},{"$f":"CONCATENATE(LOOKUP(AC156,Catálogos!O:O,Catálogos!P:P),\".\",LOOKUP(AC156,Catálogos!O:O,Catálogos!Q:Q))","v":{"$error":"#N/A"}},{"$f":"IF(AC156=LOOKUP(CONCATENATE(AE156,\" - \",AC156),Catálogos!T:T,Catálogos!V:V),LOOKUP(CONCATENATE(AE156,\" - \",AC156),Catálogos!T:T,Catálogos!W:W),FALSE)","v":{"$error":"#N/A"}},{"$f":"LOOKUP(BD156,Catálogos!AM:AM,Catálogos!AL:AL)","v":"ERR"},{"$f":"LOOKUP(BK156,Catálogos!AM:AM,Catálogos!AL:AL)","v":"ERR"},{"$f":"LOOKUP(BR156,Catálogos!AM:AM,Catálogos!AL:AL)","v":"ERR"},{"$f":"LOOKUP(BY156,Catálogos!AM:AM,Catálogos!AL:AL)","v":"ERR"},0]
[null,null,null,null,null,null,null," -SELECCIONAR-"," -SELECCIONAR-"," -SELECCIONAR-",null," -SELECCIONAR-"," -SELECCIONAR-"," -SELECCIONAR-"," -SELECCIONAR-",null,null," -SELECCIONAR-",null,null,null," -SELECCIONAR-",null,null," -SELECCIONAR-",null," -SELECCIONAR-"," -SELECCIONAR-",null,{"$f":"IF(AC157=FALSE, LOOKUP(AC157,Catálogos!O:O),LOOKUP(AC157,Catálogos!O:O,Catálogos!R:R))","v":{"$error":"#N/A"}},"",null,null,null,{"$f":"IF(CD157=FALSE,\"COL. INCORRECTA\",LOOKUP(CONCATENATE(AE157,\" - \",AC157),Catálogos!T:T,Catálogos!Y:Y))","v":{"$error":"#N/A"}},{"$f":"IF(CD157=FALSE,\"COL. INCORRECTA\",LOOKUP(CONCATENATE(AE157,\" - \",AC157),Catálogos!T:T,Catálogos!X:X))","v":{"$error":"#N/A"}}," -SELECCIONAR-",""," -SELECCIONAR-",null,null," -SELECCIONAR-",null,null,null," -SELECCIONAR-",null,null," -SELECCIONAR-"," -SELECCIONAR-",null,null,null,null,null," -SELECCIONAR-",null,null,null,null,null,null," -SELECCIONAR-",null,null,null,null,null,null," -SELECCIONAR-",null,null,null,null,null,null," -SELECCIONAR-",null,null,{"$f":"LOOKUP(AB157,Catálogos!AP:AP,Catálogos!AO:AO)","v":"ERR"},{"$f":"CONCATENATE(LOOKUP(AC157,Catálogos!O:O,Catálogos!P:P),\".\",LOOKUP(AC157,Catálogos!O:O,Catálogos!Q:Q))","v":{"$error":"#N/A"}},{"$f":"IF(AC157=LOOKUP(CONCATENATE(AE157,\" - \",AC157),Catálogos!T:T,Catálogos!V:V),LOOKUP(CONCATENATE(AE157,\" - \",AC157),Catálogos!T:T,Catálogos!W:W),FALSE)","v":{"$error":"#N/A"}},{"$f":"LOOKUP(BD157,Catálogos!AM:AM,Catálogos!AL:AL)","v":"ERR"},{"$f":"LOOKUP(BK157,Catálogos!AM:AM,Catálogos!AL:AL)","v":"ERR"},{"$f":"LOOKUP(BR157,Catálogos!AM:AM,Catálogos!AL:AL)","v":"ERR"},{"$f":"LOOKUP(BY157,Catálogos!AM:AM,Catálogos!AL:AL)","v":"ERR"},0]
[null,null,null,null,null,null,null," -SELECCIONAR-"," -SELECCIONAR-"," -SELECCIONAR-",null," -SELECCIONAR-"," -SELECCIONAR-"," -SELECCIONAR-"," -SELECCIONAR-",null,null," -SELECCIONAR-",null,null,null," -SELECCIONAR-",null,null," -SELECCIONAR-",null," -SELECCIONAR-"," -SELECCIONAR-",null,{"$f":"IF(AC158=FALSE, LOOKUP(AC158,Catálogos!O:O),LOOKUP(AC158,Catálogos!O:O,Catálogos!R:R))","v":{"$error":"#N/A"}},"",null,null,null,{"$f":"IF(CD158=FALSE,\"COL. INCORRECTA\",LOOKUP(CONCATENATE(AE158,\" - \",AC158),Catálogos!T:T,Catálogos!Y:Y))","v":{"$error":"#N/A"}},{"$f":"IF(CD158=FALSE,\"COL. INCORRECTA\",LOOKUP(CONCATENATE(AE158,\" - \",AC158),Catálogos!T:T,Catálogos!X:X))","v":{"$error":"#N/A"}}," -SELECCIONAR-",""," -SELECCIONAR-",null,null," -SELECCIONAR-",null,null,null," -SELECCIONAR-",null,null," -SELECCIONAR-"," -SELECCIONAR-",null,null,null,null,null," -SELECCIONAR-",null,null,null,null,null,null," -SELECCIONAR-",null,null,null,null,null,null," -SELECCIONAR-",null,null,null,null,null,null," -SELECCIONAR-",null,null,{"$f":"LOOKUP(AB158,Catálogos!AP:AP,Catálogos!AO:AO)","v":"ERR"},{"$f":"CONCATENATE(LOOKUP(AC158,Catálogos!O:O,Catálogos!P:P),\".\",LOOKUP(AC158,Catálogos!O:O,Catálogos!Q:Q))","v":{"$error":"#N/A"}},{"$f":"IF(AC158=LOOKUP(CONCATENATE(AE158,\" - \",AC158),Catálogos!T:T,Catálogos!V:V),LOOKUP(CONCATENATE(AE158,\" - \",AC158),Catálogos!T:T,Catálogos!W:W),FALSE)","v":{"$error":"#N/A"}},{"$f":"LOOKUP(BD158,Catálogos!AM:AM,Catálogos!AL:AL)","v":"ERR"},{"$f":"LOOKUP(BK158,Catálogos!AM:AM,Catálogos!AL:AL)","v":"ERR"},{"$f":"LOOKUP(BR158,Catálogos!AM:AM,Catálogos!AL:AL)","v":"ERR"},{"$f":"LOOKUP(BY158,Catálogos!AM:AM,Catálogos!AL:AL)","v":"ERR"},0]
[null,null,null,null,null,null,null," -SELECCIONAR-"," -SELECCIONAR-"," -SELECCIONAR-",null," -SELECCIONAR-"," -SELECCIONAR-"," -SELECCIONAR-"," -SELECCIONAR-",null,null," -SELECCIONAR-",null,null,null," -SELECCIONAR-",null,null," -SELECCIONAR-",null," -SELECCIONAR-"," -SELECCIONAR-",null,{"$f":"IF(AC159=FALSE, LOOKUP(AC159,Catálogos!O:O),LOOKUP(AC159,Catálogos!O:O,Catálogos!R:R))","v":{"$error":"#N/A"}},"",null,null,null,{"$f":"IF(CD159=FALSE,\"COL. INCORRECTA\",LOOKUP(CONCATENATE(AE159,\" - \",AC159),Catálogos!T:T,Catálogos!Y:Y))","v":{"$error":"#N/A"}},{"$f":"IF(CD159=FALSE,\"COL. INCORRECTA\",LOOKUP(CONCATENATE(AE159,\" - \",AC159),Catálogos!T:T,Catálogos!X:X))","v":{"$error":"#N/A"}}," -SELECCIONAR-",""," -SELECCIONAR-",null,null," -SELECCIONAR-",null,null,null," -SELECCIONAR-",null,null," -SELECCIONAR-"," -SELECCIONAR-",null,null,null,null,null," -SELECCIONAR-",null,null,null,null,null,null," -SELECCIONAR-",null,null,null,null,null,null," -SELECCIONAR-",null,null,null,null,null,null," -SELECCIONAR-",null,null,{"$f":"LOOKUP(AB159,Catálogos!AP:AP,Catálogos!AO:AO)","v":"ERR"},{"$f":"CONCATENATE(LOOKUP(AC159,Catálogos!O:O,Catálogos!P:P),\".\",LOOKUP(AC159,Catálogos!O:O,Catálogos!Q:Q))","v":{"$error":"#N/A"}},{"$f":"IF(AC159=LOOKUP(CONCATENATE(AE159,\" - \",AC159),Catálogos!T:T,Catálogos!V:V),LOOKUP(CONCATENATE(AE159,\" - \",AC159),Catálogos!T:T,Catálogos!W:W),FALSE)","v":{"$error":"#N/A"}},{"$f":"LOOKUP(BD159,Catálogos!AM:AM,Catálogos!AL:AL)","v":"ERR"},{"$f":"LOOKUP(BK159,Catálogos!AM:AM,Catálogos!AL:AL)","v":"ERR"},{"$f":"LOOKUP(BR159,Catálogos!AM:AM,Catálogos!AL:AL)","v":"ERR"},{"$f":"LOOKUP(BY159,Catálogos!AM:AM,Catálogos!AL:AL)","v":"ERR"},0]
[null,null,null,null,null,null,null," -SELECCIONAR-"," -SELECCIONAR-"," -SELECCIONAR-",null," -SELECCIONAR-"," -SELECCIONAR-"," -SELECCIONAR-"," -SELECCIONAR-",null,null," -SELECCIONAR-",null,null,null," -SELECCIONAR-",null,null," -SELECCIONAR-",null," -SELECCIONAR-"," -SELECCIONAR-",null,{"$f":"IF(AC160=FALSE, LOOKUP(AC160,Catálogos!O:O),LOOKUP(AC160,Catálogos!O:O,Catálogos!R:R))","v":{"$error":"#N/A"}},"",null,null,null,{"$f":"IF(CD160=FALSE,\"COL. INCORRECTA\",LOOKUP(CONCATENATE(AE160,\" - \",AC160),Catálogos!T:T,Catálogos!Y:Y))","v":{"$error":"#N/A"}},{"$f":"IF(CD160=FALSE,\"COL. INCORRECTA\",LOOKUP(CONCATENATE(AE160,\" - \",AC160),Catálogos!T:T,Catálogos!X:X))","v":{"$error":"#N/A"}}," -SELECCIONAR-",""," -SELECCIONAR-",null,null," -SELECCIONAR-",null,null,null," -SELECCIONAR-",null,null," -SELECCIONAR-"," -SELECCIONAR-",null,null,null,null,null," -SELECCIONAR-",null,null,null,null,null,null," -SELECCIONAR-",null,null,null,null,null,null," -SELECCIONAR-",null,null,null,null,null,null," -SELECCIONAR-",null,null,{"$f":"LOOKUP(AB160,Catálogos!AP:AP,Catálogos!AO:AO)","v":"ERR"},{"$f":"CONCATENATE(LOOKUP(AC160,Catálogos!O:O,Catálogos!P:P),\".\",LOOKUP(AC160,Catálogos!O:O,Catálogos!Q:Q))","v":{"$error":"#N/A"}},{"$f":"IF(AC160=LOOKUP(CONCATENATE(AE160,\" - \",AC160),Catálogos!T:T,Catálogos!V:V),LOOKUP(CONCATENATE(AE160,\" - \",AC160),Catálogos!T:T,Catálogos!W:W),FALSE)","v":{"$error":"#N/A"}},{"$f":"LOOKUP(BD160,Catálogos!AM:AM,Catálogos!AL:AL)","v":"ERR"},{"$f":"LOOKUP(BK160,Catálogos!AM:AM,Catálogos!AL:AL)","v":"ERR"},{"$f":"LOOKUP(BR160,Catálogos!AM:AM,Catálogos!AL:AL)","v":"ERR"},{"$f":"LOOKUP(BY160,Catálogos!AM:AM,Catálogos!AL:AL)","v":"ERR"},0]
[null,null,null,null,null,null,null," -SELECCIONAR-"," -SELECCIONAR-"," -SELECCIONAR-",null," -SELECCIONAR-"," -SELECCIONAR-"," -SELECCIONAR-"," -SELECCIONAR-",null,null," -SELECCIONAR-",null,null,null," -SELECCIONAR-",null,null," -SELECCIONAR-",null," -SELECCIONAR-"," -SELECCIONAR-",null,{"$f":"IF(AC161=FALSE, LOOKUP(AC161,Catálogos!O:O),LOOKUP(AC161,Catálogos!O:O,Catálogos!R:R))","v":{"$error":"#N/A"}},"",null,null,null,{"$f":"IF(CD161=FALSE,\"COL. INCORRECTA\",LOOKUP(CONCATENATE(AE161,\" - \",AC161),Catálogos!T:T,Catálogos!Y:Y))","v":{"$error":"#N/A"}},{"$f":"IF(CD161=FALSE,\"COL. INCORRECTA\",LOOKUP(CONCATENATE(AE161,\" - \",AC161),Catálogos!T:T,Catálogos!X:X))","v":{"$error":"#N/A"}}," -SELECCIONAR-",""," -SELECCIONAR-",null,null," -SELECCIONAR-",null,null,null," -SELECCIONAR-",null,null," -SELECCIONAR-"," -SELECCIONAR-",null,null,null,null,null," -SELECCIONAR-",null,null,null,null,null,null," -SELECCIONAR-",null,null,null,null,null,null," -SELECCIONAR-",null,null,null,null,null,null," -SELECCIONAR-",null,null,{"$f":"LOOKUP(AB161,Catálogos!AP:AP,Catálogos!AO:AO)","v":"ERR"},{"$f":"CONCATENATE(LOOKUP(AC161,Catálogos!O:O,Catálogos!P:P),\".\",LOOKUP(AC161,Catálogos!O:O,Catálogos!Q:Q))","v":{"$error":"#N/A"}},{"$f":"IF(AC161=LOOKUP(CONCATENATE(AE161,\" - \",AC161),Catálogos!T:T,Catálogos!V:V),LOOKUP(CONCATENATE(AE161,\" - \",AC161),Catálogos!T:T,Catálogos!W:W),FALSE)","v":{"$error":"#N/A"}},{"$f":"LOOKUP(BD161,Catálogos!AM:AM,Catálogos!AL:AL)","v":"ERR"},{"$f":"LOOKUP(BK161,Catálogos!AM:AM,Catálogos!AL:AL)","v":"ERR"},{"$f":"LOOKUP(BR161,Catálogos!AM:AM,Catálogos!AL:AL)","v":"ERR"},{"$f":"LOOKUP(BY161,Catálogos!AM:AM,Catálogos!AL:AL)","v":"ERR"},0]
[null,null,null,null,null,null,null," -SELECCIONAR-"," -SELECCIONAR-"," -SELECCIONAR-",null," -SELECCIONAR-"," -SELECCIONAR-"," -SELECCIONAR-"," -SELECCIONAR-",null,null," -SELECCIONAR-",null,null,null," -SELECCIONAR-",null,null," -SELECCIONAR-",null," -SELECCIONAR-"," -SELECCIONAR-",null,{"$f":"IF(AC162=FALSE, LOOKUP(AC162,Catálogos!O:O),LOOKUP(AC162,Catálogos!O:O,Catálogos!R:R))","v":{"$error":"#N/A"}},"",null,null,null,{"$f":"IF(CD162=FALSE,\"COL. INCORRECTA\",LOOKUP(CONCATENATE(AE162,\" - \",AC162),Catálogos!T:T,Catálogos!Y:Y))","v":{"$error":"#N/A"}},{"$f":"IF(CD162=FALSE,\"COL. INCORRECTA\",LOOKUP(CONCATENATE(AE162,\" - \",AC162),Catálogos!T:T,Catálogos!X:X))","v":{"$error":"#N/A"}}," -SELECCIONAR-",""," -SELECCIONAR-",null,null," -SELECCIONAR-",null,null,null," -SELECCIONAR-",null,null," -SELECCIONAR-"," -SELECCIONAR-",null,null,null,null,null," -SELECCIONAR-",null,null,null,null,null,null," -SELECCIONAR-",null,null,null,null,null,null," -SELECCIONAR-",null,null,null,null,null,null," -SELECCIONAR-",null,null,{"$f":"LOOKUP(AB162,Catálogos!AP:AP,Catálogos!AO:AO)","v":"ERR"},{"$f":"CONCATENATE(LOOKUP(AC162,Catálogos!O:O,Catálogos!P:P),\".\",LOOKUP(AC162,Catálogos!O:O,Catálogos!Q:Q))","v":{"$error":"#N/A"}},{"$f":"IF(AC162=LOOKUP(CONCATENATE(AE162,\" - \",AC162),Catálogos!T:T,Catálogos!V:V),LOOKUP(CONCATENATE(AE162,\" - \",AC162),Catálogos!T:T,Catálogos!W:W),FALSE)","v":{"$error":"#N/A"}},{"$f":"LOOKUP(BD162,Catálogos!AM:AM,Catálogos!AL:AL)","v":"ERR"},{"$f":"LOOKUP(BK162,Catálogos!AM:AM,Catálogos!AL:AL)","v":"ERR"},{"$f":"LOOKUP(BR162,Catálogos!AM:AM,Catálogos!AL:AL)","v":"ERR"},{"$f":"LOOKUP(BY162,Catálogos!AM:AM,Catálogos!AL:AL)","v":"ERR"},0]
[null,null,null,null,null,null,null," -SELECCIONAR-"," -SELECCIONAR-"," -SELECCIONAR-",null," -SELECCIONAR-"," -SELECCIONAR-"," -SELECCIONAR-"," -SELECCIONAR-",null,null," -SELECCIONAR-",null,null,null," -SELECCIONAR-",null,null," -SELECCIONAR-",null," -SELECCIONAR-"," -SELECCIONAR-",null,{"$f":"IF(AC163=FALSE, LOOKUP(AC163,Catálogos!O:O),LOOKUP(AC163,Catálogos!O:O,Catálogos!R:R))","v":{"$error":"#N/A"}},"",null,null,null,{"$f":"IF(CD163=FALSE,\"COL. INCORRECTA\",LOOKUP(CONCATENATE(AE163,\" - \",AC163),Catálogos!T:T,Catálogos!Y:Y))","v":{"$error":"#N/A"}},{"$f":"IF(CD163=FALSE,\"COL. INCORRECTA\",LOOKUP(CONCATENATE(AE163,\" - \",AC163),Catálogos!T:T,Catálogos!X:X))","v":{"$error":"#N/A"}}," -SELECCIONAR-",""," -SELECCIONAR-",null,null," -SELECCIONAR-",null,null,null," -SELECCIONAR-",null,null," -SELECCIONAR-"," -SELECCIONAR-",null,null,null,null,null," -SELECCIONAR-",null,null,null,null,null,null," -SELECCIONAR-",null,null,null,null,null,null," -SELECCIONAR-",null,null,null,null,null,null," -SELECCIONAR-",null,null,{"$f":"LOOKUP(AB163,Catálogos!AP:AP,Catálogos!AO:AO)","v":"ERR"},{"$f":"CONCATENATE(LOOKUP(AC163,Catálogos!O:O,Catálogos!P:P),\".\",LOOKUP(AC163,Catálogos!O:O,Catálogos!Q:Q))","v":{"$error":"#N/A"}},{"$f":"IF(AC163=LOOKUP(CONCATENATE(AE163,\" - \",AC163),Catálogos!T:T,Catálogos!V:V),LOOKUP(CONCATENATE(AE163,\" - \",AC163),Catálogos!T:T,Catálogos!W:W),FALSE)","v":{"$error":"#N/A"}},{"$f":"LOOKUP(BD163,Catálogos!AM:AM,Catálogos!AL:AL)","v":"ERR"},{"$f":"LOOKUP(BK163,Catálogos!AM:AM,Catálogos!AL:AL)","v":"ERR"},{"$f":"LOOKUP(BR163,Catálogos!AM:AM,Catálogos!AL:AL)","v":"ERR"},{"$f":"LOOKUP(BY163,Catálogos!AM:AM,Catálogos!AL:AL)","v":"ERR"},0]
[null,null,null,null,null,null,null," -SELECCIONAR-"," -SELECCIONAR-"," -SELECCIONAR-",null," -SELECCIONAR-"," -SELECCIONAR-"," -SELECCIONAR-"," -SELECCIONAR-",null,null," -SELECCIONAR-",null,null,null," -SELECCIONAR-",null,null," -SELECCIONAR-",null," -SELECCIONAR-"," -SELECCIONAR-",null,{"$f":"IF(AC164=FALSE, LOOKUP(AC164,Catálogos!O:O),LOOKUP(AC164,Catálogos!O:O,Catálogos!R:R))","v":{"$error":"#N/A"}},"",null,null,null,{"$f":"IF(CD164=FALSE,\"COL. INCORRECTA\",LOOKUP(CONCATENATE(AE164,\" - \",AC164),Catálogos!T:T,Catálogos!Y:Y))","v":{"$error":"#N/A"}},{"$f":"IF(CD164=FALSE,\"COL. INCORRECTA\",LOOKUP(CONCATENATE(AE164,\" - \",AC164),Catálogos!T:T,Catálogos!X:X))","v":{"$error":"#N/A"}}," -SELECCIONAR-",""," -SELECCIONAR-",null,null," -SELECCIONAR-",null,null,null," -SELECCIONAR-",null,null," -SELECCIONAR-"," -SELECCIONAR-",null,null,null,null,null," -SELECCIONAR-",null,null,null,null,null,null," -SELECCIONAR-",null,null,null,null,null,null," -SELECCIONAR-",null,null,null,null,null,null," -SELECCIONAR-",null,null,{"$f":"LOOKUP(AB164,Catálogos!AP:AP,Catálogos!AO:AO)","v":"ERR"},{"$f":"CONCATENATE(LOOKUP(AC164,Catálogos!O:O,Catálogos!P:P),\".\",LOOKUP(AC164,Catálogos!O:O,Catálogos!Q:Q))","v":{"$error":"#N/A"}},{"$f":"IF(AC164=LOOKUP(CONCATENATE(AE164,\" - \",AC164),Catálogos!T:T,Catálogos!V:V),LOOKUP(CONCATENATE(AE164,\" - \",AC164),Catálogos!T:T,Catálogos!W:W),FALSE)","v":{"$error":"#N/A"}},{"$f":"LOOKUP(BD164,Catálogos!AM:AM,Catálogos!AL:AL)","v":"ERR"},{"$f":"LOOKUP(BK164,Catálogos!AM:AM,Catálogos!AL:AL)","v":"ERR"},{"$f":"LOOKUP(BR164,Catálogos!AM:AM,Catálogos!AL:AL)","v":"ERR"},{"$f":"LOOKUP(BY164,Catálogos!AM:AM,Catálogos!AL:AL)","v":"ERR"},0]
[null,null,null,null,null,null,null," -SELECCIONAR-"," -SELECCIONAR-"," -SELECCIONAR-",null," -SELECCIONAR-"," -SELECCIONAR-"," -SELECCIONAR-"," -SELECCIONAR-",null,null," -SELECCIONAR-",null,null,null," -SELECCIONAR-",null,null," -SELECCIONAR-",null," -SELECCIONAR-"," -SELECCIONAR-",null,{"$f":"IF(AC165=FALSE, LOOKUP(AC165,Catálogos!O:O),LOOKUP(AC165,Catálogos!O:O,Catálogos!R:R))","v":{"$error":"#N/A"}},"",null,null,null,{"$f":"IF(CD165=FALSE,\"COL. INCORRECTA\",LOOKUP(CONCATENATE(AE165,\" - \",AC165),Catálogos!T:T,Catálogos!Y:Y))","v":{"$error":"#N/A"}},{"$f":"IF(CD165=FALSE,\"COL. INCORRECTA\",LOOKUP(CONCATENATE(AE165,\" - \",AC165),Catálogos!T:T,Catálogos!X:X))","v":{"$error":"#N/A"}}," -SELECCIONAR-",""," -SELECCIONAR-",null,null," -SELECCIONAR-",null,null,null," -SELECCIONAR-",null,null," -SELECCIONAR-"," -SELECCIONAR-",null,null,null,null,null," -SELECCIONAR-",null,null,null,null,null,null," -SELECCIONAR-",null,null,null,null,null,null," -SELECCIONAR-",null,null,null,null,null,null," -SELECCIONAR-",null,null,{"$f":"LOOKUP(AB165,Catálogos!AP:AP,Catálogos!AO:AO)","v":"ERR"},{"$f":"CONCATENATE(LOOKUP(AC165,Catálogos!O:O,Catálogos!P:P),\".\",LOOKUP(AC165,Catálogos!O:O,Catálogos!Q:Q))","v":{"$error":"#N/A"}},{"$f":"IF(AC165=LOOKUP(CONCATENATE(AE165,\" - \",AC165),Catálogos!T:T,Catálogos!V:V),LOOKUP(CONCATENATE(AE165,\" - \",AC165),Catálogos!T:T,Catálogos!W:W),FALSE)","v":{"$error":"#N/A"}},{"$f":"LOOKUP(BD165,Catálogos!AM:AM,Catálogos!AL:AL)","v":"ERR"},{"$f":"LOOKUP(BK165,Catálogos!AM:AM,Catálogos!AL:AL)","v":"ERR"},{"$f":"LOOKUP(BR165,Catálogos!AM:AM,Catálogos!AL:AL)","v":"ERR"},{"$f":"LOOKUP(BY165,Catálogos!AM:AM,Catálogos!AL:AL)","v":"ERR"},0]
[null,null,null,null,null,null,null," -SELECCIONAR-"," -SELECCIONAR-"," -SELECCIONAR-",null," -SELECCIONAR-"," -SELECCIONAR-"," -SELECCIONAR-"," -SELECCIONAR-",null,null," -SELECCIONAR-",null,null,null," -SELECCIONAR-",null,null," -SELECCIONAR-",null," -SELECCIONAR-"," -SELECCIONAR-",null,{"$f":"IF(AC166=FALSE, LOOKUP(AC166,Catálogos!O:O),LOOKUP(AC166,Catálogos!O:O,Catálogos!R:R))","v":{"$error":"#N/A"}},"",null,null,null,{"$f":"IF(CD166=FALSE,\"COL. INCORRECTA\",LOOKUP(CONCATENATE(AE166,\" - \",AC166),Catálogos!T:T,Catálogos!Y:Y))","v":{"$error":"#N/A"}},{"$f":"IF(CD166=FALSE,\"COL. INCORRECTA\",LOOKUP(CONCATENATE(AE166,\" - \",AC166),Catálogos!T:T,Catálogos!X:X))","v":{"$error":"#N/A"}}," -SELECCIONAR-",""," -SELECCIONAR-",null,null," -SELECCIONAR-",null,null,null," -SELECCIONAR-",null,null," -SELECCIONAR-"," -SELECCIONAR-",null,null,null,null,null," -SELECCIONAR-",null,null,null,null,null,null," -SELECCIONAR-",null,null,null,null,null,null," -SELECCIONAR-",null,null,null,null,null,null," -SELECCIONAR-",null,null,{"$f":"LOOKUP(AB166,Catálogos!AP:AP,Catálogos!AO:AO)","v":"ERR"},{"$f":"CONCATENATE(LOOKUP(AC166,Catálogos!O:O,Catálogos!P:P),\".\",LOOKUP(AC166,Catálogos!O:O,Catálogos!Q:Q))","v":{"$error":"#N/A"}},{"$f":"IF(AC166=LOOKUP(CONCATENATE(AE166,\" - \",AC166),Catálogos!T:T,Catálogos!V:V),LOOKUP(CONCATENATE(AE166,\" - \",AC166),Catálogos!T:T,Catálogos!W:W),FALSE)","v":{"$error":"#N/A"}},{"$f":"LOOKUP(BD166,Catálogos!AM:AM,Catálogos!AL:AL)","v":"ERR"},{"$f":"LOOKUP(BK166,Catálogos!AM:AM,Catálogos!AL:AL)","v":"ERR"},{"$f":"LOOKUP(BR166,Catálogos!AM:AM,Catálogos!AL:AL)","v":"ERR"},{"$f":"LOOKUP(BY166,Catálogos!AM:AM,Catálogos!AL:AL)","v":"ERR"},0]
[null,null,null,null,null,null,null," -SELECCIONAR-"," -SELECCIONAR-"," -SELECCIONAR-",null," -SELECCIONAR-"," -SELECCIONAR-"," -SELECCIONAR-"," -SELECCIONAR-",null,null," -SELECCIONAR-",null,null,null," -SELECCIONAR-",null,null," -SELECCIONAR-",null," -SELECCIONAR-"," -SELECCIONAR-",null,{"$f":"IF(AC167=FALSE, LOOKUP(AC167,Catálogos!O:O),LOOKUP(AC167,Catálogos!O:O,Catálogos!R:R))","v":{"$error":"#N/A"}},"",null,null,null,{"$f":"IF(CD167=FALSE,\"COL. INCORRECTA\",LOOKUP(CONCATENATE(AE167,\" - \",AC167),Catálogos!T:T,Catálogos!Y:Y))","v":{"$error":"#N/A"}},{"$f":"IF(CD167=FALSE,\"COL. INCORRECTA\",LOOKUP(CONCATENATE(AE167,\" - \",AC167),Catálogos!T:T,Catálogos!X:X))","v":{"$error":"#N/A"}}," -SELECCIONAR-",""," -SELECCIONAR-",null,null," -SELECCIONAR-",null,null,null," -SELECCIONAR-",null,null," -SELECCIONAR-"," -SELECCIONAR-",null,null,null,null,null," -SELECCIONAR-",null,null,null,null,null,null," -SELECCIONAR-",null,null,null,null,null,null," -SELECCIONAR-",null,null,null,null,null,null," -SELECCIONAR-",null,null,{"$f":"LOOKUP(AB167,Catálogos!AP:AP,Catálogos!AO:AO)","v":"ERR"},{"$f":"CONCATENATE(LOOKUP(AC167,Catálogos!O:O,Catálogos!P:P),\".\",LOOKUP(AC167,Catálogos!O:O,Catálogos!Q:Q))","v":{"$error":"#N/A"}},{"$f":"IF(AC167=LOOKUP(CONCATENATE(AE167,\" - \",AC167),Catálogos!T:T,Catálogos!V:V),LOOKUP(CONCATENATE(AE167,\" - \",AC167),Catálogos!T:T,Catálogos!W:W),FALSE)","v":{"$error":"#N/A"}},{"$f":"LOOKUP(BD167,Catálogos!AM:AM,Catálogos!AL:AL)","v":"ERR"},{"$f":"LOOKUP(BK167,Catálogos!AM:AM,Catálogos!AL:AL)","v":"ERR"},{"$f":"LOOKUP(BR167,Catálogos!AM:AM,Catálogos!AL:AL)","v":"ERR"},{"$f":"LOOKUP(BY167,Catálogos!AM:AM,Catálogos!AL:AL)","v":"ERR"},0]
[null,null,null,null,null,null,null," -SELECCIONAR-"," -SELECCIONAR-"," -SELECCIONAR-",null," -SELECCIONAR-"," -SELECCIONAR-"," -SELECCIONAR-"," -SELECCIONAR-",null,null," -SELECCIONAR-",null,null,null," -SELECCIONAR-",null,null," -SELECCIONAR-",null," -SELECCIONAR-"," -SELECCIONAR-",null,{"$f":"IF(AC168=FALSE, LOOKUP(AC168,Catálogos!O:O),LOOKUP(AC168,Catálogos!O:O,Catálogos!R:R))","v":{"$error":"#N/A"}},"",null,null,null,{"$f":"IF(CD168=FALSE,\"COL. INCORRECTA\",LOOKUP(CONCATENATE(AE168,\" - \",AC168),Catálogos!T:T,Catálogos!Y:Y))","v":{"$error":"#N/A"}},{"$f":"IF(CD168=FALSE,\"COL. INCORRECTA\",LOOKUP(CONCATENATE(AE168,\" - \",AC168),Catálogos!T:T,Catálogos!X:X))","v":{"$error":"#N/A"}}," -SELECCIONAR-",""," -SELECCIONAR-",null,null," -SELECCIONAR-",null,null,null," -SELECCIONAR-",null,null," -SELECCIONAR-"," -SELECCIONAR-",null,null,null,null,null," -SELECCIONAR-",null,null,null,null,null,null," -SELECCIONAR-",null,null,null,null,null,null," -SELECCIONAR-",null,null,null,null,null,null," -SELECCIONAR-",null,null,{"$f":"LOOKUP(AB168,Catálogos!AP:AP,Catálogos!AO:AO)","v":"ERR"},{"$f":"CONCATENATE(LOOKUP(AC168,Catálogos!O:O,Catálogos!P:P),\".\",LOOKUP(AC168,Catálogos!O:O,Catálogos!Q:Q))","v":{"$error":"#N/A"}},{"$f":"IF(AC168=LOOKUP(CONCATENATE(AE168,\" - \",AC168),Catálogos!T:T,Catálogos!V:V),LOOKUP(CONCATENATE(AE168,\" - \",AC168),Catálogos!T:T,Catálogos!W:W),FALSE)","v":{"$error":"#N/A"}},{"$f":"LOOKUP(BD168,Catálogos!AM:AM,Catálogos!AL:AL)","v":"ERR"},{"$f":"LOOKUP(BK168,Catálogos!AM:AM,Catálogos!AL:AL)","v":"ERR"},{"$f":"LOOKUP(BR168,Catálogos!AM:AM,Catálogos!AL:AL)","v":"ERR"},{"$f":"LOOKUP(BY168,Catálogos!AM:AM,Catálogos!AL:AL)","v":"ERR"},0]
[null,null,null,null,null,null,null," -SELECCIONAR-"," -SELECCIONAR-"," -SELECCIONAR-",null," -SELECCIONAR-"," -SELECCIONAR-"," -SELECCIONAR-"," -SELECCIONAR-",null,null," -SELECCIONAR-",null,null,null," -SELECCIONAR-",null,null," -SELECCIONAR-",null," -SELECCIONAR-"," -SELECCIONAR-",null,{"$f":"IF(AC169=FALSE, LOOKUP(AC169,Catálogos!O:O),LOOKUP(AC169,Catálogos!O:O,Catálogos!R:R))","v":{"$error":"#N/A"}},"",null,null,null,{"$f":"IF(CD169=FALSE,\"COL. INCORRECTA\",LOOKUP(CONCATENATE(AE169,\" - \",AC169),Catálogos!T:T,Catálogos!Y:Y))","v":{"$error":"#N/A"}},{"$f":"IF(CD169=FALSE,\"COL. INCORRECTA\",LOOKUP(CONCATENATE(AE169,\" - \",AC169),Catálogos!T:T,Catálogos!X:X))","v":{"$error":"#N/A"}}," -SELECCIONAR-",""," -SELECCIONAR-",null,null," -SELECCIONAR-",null,null,null," -SELECCIONAR-",null,null," -SELECCIONAR-"," -SELECCIONAR-",null,null,null,null,null," -SELECCIONAR-",null,null,null,null,null,null," -SELECCIONAR-",null,null,null,null,null,null," -SELECCIONAR-",null,null,null,null,null,null," -SELECCIONAR-",null,null,{"$f":"LOOKUP(AB169,Catálogos!AP:AP,Catálogos!AO:AO)","v":"ERR"},{"$f":"CONCATENATE(LOOKUP(AC169,Catálogos!O:O,Catálogos!P:P),\".\",LOOKUP(AC169,Catálogos!O:O,Catálogos!Q:Q))","v":{"$error":"#N/A"}},{"$f":"IF(AC169=LOOKUP(CONCATENATE(AE169,\" - \",AC169),Catálogos!T:T,Catálogos!V:V),LOOKUP(CONCATENATE(AE169,\" - \",AC169),Catálogos!T:T,Catálogos!W:W),FALSE)","v":{"$error":"#N/A"}},{"$f":"LOOKUP(BD169,Catálogos!AM:AM,Catálogos!AL:AL)","v":"ERR"},{"$f":"LOOKUP(BK169,Catálogos!AM:AM,Catálogos!AL:AL)","v":"ERR"},{"$f":"LOOKUP(BR169,Catálogos!AM:AM,Catálogos!AL:AL)","v":"ERR"},{"$f":"LOOKUP(BY169,Catálogos!AM:AM,Catálogos!AL:AL)","v":"ERR"},0]
[null,null,null,null,null,null,null," -SELECCIONAR-"," -SELECCIONAR-"," -SELECCIONAR-",null," -SELECCIONAR-"," -SELECCIONAR-"," -SELECCIONAR-"," -SELECCIONAR-",null,null," -SELECCIONAR-",null,null,null," -SELECCIONAR-",null,null," -SELECCIONAR-",null," -SELECCIONAR-"," -SELECCIONAR-",null,{"$f":"IF(AC170=FALSE, LOOKUP(AC170,Catálogos!O:O),LOOKUP(AC170,Catálogos!O:O,Catálogos!R:R))","v":{"$error":"#N/A"}},"",null,null,null,{"$f":"IF(CD170=FALSE,\"COL. INCORRECTA\",LOOKUP(CONCATENATE(AE170,\" - \",AC170),Catálogos!T:T,Catálogos!Y:Y))","v":{"$error":"#N/A"}},{"$f":"IF(CD170=FALSE,\"COL. INCORRECTA\",LOOKUP(CONCATENATE(AE170,\" - \",AC170),Catálogos!T:T,Catálogos!X:X))","v":{"$error":"#N/A"}}," -SELECCIONAR-",""," -SELECCIONAR-",null,null," -SELECCIONAR-",null,null,null," -SELECCIONAR-",null,null," -SELECCIONAR-"," -SELECCIONAR-",null,null,null,null,null," -SELECCIONAR-",null,null,null,null,null,null," -SELECCIONAR-",null,null,null,null,null,null," -SELECCIONAR-",null,null,null,null,null,null," -SELECCIONAR-",null,null,{"$f":"LOOKUP(AB170,Catálogos!AP:AP,Catálogos!AO:AO)","v":"ERR"},{"$f":"CONCATENATE(LOOKUP(AC170,Catálogos!O:O,Catálogos!P:P),\".\",LOOKUP(AC170,Catálogos!O:O,Catálogos!Q:Q))","v":{"$error":"#N/A"}},{"$f":"IF(AC170=LOOKUP(CONCATENATE(AE170,\" - \",AC170),Catálogos!T:T,Catálogos!V:V),LOOKUP(CONCATENATE(AE170,\" - \",AC170),Catálogos!T:T,Catálogos!W:W),FALSE)","v":{"$error":"#N/A"}},{"$f":"LOOKUP(BD170,Catálogos!AM:AM,Catálogos!AL:AL)","v":"ERR"},{"$f":"LOOKUP(BK170,Catálogos!AM:AM,Catálogos!AL:AL)","v":"ERR"},{"$f":"LOOKUP(BR170,Catálogos!AM:AM,Catálogos!AL:AL)","v":"ERR"},{"$f":"LOOKUP(BY170,Catálogos!AM:AM,Catálogos!AL:AL)","v":"ERR"},0]
[null,null,null,null,null,null,null," -SELECCIONAR-"," -SELECCIONAR-"," -SELECCIONAR-",null," -SELECCIONAR-"," -SELECCIONAR-"," -SELECCIONAR-"," -SELECCIONAR-",null,null," -SELECCIONAR-",null,null,null," -SELECCIONAR-",null,null," -SELECCIONAR-",null," -SELECCIONAR-"," -SELECCIONAR-",null,{"$f":"IF(AC171=FALSE, LOOKUP(AC171,Catálogos!O:O),LOOKUP(AC171,Catálogos!O:O,Catálogos!R:R))","v":{"$error":"#N/A"}},"",null,null,null,{"$f":"IF(CD171=FALSE,\"COL. INCORRECTA\",LOOKUP(CONCATENATE(AE171,\" - \",AC171),Catálogos!T:T,Catálogos!Y:Y))","v":{"$error":"#N/A"}},{"$f":"IF(CD171=FALSE,\"COL. INCORRECTA\",LOOKUP(CONCATENATE(AE171,\" - \",AC171),Catálogos!T:T,Catálogos!X:X))","v":{"$error":"#N/A"}}," -SELECCIONAR-",""," -SELECCIONAR-",null,null," -SELECCIONAR-",null,null,null," -SELECCIONAR-",null,null," -SELECCIONAR-"," -SELECCIONAR-",null,null,null,null,null," -SELECCIONAR-",null,null,null,null,null,null," -SELECCIONAR-",null,null,null,null,null,null," -SELECCIONAR-",null,null,null,null,null,null," -SELECCIONAR-",null,null,{"$f":"LOOKUP(AB171,Catálogos!AP:AP,Catálogos!AO:AO)","v":"ERR"},{"$f":"CONCATENATE(LOOKUP(AC171,Catálogos!O:O,Catálogos!P:P),\".\",LOOKUP(AC171,Catálogos!O:O,Catálogos!Q:Q))","v":{"$error":"#N/A"}},{"$f":"IF(AC171=LOOKUP(CONCATENATE(AE171,\" - \",AC171),Catálogos!T:T,Catálogos!V:V),LOOKUP(CONCATENATE(AE171,\" - \",AC171),Catálogos!T:T,Catálogos!W:W),FALSE)","v":{"$error":"#N/A"}},{"$f":"LOOKUP(BD171,Catálogos!AM:AM,Catálogos!AL:AL)","v":"ERR"},{"$f":"LOOKUP(BK171,Catálogos!AM:AM,Catálogos!AL:AL)","v":"ERR"},{"$f":"LOOKUP(BR171,Catálogos!AM:AM,Catálogos!AL:AL)","v":"ERR"},{"$f":"LOOKUP(BY171,Catálogos!AM:AM,Catálogos!AL:AL)","v":"ERR"},0]
[null,null,null,null,null,null,null," -SELECCIONAR-"," -SELECCIONAR-"," -SELECCIONAR-",null," -SELECCIONAR-"," -SELECCIONAR-"," -SELECCIONAR-"," -SELECCIONAR-",null,null," -SELECCIONAR-",null,null,null," -SELECCIONAR-",null,null," -SELECCIONAR-",null," -SELECCIONAR-"," -SELECCIONAR-",null,{"$f":"IF(AC172=FALSE, LOOKUP(AC172,Catálogos!O:O),LOOKUP(AC172,Catálogos!O:O,Catálogos!R:R))","v":{"$error":"#N/A"}},"",null,null,null,{"$f":"IF(CD172=FALSE,\"COL. INCORRECTA\",LOOKUP(CONCATENATE(AE172,\" - \",AC172),Catálogos!T:T,Catálogos!Y:Y))","v":{"$error":"#N/A"}},{"$f":"IF(CD172=FALSE,\"COL. INCORRECTA\",LOOKUP(CONCATENATE(AE172,\" - \",AC172),Catálogos!T:T,Catálogos!X:X))","v":{"$error":"#N/A"}}," -SELECCIONAR-",""," -SELECCIONAR-",null,null," -SELECCIONAR-",null,null,null," -SELECCIONAR-",null,null," -SELECCIONAR-"," -SELECCIONAR-",null,null,null,null,null," -SELECCIONAR-",null,null,null,null,null,null," -SELECCIONAR-",null,null,null,null,null,null," -SELECCIONAR-",null,null,null,null,null,null," -SELECCIONAR-",null,null,{"$f":"LOOKUP(AB172,Catálogos!AP:AP,Catálogos!AO:AO)","v":"ERR"},{"$f":"CONCATENATE(LOOKUP(AC172,Catálogos!O:O,Catálogos!P:P),\".\",LOOKUP(AC172,Catálogos!O:O,Catálogos!Q:Q))","v":{"$error":"#N/A"}},{"$f":"IF(AC172=LOOKUP(CONCATENATE(AE172,\" - \",AC172),Catálogos!T:T,Catálogos!V:V),LOOKUP(CONCATENATE(AE172,\" - \",AC172),Catálogos!T:T,Catálogos!W:W),FALSE)","v":{"$error":"#N/A"}},{"$f":"LOOKUP(BD172,Catálogos!AM:AM,Catálogos!AL:AL)","v":"ERR"},{"$f":"LOOKUP(BK172,Catálogos!AM:AM,Catálogos!AL:AL)","v":"ERR"},{"$f":"LOOKUP(BR172,Catálogos!AM:AM,Catálogos!AL:AL)","v":"ERR"},{"$f":"LOOKUP(BY172,Catálogos!AM:AM,Catálogos!AL:AL)","v":"ERR"},0]
[null,null,null,null,null,null,null," -SELECCIONAR-"," -SELECCIONAR-"," -SELECCIONAR-",null," -SELECCIONAR-"," -SELECCIONAR-"," -SELECCIONAR-"," -SELECCIONAR-",null,null," -SELECCIONAR-",null,null,null," -SELECCIONAR-",null,null," -SELECCIONAR-",null," -SELECCIONAR-"," -SELECCIONAR-",null,{"$f":"IF(AC173=FALSE, LOOKUP(AC173,Catálogos!O:O),LOOKUP(AC173,Catálogos!O:O,Catálogos!R:R))","v":{"$error":"#N/A"}},"",null,null,null,{"$f":"IF(CD173=FALSE,\"COL. INCORRECTA\",LOOKUP(CONCATENATE(AE173,\" - \",AC173),Catálogos!T:T,Catálogos!Y:Y))","v":{"$error":"#N/A"}},{"$f":"IF(CD173=FALSE,\"COL. INCORRECTA\",LOOKUP(CONCATENATE(AE173,\" - \",AC173),Catálogos!T:T,Catálogos!X:X))","v":{"$error":"#N/A"}}," -SELECCIONAR-",""," -SELECCIONAR-",null,null," -SELECCIONAR-",null,null,null," -SELECCIONAR-",null,null," -SELECCIONAR-"," -SELECCIONAR-",null,null,null,null,null," -SELECCIONAR-",null,null,null,null,null,null," -SELECCIONAR-",null,null,null,null,null,null," -SELECCIONAR-",null,null,null,null,null,null," -SELECCIONAR-",null,null,{"$f":"LOOKUP(AB173,Catálogos!AP:AP,Catálogos!AO:AO)","v":"ERR"},{"$f":"CONCATENATE(LOOKUP(AC173,Catálogos!O:O,Catálogos!P:P),\".\",LOOKUP(AC173,Catálogos!O:O,Catálogos!Q:Q))","v":{"$error":"#N/A"}},{"$f":"IF(AC173=LOOKUP(CONCATENATE(AE173,\" - \",AC173),Catálogos!T:T,Catálogos!V:V),LOOKUP(CONCATENATE(AE173,\" - \",AC173),Catálogos!T:T,Catálogos!W:W),FALSE)","v":{"$error":"#N/A"}},{"$f":"LOOKUP(BD173,Catálogos!AM:AM,Catálogos!AL:AL)","v":"ERR"},{"$f":"LOOKUP(BK173,Catálogos!AM:AM,Catálogos!AL:AL)","v":"ERR"},{"$f":"LOOKUP(BR173,Catálogos!AM:AM,Catálogos!AL:AL)","v":"ERR"},{"$f":"LOOKUP(BY173,Catálogos!AM:AM,Catálogos!AL:AL)","v":"ERR"},0]
[null,null,null,null,null,null,null," -SELECCIONAR-"," -SELECCIONAR-"," -SELECCIONAR-",null," -SELECCIONAR-"," -SELECCIONAR-"," -SELECCIONAR-"," -SELECCIONAR-",null,null," -SELECCIONAR-",null,null,null," -SELECCIONAR-",null,null," -SELECCIONAR-",null," -SELECCIONAR-"," -SELECCIONAR-",null,{"$f":"IF(AC174=FALSE, LOOKUP(AC174,Catálogos!O:O),LOOKUP(AC174,Catálogos!O:O,Catálogos!R:R))","v":{"$error":"#N/A"}},"",null,null,null,{"$f":"IF(CD174=FALSE,\"COL. INCORRECTA\",LOOKUP(CONCATENATE(AE174,\" - \",AC174),Catálogos!T:T,Catálogos!Y:Y))","v":{"$error":"#N/A"}},{"$f":"IF(CD174=FALSE,\"COL. INCORRECTA\",LOOKUP(CONCATENATE(AE174,\" - \",AC174),Catálogos!T:T,Catálogos!X:X))","v":{"$error":"#N/A"}}," -SELECCIONAR-",""," -SELECCIONAR-",null,null," -SELECCIONAR-",null,null,null," -SELECCIONAR-",null,null," -SELECCIONAR-"," -SELECCIONAR-",null,null,null,null,null," -SELECCIONAR-",null,null,null,null,null,null," -SELECCIONAR-",null,null,null,null,null,null," -SELECCIONAR-",null,null,null,null,null,null," -SELECCIONAR-",null,null,{"$f":"LOOKUP(AB174,Catálogos!AP:AP,Catálogos!AO:AO)","v":"ERR"},{"$f":"CONCATENATE(LOOKUP(AC174,Catálogos!O:O,Catálogos!P:P),\".\",LOOKUP(AC174,Catálogos!O:O,Catálogos!Q:Q))","v":{"$error":"#N/A"}},{"$f":"IF(AC174=LOOKUP(CONCATENATE(AE174,\" - \",AC174),Catálogos!T:T,Catálogos!V:V),LOOKUP(CONCATENATE(AE174,\" - \",AC174),Catálogos!T:T,Catálogos!W:W),FALSE)","v":{"$error":"#N/A"}},{"$f":"LOOKUP(BD174,Catálogos!AM:AM,Catálogos!AL:AL)","v":"ERR"},{"$f":"LOOKUP(BK174,Catálogos!AM:AM,Catálogos!AL:AL)","v":"ERR"},{"$f":"LOOKUP(BR174,Catálogos!AM:AM,Catálogos!AL:AL)","v":"ERR"},{"$f":"LOOKUP(BY174,Catálogos!AM:AM,Catálogos!AL:AL)","v":"ERR"},0]
[null,null,null,null,null,null,null," -SELECCIONAR-"," -SELECCIONAR-"," -SELECCIONAR-",null," -SELECCIONAR-"," -SELECCIONAR-"," -SELECCIONAR-"," -SELECCIONAR-",null,null," -SELECCIONAR-",null,null,null," -SELECCIONAR-",null,null," -SELECCIONAR-",null," -SELECCIONAR-"," -SELECCIONAR-",null,{"$f":"IF(AC175=FALSE, LOOKUP(AC175,Catálogos!O:O),LOOKUP(AC175,Catálogos!O:O,Catálogos!R:R))","v":{"$error":"#N/A"}},"",null,null,null,{"$f":"IF(CD175=FALSE,\"COL. INCORRECTA\",LOOKUP(CONCATENATE(AE175,\" - \",AC175),Catálogos!T:T,Catálogos!Y:Y))","v":{"$error":"#N/A"}},{"$f":"IF(CD175=FALSE,\"COL. INCORRECTA\",LOOKUP(CONCATENATE(AE175,\" - \",AC175),Catálogos!T:T,Catálogos!X:X))","v":{"$error":"#N/A"}}," -SELECCIONAR-",""," -SELECCIONAR-",null,null," -SELECCIONAR-",null,null,null," -SELECCIONAR-",null,null," -SELECCIONAR-"," -SELECCIONAR-",null,null,null,null,null," -SELECCIONAR-",null,null,null,null,null,null," -SELECCIONAR-",null,null,null,null,null,null," -SELECCIONAR-",null,null,null,null,null,null," -SELECCIONAR-",null,null,{"$f":"LOOKUP(AB175,Catálogos!AP:AP,Catálogos!AO:AO)","v":"ERR"},{"$f":"CONCATENATE(LOOKUP(AC175,Catálogos!O:O,Catálogos!P:P),\".\",LOOKUP(AC175,Catálogos!O:O,Catálogos!Q:Q))","v":{"$error":"#N/A"}},{"$f":"IF(AC175=LOOKUP(CONCATENATE(AE175,\" - \",AC175),Catálogos!T:T,Catálogos!V:V),LOOKUP(CONCATENATE(AE175,\" - \",AC175),Catálogos!T:T,Catálogos!W:W),FALSE)","v":{"$error":"#N/A"}},{"$f":"LOOKUP(BD175,Catálogos!AM:AM,Catálogos!AL:AL)","v":"ERR"},{"$f":"LOOKUP(BK175,Catálogos!AM:AM,Catálogos!AL:AL)","v":"ERR"},{"$f":"LOOKUP(BR175,Catálogos!AM:AM,Catálogos!AL:AL)","v":"ERR"},{"$f":"LOOKUP(BY175,Catálogos!AM:AM,Catálogos!AL:AL)","v":"ERR"},0]
[null,null,null,null,null,null,null," -SELECCIONAR-"," -SELECCIONAR-"," -SELECCIONAR-",null," -SELECCIONAR-"," -SELECCIONAR-"," -SELECCIONAR-"," -SELECCIONAR-",null,null," -SELECCIONAR-",null,null,null," -SELECCIONAR-",null,null," -SELECCIONAR-",null," -SELECCIONAR-"," -SELECCIONAR-",null,{"$f":"IF(AC176=FALSE, LOOKUP(AC176,Catálogos!O:O),LOOKUP(AC176,Catálogos!O:O,Catálogos!R:R))","v":{"$error":"#N/A"}},"",null,null,null,{"$f":"IF(CD176=FALSE,\"COL. INCORRECTA\",LOOKUP(CONCATENATE(AE176,\" - \",AC176),Catálogos!T:T,Catálogos!Y:Y))","v":{"$error":"#N/A"}},{"$f":"IF(CD176=FALSE,\"COL. INCORRECTA\",LOOKUP(CONCATENATE(AE176,\" - \",AC176),Catálogos!T:T,Catálogos!X:X))","v":{"$error":"#N/A"}}," -SELECCIONAR-",""," -SELECCIONAR-",null,null," -SELECCIONAR-",null,null,null," -SELECCIONAR-",null,null," -SELECCIONAR-"," -SELECCIONAR-",null,null,null,null,null," -SELECCIONAR-",null,null,null,null,null,null," -SELECCIONAR-",null,null,null,null,null,null," -SELECCIONAR-",null,null,null,null,null,null," -SELECCIONAR-",null,null,{"$f":"LOOKUP(AB176,Catálogos!AP:AP,Catálogos!AO:AO)","v":"ERR"},{"$f":"CONCATENATE(LOOKUP(AC176,Catálogos!O:O,Catálogos!P:P),\".\",LOOKUP(AC176,Catálogos!O:O,Catálogos!Q:Q))","v":{"$error":"#N/A"}},{"$f":"IF(AC176=LOOKUP(CONCATENATE(AE176,\" - \",AC176),Catálogos!T:T,Catálogos!V:V),LOOKUP(CONCATENATE(AE176,\" - \",AC176),Catálogos!T:T,Catálogos!W:W),FALSE)","v":{"$error":"#N/A"}},{"$f":"LOOKUP(BD176,Catálogos!AM:AM,Catálogos!AL:AL)","v":"ERR"},{"$f":"LOOKUP(BK176,Catálogos!AM:AM,Catálogos!AL:AL)","v":"ERR"},{"$f":"LOOKUP(BR176,Catálogos!AM:AM,Catálogos!AL:AL)","v":"ERR"},{"$f":"LOOKUP(BY176,Catálogos!AM:AM,Catálogos!AL:AL)","v":"ERR"},0]
[null,null,null,null,null,null,null," -SELECCIONAR-"," -SELECCIONAR-"," -SELECCIONAR-",null," -SELECCIONAR-"," -SELECCIONAR-"," -SELECCIONAR-"," -SELECCIONAR-",null,null," -SELECCIONAR-",null,null,null," -SELECCIONAR-",null,null," -SELECCIONAR-",null," -SELECCIONAR-"," -SELECCIONAR-",null,{"$f":"IF(AC177=FALSE, LOOKUP(AC177,Catálogos!O:O),LOOKUP(AC177,Catálogos!O:O,Catálogos!R:R))","v":{"$error":"#N/A"}},"",null,null,null,{"$f":"IF(CD177=FALSE,\"COL. INCORRECTA\",LOOKUP(CONCATENATE(AE177,\" - \",AC177),Catálogos!T:T,Catálogos!Y:Y))","v":{"$error":"#N/A"}},{"$f":"IF(CD177=FALSE,\"COL. INCORRECTA\",LOOKUP(CONCATENATE(AE177,\" - \",AC177),Catálogos!T:T,Catálogos!X:X))","v":{"$error":"#N/A"}}," -SELECCIONAR-",""," -SELECCIONAR-",null,null," -SELECCIONAR-",null,null,null," -SELECCIONAR-",null,null," -SELECCIONAR-"," -SELECCIONAR-",null,null,null,null,null," -SELECCIONAR-",null,null,null,null,null,null," -SELECCIONAR-",null,null,null,null,null,null," -SELECCIONAR-",null,null,null,null,null,null," -SELECCIONAR-",null,null,{"$f":"LOOKUP(AB177,Catálogos!AP:AP,Catálogos!AO:AO)","v":"ERR"},{"$f":"CONCATENATE(LOOKUP(AC177,Catálogos!O:O,Catálogos!P:P),\".\",LOOKUP(AC177,Catálogos!O:O,Catálogos!Q:Q))","v":{"$error":"#N/A"}},{"$f":"IF(AC177=LOOKUP(CONCATENATE(AE177,\" - \",AC177),Catálogos!T:T,Catálogos!V:V),LOOKUP(CONCATENATE(AE177,\" - \",AC177),Catálogos!T:T,Catálogos!W:W),FALSE)","v":{"$error":"#N/A"}},{"$f":"LOOKUP(BD177,Catálogos!AM:AM,Catálogos!AL:AL)","v":"ERR"},{"$f":"LOOKUP(BK177,Catálogos!AM:AM,Catálogos!AL:AL)","v":"ERR"},{"$f":"LOOKUP(BR177,Catálogos!AM:AM,Catálogos!AL:AL)","v":"ERR"},{"$f":"LOOKUP(BY177,Catálogos!AM:AM,Catálogos!AL:AL)","v":"ERR"},0]
[null,null,null,null,null,null,null," -SELECCIONAR-"," -SELECCIONAR-"," -SELECCIONAR-",null," -SELECCIONAR-"," -SELECCIONAR-"," -SELECCIONAR-"," -SELECCIONAR-",null,null," -SELECCIONAR-",null,null,null," -SELECCIONAR-",null,null," -SELECCIONAR-",null," -SELECCIONAR-"," -SELECCIONAR-",null,{"$f":"IF(AC178=FALSE, LOOKUP(AC178,Catálogos!O:O),LOOKUP(AC178,Catálogos!O:O,Catálogos!R:R))","v":{"$error":"#N/A"}},"",null,null,null,{"$f":"IF(CD178=FALSE,\"COL. INCORRECTA\",LOOKUP(CONCATENATE(AE178,\" - \",AC178),Catálogos!T:T,Catálogos!Y:Y))","v":{"$error":"#N/A"}},{"$f":"IF(CD178=FALSE,\"COL. INCORRECTA\",LOOKUP(CONCATENATE(AE178,\" - \",AC178),Catálogos!T:T,Catálogos!X:X))","v":{"$error":"#N/A"}}," -SELECCIONAR-",""," -SELECCIONAR-",null,null," -SELECCIONAR-",null,null,null," -SELECCIONAR-",null,null," -SELECCIONAR-"," -SELECCIONAR-",null,null,null,null,null," -SELECCIONAR-",null,null,null,null,null,null," -SELECCIONAR-",null,null,null,null,null,null," -SELECCIONAR-",null,null,null,null,null,null," -SELECCIONAR-",null,null,{"$f":"LOOKUP(AB178,Catálogos!AP:AP,Catálogos!AO:AO)","v":"ERR"},{"$f":"CONCATENATE(LOOKUP(AC178,Catálogos!O:O,Catálogos!P:P),\".\",LOOKUP(AC178,Catálogos!O:O,Catálogos!Q:Q))","v":{"$error":"#N/A"}},{"$f":"IF(AC178=LOOKUP(CONCATENATE(AE178,\" - \",AC178),Catálogos!T:T,Catálogos!V:V),LOOKUP(CONCATENATE(AE178,\" - \",AC178),Catálogos!T:T,Catálogos!W:W),FALSE)","v":{"$error":"#N/A"}},{"$f":"LOOKUP(BD178,Catálogos!AM:AM,Catálogos!AL:AL)","v":"ERR"},{"$f":"LOOKUP(BK178,Catálogos!AM:AM,Catálogos!AL:AL)","v":"ERR"},{"$f":"LOOKUP(BR178,Catálogos!AM:AM,Catálogos!AL:AL)","v":"ERR"},{"$f":"LOOKUP(BY178,Catálogos!AM:AM,Catálogos!AL:AL)","v":"ERR"},0]
[null,null,null,null,null,null,null," -SELECCIONAR-"," -SELECCIONAR-"," -SELECCIONAR-",null," -SELECCIONAR-"," -SELECCIONAR-"," -SELECCIONAR-"," -SELECCIONAR-",null,null," -SELECCIONAR-",null,null,null," -SELECCIONAR-",null,null," -SELECCIONAR-",null," -SELECCIONAR-"," -SELECCIONAR-",null,{"$f":"IF(AC179=FALSE, LOOKUP(AC179,Catálogos!O:O),LOOKUP(AC179,Catálogos!O:O,Catálogos!R:R))","v":{"$error":"#N/A"}},"",null,null,null,{"$f":"IF(CD179=FALSE,\"COL. INCORRECTA\",LOOKUP(CONCATENATE(AE179,\" - \",AC179),Catálogos!T:T,Catálogos!Y:Y))","v":{"$error":"#N/A"}},{"$f":"IF(CD179=FALSE,\"COL. INCORRECTA\",LOOKUP(CONCATENATE(AE179,\" - \",AC179),Catálogos!T:T,Catálogos!X:X))","v":{"$error":"#N/A"}}," -SELECCIONAR-",""," -SELECCIONAR-",null,null," -SELECCIONAR-",null,null,null," -SELECCIONAR-",null,null," -SELECCIONAR-"," -SELECCIONAR-",null,null,null,null,null," -SELECCIONAR-",null,null,null,null,null,null," -SELECCIONAR-",null,null,null,null,null,null," -SELECCIONAR-",null,null,null,null,null,null," -SELECCIONAR-",null,null,{"$f":"LOOKUP(AB179,Catálogos!AP:AP,Catálogos!AO:AO)","v":"ERR"},{"$f":"CONCATENATE(LOOKUP(AC179,Catálogos!O:O,Catálogos!P:P),\".\",LOOKUP(AC179,Catálogos!O:O,Catálogos!Q:Q))","v":{"$error":"#N/A"}},{"$f":"IF(AC179=LOOKUP(CONCATENATE(AE179,\" - \",AC179),Catálogos!T:T,Catálogos!V:V),LOOKUP(CONCATENATE(AE179,\" - \",AC179),Catálogos!T:T,Catálogos!W:W),FALSE)","v":{"$error":"#N/A"}},{"$f":"LOOKUP(BD179,Catálogos!AM:AM,Catálogos!AL:AL)","v":"ERR"},{"$f":"LOOKUP(BK179,Catálogos!AM:AM,Catálogos!AL:AL)","v":"ERR"},{"$f":"LOOKUP(BR179,Catálogos!AM:AM,Catálogos!AL:AL)","v":"ERR"},{"$f":"LOOKUP(BY179,Catálogos!AM:AM,Catálogos!AL:AL)","v":"ERR"},0]
[null,null,null,null,null,null,null," -SELECCIONAR-"," -SELECCIONAR-"," -SELECCIONAR-",null," -SELECCIONAR-"," -SELECCIONAR-"," -SELECCIONAR-"," -SELECCIONAR-",null,null," -SELECCIONAR-",null,null,null," -SELECCIONAR-",null,null," -SELECCIONAR-",null," -SELECCIONAR-"," -SELECCIONAR-",null,{"$f":"IF(AC180=FALSE, LOOKUP(AC180,Catálogos!O:O),LOOKUP(AC180,Catálogos!O:O,Catálogos!R:R))","v":{"$error":"#N/A"}},"",null,null,null,{"$f":"IF(CD180=FALSE,\"COL. INCORRECTA\",LOOKUP(CONCATENATE(AE180,\" - \",AC180),Catálogos!T:T,Catálogos!Y:Y))","v":{"$error":"#N/A"}},{"$f":"IF(CD180=FALSE,\"COL. INCORRECTA\",LOOKUP(CONCATENATE(AE180,\" - \",AC180),Catálogos!T:T,Catálogos!X:X))","v":{"$error":"#N/A"}}," -SELECCIONAR-",""," -SELECCIONAR-",null,null," -SELECCIONAR-",null,null,null," -SELECCIONAR-",null,null," -SELECCIONAR-"," -SELECCIONAR-",null,null,null,null,null," -SELECCIONAR-",null,null,null,null,null,null," -SELECCIONAR-",null,null,null,null,null,null," -SELECCIONAR-",null,null,null,null,null,null," -SELECCIONAR-",null,null,{"$f":"LOOKUP(AB180,Catálogos!AP:AP,Catálogos!AO:AO)","v":"ERR"},{"$f":"CONCATENATE(LOOKUP(AC180,Catálogos!O:O,Catálogos!P:P),\".\",LOOKUP(AC180,Catálogos!O:O,Catálogos!Q:Q))","v":{"$error":"#N/A"}},{"$f":"IF(AC180=LOOKUP(CONCATENATE(AE180,\" - \",AC180),Catálogos!T:T,Catálogos!V:V),LOOKUP(CONCATENATE(AE180,\" - \",AC180),Catálogos!T:T,Catálogos!W:W),FALSE)","v":{"$error":"#N/A"}},{"$f":"LOOKUP(BD180,Catálogos!AM:AM,Catálogos!AL:AL)","v":"ERR"},{"$f":"LOOKUP(BK180,Catálogos!AM:AM,Catálogos!AL:AL)","v":"ERR"},{"$f":"LOOKUP(BR180,Catálogos!AM:AM,Catálogos!AL:AL)","v":"ERR"},{"$f":"LOOKUP(BY180,Catálogos!AM:AM,Catálogos!AL:AL)","v":"ERR"},0]
[null,null,null,null,null,null,null," -SELECCIONAR-"," -SELECCIONAR-"," -SELECCIONAR-",null," -SELECCIONAR-"," -SELECCIONAR-"," -SELECCIONAR-"," -SELECCIONAR-",null,null," -SELECCIONAR-",null,null,null," -SELECCIONAR-",null,null," -SELECCIONAR-",null," -SELECCIONAR-"," -SELECCIONAR-",null,{"$f":"IF(AC181=FALSE, LOOKUP(AC181,Catálogos!O:O),LOOKUP(AC181,Catálogos!O:O,Catálogos!R:R))","v":{"$error":"#N/A"}},"",null,null,null,{"$f":"IF(CD181=FALSE,\"COL. INCORRECTA\",LOOKUP(CONCATENATE(AE181,\" - \",AC181),Catálogos!T:T,Catálogos!Y:Y))","v":{"$error":"#N/A"}},{"$f":"IF(CD181=FALSE,\"COL. INCORRECTA\",LOOKUP(CONCATENATE(AE181,\" - \",AC181),Catálogos!T:T,Catálogos!X:X))","v":{"$error":"#N/A"}}," -SELECCIONAR-",""," -SELECCIONAR-",null,null," -SELECCIONAR-",null,null,null," -SELECCIONAR-",null,null," -SELECCIONAR-"," -SELECCIONAR-",null,null,null,null,null," -SELECCIONAR-",null,null,null,null,null,null," -SELECCIONAR-",null,null,null,null,null,null," -SELECCIONAR-",null,null,null,null,null,null," -SELECCIONAR-",null,null,{"$f":"LOOKUP(AB181,Catálogos!AP:AP,Catálogos!AO:AO)","v":"ERR"},{"$f":"CONCATENATE(LOOKUP(AC181,Catálogos!O:O,Catálogos!P:P),\".\",LOOKUP(AC181,Catálogos!O:O,Catálogos!Q:Q))","v":{"$error":"#N/A"}},{"$f":"IF(AC181=LOOKUP(CONCATENATE(AE181,\" - \",AC181),Catálogos!T:T,Catálogos!V:V),LOOKUP(CONCATENATE(AE181,\" - \",AC181),Catálogos!T:T,Catálogos!W:W),FALSE)","v":{"$error":"#N/A"}},{"$f":"LOOKUP(BD181,Catálogos!AM:AM,Catálogos!AL:AL)","v":"ERR"},{"$f":"LOOKUP(BK181,Catálogos!AM:AM,Catálogos!AL:AL)","v":"ERR"},{"$f":"LOOKUP(BR181,Catálogos!AM:AM,Catálogos!AL:AL)","v":"ERR"},{"$f":"LOOKUP(BY181,Catálogos!AM:AM,Catálogos!AL:AL)","v":"ERR"},0]
[null,null,null,null,null,null,null," -SELECCIONAR-"," -SELECCIONAR-"," -SELECCIONAR-",null," -SELECCIONAR-"," -SELECCIONAR-"," -SELECCIONAR-"," -SELECCIONAR-",null,null," -SELECCIONAR-",null,null,null," -SELECCIONAR-",null,null," -SELECCIONAR-",null," -SELECCIONAR-"," -SELECCIONAR-",null,{"$f":"IF(AC182=FALSE, LOOKUP(AC182,Catálogos!O:O),LOOKUP(AC182,Catálogos!O:O,Catálogos!R:R))","v":{"$error":"#N/A"}},"",null,null,null,{"$f":"IF(CD182=FALSE,\"COL. INCORRECTA\",LOOKUP(CONCATENATE(AE182,\" - \",AC182),Catálogos!T:T,Catálogos!Y:Y))","v":{"$error":"#N/A"}},{"$f":"IF(CD182=FALSE,\"COL. INCORRECTA\",LOOKUP(CONCATENATE(AE182,\" - \",AC182),Catálogos!T:T,Catálogos!X:X))","v":{"$error":"#N/A"}}," -SELECCIONAR-",""," -SELECCIONAR-",null,null," -SELECCIONAR-",null,null,null," -SELECCIONAR-",null,null," -SELECCIONAR-"," -SELECCIONAR-",null,null,null,null,null," -SELECCIONAR-",null,null,null,null,null,null," -SELECCIONAR-",null,null,null,null,null,null," -SELECCIONAR-",null,null,null,null,null,null," -SELECCIONAR-",null,null,{"$f":"LOOKUP(AB182,Catálogos!AP:AP,Catálogos!AO:AO)","v":"ERR"},{"$f":"CONCATENATE(LOOKUP(AC182,Catálogos!O:O,Catálogos!P:P),\".\",LOOKUP(AC182,Catálogos!O:O,Catálogos!Q:Q))","v":{"$error":"#N/A"}},{"$f":"IF(AC182=LOOKUP(CONCATENATE(AE182,\" - \",AC182),Catálogos!T:T,Catálogos!V:V),LOOKUP(CONCATENATE(AE182,\" - \",AC182),Catálogos!T:T,Catálogos!W:W),FALSE)","v":{"$error":"#N/A"}},{"$f":"LOOKUP(BD182,Catálogos!AM:AM,Catálogos!AL:AL)","v":"ERR"},{"$f":"LOOKUP(BK182,Catálogos!AM:AM,Catálogos!AL:AL)","v":"ERR"},{"$f":"LOOKUP(BR182,Catálogos!AM:AM,Catálogos!AL:AL)","v":"ERR"},{"$f":"LOOKUP(BY182,Catálogos!AM:AM,Catálogos!AL:AL)","v":"ERR"},0]
[null,null,null,null,null,null,null," -SELECCIONAR-"," -SELECCIONAR-"," -SELECCIONAR-",null," -SELECCIONAR-"," -SELECCIONAR-"," -SELECCIONAR-"," -SELECCIONAR-",null,null," -SELECCIONAR-",null,null,null," -SELECCIONAR-",null,null," -SELECCIONAR-",null," -SELECCIONAR-"," -SELECCIONAR-",null,{"$f":"IF(AC183=FALSE, LOOKUP(AC183,Catálogos!O:O),LOOKUP(AC183,Catálogos!O:O,Catálogos!R:R))","v":{"$error":"#N/A"}},"",null,null,null,{"$f":"IF(CD183=FALSE,\"COL. INCORRECTA\",LOOKUP(CONCATENATE(AE183,\" - \",AC183),Catálogos!T:T,Catálogos!Y:Y))","v":{"$error":"#N/A"}},{"$f":"IF(CD183=FALSE,\"COL. INCORRECTA\",LOOKUP(CONCATENATE(AE183,\" - \",AC183),Catálogos!T:T,Catálogos!X:X))","v":{"$error":"#N/A"}}," -SELECCIONAR-",""," -SELECCIONAR-",null,null," -SELECCIONAR-",null,null,null," -SELECCIONAR-",null,null," -SELECCIONAR-"," -SELECCIONAR-",null,null,null,null,null," -SELECCIONAR-",null,null,null,null,null,null," -SELECCIONAR-",null,null,null,null,null,null," -SELECCIONAR-",null,null,null,null,null,null," -SELECCIONAR-",null,null,{"$f":"LOOKUP(AB183,Catálogos!AP:AP,Catálogos!AO:AO)","v":"ERR"},{"$f":"CONCATENATE(LOOKUP(AC183,Catálogos!O:O,Catálogos!P:P),\".\",LOOKUP(AC183,Catálogos!O:O,Catálogos!Q:Q))","v":{"$error":"#N/A"}},{"$f":"IF(AC183=LOOKUP(CONCATENATE(AE183,\" - \",AC183),Catálogos!T:T,Catálogos!V:V),LOOKUP(CONCATENATE(AE183,\" - \",AC183),Catálogos!T:T,Catálogos!W:W),FALSE)","v":{"$error":"#N/A"}},{"$f":"LOOKUP(BD183,Catálogos!AM:AM,Catálogos!AL:AL)","v":"ERR"},{"$f":"LOOKUP(BK183,Catálogos!AM:AM,Catálogos!AL:AL)","v":"ERR"},{"$f":"LOOKUP(BR183,Catálogos!AM:AM,Catálogos!AL:AL)","v":"ERR"},{"$f":"LOOKUP(BY183,Catálogos!AM:AM,Catálogos!AL:AL)","v":"ERR"},0]
[null,null,null,null,null,null,null," -SELECCIONAR-"," -SELECCIONAR-"," -SELECCIONAR-",null," -SELECCIONAR-"," -SELECCIONAR-"," -SELECCIONAR-"," -SELECCIONAR-",null,null," -SELECCIONAR-",null,null,null," -SELECCIONAR-",null,null," -SELECCIONAR-",null," -SELECCIONAR-"," -SELECCIONAR-",null,{"$f":"IF(AC184=FALSE, LOOKUP(AC184,Catálogos!O:O),LOOKUP(AC184,Catálogos!O:O,Catálogos!R:R))","v":{"$error":"#N/A"}},"",null,null,null,{"$f":"IF(CD184=FALSE,\"COL. INCORRECTA\",LOOKUP(CONCATENATE(AE184,\" - \",AC184),Catálogos!T:T,Catálogos!Y:Y))","v":{"$error":"#N/A"}},{"$f":"IF(CD184=FALSE,\"COL. INCORRECTA\",LOOKUP(CONCATENATE(AE184,\" - \",AC184),Catálogos!T:T,Catálogos!X:X))","v":{"$error":"#N/A"}}," -SELECCIONAR-",""," -SELECCIONAR-",null,null," -SELECCIONAR-",null,null,null," -SELECCIONAR-",null,null," -SELECCIONAR-"," -SELECCIONAR-",null,null,null,null,null," -SELECCIONAR-",null,null,null,null,null,null," -SELECCIONAR-",null,null,null,null,null,null," -SELECCIONAR-",null,null,null,null,null,null," -SELECCIONAR-",null,null,{"$f":"LOOKUP(AB184,Catálogos!AP:AP,Catálogos!AO:AO)","v":"ERR"},{"$f":"CONCATENATE(LOOKUP(AC184,Catálogos!O:O,Catálogos!P:P),\".\",LOOKUP(AC184,Catálogos!O:O,Catálogos!Q:Q))","v":{"$error":"#N/A"}},{"$f":"IF(AC184=LOOKUP(CONCATENATE(AE184,\" - \",AC184),Catálogos!T:T,Catálogos!V:V),LOOKUP(CONCATENATE(AE184,\" - \",AC184),Catálogos!T:T,Catálogos!W:W),FALSE)","v":{"$error":"#N/A"}},{"$f":"LOOKUP(BD184,Catálogos!AM:AM,Catálogos!AL:AL)","v":"ERR"},{"$f":"LOOKUP(BK184,Catálogos!AM:AM,Catálogos!AL:AL)","v":"ERR"},{"$f":"LOOKUP(BR184,Catálogos!AM:AM,Catálogos!AL:AL)","v":"ERR"},{"$f":"LOOKUP(BY184,Catálogos!AM:AM,Catálogos!AL:AL)","v":"ERR"},0]
[null,null,null,null,null,null,null," -SELECCIONAR-"," -SELECCIONAR-"," -SELECCIONAR-",null," -SELECCIONAR-"," -SELECCIONAR-"," -SELECCIONAR-"," -SELECCIONAR-",null,null," -SELECCIONAR-",null,null,null," -SELECCIONAR-",null,null," -SELECCIONAR-",null," -SELECCIONAR-"," -SELECCIONAR-",null,{"$f":"IF(AC185=FALSE, LOOKUP(AC185,Catálogos!O:O),LOOKUP(AC185,Catálogos!O:O,Catálogos!R:R))","v":{"$error":"#N/A"}},"",null,null,null,{"$f":"IF(CD185=FALSE,\"COL. INCORRECTA\",LOOKUP(CONCATENATE(AE185,\" - \",AC185),Catálogos!T:T,Catálogos!Y:Y))","v":{"$error":"#N/A"}},{"$f":"IF(CD185=FALSE,\"COL. INCORRECTA\",LOOKUP(CONCATENATE(AE185,\" - \",AC185),Catálogos!T:T,Catálogos!X:X))","v":{"$error":"#N/A"}}," -SELECCIONAR-",""," -SELECCIONAR-",null,null," -SELECCIONAR-",null,null,null," -SELECCIONAR-",null,null," -SELECCIONAR-"," -SELECCIONAR-",null,null,null,null,null," -SELECCIONAR-",null,null,null,null,null,null," -SELECCIONAR-",null,null,null,null,null,null," -SELECCIONAR-",null,null,null,null,null,null," -SELECCIONAR-",null,null,{"$f":"LOOKUP(AB185,Catálogos!AP:AP,Catálogos!AO:AO)","v":"ERR"},{"$f":"CONCATENATE(LOOKUP(AC185,Catálogos!O:O,Catálogos!P:P),\".\",LOOKUP(AC185,Catálogos!O:O,Catálogos!Q:Q))","v":{"$error":"#N/A"}},{"$f":"IF(AC185=LOOKUP(CONCATENATE(AE185,\" - \",AC185),Catálogos!T:T,Catálogos!V:V),LOOKUP(CONCATENATE(AE185,\" - \",AC185),Catálogos!T:T,Catálogos!W:W),FALSE)","v":{"$error":"#N/A"}},{"$f":"LOOKUP(BD185,Catálogos!AM:AM,Catálogos!AL:AL)","v":"ERR"},{"$f":"LOOKUP(BK185,Catálogos!AM:AM,Catálogos!AL:AL)","v":"ERR"},{"$f":"LOOKUP(BR185,Catálogos!AM:AM,Catálogos!AL:AL)","v":"ERR"},{"$f":"LOOKUP(BY185,Catálogos!AM:AM,Catálogos!AL:AL)","v":"ERR"},0]
[null,null,null,null,null,null,null," -SELECCIONAR-"," -SELECCIONAR-"," -SELECCIONAR-",null," -SELECCIONAR-"," -SELECCIONAR-"," -SELECCIONAR-"," -SELECCIONAR-",null,null," -SELECCIONAR-",null,null,null," -SELECCIONAR-",null,null," -SELECCIONAR-",null," -SELECCIONAR-"," -SELECCIONAR-",null,{"$f":"IF(AC186=FALSE, LOOKUP(AC186,Catálogos!O:O),LOOKUP(AC186,Catálogos!O:O,Catálogos!R:R))","v":{"$error":"#N/A"}},"",null,null,null,{"$f":"IF(CD186=FALSE,\"COL. INCORRECTA\",LOOKUP(CONCATENATE(AE186,\" - \",AC186),Catálogos!T:T,Catálogos!Y:Y))","v":{"$error":"#N/A"}},{"$f":"IF(CD186=FALSE,\"COL. INCORRECTA\",LOOKUP(CONCATENATE(AE186,\" - \",AC186),Catálogos!T:T,Catálogos!X:X))","v":{"$error":"#N/A"}}," -SELECCIONAR-",""," -SELECCIONAR-",null,null," -SELECCIONAR-",null,null,null," -SELECCIONAR-",null,null," -SELECCIONAR-"," -SELECCIONAR-",null,null,null,null,null," -SELECCIONAR-",null,null,null,null,null,null," -SELECCIONAR-",null,null,null,null,null,null," -SELECCIONAR-",null,null,null,null,null,null," -SELECCIONAR-",null,null,{"$f":"LOOKUP(AB186,Catálogos!AP:AP,Catálogos!AO:AO)","v":"ERR"},{"$f":"CONCATENATE(LOOKUP(AC186,Catálogos!O:O,Catálogos!P:P),\".\",LOOKUP(AC186,Catálogos!O:O,Catálogos!Q:Q))","v":{"$error":"#N/A"}},{"$f":"IF(AC186=LOOKUP(CONCATENATE(AE186,\" - \",AC186),Catálogos!T:T,Catálogos!V:V),LOOKUP(CONCATENATE(AE186,\" - \",AC186),Catálogos!T:T,Catálogos!W:W),FALSE)","v":{"$error":"#N/A"}},{"$f":"LOOKUP(BD186,Catálogos!AM:AM,Catálogos!AL:AL)","v":"ERR"},{"$f":"LOOKUP(BK186,Catálogos!AM:AM,Catálogos!AL:AL)","v":"ERR"},{"$f":"LOOKUP(BR186,Catálogos!AM:AM,Catálogos!AL:AL)","v":"ERR"},{"$f":"LOOKUP(BY186,Catálogos!AM:AM,Catálogos!AL:AL)","v":"ERR"},0]
[null,null,null,null,null,null,null," -SELECCIONAR-"," -SELECCIONAR-"," -SELECCIONAR-",null," -SELECCIONAR-"," -SELECCIONAR-"," -SELECCIONAR-"," -SELECCIONAR-",null,null," -SELECCIONAR-",null,null,null," -SELECCIONAR-",null,null," -SELECCIONAR-",null," -SELECCIONAR-"," -SELECCIONAR-",null,{"$f":"IF(AC187=FALSE, LOOKUP(AC187,Catálogos!O:O),LOOKUP(AC187,Catálogos!O:O,Catálogos!R:R))","v":{"$error":"#N/A"}},"",null,null,null,{"$f":"IF(CD187=FALSE,\"COL. INCORRECTA\",LOOKUP(CONCATENATE(AE187,\" - \",AC187),Catálogos!T:T,Catálogos!Y:Y))","v":{"$error":"#N/A"}},{"$f":"IF(CD187=FALSE,\"COL. INCORRECTA\",LOOKUP(CONCATENATE(AE187,\" - \",AC187),Catálogos!T:T,Catálogos!X:X))","v":{"$error":"#N/A"}}," -SELECCIONAR-",""," -SELECCIONAR-",null,null," -SELECCIONAR-",null,null,null," -SELECCIONAR-",null,null," -SELECCIONAR-"," -SELECCIONAR-",null,null,null,null,null," -SELECCIONAR-",null,null,null,null,null,null," -SELECCIONAR-",null,null,null,null,null,null," -SELECCIONAR-",null,null,null,null,null,null," -SELECCIONAR-",null,null,{"$f":"LOOKUP(AB187,Catálogos!AP:AP,Catálogos!AO:AO)","v":"ERR"},{"$f":"CONCATENATE(LOOKUP(AC187,Catálogos!O:O,Catálogos!P:P),\".\",LOOKUP(AC187,Catálogos!O:O,Catálogos!Q:Q))","v":{"$error":"#N/A"}},{"$f":"IF(AC187=LOOKUP(CONCATENATE(AE187,\" - \",AC187),Catálogos!T:T,Catálogos!V:V),LOOKUP(CONCATENATE(AE187,\" - \",AC187),Catálogos!T:T,Catálogos!W:W),FALSE)","v":{"$error":"#N/A"}},{"$f":"LOOKUP(BD187,Catálogos!AM:AM,Catálogos!AL:AL)","v":"ERR"},{"$f":"LOOKUP(BK187,Catálogos!AM:AM,Catálogos!AL:AL)","v":"ERR"},{"$f":"LOOKUP(BR187,Catálogos!AM:AM,Catálogos!AL:AL)","v":"ERR"},{"$f":"LOOKUP(BY187,Catálogos!AM:AM,Catálogos!AL:AL)","v":"ERR"},0]
[null,null,null,null,null,null,null," -SELECCIONAR-"," -SELECCIONAR-"," -SELECCIONAR-",null," -SELECCIONAR-"," -SELECCIONAR-"," -SELECCIONAR-"," -SELECCIONAR-",null,null," -SELECCIONAR-",null,null,null," -SELECCIONAR-",null,null," -SELECCIONAR-",null," -SELECCIONAR-"," -SELECCIONAR-",null,{"$f":"IF(AC188=FALSE, LOOKUP(AC188,Catálogos!O:O),LOOKUP(AC188,Catálogos!O:O,Catálogos!R:R))","v":{"$error":"#N/A"}},"",null,null,null,{"$f":"IF(CD188=FALSE,\"COL. INCORRECTA\",LOOKUP(CONCATENATE(AE188,\" - \",AC188),Catálogos!T:T,Catálogos!Y:Y))","v":{"$error":"#N/A"}},{"$f":"IF(CD188=FALSE,\"COL. INCORRECTA\",LOOKUP(CONCATENATE(AE188,\" - \",AC188),Catálogos!T:T,Catálogos!X:X))","v":{"$error":"#N/A"}}," -SELECCIONAR-",""," -SELECCIONAR-",null,null," -SELECCIONAR-",null,null,null," -SELECCIONAR-",null,null," -SELECCIONAR-"," -SELECCIONAR-",null,null,null,null,null," -SELECCIONAR-",null,null,null,null,null,null," -SELECCIONAR-",null,null,null,null,null,null," -SELECCIONAR-",null,null,null,null,null,null," -SELECCIONAR-",null,null,{"$f":"LOOKUP(AB188,Catálogos!AP:AP,Catálogos!AO:AO)","v":"ERR"},{"$f":"CONCATENATE(LOOKUP(AC188,Catálogos!O:O,Catálogos!P:P),\".\",LOOKUP(AC188,Catálogos!O:O,Catálogos!Q:Q))","v":{"$error":"#N/A"}},{"$f":"IF(AC188=LOOKUP(CONCATENATE(AE188,\" - \",AC188),Catálogos!T:T,Catálogos!V:V),LOOKUP(CONCATENATE(AE188,\" - \",AC188),Catálogos!T:T,Catálogos!W:W),FALSE)","v":{"$error":"#N/A"}},{"$f":"LOOKUP(BD188,Catálogos!AM:AM,Catálogos!AL:AL)","v":"ERR"},{"$f":"LOOKUP(BK188,Catálogos!AM:AM,Catálogos!AL:AL)","v":"ERR"},{"$f":"LOOKUP(BR188,Catálogos!AM:AM,Catálogos!AL:AL)","v":"ERR"},{"$f":"LOOKUP(BY188,Catálogos!AM:AM,Catálogos!AL:AL)","v":"ERR"},0]
[null,null,null,null,null,null,null," -SELECCIONAR-"," -SELECCIONAR-"," -SELECCIONAR-",null," -SELECCIONAR-"," -SELECCIONAR-"," -SELECCIONAR-"," -SELECCIONAR-",null,null," -SELECCIONAR-",null,null,null," -SELECCIONAR-",null,null," -SELECCIONAR-",null," -SELECCIONAR-"," -SELECCIONAR-",null,{"$f":"IF(AC189=FALSE, LOOKUP(AC189,Catálogos!O:O),LOOKUP(AC189,Catálogos!O:O,Catálogos!R:R))","v":{"$error":"#N/A"}},"",null,null,null,{"$f":"IF(CD189=FALSE,\"COL. INCORRECTA\",LOOKUP(CONCATENATE(AE189,\" - \",AC189),Catálogos!T:T,Catálogos!Y:Y))","v":{"$error":"#N/A"}},{"$f":"IF(CD189=FALSE,\"COL. INCORRECTA\",LOOKUP(CONCATENATE(AE189,\" - \",AC189),Catálogos!T:T,Catálogos!X:X))","v":{"$error":"#N/A"}}," -SELECCIONAR-",""," -SELECCIONAR-",null,null," -SELECCIONAR-",null,null,null," -SELECCIONAR-",null,null," -SELECCIONAR-"," -SELECCIONAR-",null,null,null,null,null," -SELECCIONAR-",null,null,null,null,null,null," -SELECCIONAR-",null,null,null,null,null,null," -SELECCIONAR-",null,null,null,null,null,null," -SELECCIONAR-",null,null,{"$f":"LOOKUP(AB189,Catálogos!AP:AP,Catálogos!AO:AO)","v":"ERR"},{"$f":"CONCATENATE(LOOKUP(AC189,Catálogos!O:O,Catálogos!P:P),\".\",LOOKUP(AC189,Catálogos!O:O,Catálogos!Q:Q))","v":{"$error":"#N/A"}},{"$f":"IF(AC189=LOOKUP(CONCATENATE(AE189,\" - \",AC189),Catálogos!T:T,Catálogos!V:V),LOOKUP(CONCATENATE(AE189,\" - \",AC189),Catálogos!T:T,Catálogos!W:W),FALSE)","v":{"$error":"#N/A"}},{"$f":"LOOKUP(BD189,Catálogos!AM:AM,Catálogos!AL:AL)","v":"ERR"},{"$f":"LOOKUP(BK189,Catálogos!AM:AM,Catálogos!AL:AL)","v":"ERR"},{"$f":"LOOKUP(BR189,Catálogos!AM:AM,Catálogos!AL:AL)","v":"ERR"},{"$f":"LOOKUP(BY189,Catálogos!AM:AM,Catálogos!AL:AL)","v":"ERR"},0]
[null,null,null,null,null,null,null," -SELECCIONAR-"," -SELECCIONAR-"," -SELECCIONAR-",null," -SELECCIONAR-"," -SELECCIONAR-"," -SELECCIONAR-"," -SELECCIONAR-",null,null," -SELECCIONAR-",null,null,null," -SELECCIONAR-",null,null," -SELECCIONAR-",null," -SELECCIONAR-"," -SELECCIONAR-",null,{"$f":"IF(AC190=FALSE, LOOKUP(AC190,Catálogos!O:O),LOOKUP(AC190,Catálogos!O:O,Catálogos!R:R))","v":{"$error":"#N/A"}},"",null,null,null,{"$f":"IF(CD190=FALSE,\"COL. INCORRECTA\",LOOKUP(CONCATENATE(AE190,\" - \",AC190),Catálogos!T:T,Catálogos!Y:Y))","v":{"$error":"#N/A"}},{"$f":"IF(CD190=FALSE,\"COL. INCORRECTA\",LOOKUP(CONCATENATE(AE190,\" - \",AC190),Catálogos!T:T,Catálogos!X:X))","v":{"$error":"#N/A"}}," -SELECCIONAR-",""," -SELECCIONAR-",null,null," -SELECCIONAR-",null,null,null," -SELECCIONAR-",null,null," -SELECCIONAR-"," -SELECCIONAR-",null,null,null,null,null," -SELECCIONAR-",null,null,null,null,null,null," -SELECCIONAR-",null,null,null,null,null,null," -SELECCIONAR-",null,null,null,null,null,null," -SELECCIONAR-",null,null,{"$f":"LOOKUP(AB190,Catálogos!AP:AP,Catálogos!AO:AO)","v":"ERR"},{"$f":"CONCATENATE(LOOKUP(AC190,Catálogos!O:O,Catálogos!P:P),\".\",LOOKUP(AC190,Catálogos!O:O,Catálogos!Q:Q))","v":{"$error":"#N/A"}},{"$f":"IF(AC190=LOOKUP(CONCATENATE(AE190,\" - \",AC190),Catálogos!T:T,Catálogos!V:V),LOOKUP(CONCATENATE(AE190,\" - \",AC190),Catálogos!T:T,Catálogos!W:W),FALSE)","v":{"$error":"#N/A"}},{"$f":"LOOKUP(BD190,Catálogos!AM:AM,Catálogos!AL:AL)","v":"ERR"},{"$f":"LOOKUP(BK190,Catálogos!AM:AM,Catálogos!AL:AL)","v":"ERR"},{"$f":"LOOKUP(BR190,Catálogos!AM:AM,Catálogos!AL:AL)","v":"ERR"},{"$f":"LOOKUP(BY190,Catálogos!AM:AM,Catálogos!AL:AL)","v":"ERR"},0]
[null,null,null,null,null,null,null," -SELECCIONAR-"," -SELECCIONAR-"," -SELECCIONAR-",null," -SELECCIONAR-"," -SELECCIONAR-"," -SELECCIONAR-"," -SELECCIONAR-",null,null," -SELECCIONAR-",null,null,null," -SELECCIONAR-",null,null," -SELECCIONAR-",null," -SELECCIONAR-"," -SELECCIONAR-",null,{"$f":"IF(AC191=FALSE, LOOKUP(AC191,Catálogos!O:O),LOOKUP(AC191,Catálogos!O:O,Catálogos!R:R))","v":{"$error":"#N/A"}},"",null,null,null,{"$f":"IF(CD191=FALSE,\"COL. INCORRECTA\",LOOKUP(CONCATENATE(AE191,\" - \",AC191),Catálogos!T:T,Catálogos!Y:Y))","v":{"$error":"#N/A"}},{"$f":"IF(CD191=FALSE,\"COL. INCORRECTA\",LOOKUP(CONCATENATE(AE191,\" - \",AC191),Catálogos!T:T,Catálogos!X:X))","v":{"$error":"#N/A"}}," -SELECCIONAR-",""," -SELECCIONAR-",null,null," -SELECCIONAR-",null,null,null," -SELECCIONAR-",null,null," -SELECCIONAR-"," -SELECCIONAR-",null,null,null,null,null," -SELECCIONAR-",null,null,null,null,null,null," -SELECCIONAR-",null,null,null,null,null,null," -SELECCIONAR-",null,null,null,null,null,null," -SELECCIONAR-",null,null,{"$f":"LOOKUP(AB191,Catálogos!AP:AP,Catálogos!AO:AO)","v":"ERR"},{"$f":"CONCATENATE(LOOKUP(AC191,Catálogos!O:O,Catálogos!P:P),\".\",LOOKUP(AC191,Catálogos!O:O,Catálogos!Q:Q))","v":{"$error":"#N/A"}},{"$f":"IF(AC191=LOOKUP(CONCATENATE(AE191,\" - \",AC191),Catálogos!T:T,Catálogos!V:V),LOOKUP(CONCATENATE(AE191,\" - \",AC191),Catálogos!T:T,Catálogos!W:W),FALSE)","v":{"$error":"#N/A"}},{"$f":"LOOKUP(BD191,Catálogos!AM:AM,Catálogos!AL:AL)","v":"ERR"},{"$f":"LOOKUP(BK191,Catálogos!AM:AM,Catálogos!AL:AL)","v":"ERR"},{"$f":"LOOKUP(BR191,Catálogos!AM:AM,Catálogos!AL:AL)","v":"ERR"},{"$f":"LOOKUP(BY191,Catálogos!AM:AM,Catálogos!AL:AL)","v":"ERR"},0]
[null,null,null,null,null,null,null," -SELECCIONAR-"," -SELECCIONAR-"," -SELECCIONAR-",null," -SELECCIONAR-"," -SELECCIONAR-"," -SELECCIONAR-"," -SELECCIONAR-",null,null," -SELECCIONAR-",null,null,null," -SELECCIONAR-",null,null," -SELECCIONAR-",null," -SELECCIONAR-"," -SELECCIONAR-",null,{"$f":"IF(AC192=FALSE, LOOKUP(AC192,Catálogos!O:O),LOOKUP(AC192,Catálogos!O:O,Catálogos!R:R))","v":{"$error":"#N/A"}},"",null,null,null,{"$f":"IF(CD192=FALSE,\"COL. INCORRECTA\",LOOKUP(CONCATENATE(AE192,\" - \",AC192),Catálogos!T:T,Catálogos!Y:Y))","v":{"$error":"#N/A"}},{"$f":"IF(CD192=FALSE,\"COL. INCORRECTA\",LOOKUP(CONCATENATE(AE192,\" - \",AC192),Catálogos!T:T,Catálogos!X:X))","v":{"$error":"#N/A"}}," -SELECCIONAR-",""," -SELECCIONAR-",null,null," -SELECCIONAR-",null,null,null," -SELECCIONAR-",null,null," -SELECCIONAR-"," -SELECCIONAR-",null,null,null,null,null," -SELECCIONAR-",null,null,null,null,null,null," -SELECCIONAR-",null,null,null,null,null,null," -SELECCIONAR-",null,null,null,null,null,null," -SELECCIONAR-",null,null,{"$f":"LOOKUP(AB192,Catálogos!AP:AP,Catálogos!AO:AO)","v":"ERR"},{"$f":"CONCATENATE(LOOKUP(AC192,Catálogos!O:O,Catálogos!P:P),\".\",LOOKUP(AC192,Catálogos!O:O,Catálogos!Q:Q))","v":{"$error":"#N/A"}},{"$f":"IF(AC192=LOOKUP(CONCATENATE(AE192,\" - \",AC192),Catálogos!T:T,Catálogos!V:V),LOOKUP(CONCATENATE(AE192,\" - \",AC192),Catálogos!T:T,Catálogos!W:W),FALSE)","v":{"$error":"#N/A"}},{"$f":"LOOKUP(BD192,Catálogos!AM:AM,Catálogos!AL:AL)","v":"ERR"},{"$f":"LOOKUP(BK192,Catálogos!AM:AM,Catálogos!AL:AL)","v":"ERR"},{"$f":"LOOKUP(BR192,Catálogos!AM:AM,Catálogos!AL:AL)","v":"ERR"},{"$f":"LOOKUP(BY192,Catálogos!AM:AM,Catálogos!AL:AL)","v":"ERR"},0]
[null,null,null,null,null,null,null," -SELECCIONAR-"," -SELECCIONAR-"," -SELECCIONAR-",null," -SELECCIONAR-"," -SELECCIONAR-"," -SELECCIONAR-"," -SELECCIONAR-",null,null," -SELECCIONAR-",null,null,null," -SELECCIONAR-",null,null," -SELECCIONAR-",null," -SELECCIONAR-"," -SELECCIONAR-",null,{"$f":"IF(AC193=FALSE, LOOKUP(AC193,Catálogos!O:O),LOOKUP(AC193,Catálogos!O:O,Catálogos!R:R))","v":{"$error":"#N/A"}},"",null,null,null,{"$f":"IF(CD193=FALSE,\"COL. INCORRECTA\",LOOKUP(CONCATENATE(AE193,\" - \",AC193),Catálogos!T:T,Catálogos!Y:Y))","v":{"$error":"#N/A"}},{"$f":"IF(CD193=FALSE,\"COL. INCORRECTA\",LOOKUP(CONCATENATE(AE193,\" - \",AC193),Catálogos!T:T,Catálogos!X:X))","v":{"$error":"#N/A"}}," -SELECCIONAR-",""," -SELECCIONAR-",null,null," -SELECCIONAR-",null,null,null," -SELECCIONAR-",null,null," -SELECCIONAR-"," -SELECCIONAR-",null,null,null,null,null," -SELECCIONAR-",null,null,null,null,null,null," -SELECCIONAR-",null,null,null,null,null,null," -SELECCIONAR-",null,null,null,null,null,null," -SELECCIONAR-",null,null,{"$f":"LOOKUP(AB193,Catálogos!AP:AP,Catálogos!AO:AO)","v":"ERR"},{"$f":"CONCATENATE(LOOKUP(AC193,Catálogos!O:O,Catálogos!P:P),\".\",LOOKUP(AC193,Catálogos!O:O,Catálogos!Q:Q))","v":{"$error":"#N/A"}},{"$f":"IF(AC193=LOOKUP(CONCATENATE(AE193,\" - \",AC193),Catálogos!T:T,Catálogos!V:V),LOOKUP(CONCATENATE(AE193,\" - \",AC193),Catálogos!T:T,Catálogos!W:W),FALSE)","v":{"$error":"#N/A"}},{"$f":"LOOKUP(BD193,Catálogos!AM:AM,Catálogos!AL:AL)","v":"ERR"},{"$f":"LOOKUP(BK193,Catálogos!AM:AM,Catálogos!AL:AL)","v":"ERR"},{"$f":"LOOKUP(BR193,Catálogos!AM:AM,Catálogos!AL:AL)","v":"ERR"},{"$f":"LOOKUP(BY193,Catálogos!AM:AM,Catálogos!AL:AL)","v":"ERR"},0]
[null,null,null,null,null,null,null," -SELECCIONAR-"," -SELECCIONAR-"," -SELECCIONAR-",null," -SELECCIONAR-"," -SELECCIONAR-"," -SELECCIONAR-"," -SELECCIONAR-",null,null," -SELECCIONAR-",null,null,null," -SELECCIONAR-",null,null," -SELECCIONAR-",null," -SELECCIONAR-"," -SELECCIONAR-",null,{"$f":"IF(AC194=FALSE, LOOKUP(AC194,Catálogos!O:O),LOOKUP(AC194,Catálogos!O:O,Catálogos!R:R))","v":{"$error":"#N/A"}},"",null,null,null,{"$f":"IF(CD194=FALSE,\"COL. INCORRECTA\",LOOKUP(CONCATENATE(AE194,\" - \",AC194),Catálogos!T:T,Catálogos!Y:Y))","v":{"$error":"#N/A"}},{"$f":"IF(CD194=FALSE,\"COL. INCORRECTA\",LOOKUP(CONCATENATE(AE194,\" - \",AC194),Catálogos!T:T,Catálogos!X:X))","v":{"$error":"#N/A"}}," -SELECCIONAR-",""," -SELECCIONAR-",null,null," -SELECCIONAR-",null,null,null," -SELECCIONAR-",null,null," -SELECCIONAR-"," -SELECCIONAR-",null,null,null,null,null," -SELECCIONAR-",null,null,null,null,null,null," -SELECCIONAR-",null,null,null,null,null,null," -SELECCIONAR-",null,null,null,null,null,null," -SELECCIONAR-",null,null,{"$f":"LOOKUP(AB194,Catálogos!AP:AP,Catálogos!AO:AO)","v":"ERR"},{"$f":"CONCATENATE(LOOKUP(AC194,Catálogos!O:O,Catálogos!P:P),\".\",LOOKUP(AC194,Catálogos!O:O,Catálogos!Q:Q))","v":{"$error":"#N/A"}},{"$f":"IF(AC194=LOOKUP(CONCATENATE(AE194,\" - \",AC194),Catálogos!T:T,Catálogos!V:V),LOOKUP(CONCATENATE(AE194,\" - \",AC194),Catálogos!T:T,Catálogos!W:W),FALSE)","v":{"$error":"#N/A"}},{"$f":"LOOKUP(BD194,Catálogos!AM:AM,Catálogos!AL:AL)","v":"ERR"},{"$f":"LOOKUP(BK194,Catálogos!AM:AM,Catálogos!AL:AL)","v":"ERR"},{"$f":"LOOKUP(BR194,Catálogos!AM:AM,Catálogos!AL:AL)","v":"ERR"},{"$f":"LOOKUP(BY194,Catálogos!AM:AM,Catálogos!AL:AL)","v":"ERR"},0]
[null,null,null,null,null,null,null," -SELECCIONAR-"," -SELECCIONAR-"," -SELECCIONAR-",null," -SELECCIONAR-"," -SELECCIONAR-"," -SELECCIONAR-"," -SELECCIONAR-",null,null," -SELECCIONAR-",null,null,null," -SELECCIONAR-",null,null," -SELECCIONAR-",null," -SELECCIONAR-"," -SELECCIONAR-",null,{"$f":"IF(AC195=FALSE, LOOKUP(AC195,Catálogos!O:O),LOOKUP(AC195,Catálogos!O:O,Catálogos!R:R))","v":{"$error":"#N/A"}},"",null,null,null,{"$f":"IF(CD195=FALSE,\"COL. INCORRECTA\",LOOKUP(CONCATENATE(AE195,\" - \",AC195),Catálogos!T:T,Catálogos!Y:Y))","v":{"$error":"#N/A"}},{"$f":"IF(CD195=FALSE,\"COL. INCORRECTA\",LOOKUP(CONCATENATE(AE195,\" - \",AC195),Catálogos!T:T,Catálogos!X:X))","v":{"$error":"#N/A"}}," -SELECCIONAR-",""," -SELECCIONAR-",null,null," -SELECCIONAR-",null,null,null," -SELECCIONAR-",null,null," -SELECCIONAR-"," -SELECCIONAR-",null,null,null,null,null," -SELECCIONAR-",null,null,null,null,null,null," -SELECCIONAR-",null,null,null,null,null,null," -SELECCIONAR-",null,null,null,null,null,null," -SELECCIONAR-",null,null,{"$f":"LOOKUP(AB195,Catálogos!AP:AP,Catálogos!AO:AO)","v":"ERR"},{"$f":"CONCATENATE(LOOKUP(AC195,Catálogos!O:O,Catálogos!P:P),\".\",LOOKUP(AC195,Catálogos!O:O,Catálogos!Q:Q))","v":{"$error":"#N/A"}},{"$f":"IF(AC195=LOOKUP(CONCATENATE(AE195,\" - \",AC195),Catálogos!T:T,Catálogos!V:V),LOOKUP(CONCATENATE(AE195,\" - \",AC195),Catálogos!T:T,Catálogos!W:W),FALSE)","v":{"$error":"#N/A"}},{"$f":"LOOKUP(BD195,Catálogos!AM:AM,Catálogos!AL:AL)","v":"ERR"},{"$f":"LOOKUP(BK195,Catálogos!AM:AM,Catálogos!AL:AL)","v":"ERR"},{"$f":"LOOKUP(BR195,Catálogos!AM:AM,Catálogos!AL:AL)","v":"ERR"},{"$f":"LOOKUP(BY195,Catálogos!AM:AM,Catálogos!AL:AL)","v":"ERR"},0]
[null,null,null,null,null,null,null," -SELECCIONAR-"," -SELECCIONAR-"," -SELECCIONAR-",null," -SELECCIONAR-"," -SELECCIONAR-"," -SELECCIONAR-"," -SELECCIONAR-",null,null," -SELECCIONAR-",null,null,null," -SELECCIONAR-",null,null," -SELECCIONAR-",null," -SELECCIONAR-"," -SELECCIONAR-",null,{"$f":"IF(AC196=FALSE, LOOKUP(AC196,Catálogos!O:O),LOOKUP(AC196,Catálogos!O:O,Catálogos!R:R))","v":{"$error":"#N/A"}},"",null,null,null,{"$f":"IF(CD196=FALSE,\"COL. INCORRECTA\",LOOKUP(CONCATENATE(AE196,\" - \",AC196),Catálogos!T:T,Catálogos!Y:Y))","v":{"$error":"#N/A"}},{"$f":"IF(CD196=FALSE,\"COL. INCORRECTA\",LOOKUP(CONCATENATE(AE196,\" - \",AC196),Catálogos!T:T,Catálogos!X:X))","v":{"$error":"#N/A"}}," -SELECCIONAR-",""," -SELECCIONAR-",null,null," -SELECCIONAR-",null,null,null," -SELECCIONAR-",null,null," -SELECCIONAR-"," -SELECCIONAR-",null,null,null,null,null," -SELECCIONAR-",null,null,null,null,null,null," -SELECCIONAR-",null,null,null,null,null,null," -SELECCIONAR-",null,null,null,null,null,null," -SELECCIONAR-",null,null,{"$f":"LOOKUP(AB196,Catálogos!AP:AP,Catálogos!AO:AO)","v":"ERR"},{"$f":"CONCATENATE(LOOKUP(AC196,Catálogos!O:O,Catálogos!P:P),\".\",LOOKUP(AC196,Catálogos!O:O,Catálogos!Q:Q))","v":{"$error":"#N/A"}},{"$f":"IF(AC196=LOOKUP(CONCATENATE(AE196,\" - \",AC196),Catálogos!T:T,Catálogos!V:V),LOOKUP(CONCATENATE(AE196,\" - \",AC196),Catálogos!T:T,Catálogos!W:W),FALSE)","v":{"$error":"#N/A"}},{"$f":"LOOKUP(BD196,Catálogos!AM:AM,Catálogos!AL:AL)","v":"ERR"},{"$f":"LOOKUP(BK196,Catálogos!AM:AM,Catálogos!AL:AL)","v":"ERR"},{"$f":"LOOKUP(BR196,Catálogos!AM:AM,Catálogos!AL:AL)","v":"ERR"},{"$f":"LOOKUP(BY196,Catálogos!AM:AM,Catálogos!AL:AL)","v":"ERR"},0]
[null,null,null,null,null,null,null," -SELECCIONAR-"," -SELECCIONAR-"," -SELECCIONAR-",null," -SELECCIONAR-"," -SELECCIONAR-"," -SELECCIONAR-"," -SELECCIONAR-",null,null," -SELECCIONAR-",null,null,null," -SELECCIONAR-",null,null," -SELECCIONAR-",null," -SELECCIONAR-"," -SELECCIONAR-",null,{"$f":"IF(AC197=FALSE, LOOKUP(AC197,Catálogos!O:O),LOOKUP(AC197,Catálogos!O:O,Catálogos!R:R))","v":{"$error":"#N/A"}},"",null,null,null,{"$f":"IF(CD197=FALSE,\"COL. INCORRECTA\",LOOKUP(CONCATENATE(AE197,\" - \",AC197),Catálogos!T:T,Catálogos!Y:Y))","v":{"$error":"#N/A"}},{"$f":"IF(CD197=FALSE,\"COL. INCORRECTA\",LOOKUP(CONCATENATE(AE197,\" - \",AC197),Catálogos!T:T,Catálogos!X:X))","v":{"$error":"#N/A"}}," -SELECCIONAR-",""," -SELECCIONAR-",null,null," -SELECCIONAR-",null,null,null," -SELECCIONAR-",null,null," -SELECCIONAR-"," -SELECCIONAR-",null,null,null,null,null," -SELECCIONAR-",null,null,null,null,null,null," -SELECCIONAR-",null,null,null,null,null,null," -SELECCIONAR-",null,null,null,null,null,null," -SELECCIONAR-",null,null,{"$f":"LOOKUP(AB197,Catálogos!AP:AP,Catálogos!AO:AO)","v":"ERR"},{"$f":"CONCATENATE(LOOKUP(AC197,Catálogos!O:O,Catálogos!P:P),\".\",LOOKUP(AC197,Catálogos!O:O,Catálogos!Q:Q))","v":{"$error":"#N/A"}},{"$f":"IF(AC197=LOOKUP(CONCATENATE(AE197,\" - \",AC197),Catálogos!T:T,Catálogos!V:V),LOOKUP(CONCATENATE(AE197,\" - \",AC197),Catálogos!T:T,Catálogos!W:W),FALSE)","v":{"$error":"#N/A"}},{"$f":"LOOKUP(BD197,Catálogos!AM:AM,Catálogos!AL:AL)","v":"ERR"},{"$f":"LOOKUP(BK197,Catálogos!AM:AM,Catálogos!AL:AL)","v":"ERR"},{"$f":"LOOKUP(BR197,Catálogos!AM:AM,Catálogos!AL:AL)","v":"ERR"},{"$f":"LOOKUP(BY197,Catálogos!AM:AM,Catálogos!AL:AL)","v":"ERR"},{"$f":"SUM(BE197+BL197+BS197+BZ197)","v":0}]
[null,null,null,null,null,null,null," -SELECCIONAR-"," -SELECCIONAR-"," -SELECCIONAR-",null," -SELECCIONAR-"," -SELECCIONAR-"," -SELECCIONAR-"," -SELECCIONAR-",null,null," -SELECCIONAR-",null,null,null," -SELECCIONAR-",null,null," -SELECCIONAR-",null," -SELECCIONAR-"," -SELECCIONAR-",null,{"$f":"IF(AC198=FALSE, LOOKUP(AC198,Catálogos!O:O),LOOKUP(AC198,Catálogos!O:O,Catálogos!R:R))","v":{"$error":"#N/A"}},"",null,null,null,{"$f":"IF(CD198=FALSE,\"COL. INCORRECTA\",LOOKUP(CONCATENATE(AE198,\" - \",AC198),Catálogos!T:T,Catálogos!Y:Y))","v":{"$error":"#N/A"}},{"$f":"IF(CD198=FALSE,\"COL. INCORRECTA\",LOOKUP(CONCATENATE(AE198,\" - \",AC198),Catálogos!T:T,Catálogos!X:X))","v":{"$error":"#N/A"}}," -SELECCIONAR-",""," -SELECCIONAR-",null,null," -SELECCIONAR-",null,null,null," -SELECCIONAR-",null,null," -SELECCIONAR-"," -SELECCIONAR-",null,null,null,null,null," -SELECCIONAR-",null,null,null,null,null,null," -SELECCIONAR-",null,null,null,null,null,null," -SELECCIONAR-",null,null,null,null,null,null," -SELECCIONAR-",null,null,{"$f":"LOOKUP(AB198,Catálogos!AP:AP,Catálogos!AO:AO)","v":"ERR"},{"$f":"CONCATENATE(LOOKUP(AC198,Catálogos!O:O,Catálogos!P:P),\".\",LOOKUP(AC198,Catálogos!O:O,Catálogos!Q:Q))","v":{"$error":"#N/A"}},{"$f":"IF(AC198=LOOKUP(CONCATENATE(AE198,\" - \",AC198),Catálogos!T:T,Catálogos!V:V),LOOKUP(CONCATENATE(AE198,\" - \",AC198),Catálogos!T:T,Catálogos!W:W),FALSE)","v":{"$error":"#N/A"}},{"$f":"LOOKUP(BD198,Catálogos!AM:AM,Catálogos!AL:AL)","v":"ERR"},{"$f":"LOOKUP(BK198,Catálogos!AM:AM,Catálogos!AL:AL)","v":"ERR"},{"$f":"LOOKUP(BR198,Catálogos!AM:AM,Catálogos!AL:AL)","v":"ERR"},{"$f":"LOOKUP(BY198,Catálogos!AM:AM,Catálogos!AL:AL)","v":"ERR"},0]
[null,null,null,null,null,null,null," -SELECCIONAR-"," -SELECCIONAR-"," -SELECCIONAR-",null," -SELECCIONAR-"," -SELECCIONAR-"," -SELECCIONAR-"," -SELECCIONAR-",null,null," -SELECCIONAR-",null,null,null," -SELECCIONAR-",null,null," -SELECCIONAR-",null," -SELECCIONAR-"," -SELECCIONAR-",null,{"$f":"IF(AC199=FALSE, LOOKUP(AC199,Catálogos!O:O),LOOKUP(AC199,Catálogos!O:O,Catálogos!R:R))","v":{"$error":"#N/A"}},"",null,null,null,{"$f":"IF(CD199=FALSE,\"COL. INCORRECTA\",LOOKUP(CONCATENATE(AE199,\" - \",AC199),Catálogos!T:T,Catálogos!Y:Y))","v":{"$error":"#N/A"}},{"$f":"IF(CD199=FALSE,\"COL. INCORRECTA\",LOOKUP(CONCATENATE(AE199,\" - \",AC199),Catálogos!T:T,Catálogos!X:X))","v":{"$error":"#N/A"}}," -SELECCIONAR-",""," -SELECCIONAR-",null,null," -SELECCIONAR-",null,null,null," -SELECCIONAR-",null,null," -SELECCIONAR-"," -SELECCIONAR-",null,null,null,null,null," -SELECCIONAR-",null,null,null,null,null,null," -SELECCIONAR-",null,null,null,null,null,null," -SELECCIONAR-",null,null,null,null,null,null," -SELECCIONAR-",null,null,{"$f":"LOOKUP(AB199,Catálogos!AP:AP,Catálogos!AO:AO)","v":"ERR"},{"$f":"CONCATENATE(LOOKUP(AC199,Catálogos!O:O,Catálogos!P:P),\".\",LOOKUP(AC199,Catálogos!O:O,Catálogos!Q:Q))","v":{"$error":"#N/A"}},{"$f":"IF(AC199=LOOKUP(CONCATENATE(AE199,\" - \",AC199),Catálogos!T:T,Catálogos!V:V),LOOKUP(CONCATENATE(AE199,\" - \",AC199),Catálogos!T:T,Catálogos!W:W),FALSE)","v":{"$error":"#N/A"}},{"$f":"LOOKUP(BD199,Catálogos!AM:AM,Catálogos!AL:AL)","v":"ERR"},{"$f":"LOOKUP(BK199,Catálogos!AM:AM,Catálogos!AL:AL)","v":"ERR"},{"$f":"LOOKUP(BR199,Catálogos!AM:AM,Catálogos!AL:AL)","v":"ERR"},{"$f":"LOOKUP(BY199,Catálogos!AM:AM,Catálogos!AL:AL)","v":"ERR"},0]
[null,null,null,null,null,null,null," -SELECCIONAR-"," -SELECCIONAR-"," -SELECCIONAR-",null," -SELECCIONAR-"," -SELECCIONAR-"," -SELECCIONAR-"," -SELECCIONAR-",null,null," -SELECCIONAR-",null,null,null," -SELECCIONAR-",null,null," -SELECCIONAR-",null," -SELECCIONAR-"," -SELECCIONAR-",null,{"$f":"IF(AC200=FALSE, LOOKUP(AC200,Catálogos!O:O),LOOKUP(AC200,Catálogos!O:O,Catálogos!R:R))","v":{"$error":"#N/A"}},"",null,null,null,{"$f":"IF(CD200=FALSE,\"COL. INCORRECTA\",LOOKUP(CONCATENATE(AE200,\" - \",AC200),Catálogos!T:T,Catálogos!Y:Y))","v":{"$error":"#N/A"}},{"$f":"IF(CD200=FALSE,\"COL. INCORRECTA\",LOOKUP(CONCATENATE(AE200,\" - \",AC200),Catálogos!T:T,Catálogos!X:X))","v":{"$error":"#N/A"}}," -SELECCIONAR-",""," -SELECCIONAR-",null,null," -SELECCIONAR-",null,null,null," -SELECCIONAR-",null,null," -SELECCIONAR-"," -SELECCIONAR-",null,null,null,null,null," -SELECCIONAR-",null,null,null,null,null,null," -SELECCIONAR-",null,null,null,null,null,null," -SELECCIONAR-",null,null,null,null,null,null," -SELECCIONAR-",null,null,{"$f":"LOOKUP(AB200,Catálogos!AP:AP,Catálogos!AO:AO)","v":"ERR"},{"$f":"CONCATENATE(LOOKUP(AC200,Catálogos!O:O,Catálogos!P:P),\".\",LOOKUP(AC200,Catálogos!O:O,Catálogos!Q:Q))","v":{"$error":"#N/A"}},{"$f":"IF(AC200=LOOKUP(CONCATENATE(AE200,\" - \",AC200),Catálogos!T:T,Catálogos!V:V),LOOKUP(CONCATENATE(AE200,\" - \",AC200),Catálogos!T:T,Catálogos!W:W),FALSE)","v":{"$error":"#N/A"}},{"$f":"LOOKUP(BD200,Catálogos!AM:AM,Catálogos!AL:AL)","v":"ERR"},{"$f":"LOOKUP(BK200,Catálogos!AM:AM,Catálogos!AL:AL)","v":"ERR"},{"$f":"LOOKUP(BR200,Catálogos!AM:AM,Catálogos!AL:AL)","v":"ERR"},{"$f":"LOOKUP(BY200,Catálogos!AM:AM,Catálogos!AL:AL)","v":"ERR"},0]
[null,null,null,null,null,null,null," -SELECCIONAR-"," -SELECCIONAR-"," -SELECCIONAR-",null," -SELECCIONAR-"," -SELECCIONAR-"," -SELECCIONAR-"," -SELECCIONAR-",null,null," -SELECCIONAR-",null,null,null," -SELECCIONAR-",null,null," -SELECCIONAR-",null," -SELECCIONAR-"," -SELECCIONAR-",null,{"$f":"IF(AC201=FALSE, LOOKUP(AC201,Catálogos!O:O),LOOKUP(AC201,Catálogos!O:O,Catálogos!R:R))","v":{"$error":"#N/A"}},"",null,null,null,{"$f":"IF(CD201=FALSE,\"COL. INCORRECTA\",LOOKUP(CONCATENATE(AE201,\" - \",AC201),Catálogos!T:T,Catálogos!Y:Y))","v":{"$error":"#N/A"}},{"$f":"IF(CD201=FALSE,\"COL. INCORRECTA\",LOOKUP(CONCATENATE(AE201,\" - \",AC201),Catálogos!T:T,Catálogos!X:X))","v":{"$error":"#N/A"}}," -SELECCIONAR-",""," -SELECCIONAR-",null,null," -SELECCIONAR-",null,null,null," -SELECCIONAR-",null,null," -SELECCIONAR-"," -SELECCIONAR-",null,null,null,null,null," -SELECCIONAR-",null,null,null,null,null,null," -SELECCIONAR-",null,null,null,null,null,null," -SELECCIONAR-",null,null,null,null,null,null," -SELECCIONAR-",null,null,{"$f":"LOOKUP(AB201,Catálogos!AP:AP,Catálogos!AO:AO)","v":"ERR"},{"$f":"CONCATENATE(LOOKUP(AC201,Catálogos!O:O,Catálogos!P:P),\".\",LOOKUP(AC201,Catálogos!O:O,Catálogos!Q:Q))","v":{"$error":"#N/A"}},{"$f":"IF(AC201=LOOKUP(CONCATENATE(AE201,\" - \",AC201),Catálogos!T:T,Catálogos!V:V),LOOKUP(CONCATENATE(AE201,\" - \",AC201),Catálogos!T:T,Catálogos!W:W),FALSE)","v":{"$error":"#N/A"}},{"$f":"LOOKUP(BD201,Catálogos!AM:AM,Catálogos!AL:AL)","v":"ERR"},{"$f":"LOOKUP(BK201,Catálogos!AM:AM,Catálogos!AL:AL)","v":"ERR"},{"$f":"LOOKUP(BR201,Catálogos!AM:AM,Catálogos!AL:AL)","v":"ERR"},{"$f":"LOOKUP(BY201,Catálogos!AM:AM,Catálogos!AL:AL)","v":"ERR"},0]
[null,null,null,null,null,null,null," -SELECCIONAR-"," -SELECCIONAR-"," -SELECCIONAR-",null," -SELECCIONAR-"," -SELECCIONAR-"," -SELECCIONAR-"," -SELECCIONAR-",null,null," -SELECCIONAR-",null,null,null," -SELECCIONAR-",null,null," -SELECCIONAR-",null," -SELECCIONAR-"," -SELECCIONAR-",null,{"$f":"IF(AC202=FALSE, LOOKUP(AC202,Catálogos!O:O),LOOKUP(AC202,Catálogos!O:O,Catálogos!R:R))","v":{"$error":"#N/A"}},"",null,null,null,{"$f":"IF(CD202=FALSE,\"COL. INCORRECTA\",LOOKUP(CONCATENATE(AE202,\" - \",AC202),Catálogos!T:T,Catálogos!Y:Y))","v":{"$error":"#N/A"}},{"$f":"IF(CD202=FALSE,\"COL. INCORRECTA\",LOOKUP(CONCATENATE(AE202,\" - \",AC202),Catálogos!T:T,Catálogos!X:X))","v":{"$error":"#N/A"}}," -SELECCIONAR-",""," -SELECCIONAR-",null,null," -SELECCIONAR-",null,null,null," -SELECCIONAR-",null,null," -SELECCIONAR-"," -SELECCIONAR-",null,null,null,null,null," -SELECCIONAR-",null,null,null,null,null,null," -SELECCIONAR-",null,null,null,null,null,null," -SELECCIONAR-",null,null,null,null,null,null," -SELECCIONAR-",null,null,{"$f":"LOOKUP(AB202,Catálogos!AP:AP,Catálogos!AO:AO)","v":"ERR"},{"$f":"CONCATENATE(LOOKUP(AC202,Catálogos!O:O,Catálogos!P:P),\".\",LOOKUP(AC202,Catálogos!O:O,Catálogos!Q:Q))","v":{"$error":"#N/A"}},{"$f":"IF(AC202=LOOKUP(CONCATENATE(AE202,\" - \",AC202),Catálogos!T:T,Catálogos!V:V),LOOKUP(CONCATENATE(AE202,\" - \",AC202),Catálogos!T:T,Catálogos!W:W),FALSE)","v":{"$error":"#N/A"}},{"$f":"LOOKUP(BD202,Catálogos!AM:AM,Catálogos!AL:AL)","v":"ERR"},{"$f":"LOOKUP(BK202,Catálogos!AM:AM,Catálogos!AL:AL)","v":"ERR"},{"$f":"LOOKUP(BR202,Catálogos!AM:AM,Catálogos!AL:AL)","v":"ERR"},{"$f":"LOOKUP(BY202,Catálogos!AM:AM,Catálogos!AL:AL)","v":"ERR"},0]
[null,null,null,null,null,null,null," -SELECCIONAR-"," -SELECCIONAR-"," -SELECCIONAR-",null," -SELECCIONAR-"," -SELECCIONAR-"," -SELECCIONAR-"," -SELECCIONAR-",null,null," -SELECCIONAR-",null,null,null," -SELECCIONAR-",null,null," -SELECCIONAR-",null," -SELECCIONAR-"," -SELECCIONAR-",null,{"$f":"IF(AC203=FALSE, LOOKUP(AC203,Catálogos!O:O),LOOKUP(AC203,Catálogos!O:O,Catálogos!R:R))","v":{"$error":"#N/A"}},"",null,null,null,{"$f":"IF(CD203=FALSE,\"COL. INCORRECTA\",LOOKUP(CONCATENATE(AE203,\" - \",AC203),Catálogos!T:T,Catálogos!Y:Y))","v":{"$error":"#N/A"}},{"$f":"IF(CD203=FALSE,\"COL. INCORRECTA\",LOOKUP(CONCATENATE(AE203,\" - \",AC203),Catálogos!T:T,Catálogos!X:X))","v":{"$error":"#N/A"}}," -SELECCIONAR-",""," -SELECCIONAR-",null,null," -SELECCIONAR-",null,null,null," -SELECCIONAR-",null,null," -SELECCIONAR-"," -SELECCIONAR-",null,null,null,null,null," -SELECCIONAR-",null,null,null,null,null,null," -SELECCIONAR-",null,null,null,null,null,null," -SELECCIONAR-",null,null,null,null,null,null," -SELECCIONAR-",null,null,{"$f":"LOOKUP(AB203,Catálogos!AP:AP,Catálogos!AO:AO)","v":"ERR"},{"$f":"CONCATENATE(LOOKUP(AC203,Catálogos!O:O,Catálogos!P:P),\".\",LOOKUP(AC203,Catálogos!O:O,Catálogos!Q:Q))","v":{"$error":"#N/A"}},{"$f":"IF(AC203=LOOKUP(CONCATENATE(AE203,\" - \",AC203),Catálogos!T:T,Catálogos!V:V),LOOKUP(CONCATENATE(AE203,\" - \",AC203),Catálogos!T:T,Catálogos!W:W),FALSE)","v":{"$error":"#N/A"}},{"$f":"LOOKUP(BD203,Catálogos!AM:AM,Catálogos!AL:AL)","v":"ERR"},{"$f":"LOOKUP(BK203,Catálogos!AM:AM,Catálogos!AL:AL)","v":"ERR"},{"$f":"LOOKUP(BR203,Catálogos!AM:AM,Catálogos!AL:AL)","v":"ERR"},{"$f":"LOOKUP(BY203,Catálogos!AM:AM,Catálogos!AL:AL)","v":"ERR"},0]
[null,null,null,null,null,null,null," -SELECCIONAR-"," -SELECCIONAR-"," -SELECCIONAR-",null," -SELECCIONAR-"," -SELECCIONAR-"," -SELECCIONAR-"," -SELECCIONAR-",null,null," -SELECCIONAR-",null,null,null," -SELECCIONAR-",null,null," -SELECCIONAR-",null," -SELECCIONAR-"," -SELECCIONAR-",null,{"$f":"IF(AC204=FALSE, LOOKUP(AC204,Catálogos!O:O),LOOKUP(AC204,Catálogos!O:O,Catálogos!R:R))","v":{"$error":"#N/A"}},"",null,null,null,{"$f":"IF(CD204=FALSE,\"COL. INCORRECTA\",LOOKUP(CONCATENATE(AE204,\" - \",AC204),Catálogos!T:T,Catálogos!Y:Y))","v":{"$error":"#N/A"}},{"$f":"IF(CD204=FALSE,\"COL. INCORRECTA\",LOOKUP(CONCATENATE(AE204,\" - \",AC204),Catálogos!T:T,Catálogos!X:X))","v":{"$error":"#N/A"}}," -SELECCIONAR-",""," -SELECCIONAR-",null,null," -SELECCIONAR-",null,null,null," -SELECCIONAR-",null,null," -SELECCIONAR-"," -SELECCIONAR-",null,null,null,null,null," -SELECCIONAR-",null,null,null,null,null,null," -SELECCIONAR-",null,null,null,null,null,null," -SELECCIONAR-",null,null,null,null,null,null," -SELECCIONAR-",null,null,{"$f":"LOOKUP(AB204,Catálogos!AP:AP,Catálogos!AO:AO)","v":"ERR"},{"$f":"CONCATENATE(LOOKUP(AC204,Catálogos!O:O,Catálogos!P:P),\".\",LOOKUP(AC204,Catálogos!O:O,Catálogos!Q:Q))","v":{"$error":"#N/A"}},{"$f":"IF(AC204=LOOKUP(CONCATENATE(AE204,\" - \",AC204),Catálogos!T:T,Catálogos!V:V),LOOKUP(CONCATENATE(AE204,\" - \",AC204),Catálogos!T:T,Catálogos!W:W),FALSE)","v":{"$error":"#N/A"}},{"$f":"LOOKUP(BD204,Catálogos!AM:AM,Catálogos!AL:AL)","v":"ERR"},{"$f":"LOOKUP(BK204,Catálogos!AM:AM,Catálogos!AL:AL)","v":"ERR"},{"$f":"LOOKUP(BR204,Catálogos!AM:AM,Catálogos!AL:AL)","v":"ERR"},{"$f":"LOOKUP(BY204,Catálogos!AM:AM,Catálogos!AL:AL)","v":"ERR"},0]
[null,null,null,null,null,null,null," -SELECCIONAR-"," -SELECCIONAR-"," -SELECCIONAR-",null," -SELECCIONAR-"," -SELECCIONAR-"," -SELECCIONAR-"," -SELECCIONAR-",null,null," -SELECCIONAR-",null,null,null," -SELECCIONAR-",null,null," -SELECCIONAR-",null," -SELECCIONAR-"," -SELECCIONAR-",null,{"$f":"IF(AC205=FALSE, LOOKUP(AC205,Catálogos!O:O),LOOKUP(AC205,Catálogos!O:O,Catálogos!R:R))","v":{"$error":"#N/A"}},"",null,null,null,{"$f":"IF(CD205=FALSE,\"COL. INCORRECTA\",LOOKUP(CONCATENATE(AE205,\" - \",AC205),Catálogos!T:T,Catálogos!Y:Y))","v":{"$error":"#N/A"}},{"$f":"IF(CD205=FALSE,\"COL. INCORRECTA\",LOOKUP(CONCATENATE(AE205,\" - \",AC205),Catálogos!T:T,Catálogos!X:X))","v":{"$error":"#N/A"}}," -SELECCIONAR-",""," -SELECCIONAR-",null,null," -SELECCIONAR-",null,null,null," -SELECCIONAR-",null,null," -SELECCIONAR-"," -SELECCIONAR-",null,null,null,null,null," -SELECCIONAR-",null,null,null,null,null,null," -SELECCIONAR-",null,null,null,null,null,null," -SELECCIONAR-",null,null,null,null,null,null," -SELECCIONAR-",null,null,{"$f":"LOOKUP(AB205,Catálogos!AP:AP,Catálogos!AO:AO)","v":"ERR"},{"$f":"CONCATENATE(LOOKUP(AC205,Catálogos!O:O,Catálogos!P:P),\".\",LOOKUP(AC205,Catálogos!O:O,Catálogos!Q:Q))","v":{"$error":"#N/A"}},{"$f":"IF(AC205=LOOKUP(CONCATENATE(AE205,\" - \",AC205),Catálogos!T:T,Catálogos!V:V),LOOKUP(CONCATENATE(AE205,\" - \",AC205),Catálogos!T:T,Catálogos!W:W),FALSE)","v":{"$error":"#N/A"}},{"$f":"LOOKUP(BD205,Catálogos!AM:AM,Catálogos!AL:AL)","v":"ERR"},{"$f":"LOOKUP(BK205,Catálogos!AM:AM,Catálogos!AL:AL)","v":"ERR"},{"$f":"LOOKUP(BR205,Catálogos!AM:AM,Catálogos!AL:AL)","v":"ERR"},{"$f":"LOOKUP(BY205,Catálogos!AM:AM,Catálogos!AL:AL)","v":"ERR"},0]
[null,null,null,null,null,null,null," -SELECCIONAR-"," -SELECCIONAR-"," -SELECCIONAR-",null," -SELECCIONAR-"," -SELECCIONAR-"," -SELECCIONAR-"," -SELECCIONAR-",null,null," -SELECCIONAR-",null,null,null," -SELECCIONAR-",null,null," -SELECCIONAR-",null," -SELECCIONAR-"," -SELECCIONAR-",null,{"$f":"IF(AC206=FALSE, LOOKUP(AC206,Catálogos!O:O),LOOKUP(AC206,Catálogos!O:O,Catálogos!R:R))","v":{"$error":"#N/A"}},"",null,null,null,{"$f":"IF(CD206=FALSE,\"COL. INCORRECTA\",LOOKUP(CONCATENATE(AE206,\" - \",AC206),Catálogos!T:T,Catálogos!Y:Y))","v":{"$error":"#N/A"}},{"$f":"IF(CD206=FALSE,\"COL. INCORRECTA\",LOOKUP(CONCATENATE(AE206,\" - \",AC206),Catálogos!T:T,Catálogos!X:X))","v":{"$error":"#N/A"}}," -SELECCIONAR-",""," -SELECCIONAR-",null,null," -SELECCIONAR-",null,null,null," -SELECCIONAR-",null,null," -SELECCIONAR-"," -SELECCIONAR-",null,null,null,null,null," -SELECCIONAR-",null,null,null,null,null,null," -SELECCIONAR-",null,null,null,null,null,null," -SELECCIONAR-",null,null,null,null,null,null," -SELECCIONAR-",null,null,{"$f":"LOOKUP(AB206,Catálogos!AP:AP,Catálogos!AO:AO)","v":"ERR"},{"$f":"CONCATENATE(LOOKUP(AC206,Catálogos!O:O,Catálogos!P:P),\".\",LOOKUP(AC206,Catálogos!O:O,Catálogos!Q:Q))","v":{"$error":"#N/A"}},{"$f":"IF(AC206=LOOKUP(CONCATENATE(AE206,\" - \",AC206),Catálogos!T:T,Catálogos!V:V),LOOKUP(CONCATENATE(AE206,\" - \",AC206),Catálogos!T:T,Catálogos!W:W),FALSE)","v":{"$error":"#N/A"}},{"$f":"LOOKUP(BD206,Catálogos!AM:AM,Catálogos!AL:AL)","v":"ERR"},{"$f":"LOOKUP(BK206,Catálogos!AM:AM,Catálogos!AL:AL)","v":"ERR"},{"$f":"LOOKUP(BR206,Catálogos!AM:AM,Catálogos!AL:AL)","v":"ERR"},{"$f":"LOOKUP(BY206,Catálogos!AM:AM,Catálogos!AL:AL)","v":"ERR"},0]
[null,null,null,null,null,null,null," -SELECCIONAR-"," -SELECCIONAR-"," -SELECCIONAR-",null," -SELECCIONAR-"," -SELECCIONAR-"," -SELECCIONAR-"," -SELECCIONAR-",null,null," -SELECCIONAR-",null,null,null," -SELECCIONAR-",null,null," -SELECCIONAR-",null," -SELECCIONAR-"," -SELECCIONAR-",null,{"$f":"IF(AC207=FALSE, LOOKUP(AC207,Catálogos!O:O),LOOKUP(AC207,Catálogos!O:O,Catálogos!R:R))","v":{"$error":"#N/A"}},"",null,null,null,{"$f":"IF(CD207=FALSE,\"COL. INCORRECTA\",LOOKUP(CONCATENATE(AE207,\" - \",AC207),Catálogos!T:T,Catálogos!Y:Y))","v":{"$error":"#N/A"}},{"$f":"IF(CD207=FALSE,\"COL. INCORRECTA\",LOOKUP(CONCATENATE(AE207,\" - \",AC207),Catálogos!T:T,Catálogos!X:X))","v":{"$error":"#N/A"}}," -SELECCIONAR-",""," -SELECCIONAR-",null,null," -SELECCIONAR-",null,null,null," -SELECCIONAR-",null,null," -SELECCIONAR-"," -SELECCIONAR-",null,null,null,null,null," -SELECCIONAR-",null,null,null,null,null,null," -SELECCIONAR-",null,null,null,null,null,null," -SELECCIONAR-",null,null,null,null,null,null," -SELECCIONAR-",null,null,{"$f":"LOOKUP(AB207,Catálogos!AP:AP,Catálogos!AO:AO)","v":"ERR"},{"$f":"CONCATENATE(LOOKUP(AC207,Catálogos!O:O,Catálogos!P:P),\".\",LOOKUP(AC207,Catálogos!O:O,Catálogos!Q:Q))","v":{"$error":"#N/A"}},{"$f":"IF(AC207=LOOKUP(CONCATENATE(AE207,\" - \",AC207),Catálogos!T:T,Catálogos!V:V),LOOKUP(CONCATENATE(AE207,\" - \",AC207),Catálogos!T:T,Catálogos!W:W),FALSE)","v":{"$error":"#N/A"}},{"$f":"LOOKUP(BD207,Catálogos!AM:AM,Catálogos!AL:AL)","v":"ERR"},{"$f":"LOOKUP(BK207,Catálogos!AM:AM,Catálogos!AL:AL)","v":"ERR"},{"$f":"LOOKUP(BR207,Catálogos!AM:AM,Catálogos!AL:AL)","v":"ERR"},{"$f":"LOOKUP(BY207,Catálogos!AM:AM,Catálogos!AL:AL)","v":"ERR"},0]
[null,null,null,null,null,null,null," -SELECCIONAR-"," -SELECCIONAR-"," -SELECCIONAR-",null," -SELECCIONAR-"," -SELECCIONAR-"," -SELECCIONAR-"," -SELECCIONAR-",null,null," -SELECCIONAR-",null,null,null," -SELECCIONAR-",null,null," -SELECCIONAR-",null," -SELECCIONAR-"," -SELECCIONAR-",null,{"$f":"IF(AC208=FALSE, LOOKUP(AC208,Catálogos!O:O),LOOKUP(AC208,Catálogos!O:O,Catálogos!R:R))","v":{"$error":"#N/A"}},"",null,null,null,{"$f":"IF(CD208=FALSE,\"COL. INCORRECTA\",LOOKUP(CONCATENATE(AE208,\" - \",AC208),Catálogos!T:T,Catálogos!Y:Y))","v":{"$error":"#N/A"}},{"$f":"IF(CD208=FALSE,\"COL. INCORRECTA\",LOOKUP(CONCATENATE(AE208,\" - \",AC208),Catálogos!T:T,Catálogos!X:X))","v":{"$error":"#N/A"}}," -SELECCIONAR-",""," -SELECCIONAR-",null,null," -SELECCIONAR-",null,null,null," -SELECCIONAR-",null,null," -SELECCIONAR-"," -SELECCIONAR-",null,null,null,null,null," -SELECCIONAR-",null,null,null,null,null,null," -SELECCIONAR-",null,null,null,null,null,null," -SELECCIONAR-",null,null,null,null,null,null," -SELECCIONAR-",null,null,{"$f":"LOOKUP(AB208,Catálogos!AP:AP,Catálogos!AO:AO)","v":"ERR"},{"$f":"CONCATENATE(LOOKUP(AC208,Catálogos!O:O,Catálogos!P:P),\".\",LOOKUP(AC208,Catálogos!O:O,Catálogos!Q:Q))","v":{"$error":"#N/A"}},{"$f":"IF(AC208=LOOKUP(CONCATENATE(AE208,\" - \",AC208),Catálogos!T:T,Catálogos!V:V),LOOKUP(CONCATENATE(AE208,\" - \",AC208),Catálogos!T:T,Catálogos!W:W),FALSE)","v":{"$error":"#N/A"}},{"$f":"LOOKUP(BD208,Catálogos!AM:AM,Catálogos!AL:AL)","v":"ERR"},{"$f":"LOOKUP(BK208,Catálogos!AM:AM,Catálogos!AL:AL)","v":"ERR"},{"$f":"LOOKUP(BR208,Catálogos!AM:AM,Catálogos!AL:AL)","v":"ERR"},{"$f":"LOOKUP(BY208,Catálogos!AM:AM,Catálogos!AL:AL)","v":"ERR"},0]
[null,null,null,null,null,null,null," -SELECCIONAR-"," -SELECCIONAR-"," -SELECCIONAR-",null," -SELECCIONAR-"," -SELECCIONAR-"," -SELECCIONAR-"," -SELECCIONAR-",null,null," -SELECCIONAR-",null,null,null," -SELECCIONAR-",null,null," -SELECCIONAR-",null," -SELECCIONAR-"," -SELECCIONAR-",null,{"$f":"IF(AC209=FALSE, LOOKUP(AC209,Catálogos!O:O),LOOKUP(AC209,Catálogos!O:O,Catálogos!R:R))","v":{"$error":"#N/A"}},"",null,null,null,{"$f":"IF(CD209=FALSE,\"COL. INCORRECTA\",LOOKUP(CONCATENATE(AE209,\" - \",AC209),Catálogos!T:T,Catálogos!Y:Y))","v":{"$error":"#N/A"}},{"$f":"IF(CD209=FALSE,\"COL. INCORRECTA\",LOOKUP(CONCATENATE(AE209,\" - \",AC209),Catálogos!T:T,Catálogos!X:X))","v":{"$error":"#N/A"}}," -SELECCIONAR-",""," -SELECCIONAR-",null,null," -SELECCIONAR-",null,null,null," -SELECCIONAR-",null,null," -SELECCIONAR-"," -SELECCIONAR-",null,null,null,null,null," -SELECCIONAR-",null,null,null,null,null,null," -SELECCIONAR-",null,null,null,null,null,null," -SELECCIONAR-",null,null,null,null,null,null," -SELECCIONAR-",null,null,{"$f":"LOOKUP(AB209,Catálogos!AP:AP,Catálogos!AO:AO)","v":"ERR"},{"$f":"CONCATENATE(LOOKUP(AC209,Catálogos!O:O,Catálogos!P:P),\".\",LOOKUP(AC209,Catálogos!O:O,Catálogos!Q:Q))","v":{"$error":"#N/A"}},{"$f":"IF(AC209=LOOKUP(CONCATENATE(AE209,\" - \",AC209),Catálogos!T:T,Catálogos!V:V),LOOKUP(CONCATENATE(AE209,\" - \",AC209),Catálogos!T:T,Catálogos!W:W),FALSE)","v":{"$error":"#N/A"}},{"$f":"LOOKUP(BD209,Catálogos!AM:AM,Catálogos!AL:AL)","v":"ERR"},{"$f":"LOOKUP(BK209,Catálogos!AM:AM,Catálogos!AL:AL)","v":"ERR"},{"$f":"LOOKUP(BR209,Catálogos!AM:AM,Catálogos!AL:AL)","v":"ERR"},{"$f":"LOOKUP(BY209,Catálogos!AM:AM,Catálogos!AL:AL)","v":"ERR"},0]
[null,null,null,null,null,null,null," -SELECCIONAR-"," -SELECCIONAR-"," -SELECCIONAR-",null," -SELECCIONAR-"," -SELECCIONAR-"," -SELECCIONAR-"," -SELECCIONAR-",null,null," -SELECCIONAR-",null,null,null," -SELECCIONAR-",null,null," -SELECCIONAR-",null," -SELECCIONAR-"," -SELECCIONAR-",null,{"$f":"IF(AC210=FALSE, LOOKUP(AC210,Catálogos!O:O),LOOKUP(AC210,Catálogos!O:O,Catálogos!R:R))","v":{"$error":"#N/A"}},"",null,null,null,{"$f":"IF(CD210=FALSE,\"COL. INCORRECTA\",LOOKUP(CONCATENATE(AE210,\" - \",AC210),Catálogos!T:T,Catálogos!Y:Y))","v":{"$error":"#N/A"}},{"$f":"IF(CD210=FALSE,\"COL. INCORRECTA\",LOOKUP(CONCATENATE(AE210,\" - \",AC210),Catálogos!T:T,Catálogos!X:X))","v":{"$error":"#N/A"}}," -SELECCIONAR-",""," -SELECCIONAR-",null,null," -SELECCIONAR-",null,null,null," -SELECCIONAR-",null,null," -SELECCIONAR-"," -SELECCIONAR-",null,null,null,null,null," -SELECCIONAR-",null,null,null,null,null,null," -SELECCIONAR-",null,null,null,null,null,null," -SELECCIONAR-",null,null,null,null,null,null," -SELECCIONAR-",null,null,{"$f":"LOOKUP(AB210,Catálogos!AP:AP,Catálogos!AO:AO)","v":"ERR"},{"$f":"CONCATENATE(LOOKUP(AC210,Catálogos!O:O,Catálogos!P:P),\".\",LOOKUP(AC210,Catálogos!O:O,Catálogos!Q:Q))","v":{"$error":"#N/A"}},{"$f":"IF(AC210=LOOKUP(CONCATENATE(AE210,\" - \",AC210),Catálogos!T:T,Catálogos!V:V),LOOKUP(CONCATENATE(AE210,\" - \",AC210),Catálogos!T:T,Catálogos!W:W),FALSE)","v":{"$error":"#N/A"}},{"$f":"LOOKUP(BD210,Catálogos!AM:AM,Catálogos!AL:AL)","v":"ERR"},{"$f":"LOOKUP(BK210,Catálogos!AM:AM,Catálogos!AL:AL)","v":"ERR"},{"$f":"LOOKUP(BR210,Catálogos!AM:AM,Catálogos!AL:AL)","v":"ERR"},{"$f":"LOOKUP(BY210,Catálogos!AM:AM,Catálogos!AL:AL)","v":"ERR"},0]
[null,null,null,null,null,null,null," -SELECCIONAR-"," -SELECCIONAR-"," -SELECCIONAR-",null," -SELECCIONAR-"," -SELECCIONAR-"," -SELECCIONAR-"," -SELECCIONAR-",null,null," -SELECCIONAR-",null,null,null," -SELECCIONAR-",null,null," -SELECCIONAR-",null," -SELECCIONAR-"," -SELECCIONAR-",null,{"$f":"IF(AC211=FALSE, LOOKUP(AC211,Catálogos!O:O),LOOKUP(AC211,Catálogos!O:O,Catálogos!R:R))","v":{"$error":"#N/A"}},"",null,null,null,{"$f":"IF(CD211=FALSE,\"COL. INCORRECTA\",LOOKUP(CONCATENATE(AE211,\" - \",AC211),Catálogos!T:T,Catálogos!Y:Y))","v":{"$error":"#N/A"}},{"$f":"IF(CD211=FALSE,\"COL. INCORRECTA\",LOOKUP(CONCATENATE(AE211,\" - \",AC211),Catálogos!T:T,Catálogos!X:X))","v":{"$error":"#N/A"}}," -SELECCIONAR-",""," -SELECCIONAR-",null,null," -SELECCIONAR-",null,null,null," -SELECCIONAR-",null,null," -SELECCIONAR-"," -SELECCIONAR-",null,null,null,null,null," -SELECCIONAR-",null,null,null,null,null,null," -SELECCIONAR-",null,null,null,null,null,null," -SELECCIONAR-",null,null,null,null,null,null," -SELECCIONAR-",null,null,{"$f":"LOOKUP(AB211,Catálogos!AP:AP,Catálogos!AO:AO)","v":"ERR"},{"$f":"CONCATENATE(LOOKUP(AC211,Catálogos!O:O,Catálogos!P:P),\".\",LOOKUP(AC211,Catálogos!O:O,Catálogos!Q:Q))","v":{"$error":"#N/A"}},{"$f":"IF(AC211=LOOKUP(CONCATENATE(AE211,\" - \",AC211),Catálogos!T:T,Catálogos!V:V),LOOKUP(CONCATENATE(AE211,\" - \",AC211),Catálogos!T:T,Catálogos!W:W),FALSE)","v":{"$error":"#N/A"}},{"$f":"LOOKUP(BD211,Catálogos!AM:AM,Catálogos!AL:AL)","v":"ERR"},{"$f":"LOOKUP(BK211,Catálogos!AM:AM,Catálogos!AL:AL)","v":"ERR"},{"$f":"LOOKUP(BR211,Catálogos!AM:AM,Catálogos!AL:AL)","v":"ERR"},{"$f":"LOOKUP(BY211,Catálogos!AM:AM,Catálogos!AL:AL)","v":"ERR"},0]
[null,null,null,null,null,null,null," -SELECCIONAR-"," -SELECCIONAR-"," -SELECCIONAR-",null," -SELECCIONAR-"," -SELECCIONAR-"," -SELECCIONAR-"," -SELECCIONAR-",null,null," -SELECCIONAR-",null,null,null," -SELECCIONAR-",null,null," -SELECCIONAR-",null," -SELECCIONAR-"," -SELECCIONAR-",null,{"$f":"IF(AC212=FALSE, LOOKUP(AC212,Catálogos!O:O),LOOKUP(AC212,Catálogos!O:O,Catálogos!R:R))","v":{"$error":"#N/A"}},"",null,null,null,{"$f":"IF(CD212=FALSE,\"COL. INCORRECTA\",LOOKUP(CONCATENATE(AE212,\" - \",AC212),Catálogos!T:T,Catálogos!Y:Y))","v":{"$error":"#N/A"}},{"$f":"IF(CD212=FALSE,\"COL. INCORRECTA\",LOOKUP(CONCATENATE(AE212,\" - \",AC212),Catálogos!T:T,Catálogos!X:X))","v":{"$error":"#N/A"}}," -SELECCIONAR-",""," -SELECCIONAR-",null,null," -SELECCIONAR-",null,null,null," -SELECCIONAR-",null,null," -SELECCIONAR-"," -SELECCIONAR-",null,null,null,null,null," -SELECCIONAR-",null,null,null,null,null,null," -SELECCIONAR-",null,null,null,null,null,null," -SELECCIONAR-",null,null,null,null,null,null," -SELECCIONAR-",null,null,{"$f":"LOOKUP(AB212,Catálogos!AP:AP,Catálogos!AO:AO)","v":"ERR"},{"$f":"CONCATENATE(LOOKUP(AC212,Catálogos!O:O,Catálogos!P:P),\".\",LOOKUP(AC212,Catálogos!O:O,Catálogos!Q:Q))","v":{"$error":"#N/A"}},{"$f":"IF(AC212=LOOKUP(CONCATENATE(AE212,\" - \",AC212),Catálogos!T:T,Catálogos!V:V),LOOKUP(CONCATENATE(AE212,\" - \",AC212),Catálogos!T:T,Catálogos!W:W),FALSE)","v":{"$error":"#N/A"}},{"$f":"LOOKUP(BD212,Catálogos!AM:AM,Catálogos!AL:AL)","v":"ERR"},{"$f":"LOOKUP(BK212,Catálogos!AM:AM,Catálogos!AL:AL)","v":"ERR"},{"$f":"LOOKUP(BR212,Catálogos!AM:AM,Catálogos!AL:AL)","v":"ERR"},{"$f":"LOOKUP(BY212,Catálogos!AM:AM,Catálogos!AL:AL)","v":"ERR"},0]
[null,null,null,null,null,null,null," -SELECCIONAR-"," -SELECCIONAR-"," -SELECCIONAR-",null," -SELECCIONAR-"," -SELECCIONAR-"," -SELECCIONAR-"," -SELECCIONAR-",null,null," -SELECCIONAR-",null,null,null," -SELECCIONAR-",null,null," -SELECCIONAR-",null," -SELECCIONAR-"," -SELECCIONAR-",null,{"$f":"IF(AC213=FALSE, LOOKUP(AC213,Catálogos!O:O),LOOKUP(AC213,Catálogos!O:O,Catálogos!R:R))","v":{"$error":"#N/A"}},"",null,null,null,{"$f":"IF(CD213=FALSE,\"COL. INCORRECTA\",LOOKUP(CONCATENATE(AE213,\" - \",AC213),Catálogos!T:T,Catálogos!Y:Y))","v":{"$error":"#N/A"}},{"$f":"IF(CD213=FALSE,\"COL. INCORRECTA\",LOOKUP(CONCATENATE(AE213,\" - \",AC213),Catálogos!T:T,Catálogos!X:X))","v":{"$error":"#N/A"}}," -SELECCIONAR-",""," -SELECCIONAR-",null,null," -SELECCIONAR-",null,null,null," -SELECCIONAR-",null,null," -SELECCIONAR-"," -SELECCIONAR-",null,null,null,null,null," -SELECCIONAR-",null,null,null,null,null,null," -SELECCIONAR-",null,null,null,null,null,null," -SELECCIONAR-",null,null,null,null,null,null," -SELECCIONAR-",null,null,{"$f":"LOOKUP(AB213,Catálogos!AP:AP,Catálogos!AO:AO)","v":"ERR"},{"$f":"CONCATENATE(LOOKUP(AC213,Catálogos!O:O,Catálogos!P:P),\".\",LOOKUP(AC213,Catálogos!O:O,Catálogos!Q:Q))","v":{"$error":"#N/A"}},{"$f":"IF(AC213=LOOKUP(CONCATENATE(AE213,\" - \",AC213),Catálogos!T:T,Catálogos!V:V),LOOKUP(CONCATENATE(AE213,\" - \",AC213),Catálogos!T:T,Catálogos!W:W),FALSE)","v":{"$error":"#N/A"}},{"$f":"LOOKUP(BD213,Catálogos!AM:AM,Catálogos!AL:AL)","v":"ERR"},{"$f":"LOOKUP(BK213,Catálogos!AM:AM,Catálogos!AL:AL)","v":"ERR"},{"$f":"LOOKUP(BR213,Catálogos!AM:AM,Catálogos!AL:AL)","v":"ERR"},{"$f":"LOOKUP(BY213,Catálogos!AM:AM,Catálogos!AL:AL)","v":"ERR"},0]
[null,null,null,null,null,null,null," -SELECCIONAR-"," -SELECCIONAR-"," -SELECCIONAR-",null," -SELECCIONAR-"," -SELECCIONAR-"," -SELECCIONAR-"," -SELECCIONAR-",null,null," -SELECCIONAR-",null,null,null," -SELECCIONAR-",null,null," -SELECCIONAR-",null," -SELECCIONAR-"," -SELECCIONAR-",null,{"$f":"IF(AC214=FALSE, LOOKUP(AC214,Catálogos!O:O),LOOKUP(AC214,Catálogos!O:O,Catálogos!R:R))","v":{"$error":"#N/A"}},"",null,null,null,{"$f":"IF(CD214=FALSE,\"COL. INCORRECTA\",LOOKUP(CONCATENATE(AE214,\" - \",AC214),Catálogos!T:T,Catálogos!Y:Y))","v":{"$error":"#N/A"}},{"$f":"IF(CD214=FALSE,\"COL. INCORRECTA\",LOOKUP(CONCATENATE(AE214,\" - \",AC214),Catálogos!T:T,Catálogos!X:X))","v":{"$error":"#N/A"}}," -SELECCIONAR-",""," -SELECCIONAR-",null,null," -SELECCIONAR-",null,null,null," -SELECCIONAR-",null,null," -SELECCIONAR-"," -SELECCIONAR-",null,null,null,null,null," -SELECCIONAR-",null,null,null,null,null,null," -SELECCIONAR-",null,null,null,null,null,null," -SELECCIONAR-",null,null,null,null,null,null," -SELECCIONAR-",null,null,{"$f":"LOOKUP(AB214,Catálogos!AP:AP,Catálogos!AO:AO)","v":"ERR"},{"$f":"CONCATENATE(LOOKUP(AC214,Catálogos!O:O,Catálogos!P:P),\".\",LOOKUP(AC214,Catálogos!O:O,Catálogos!Q:Q))","v":{"$error":"#N/A"}},{"$f":"IF(AC214=LOOKUP(CONCATENATE(AE214,\" - \",AC214),Catálogos!T:T,Catálogos!V:V),LOOKUP(CONCATENATE(AE214,\" - \",AC214),Catálogos!T:T,Catálogos!W:W),FALSE)","v":{"$error":"#N/A"}},{"$f":"LOOKUP(BD214,Catálogos!AM:AM,Catálogos!AL:AL)","v":"ERR"},{"$f":"LOOKUP(BK214,Catálogos!AM:AM,Catálogos!AL:AL)","v":"ERR"},{"$f":"LOOKUP(BR214,Catálogos!AM:AM,Catálogos!AL:AL)","v":"ERR"},{"$f":"LOOKUP(BY214,Catálogos!AM:AM,Catálogos!AL:AL)","v":"ERR"},0]
[null,null,null,null,null,null,null," -SELECCIONAR-"," -SELECCIONAR-"," -SELECCIONAR-",null," -SELECCIONAR-"," -SELECCIONAR-"," -SELECCIONAR-"," -SELECCIONAR-",null,null," -SELECCIONAR-",null,null,null," -SELECCIONAR-",null,null," -SELECCIONAR-",null," -SELECCIONAR-"," -SELECCIONAR-",null,{"$f":"IF(AC215=FALSE, LOOKUP(AC215,Catálogos!O:O),LOOKUP(AC215,Catálogos!O:O,Catálogos!R:R))","v":{"$error":"#N/A"}},"",null,null,null,{"$f":"IF(CD215=FALSE,\"COL. INCORRECTA\",LOOKUP(CONCATENATE(AE215,\" - \",AC215),Catálogos!T:T,Catálogos!Y:Y))","v":{"$error":"#N/A"}},{"$f":"IF(CD215=FALSE,\"COL. INCORRECTA\",LOOKUP(CONCATENATE(AE215,\" - \",AC215),Catálogos!T:T,Catálogos!X:X))","v":{"$error":"#N/A"}}," -SELECCIONAR-",""," -SELECCIONAR-",null,null," -SELECCIONAR-",null,null,null," -SELECCIONAR-",null,null," -SELECCIONAR-"," -SELECCIONAR-",null,null,null,null,null," -SELECCIONAR-",null,null,null,null,null,null," -SELECCIONAR-",null,null,null,null,null,null," -SELECCIONAR-",null,null,null,null,null,null," -SELECCIONAR-",null,null,{"$f":"LOOKUP(AB215,Catálogos!AP:AP,Catálogos!AO:AO)","v":"ERR"},{"$f":"CONCATENATE(LOOKUP(AC215,Catálogos!O:O,Catálogos!P:P),\".\",LOOKUP(AC215,Catálogos!O:O,Catálogos!Q:Q))","v":{"$error":"#N/A"}},{"$f":"IF(AC215=LOOKUP(CONCATENATE(AE215,\" - \",AC215),Catálogos!T:T,Catálogos!V:V),LOOKUP(CONCATENATE(AE215,\" - \",AC215),Catálogos!T:T,Catálogos!W:W),FALSE)","v":{"$error":"#N/A"}},{"$f":"LOOKUP(BD215,Catálogos!AM:AM,Catálogos!AL:AL)","v":"ERR"},{"$f":"LOOKUP(BK215,Catálogos!AM:AM,Catálogos!AL:AL)","v":"ERR"},{"$f":"LOOKUP(BR215,Catálogos!AM:AM,Catálogos!AL:AL)","v":"ERR"},{"$f":"LOOKUP(BY215,Catálogos!AM:AM,Catálogos!AL:AL)","v":"ERR"},0]
[null,null,null,null,null,null,null," -SELECCIONAR-"," -SELECCIONAR-"," -SELECCIONAR-",null," -SELECCIONAR-"," -SELECCIONAR-"," -SELECCIONAR-"," -SELECCIONAR-",null,null," -SELECCIONAR-",null,null,null," -SELECCIONAR-",null,null," -SELECCIONAR-",null," -SELECCIONAR-"," -SELECCIONAR-",null,{"$f":"IF(AC216=FALSE, LOOKUP(AC216,Catálogos!O:O),LOOKUP(AC216,Catálogos!O:O,Catálogos!R:R))","v":{"$error":"#N/A"}},"",null,null,null,{"$f":"IF(CD216=FALSE,\"COL. INCORRECTA\",LOOKUP(CONCATENATE(AE216,\" - \",AC216),Catálogos!T:T,Catálogos!Y:Y))","v":{"$error":"#N/A"}},{"$f":"IF(CD216=FALSE,\"COL. INCORRECTA\",LOOKUP(CONCATENATE(AE216,\" - \",AC216),Catálogos!T:T,Catálogos!X:X))","v":{"$error":"#N/A"}}," -SELECCIONAR-",""," -SELECCIONAR-",null,null," -SELECCIONAR-",null,null,null," -SELECCIONAR-",null,null," -SELECCIONAR-"," -SELECCIONAR-",null,null,null,null,null," -SELECCIONAR-",null,null,null,null,null,null," -SELECCIONAR-",null,null,null,null,null,null," -SELECCIONAR-",null,null,null,null,null,null," -SELECCIONAR-",null,null,{"$f":"LOOKUP(AB216,Catálogos!AP:AP,Catálogos!AO:AO)","v":"ERR"},{"$f":"CONCATENATE(LOOKUP(AC216,Catálogos!O:O,Catálogos!P:P),\".\",LOOKUP(AC216,Catálogos!O:O,Catálogos!Q:Q))","v":{"$error":"#N/A"}},{"$f":"IF(AC216=LOOKUP(CONCATENATE(AE216,\" - \",AC216),Catálogos!T:T,Catálogos!V:V),LOOKUP(CONCATENATE(AE216,\" - \",AC216),Catálogos!T:T,Catálogos!W:W),FALSE)","v":{"$error":"#N/A"}},{"$f":"LOOKUP(BD216,Catálogos!AM:AM,Catálogos!AL:AL)","v":"ERR"},{"$f":"LOOKUP(BK216,Catálogos!AM:AM,Catálogos!AL:AL)","v":"ERR"},{"$f":"LOOKUP(BR216,Catálogos!AM:AM,Catálogos!AL:AL)","v":"ERR"},{"$f":"LOOKUP(BY216,Catálogos!AM:AM,Catálogos!AL:AL)","v":"ERR"},0]
[null,null,null,null,null,null,null," -SELECCIONAR-"," -SELECCIONAR-"," -SELECCIONAR-",null," -SELECCIONAR-"," -SELECCIONAR-"," -SELECCIONAR-"," -SELECCIONAR-",null,null," -SELECCIONAR-",null,null,null," -SELECCIONAR-",null,null," -SELECCIONAR-",null," -SELECCIONAR-"," -SELECCIONAR-",null,{"$f":"IF(AC217=FALSE, LOOKUP(AC217,Catálogos!O:O),LOOKUP(AC217,Catálogos!O:O,Catálogos!R:R))","v":{"$error":"#N/A"}},"",null,null,null,{"$f":"IF(CD217=FALSE,\"COL. INCORRECTA\",LOOKUP(CONCATENATE(AE217,\" - \",AC217),Catálogos!T:T,Catálogos!Y:Y))","v":{"$error":"#N/A"}},{"$f":"IF(CD217=FALSE,\"COL. INCORRECTA\",LOOKUP(CONCATENATE(AE217,\" - \",AC217),Catálogos!T:T,Catálogos!X:X))","v":{"$error":"#N/A"}}," -SELECCIONAR-",""," -SELECCIONAR-",null,null," -SELECCIONAR-",null,null,null," -SELECCIONAR-",null,null," -SELECCIONAR-"," -SELECCIONAR-",null,null,null,null,null," -SELECCIONAR-",null,null,null,null,null,null," -SELECCIONAR-",null,null,null,null,null,null," -SELECCIONAR-",null,null,null,null,null,null," -SELECCIONAR-",null,null,{"$f":"LOOKUP(AB217,Catálogos!AP:AP,Catálogos!AO:AO)","v":"ERR"},{"$f":"CONCATENATE(LOOKUP(AC217,Catálogos!O:O,Catálogos!P:P),\".\",LOOKUP(AC217,Catálogos!O:O,Catálogos!Q:Q))","v":{"$error":"#N/A"}},{"$f":"IF(AC217=LOOKUP(CONCATENATE(AE217,\" - \",AC217),Catálogos!T:T,Catálogos!V:V),LOOKUP(CONCATENATE(AE217,\" - \",AC217),Catálogos!T:T,Catálogos!W:W),FALSE)","v":{"$error":"#N/A"}},{"$f":"LOOKUP(BD217,Catálogos!AM:AM,Catálogos!AL:AL)","v":"ERR"},{"$f":"LOOKUP(BK217,Catálogos!AM:AM,Catálogos!AL:AL)","v":"ERR"},{"$f":"LOOKUP(BR217,Catálogos!AM:AM,Catálogos!AL:AL)","v":"ERR"},{"$f":"LOOKUP(BY217,Catálogos!AM:AM,Catálogos!AL:AL)","v":"ERR"},0]
[null,null,null,null,null,null,null," -SELECCIONAR-"," -SELECCIONAR-"," -SELECCIONAR-",null," -SELECCIONAR-"," -SELECCIONAR-"," -SELECCIONAR-"," -SELECCIONAR-",null,null," -SELECCIONAR-",null,null,null," -SELECCIONAR-",null,null," -SELECCIONAR-",null," -SELECCIONAR-"," -SELECCIONAR-",null,{"$f":"IF(AC218=FALSE, LOOKUP(AC218,Catálogos!O:O),LOOKUP(AC218,Catálogos!O:O,Catálogos!R:R))","v":{"$error":"#N/A"}},"",null,null,null,{"$f":"IF(CD218=FALSE,\"COL. INCORRECTA\",LOOKUP(CONCATENATE(AE218,\" - \",AC218),Catálogos!T:T,Catálogos!Y:Y))","v":{"$error":"#N/A"}},{"$f":"IF(CD218=FALSE,\"COL. INCORRECTA\",LOOKUP(CONCATENATE(AE218,\" - \",AC218),Catálogos!T:T,Catálogos!X:X))","v":{"$error":"#N/A"}}," -SELECCIONAR-",""," -SELECCIONAR-",null,null," -SELECCIONAR-",null,null,null," -SELECCIONAR-",null,null," -SELECCIONAR-"," -SELECCIONAR-",null,null,null,null,null," -SELECCIONAR-",null,null,null,null,null,null," -SELECCIONAR-",null,null,null,null,null,null," -SELECCIONAR-",null,null,null,null,null,null," -SELECCIONAR-",null,null,{"$f":"LOOKUP(AB218,Catálogos!AP:AP,Catálogos!AO:AO)","v":"ERR"},{"$f":"CONCATENATE(LOOKUP(AC218,Catálogos!O:O,Catálogos!P:P),\".\",LOOKUP(AC218,Catálogos!O:O,Catálogos!Q:Q))","v":{"$error":"#N/A"}},{"$f":"IF(AC218=LOOKUP(CONCATENATE(AE218,\" - \",AC218),Catálogos!T:T,Catálogos!V:V),LOOKUP(CONCATENATE(AE218,\" - \",AC218),Catálogos!T:T,Catálogos!W:W),FALSE)","v":{"$error":"#N/A"}},{"$f":"LOOKUP(BD218,Catálogos!AM:AM,Catálogos!AL:AL)","v":"ERR"},{"$f":"LOOKUP(BK218,Catálogos!AM:AM,Catálogos!AL:AL)","v":"ERR"},{"$f":"LOOKUP(BR218,Catálogos!AM:AM,Catálogos!AL:AL)","v":"ERR"},{"$f":"LOOKUP(BY218,Catálogos!AM:AM,Catálogos!AL:AL)","v":"ERR"},0]
[null,null,null,null,null,null,null," -SELECCIONAR-"," -SELECCIONAR-"," -SELECCIONAR-",null," -SELECCIONAR-"," -SELECCIONAR-"," -SELECCIONAR-"," -SELECCIONAR-",null,null," -SELECCIONAR-",null,null,null," -SELECCIONAR-",null,null," -SELECCIONAR-",null," -SELECCIONAR-"," -SELECCIONAR-",null,{"$f":"IF(AC219=FALSE, LOOKUP(AC219,Catálogos!O:O),LOOKUP(AC219,Catálogos!O:O,Catálogos!R:R))","v":{"$error":"#N/A"}},"",null,null,null,{"$f":"IF(CD219=FALSE,\"COL. INCORRECTA\",LOOKUP(CONCATENATE(AE219,\" - \",AC219),Catálogos!T:T,Catálogos!Y:Y))","v":{"$error":"#N/A"}},{"$f":"IF(CD219=FALSE,\"COL. INCORRECTA\",LOOKUP(CONCATENATE(AE219,\" - \",AC219),Catálogos!T:T,Catálogos!X:X))","v":{"$error":"#N/A"}}," -SELECCIONAR-",""," -SELECCIONAR-",null,null," -SELECCIONAR-",null,null,null," -SELECCIONAR-",null,null," -SELECCIONAR-"," -SELECCIONAR-",null,null,null,null,null," -SELECCIONAR-",null,null,null,null,null,null," -SELECCIONAR-",null,null,null,null,null,null," -SELECCIONAR-",null,null,null,null,null,null," -SELECCIONAR-",null,null,{"$f":"LOOKUP(AB219,Catálogos!AP:AP,Catálogos!AO:AO)","v":"ERR"},{"$f":"CONCATENATE(LOOKUP(AC219,Catálogos!O:O,Catálogos!P:P),\".\",LOOKUP(AC219,Catálogos!O:O,Catálogos!Q:Q))","v":{"$error":"#N/A"}},{"$f":"IF(AC219=LOOKUP(CONCATENATE(AE219,\" - \",AC219),Catálogos!T:T,Catálogos!V:V),LOOKUP(CONCATENATE(AE219,\" - \",AC219),Catálogos!T:T,Catálogos!W:W),FALSE)","v":{"$error":"#N/A"}},{"$f":"LOOKUP(BD219,Catálogos!AM:AM,Catálogos!AL:AL)","v":"ERR"},{"$f":"LOOKUP(BK219,Catálogos!AM:AM,Catálogos!AL:AL)","v":"ERR"},{"$f":"LOOKUP(BR219,Catálogos!AM:AM,Catálogos!AL:AL)","v":"ERR"},{"$f":"LOOKUP(BY219,Catálogos!AM:AM,Catálogos!AL:AL)","v":"ERR"},0]
[null,null,null,null,null,null,null," -SELECCIONAR-"," -SELECCIONAR-"," -SELECCIONAR-",null," -SELECCIONAR-"," -SELECCIONAR-"," -SELECCIONAR-"," -SELECCIONAR-",null,null," -SELECCIONAR-",null,null,null," -SELECCIONAR-",null,null," -SELECCIONAR-",null," -SELECCIONAR-"," -SELECCIONAR-",null,{"$f":"IF(AC220=FALSE, LOOKUP(AC220,Catálogos!O:O),LOOKUP(AC220,Catálogos!O:O,Catálogos!R:R))","v":{"$error":"#N/A"}},"",null,null,null,{"$f":"IF(CD220=FALSE,\"COL. INCORRECTA\",LOOKUP(CONCATENATE(AE220,\" - \",AC220),Catálogos!T:T,Catálogos!Y:Y))","v":{"$error":"#N/A"}},{"$f":"IF(CD220=FALSE,\"COL. INCORRECTA\",LOOKUP(CONCATENATE(AE220,\" - \",AC220),Catálogos!T:T,Catálogos!X:X))","v":{"$error":"#N/A"}}," -SELECCIONAR-",""," -SELECCIONAR-",null,null," -SELECCIONAR-",null,null,null," -SELECCIONAR-",null,null," -SELECCIONAR-"," -SELECCIONAR-",null,null,null,null,null," -SELECCIONAR-",null,null,null,null,null,null," -SELECCIONAR-",null,null,null,null,null,null," -SELECCIONAR-",null,null,null,null,null,null," -SELECCIONAR-",null,null,{"$f":"LOOKUP(AB220,Catálogos!AP:AP,Catálogos!AO:AO)","v":"ERR"},{"$f":"CONCATENATE(LOOKUP(AC220,Catálogos!O:O,Catálogos!P:P),\".\",LOOKUP(AC220,Catálogos!O:O,Catálogos!Q:Q))","v":{"$error":"#N/A"}},{"$f":"IF(AC220=LOOKUP(CONCATENATE(AE220,\" - \",AC220),Catálogos!T:T,Catálogos!V:V),LOOKUP(CONCATENATE(AE220,\" - \",AC220),Catálogos!T:T,Catálogos!W:W),FALSE)","v":{"$error":"#N/A"}},{"$f":"LOOKUP(BD220,Catálogos!AM:AM,Catálogos!AL:AL)","v":"ERR"},{"$f":"LOOKUP(BK220,Catálogos!AM:AM,Catálogos!AL:AL)","v":"ERR"},{"$f":"LOOKUP(BR220,Catálogos!AM:AM,Catálogos!AL:AL)","v":"ERR"},{"$f":"LOOKUP(BY220,Catálogos!AM:AM,Catálogos!AL:AL)","v":"ERR"},0]
[null,null,null,null,null,null,null," -SELECCIONAR-"," -SELECCIONAR-"," -SELECCIONAR-",null," -SELECCIONAR-"," -SELECCIONAR-"," -SELECCIONAR-"," -SELECCIONAR-",null,null," -SELECCIONAR-",null,null,null," -SELECCIONAR-",null,null," -SELECCIONAR-",null," -SELECCIONAR-"," -SELECCIONAR-",null,{"$f":"IF(AC221=FALSE, LOOKUP(AC221,Catálogos!O:O),LOOKUP(AC221,Catálogos!O:O,Catálogos!R:R))","v":{"$error":"#N/A"}},"",null,null,null,{"$f":"IF(CD221=FALSE,\"COL. INCORRECTA\",LOOKUP(CONCATENATE(AE221,\" - \",AC221),Catálogos!T:T,Catálogos!Y:Y))","v":{"$error":"#N/A"}},{"$f":"IF(CD221=FALSE,\"COL. INCORRECTA\",LOOKUP(CONCATENATE(AE221,\" - \",AC221),Catálogos!T:T,Catálogos!X:X))","v":{"$error":"#N/A"}}," -SELECCIONAR-",""," -SELECCIONAR-",null,null," -SELECCIONAR-",null,null,null," -SELECCIONAR-",null,null," -SELECCIONAR-"," -SELECCIONAR-",null,null,null,null,null," -SELECCIONAR-",null,null,null,null,null,null," -SELECCIONAR-",null,null,null,null,null,null," -SELECCIONAR-",null,null,null,null,null,null," -SELECCIONAR-",null,null,{"$f":"LOOKUP(AB221,Catálogos!AP:AP,Catálogos!AO:AO)","v":"ERR"},{"$f":"CONCATENATE(LOOKUP(AC221,Catálogos!O:O,Catálogos!P:P),\".\",LOOKUP(AC221,Catálogos!O:O,Catálogos!Q:Q))","v":{"$error":"#N/A"}},{"$f":"IF(AC221=LOOKUP(CONCATENATE(AE221,\" - \",AC221),Catálogos!T:T,Catálogos!V:V),LOOKUP(CONCATENATE(AE221,\" - \",AC221),Catálogos!T:T,Catálogos!W:W),FALSE)","v":{"$error":"#N/A"}},{"$f":"LOOKUP(BD221,Catálogos!AM:AM,Catálogos!AL:AL)","v":"ERR"},{"$f":"LOOKUP(BK221,Catálogos!AM:AM,Catálogos!AL:AL)","v":"ERR"},{"$f":"LOOKUP(BR221,Catálogos!AM:AM,Catálogos!AL:AL)","v":"ERR"},{"$f":"LOOKUP(BY221,Catálogos!AM:AM,Catálogos!AL:AL)","v":"ERR"},0]
[null,null,null,null,null,null,null," -SELECCIONAR-"," -SELECCIONAR-"," -SELECCIONAR-",null," -SELECCIONAR-"," -SELECCIONAR-"," -SELECCIONAR-"," -SELECCIONAR-",null,null," -SELECCIONAR-",null,null,null," -SELECCIONAR-",null,null," -SELECCIONAR-",null," -SELECCIONAR-"," -SELECCIONAR-",null,{"$f":"IF(AC222=FALSE, LOOKUP(AC222,Catálogos!O:O),LOOKUP(AC222,Catálogos!O:O,Catálogos!R:R))","v":{"$error":"#N/A"}},"",null,null,null,{"$f":"IF(CD222=FALSE,\"COL. INCORRECTA\",LOOKUP(CONCATENATE(AE222,\" - \",AC222),Catálogos!T:T,Catálogos!Y:Y))","v":{"$error":"#N/A"}},{"$f":"IF(CD222=FALSE,\"COL. INCORRECTA\",LOOKUP(CONCATENATE(AE222,\" - \",AC222),Catálogos!T:T,Catálogos!X:X))","v":{"$error":"#N/A"}}," -SELECCIONAR-",""," -SELECCIONAR-",null,null," -SELECCIONAR-",null,null,null," -SELECCIONAR-",null,null," -SELECCIONAR-"," -SELECCIONAR-",null,null,null,null,null," -SELECCIONAR-",null,null,null,null,null,null," -SELECCIONAR-",null,null,null,null,null,null," -SELECCIONAR-",null,null,null,null,null,null," -SELECCIONAR-",null,null,{"$f":"LOOKUP(AB222,Catálogos!AP:AP,Catálogos!AO:AO)","v":"ERR"},{"$f":"CONCATENATE(LOOKUP(AC222,Catálogos!O:O,Catálogos!P:P),\".\",LOOKUP(AC222,Catálogos!O:O,Catálogos!Q:Q))","v":{"$error":"#N/A"}},{"$f":"IF(AC222=LOOKUP(CONCATENATE(AE222,\" - \",AC222),Catálogos!T:T,Catálogos!V:V),LOOKUP(CONCATENATE(AE222,\" - \",AC222),Catálogos!T:T,Catálogos!W:W),FALSE)","v":{"$error":"#N/A"}},{"$f":"LOOKUP(BD222,Catálogos!AM:AM,Catálogos!AL:AL)","v":"ERR"},{"$f":"LOOKUP(BK222,Catálogos!AM:AM,Catálogos!AL:AL)","v":"ERR"},{"$f":"LOOKUP(BR222,Catálogos!AM:AM,Catálogos!AL:AL)","v":"ERR"},{"$f":"LOOKUP(BY222,Catálogos!AM:AM,Catálogos!AL:AL)","v":"ERR"},0]
[null,null,null,null,null,null,null," -SELECCIONAR-"," -SELECCIONAR-"," -SELECCIONAR-",null," -SELECCIONAR-"," -SELECCIONAR-"," -SELECCIONAR-"," -SELECCIONAR-",null,null," -SELECCIONAR-",null,null,null," -SELECCIONAR-",null,null," -SELECCIONAR-",null," -SELECCIONAR-"," -SELECCIONAR-",null,{"$f":"IF(AC223=FALSE, LOOKUP(AC223,Catálogos!O:O),LOOKUP(AC223,Catálogos!O:O,Catálogos!R:R))","v":{"$error":"#N/A"}},"",null,null,null,{"$f":"IF(CD223=FALSE,\"COL. INCORRECTA\",LOOKUP(CONCATENATE(AE223,\" - \",AC223),Catálogos!T:T,Catálogos!Y:Y))","v":{"$error":"#N/A"}},{"$f":"IF(CD223=FALSE,\"COL. INCORRECTA\",LOOKUP(CONCATENATE(AE223,\" - \",AC223),Catálogos!T:T,Catálogos!X:X))","v":{"$error":"#N/A"}}," -SELECCIONAR-",""," -SELECCIONAR-",null,null," -SELECCIONAR-",null,null,null," -SELECCIONAR-",null,null," -SELECCIONAR-"," -SELECCIONAR-",null,null,null,null,null," -SELECCIONAR-",null,null,null,null,null,null," -SELECCIONAR-",null,null,null,null,null,null," -SELECCIONAR-",null,null,null,null,null,null," -SELECCIONAR-",null,null,{"$f":"LOOKUP(AB223,Catálogos!AP:AP,Catálogos!AO:AO)","v":"ERR"},{"$f":"CONCATENATE(LOOKUP(AC223,Catálogos!O:O,Catálogos!P:P),\".\",LOOKUP(AC223,Catálogos!O:O,Catálogos!Q:Q))","v":{"$error":"#N/A"}},{"$f":"IF(AC223=LOOKUP(CONCATENATE(AE223,\" - \",AC223),Catálogos!T:T,Catálogos!V:V),LOOKUP(CONCATENATE(AE223,\" - \",AC223),Catálogos!T:T,Catálogos!W:W),FALSE)","v":{"$error":"#N/A"}},{"$f":"LOOKUP(BD223,Catálogos!AM:AM,Catálogos!AL:AL)","v":"ERR"},{"$f":"LOOKUP(BK223,Catálogos!AM:AM,Catálogos!AL:AL)","v":"ERR"},{"$f":"LOOKUP(BR223,Catálogos!AM:AM,Catálogos!AL:AL)","v":"ERR"},{"$f":"LOOKUP(BY223,Catálogos!AM:AM,Catálogos!AL:AL)","v":"ERR"},0]
[null,null,null,null,null,null,null," -SELECCIONAR-"," -SELECCIONAR-"," -SELECCIONAR-",null," -SELECCIONAR-"," -SELECCIONAR-"," -SELECCIONAR-"," -SELECCIONAR-",null,null," -SELECCIONAR-",null,null,null," -SELECCIONAR-",null,null," -SELECCIONAR-",null," -SELECCIONAR-"," -SELECCIONAR-",null,{"$f":"IF(AC224=FALSE, LOOKUP(AC224,Catálogos!O:O),LOOKUP(AC224,Catálogos!O:O,Catálogos!R:R))","v":{"$error":"#N/A"}},"",null,null,null,{"$f":"IF(CD224=FALSE,\"COL. INCORRECTA\",LOOKUP(CONCATENATE(AE224,\" - \",AC224),Catálogos!T:T,Catálogos!Y:Y))","v":{"$error":"#N/A"}},{"$f":"IF(CD224=FALSE,\"COL. INCORRECTA\",LOOKUP(CONCATENATE(AE224,\" - \",AC224),Catálogos!T:T,Catálogos!X:X))","v":{"$error":"#N/A"}}," -SELECCIONAR-",""," -SELECCIONAR-",null,null," -SELECCIONAR-",null,null,null," -SELECCIONAR-",null,null," -SELECCIONAR-"," -SELECCIONAR-",null,null,null,null,null," -SELECCIONAR-",null,null,null,null,null,null," -SELECCIONAR-",null,null,null,null,null,null," -SELECCIONAR-",null,null,null,null,null,null," -SELECCIONAR-",null,null,{"$f":"LOOKUP(AB224,Catálogos!AP:AP,Catálogos!AO:AO)","v":"ERR"},{"$f":"CONCATENATE(LOOKUP(AC224,Catálogos!O:O,Catálogos!P:P),\".\",LOOKUP(AC224,Catálogos!O:O,Catálogos!Q:Q))","v":{"$error":"#N/A"}},{"$f":"IF(AC224=LOOKUP(CONCATENATE(AE224,\" - \",AC224),Catálogos!T:T,Catálogos!V:V),LOOKUP(CONCATENATE(AE224,\" - \",AC224),Catálogos!T:T,Catálogos!W:W),FALSE)","v":{"$error":"#N/A"}},{"$f":"LOOKUP(BD224,Catálogos!AM:AM,Catálogos!AL:AL)","v":"ERR"},{"$f":"LOOKUP(BK224,Catálogos!AM:AM,Catálogos!AL:AL)","v":"ERR"},{"$f":"LOOKUP(BR224,Catálogos!AM:AM,Catálogos!AL:AL)","v":"ERR"},{"$f":"LOOKUP(BY224,Catálogos!AM:AM,Catálogos!AL:AL)","v":"ERR"},0]
[null,null,null,null,null,null,null," -SELECCIONAR-"," -SELECCIONAR-"," -SELECCIONAR-",null," -SELECCIONAR-"," -SELECCIONAR-"," -SELECCIONAR-"," -SELECCIONAR-",null,null," -SELECCIONAR-",null,null,null," -SELECCIONAR-",null,null," -SELECCIONAR-",null," -SELECCIONAR-"," -SELECCIONAR-",null,{"$f":"IF(AC225=FALSE, LOOKUP(AC225,Catálogos!O:O),LOOKUP(AC225,Catálogos!O:O,Catálogos!R:R))","v":{"$error":"#N/A"}},"",null,null,null,{"$f":"IF(CD225=FALSE,\"COL. INCORRECTA\",LOOKUP(CONCATENATE(AE225,\" - \",AC225),Catálogos!T:T,Catálogos!Y:Y))","v":{"$error":"#N/A"}},{"$f":"IF(CD225=FALSE,\"COL. INCORRECTA\",LOOKUP(CONCATENATE(AE225,\" - \",AC225),Catálogos!T:T,Catálogos!X:X))","v":{"$error":"#N/A"}}," -SELECCIONAR-",""," -SELECCIONAR-",null,null," -SELECCIONAR-",null,null,null," -SELECCIONAR-",null,null," -SELECCIONAR-"," -SELECCIONAR-",null,null,null,null,null," -SELECCIONAR-",null,null,null,null,null,null," -SELECCIONAR-",null,null,null,null,null,null," -SELECCIONAR-",null,null,null,null,null,null," -SELECCIONAR-",null,null,{"$f":"LOOKUP(AB225,Catálogos!AP:AP,Catálogos!AO:AO)","v":"ERR"},{"$f":"CONCATENATE(LOOKUP(AC225,Catálogos!O:O,Catálogos!P:P),\".\",LOOKUP(AC225,Catálogos!O:O,Catálogos!Q:Q))","v":{"$error":"#N/A"}},{"$f":"IF(AC225=LOOKUP(CONCATENATE(AE225,\" - \",AC225),Catálogos!T:T,Catálogos!V:V),LOOKUP(CONCATENATE(AE225,\" - \",AC225),Catálogos!T:T,Catálogos!W:W),FALSE)","v":{"$error":"#N/A"}},{"$f":"LOOKUP(BD225,Catálogos!AM:AM,Catálogos!AL:AL)","v":"ERR"},{"$f":"LOOKUP(BK225,Catálogos!AM:AM,Catálogos!AL:AL)","v":"ERR"},{"$f":"LOOKUP(BR225,Catálogos!AM:AM,Catálogos!AL:AL)","v":"ERR"},{"$f":"LOOKUP(BY225,Catálogos!AM:AM,Catálogos!AL:AL)","v":"ERR"},0]
[null,null,null,null,null,null,null," -SELECCIONAR-"," -SELECCIONAR-"," -SELECCIONAR-",null," -SELECCIONAR-"," -SELECCIONAR-"," -SELECCIONAR-"," -SELECCIONAR-",null,null," -SELECCIONAR-",null,null,null," -SELECCIONAR-",null,null," -SELECCIONAR-",null," -SELECCIONAR-"," -SELECCIONAR-",null,{"$f":"IF(AC226=FALSE, LOOKUP(AC226,Catálogos!O:O),LOOKUP(AC226,Catálogos!O:O,Catálogos!R:R))","v":{"$error":"#N/A"}},"",null,null,null,{"$f":"IF(CD226=FALSE,\"COL. INCORRECTA\",LOOKUP(CONCATENATE(AE226,\" - \",AC226),Catálogos!T:T,Catálogos!Y:Y))","v":{"$error":"#N/A"}},{"$f":"IF(CD226=FALSE,\"COL. INCORRECTA\",LOOKUP(CONCATENATE(AE226,\" - \",AC226),Catálogos!T:T,Catálogos!X:X))","v":{"$error":"#N/A"}}," -SELECCIONAR-",""," -SELECCIONAR-",null,null," -SELECCIONAR-",null,null,null," -SELECCIONAR-",null,null," -SELECCIONAR-"," -SELECCIONAR-",null,null,null,null,null," -SELECCIONAR-",null,null,null,null,null,null," -SELECCIONAR-",null,null,null,null,null,null," -SELECCIONAR-",null,null,null,null,null,null," -SELECCIONAR-",null,null,{"$f":"LOOKUP(AB226,Catálogos!AP:AP,Catálogos!AO:AO)","v":"ERR"},{"$f":"CONCATENATE(LOOKUP(AC226,Catálogos!O:O,Catálogos!P:P),\".\",LOOKUP(AC226,Catálogos!O:O,Catálogos!Q:Q))","v":{"$error":"#N/A"}},{"$f":"IF(AC226=LOOKUP(CONCATENATE(AE226,\" - \",AC226),Catálogos!T:T,Catálogos!V:V),LOOKUP(CONCATENATE(AE226,\" - \",AC226),Catálogos!T:T,Catálogos!W:W),FALSE)","v":{"$error":"#N/A"}},{"$f":"LOOKUP(BD226,Catálogos!AM:AM,Catálogos!AL:AL)","v":"ERR"},{"$f":"LOOKUP(BK226,Catálogos!AM:AM,Catálogos!AL:AL)","v":"ERR"},{"$f":"LOOKUP(BR226,Catálogos!AM:AM,Catálogos!AL:AL)","v":"ERR"},{"$f":"LOOKUP(BY226,Catálogos!AM:AM,Catálogos!AL:AL)","v":"ERR"},0]
[null,null,null,null,null,null,null," -SELECCIONAR-"," -SELECCIONAR-"," -SELECCIONAR-",null," -SELECCIONAR-"," -SELECCIONAR-"," -SELECCIONAR-"," -SELECCIONAR-",null,null," -SELECCIONAR-",null,null,null," -SELECCIONAR-",null,null," -SELECCIONAR-",null," -SELECCIONAR-"," -SELECCIONAR-",null,{"$f":"IF(AC227=FALSE, LOOKUP(AC227,Catálogos!O:O),LOOKUP(AC227,Catálogos!O:O,Catálogos!R:R))","v":{"$error":"#N/A"}},"",null,null,null,{"$f":"IF(CD227=FALSE,\"COL. INCORRECTA\",LOOKUP(CONCATENATE(AE227,\" - \",AC227),Catálogos!T:T,Catálogos!Y:Y))","v":{"$error":"#N/A"}},{"$f":"IF(CD227=FALSE,\"COL. INCORRECTA\",LOOKUP(CONCATENATE(AE227,\" - \",AC227),Catálogos!T:T,Catálogos!X:X))","v":{"$error":"#N/A"}}," -SELECCIONAR-",""," -SELECCIONAR-",null,null," -SELECCIONAR-",null,null,null," -SELECCIONAR-",null,null," -SELECCIONAR-"," -SELECCIONAR-",null,null,null,null,null," -SELECCIONAR-",null,null,null,null,null,null," -SELECCIONAR-",null,null,null,null,null,null," -SELECCIONAR-",null,null,null,null,null,null," -SELECCIONAR-",null,null,{"$f":"LOOKUP(AB227,Catálogos!AP:AP,Catálogos!AO:AO)","v":"ERR"},{"$f":"CONCATENATE(LOOKUP(AC227,Catálogos!O:O,Catálogos!P:P),\".\",LOOKUP(AC227,Catálogos!O:O,Catálogos!Q:Q))","v":{"$error":"#N/A"}},{"$f":"IF(AC227=LOOKUP(CONCATENATE(AE227,\" - \",AC227),Catálogos!T:T,Catálogos!V:V),LOOKUP(CONCATENATE(AE227,\" - \",AC227),Catálogos!T:T,Catálogos!W:W),FALSE)","v":{"$error":"#N/A"}},{"$f":"LOOKUP(BD227,Catálogos!AM:AM,Catálogos!AL:AL)","v":"ERR"},{"$f":"LOOKUP(BK227,Catálogos!AM:AM,Catálogos!AL:AL)","v":"ERR"},{"$f":"LOOKUP(BR227,Catálogos!AM:AM,Catálogos!AL:AL)","v":"ERR"},{"$f":"LOOKUP(BY227,Catálogos!AM:AM,Catálogos!AL:AL)","v":"ERR"},0]
[null,null,null,null,null,null,null," -SELECCIONAR-"," -SELECCIONAR-"," -SELECCIONAR-",null," -SELECCIONAR-"," -SELECCIONAR-"," -SELECCIONAR-"," -SELECCIONAR-",null,null," -SELECCIONAR-",null,null,null," -SELECCIONAR-",null,null," -SELECCIONAR-",null," -SELECCIONAR-"," -SELECCIONAR-",null,{"$f":"IF(AC228=FALSE, LOOKUP(AC228,Catálogos!O:O),LOOKUP(AC228,Catálogos!O:O,Catálogos!R:R))","v":{"$error":"#N/A"}},"",null,null,null,{"$f":"IF(CD228=FALSE,\"COL. INCORRECTA\",LOOKUP(CONCATENATE(AE228,\" - \",AC228),Catálogos!T:T,Catálogos!Y:Y))","v":{"$error":"#N/A"}},{"$f":"IF(CD228=FALSE,\"COL. INCORRECTA\",LOOKUP(CONCATENATE(AE228,\" - \",AC228),Catálogos!T:T,Catálogos!X:X))","v":{"$error":"#N/A"}}," -SELECCIONAR-",""," -SELECCIONAR-",null,null," -SELECCIONAR-",null,null,null," -SELECCIONAR-",null,null," -SELECCIONAR-"," -SELECCIONAR-",null,null,null,null,null," -SELECCIONAR-",null,null,null,null,null,null," -SELECCIONAR-",null,null,null,null,null,null," -SELECCIONAR-",null,null,null,null,null,null," -SELECCIONAR-",null,null,{"$f":"LOOKUP(AB228,Catálogos!AP:AP,Catálogos!AO:AO)","v":"ERR"},{"$f":"CONCATENATE(LOOKUP(AC228,Catálogos!O:O,Catálogos!P:P),\".\",LOOKUP(AC228,Catálogos!O:O,Catálogos!Q:Q))","v":{"$error":"#N/A"}},{"$f":"IF(AC228=LOOKUP(CONCATENATE(AE228,\" - \",AC228),Catálogos!T:T,Catálogos!V:V),LOOKUP(CONCATENATE(AE228,\" - \",AC228),Catálogos!T:T,Catálogos!W:W),FALSE)","v":{"$error":"#N/A"}},{"$f":"LOOKUP(BD228,Catálogos!AM:AM,Catálogos!AL:AL)","v":"ERR"},{"$f":"LOOKUP(BK228,Catálogos!AM:AM,Catálogos!AL:AL)","v":"ERR"},{"$f":"LOOKUP(BR228,Catálogos!AM:AM,Catálogos!AL:AL)","v":"ERR"},{"$f":"LOOKUP(BY228,Catálogos!AM:AM,Catálogos!AL:AL)","v":"ERR"},0]
[null,null,null,null,null,null,null," -SELECCIONAR-"," -SELECCIONAR-"," -SELECCIONAR-",null," -SELECCIONAR-"," -SELECCIONAR-"," -SELECCIONAR-"," -SELECCIONAR-",null,null," -SELECCIONAR-",null,null,null," -SELECCIONAR-",null,null," -SELECCIONAR-",null," -SELECCIONAR-"," -SELECCIONAR-",null,{"$f":"IF(AC229=FALSE, LOOKUP(AC229,Catálogos!O:O),LOOKUP(AC229,Catálogos!O:O,Catálogos!R:R))","v":{"$error":"#N/A"}},"",null,null,null,{"$f":"IF(CD229=FALSE,\"COL. INCORRECTA\",LOOKUP(CONCATENATE(AE229,\" - \",AC229),Catálogos!T:T,Catálogos!Y:Y))","v":{"$error":"#N/A"}},{"$f":"IF(CD229=FALSE,\"COL. INCORRECTA\",LOOKUP(CONCATENATE(AE229,\" - \",AC229),Catálogos!T:T,Catálogos!X:X))","v":{"$error":"#N/A"}}," -SELECCIONAR-",""," -SELECCIONAR-",null,null," -SELECCIONAR-",null,null,null," -SELECCIONAR-",null,null," -SELECCIONAR-"," -SELECCIONAR-",null,null,null,null,null," -SELECCIONAR-",null,null,null,null,null,null," -SELECCIONAR-",null,null,null,null,null,null," -SELECCIONAR-",null,null,null,null,null,null," -SELECCIONAR-",null,null,{"$f":"LOOKUP(AB229,Catálogos!AP:AP,Catálogos!AO:AO)","v":"ERR"},{"$f":"CONCATENATE(LOOKUP(AC229,Catálogos!O:O,Catálogos!P:P),\".\",LOOKUP(AC229,Catálogos!O:O,Catálogos!Q:Q))","v":{"$error":"#N/A"}},{"$f":"IF(AC229=LOOKUP(CONCATENATE(AE229,\" - \",AC229),Catálogos!T:T,Catálogos!V:V),LOOKUP(CONCATENATE(AE229,\" - \",AC229),Catálogos!T:T,Catálogos!W:W),FALSE)","v":{"$error":"#N/A"}},{"$f":"LOOKUP(BD229,Catálogos!AM:AM,Catálogos!AL:AL)","v":"ERR"},{"$f":"LOOKUP(BK229,Catálogos!AM:AM,Catálogos!AL:AL)","v":"ERR"},{"$f":"LOOKUP(BR229,Catálogos!AM:AM,Catálogos!AL:AL)","v":"ERR"},{"$f":"LOOKUP(BY229,Catálogos!AM:AM,Catálogos!AL:AL)","v":"ERR"},0]
[null,null,null,null,null,null,null," -SELECCIONAR-"," -SELECCIONAR-"," -SELECCIONAR-",null," -SELECCIONAR-"," -SELECCIONAR-"," -SELECCIONAR-"," -SELECCIONAR-",null,null," -SELECCIONAR-",null,null,null," -SELECCIONAR-",null,null," -SELECCIONAR-",null," -SELECCIONAR-"," -SELECCIONAR-",null,{"$f":"IF(AC230=FALSE, LOOKUP(AC230,Catálogos!O:O),LOOKUP(AC230,Catálogos!O:O,Catálogos!R:R))","v":{"$error":"#N/A"}},"",null,null,null,{"$f":"IF(CD230=FALSE,\"COL. INCORRECTA\",LOOKUP(CONCATENATE(AE230,\" - \",AC230),Catálogos!T:T,Catálogos!Y:Y))","v":{"$error":"#N/A"}},{"$f":"IF(CD230=FALSE,\"COL. INCORRECTA\",LOOKUP(CONCATENATE(AE230,\" - \",AC230),Catálogos!T:T,Catálogos!X:X))","v":{"$error":"#N/A"}}," -SELECCIONAR-",""," -SELECCIONAR-",null,null," -SELECCIONAR-",null,null,null," -SELECCIONAR-",null,null," -SELECCIONAR-"," -SELECCIONAR-",null,null,null,null,null," -SELECCIONAR-",null,null,null,null,null,null," -SELECCIONAR-",null,null,null,null,null,null," -SELECCIONAR-",null,null,null,null,null,null," -SELECCIONAR-",null,null,{"$f":"LOOKUP(AB230,Catálogos!AP:AP,Catálogos!AO:AO)","v":"ERR"},{"$f":"CONCATENATE(LOOKUP(AC230,Catálogos!O:O,Catálogos!P:P),\".\",LOOKUP(AC230,Catálogos!O:O,Catálogos!Q:Q))","v":{"$error":"#N/A"}},{"$f":"IF(AC230=LOOKUP(CONCATENATE(AE230,\" - \",AC230),Catálogos!T:T,Catálogos!V:V),LOOKUP(CONCATENATE(AE230,\" - \",AC230),Catálogos!T:T,Catálogos!W:W),FALSE)","v":{"$error":"#N/A"}},{"$f":"LOOKUP(BD230,Catálogos!AM:AM,Catálogos!AL:AL)","v":"ERR"},{"$f":"LOOKUP(BK230,Catálogos!AM:AM,Catálogos!AL:AL)","v":"ERR"},{"$f":"LOOKUP(BR230,Catálogos!AM:AM,Catálogos!AL:AL)","v":"ERR"},{"$f":"LOOKUP(BY230,Catálogos!AM:AM,Catálogos!AL:AL)","v":"ERR"},0]
[null,null,null,null,null,null,null," -SELECCIONAR-"," -SELECCIONAR-"," -SELECCIONAR-",null," -SELECCIONAR-"," -SELECCIONAR-"," -SELECCIONAR-"," -SELECCIONAR-",null,null," -SELECCIONAR-",null,null,null," -SELECCIONAR-",null,null," -SELECCIONAR-",null," -SELECCIONAR-"," -SELECCIONAR-",null,{"$f":"IF(AC231=FALSE, LOOKUP(AC231,Catálogos!O:O),LOOKUP(AC231,Catálogos!O:O,Catálogos!R:R))","v":{"$error":"#N/A"}},"",null,null,null,{"$f":"IF(CD231=FALSE,\"COL. INCORRECTA\",LOOKUP(CONCATENATE(AE231,\" - \",AC231),Catálogos!T:T,Catálogos!Y:Y))","v":{"$error":"#N/A"}},{"$f":"IF(CD231=FALSE,\"COL. INCORRECTA\",LOOKUP(CONCATENATE(AE231,\" - \",AC231),Catálogos!T:T,Catálogos!X:X))","v":{"$error":"#N/A"}}," -SELECCIONAR-",""," -SELECCIONAR-",null,null," -SELECCIONAR-",null,null,null," -SELECCIONAR-",null,null," -SELECCIONAR-"," -SELECCIONAR-",null,null,null,null,null," -SELECCIONAR-",null,null,null,null,null,null," -SELECCIONAR-",null,null,null,null,null,null," -SELECCIONAR-",null,null,null,null,null,null," -SELECCIONAR-",null,null,{"$f":"LOOKUP(AB231,Catálogos!AP:AP,Catálogos!AO:AO)","v":"ERR"},{"$f":"CONCATENATE(LOOKUP(AC231,Catálogos!O:O,Catálogos!P:P),\".\",LOOKUP(AC231,Catálogos!O:O,Catálogos!Q:Q))","v":{"$error":"#N/A"}},{"$f":"IF(AC231=LOOKUP(CONCATENATE(AE231,\" - \",AC231),Catálogos!T:T,Catálogos!V:V),LOOKUP(CONCATENATE(AE231,\" - \",AC231),Catálogos!T:T,Catálogos!W:W),FALSE)","v":{"$error":"#N/A"}},{"$f":"LOOKUP(BD231,Catálogos!AM:AM,Catálogos!AL:AL)","v":"ERR"},{"$f":"LOOKUP(BK231,Catálogos!AM:AM,Catálogos!AL:AL)","v":"ERR"},{"$f":"LOOKUP(BR231,Catálogos!AM:AM,Catálogos!AL:AL)","v":"ERR"},{"$f":"LOOKUP(BY231,Catálogos!AM:AM,Catálogos!AL:AL)","v":"ERR"},0]
[null,null,null,null,null,null,null," -SELECCIONAR-"," -SELECCIONAR-"," -SELECCIONAR-",null," -SELECCIONAR-"," -SELECCIONAR-"," -SELECCIONAR-"," -SELECCIONAR-",null,null," -SELECCIONAR-",null,null,null," -SELECCIONAR-",null,null," -SELECCIONAR-",null," -SELECCIONAR-"," -SELECCIONAR-",null,{"$f":"IF(AC232=FALSE, LOOKUP(AC232,Catálogos!O:O),LOOKUP(AC232,Catálogos!O:O,Catálogos!R:R))","v":{"$error":"#N/A"}},"",null,null,null,{"$f":"IF(CD232=FALSE,\"COL. INCORRECTA\",LOOKUP(CONCATENATE(AE232,\" - \",AC232),Catálogos!T:T,Catálogos!Y:Y))","v":{"$error":"#N/A"}},{"$f":"IF(CD232=FALSE,\"COL. INCORRECTA\",LOOKUP(CONCATENATE(AE232,\" - \",AC232),Catálogos!T:T,Catálogos!X:X))","v":{"$error":"#N/A"}}," -SELECCIONAR-",""," -SELECCIONAR-",null,null," -SELECCIONAR-",null,null,null," -SELECCIONAR-",null,null," -SELECCIONAR-"," -SELECCIONAR-",null,null,null,null,null," -SELECCIONAR-",null,null,null,null,null,null," -SELECCIONAR-",null,null,null,null,null,null," -SELECCIONAR-",null,null,null,null,null,null," -SELECCIONAR-",null,null,{"$f":"LOOKUP(AB232,Catálogos!AP:AP,Catálogos!AO:AO)","v":"ERR"},{"$f":"CONCATENATE(LOOKUP(AC232,Catálogos!O:O,Catálogos!P:P),\".\",LOOKUP(AC232,Catálogos!O:O,Catálogos!Q:Q))","v":{"$error":"#N/A"}},{"$f":"IF(AC232=LOOKUP(CONCATENATE(AE232,\" - \",AC232),Catálogos!T:T,Catálogos!V:V),LOOKUP(CONCATENATE(AE232,\" - \",AC232),Catálogos!T:T,Catálogos!W:W),FALSE)","v":{"$error":"#N/A"}},{"$f":"LOOKUP(BD232,Catálogos!AM:AM,Catálogos!AL:AL)","v":"ERR"},{"$f":"LOOKUP(BK232,Catálogos!AM:AM,Catálogos!AL:AL)","v":"ERR"},{"$f":"LOOKUP(BR232,Catálogos!AM:AM,Catálogos!AL:AL)","v":"ERR"},{"$f":"LOOKUP(BY232,Catálogos!AM:AM,Catálogos!AL:AL)","v":"ERR"},0]
[null,null,null,null,null,null,null," -SELECCIONAR-"," -SELECCIONAR-"," -SELECCIONAR-",null," -SELECCIONAR-"," -SELECCIONAR-"," -SELECCIONAR-"," -SELECCIONAR-",null,null," -SELECCIONAR-",null,null,null," -SELECCIONAR-",null,null," -SELECCIONAR-",null," -SELECCIONAR-"," -SELECCIONAR-",null,{"$f":"IF(AC233=FALSE, LOOKUP(AC233,Catálogos!O:O),LOOKUP(AC233,Catálogos!O:O,Catálogos!R:R))","v":{"$error":"#N/A"}},"",null,null,null,{"$f":"IF(CD233=FALSE,\"COL. INCORRECTA\",LOOKUP(CONCATENATE(AE233,\" - \",AC233),Catálogos!T:T,Catálogos!Y:Y))","v":{"$error":"#N/A"}},{"$f":"IF(CD233=FALSE,\"COL. INCORRECTA\",LOOKUP(CONCATENATE(AE233,\" - \",AC233),Catálogos!T:T,Catálogos!X:X))","v":{"$error":"#N/A"}}," -SELECCIONAR-",""," -SELECCIONAR-",null,null," -SELECCIONAR-",null,null,null," -SELECCIONAR-",null,null," -SELECCIONAR-"," -SELECCIONAR-",null,null,null,null,null," -SELECCIONAR-",null,null,null,null,null,null," -SELECCIONAR-",null,null,null,null,null,null," -SELECCIONAR-",null,null,null,null,null,null," -SELECCIONAR-",null,null,{"$f":"LOOKUP(AB233,Catálogos!AP:AP,Catálogos!AO:AO)","v":"ERR"},{"$f":"CONCATENATE(LOOKUP(AC233,Catálogos!O:O,Catálogos!P:P),\".\",LOOKUP(AC233,Catálogos!O:O,Catálogos!Q:Q))","v":{"$error":"#N/A"}},{"$f":"IF(AC233=LOOKUP(CONCATENATE(AE233,\" - \",AC233),Catálogos!T:T,Catálogos!V:V),LOOKUP(CONCATENATE(AE233,\" - \",AC233),Catálogos!T:T,Catálogos!W:W),FALSE)","v":{"$error":"#N/A"}},{"$f":"LOOKUP(BD233,Catálogos!AM:AM,Catálogos!AL:AL)","v":"ERR"},{"$f":"LOOKUP(BK233,Catálogos!AM:AM,Catálogos!AL:AL)","v":"ERR"},{"$f":"LOOKUP(BR233,Catálogos!AM:AM,Catálogos!AL:AL)","v":"ERR"},{"$f":"LOOKUP(BY233,Catálogos!AM:AM,Catálogos!AL:AL)","v":"ERR"},0]
[null,null,null,null,null,null,null," -SELECCIONAR-"," -SELECCIONAR-"," -SELECCIONAR-",null," -SELECCIONAR-"," -SELECCIONAR-"," -SELECCIONAR-"," -SELECCIONAR-",null,null," -SELECCIONAR-",null,null,null," -SELECCIONAR-",null,null," -SELECCIONAR-",null," -SELECCIONAR-"," -SELECCIONAR-",null,{"$f":"IF(AC234=FALSE, LOOKUP(AC234,Catálogos!O:O),LOOKUP(AC234,Catálogos!O:O,Catálogos!R:R))","v":{"$error":"#N/A"}},"",null,null,null,{"$f":"IF(CD234=FALSE,\"COL. INCORRECTA\",LOOKUP(CONCATENATE(AE234,\" - \",AC234),Catálogos!T:T,Catálogos!Y:Y))","v":{"$error":"#N/A"}},{"$f":"IF(CD234=FALSE,\"COL. INCORRECTA\",LOOKUP(CONCATENATE(AE234,\" - \",AC234),Catálogos!T:T,Catálogos!X:X))","v":{"$error":"#N/A"}}," -SELECCIONAR-",""," -SELECCIONAR-",null,null," -SELECCIONAR-",null,null,null," -SELECCIONAR-",null,null," -SELECCIONAR-"," -SELECCIONAR-",null,null,null,null,null," -SELECCIONAR-",null,null,null,null,null,null," -SELECCIONAR-",null,null,null,null,null,null," -SELECCIONAR-",null,null,null,null,null,null," -SELECCIONAR-",null,null,{"$f":"LOOKUP(AB234,Catálogos!AP:AP,Catálogos!AO:AO)","v":"ERR"},{"$f":"CONCATENATE(LOOKUP(AC234,Catálogos!O:O,Catálogos!P:P),\".\",LOOKUP(AC234,Catálogos!O:O,Catálogos!Q:Q))","v":{"$error":"#N/A"}},{"$f":"IF(AC234=LOOKUP(CONCATENATE(AE234,\" - \",AC234),Catálogos!T:T,Catálogos!V:V),LOOKUP(CONCATENATE(AE234,\" - \",AC234),Catálogos!T:T,Catálogos!W:W),FALSE)","v":{"$error":"#N/A"}},{"$f":"LOOKUP(BD234,Catálogos!AM:AM,Catálogos!AL:AL)","v":"ERR"},{"$f":"LOOKUP(BK234,Catálogos!AM:AM,Catálogos!AL:AL)","v":"ERR"},{"$f":"LOOKUP(BR234,Catálogos!AM:AM,Catálogos!AL:AL)","v":"ERR"},{"$f":"LOOKUP(BY234,Catálogos!AM:AM,Catálogos!AL:AL)","v":"ERR"},0]
[null,null,null,null,null,null,null," -SELECCIONAR-"," -SELECCIONAR-"," -SELECCIONAR-",null," -SELECCIONAR-"," -SELECCIONAR-"," -SELECCIONAR-"," -SELECCIONAR-",null,null," -SELECCIONAR-",null,null,null," -SELECCIONAR-",null,null," -SELECCIONAR-",null," -SELECCIONAR-"," -SELECCIONAR-",null,{"$f":"IF(AC235=FALSE, LOOKUP(AC235,Catálogos!O:O),LOOKUP(AC235,Catálogos!O:O,Catálogos!R:R))","v":{"$error":"#N/A"}},"",null,null,null,{"$f":"IF(CD235=FALSE,\"COL. INCORRECTA\",LOOKUP(CONCATENATE(AE235,\" - \",AC235),Catálogos!T:T,Catálogos!Y:Y))","v":{"$error":"#N/A"}},{"$f":"IF(CD235=FALSE,\"COL. INCORRECTA\",LOOKUP(CONCATENATE(AE235,\" - \",AC235),Catálogos!T:T,Catálogos!X:X))","v":{"$error":"#N/A"}}," -SELECCIONAR-",""," -SELECCIONAR-",null,null," -SELECCIONAR-",null,null,null," -SELECCIONAR-",null,null," -SELECCIONAR-"," -SELECCIONAR-",null,null,null,null,null," -SELECCIONAR-",null,null,null,null,null,null," -SELECCIONAR-",null,null,null,null,null,null," -SELECCIONAR-",null,null,null,null,null,null," -SELECCIONAR-",null,null,{"$f":"LOOKUP(AB235,Catálogos!AP:AP,Catálogos!AO:AO)","v":"ERR"},{"$f":"CONCATENATE(LOOKUP(AC235,Catálogos!O:O,Catálogos!P:P),\".\",LOOKUP(AC235,Catálogos!O:O,Catálogos!Q:Q))","v":{"$error":"#N/A"}},{"$f":"IF(AC235=LOOKUP(CONCATENATE(AE235,\" - \",AC235),Catálogos!T:T,Catálogos!V:V),LOOKUP(CONCATENATE(AE235,\" - \",AC235),Catálogos!T:T,Catálogos!W:W),FALSE)","v":{"$error":"#N/A"}},{"$f":"LOOKUP(BD235,Catálogos!AM:AM,Catálogos!AL:AL)","v":"ERR"},{"$f":"LOOKUP(BK235,Catálogos!AM:AM,Catálogos!AL:AL)","v":"ERR"},{"$f":"LOOKUP(BR235,Catálogos!AM:AM,Catálogos!AL:AL)","v":"ERR"},{"$f":"LOOKUP(BY235,Catálogos!AM:AM,Catálogos!AL:AL)","v":"ERR"},0]
[null,null,null,null,null,null,null," -SELECCIONAR-"," -SELECCIONAR-"," -SELECCIONAR-",null," -SELECCIONAR-"," -SELECCIONAR-"," -SELECCIONAR-"," -SELECCIONAR-",null,null," -SELECCIONAR-",null,null,null," -SELECCIONAR-",null,null," -SELECCIONAR-",null," -SELECCIONAR-"," -SELECCIONAR-",null,{"$f":"IF(AC236=FALSE, LOOKUP(AC236,Catálogos!O:O),LOOKUP(AC236,Catálogos!O:O,Catálogos!R:R))","v":{"$error":"#N/A"}},"",null,null,null,{"$f":"IF(CD236=FALSE,\"COL. INCORRECTA\",LOOKUP(CONCATENATE(AE236,\" - \",AC236),Catálogos!T:T,Catálogos!Y:Y))","v":{"$error":"#N/A"}},{"$f":"IF(CD236=FALSE,\"COL. INCORRECTA\",LOOKUP(CONCATENATE(AE236,\" - \",AC236),Catálogos!T:T,Catálogos!X:X))","v":{"$error":"#N/A"}}," -SELECCIONAR-",""," -SELECCIONAR-",null,null," -SELECCIONAR-",null,null,null," -SELECCIONAR-",null,null," -SELECCIONAR-"," -SELECCIONAR-",null,null,null,null,null," -SELECCIONAR-",null,null,null,null,null,null," -SELECCIONAR-",null,null,null,null,null,null," -SELECCIONAR-",null,null,null,null,null,null," -SELECCIONAR-",null,null,{"$f":"LOOKUP(AB236,Catálogos!AP:AP,Catálogos!AO:AO)","v":"ERR"},{"$f":"CONCATENATE(LOOKUP(AC236,Catálogos!O:O,Catálogos!P:P),\".\",LOOKUP(AC236,Catálogos!O:O,Catálogos!Q:Q))","v":{"$error":"#N/A"}},{"$f":"IF(AC236=LOOKUP(CONCATENATE(AE236,\" - \",AC236),Catálogos!T:T,Catálogos!V:V),LOOKUP(CONCATENATE(AE236,\" - \",AC236),Catálogos!T:T,Catálogos!W:W),FALSE)","v":{"$error":"#N/A"}},{"$f":"LOOKUP(BD236,Catálogos!AM:AM,Catálogos!AL:AL)","v":"ERR"},{"$f":"LOOKUP(BK236,Catálogos!AM:AM,Catálogos!AL:AL)","v":"ERR"},{"$f":"LOOKUP(BR236,Catálogos!AM:AM,Catálogos!AL:AL)","v":"ERR"},{"$f":"LOOKUP(BY236,Catálogos!AM:AM,Catálogos!AL:AL)","v":"ERR"},0]
[null,null,null,null,null,null,null," -SELECCIONAR-"," -SELECCIONAR-"," -SELECCIONAR-",null," -SELECCIONAR-"," -SELECCIONAR-"," -SELECCIONAR-"," -SELECCIONAR-",null,null," -SELECCIONAR-",null,null,null," -SELECCIONAR-",null,null," -SELECCIONAR-",null," -SELECCIONAR-"," -SELECCIONAR-",null,{"$f":"IF(AC237=FALSE, LOOKUP(AC237,Catálogos!O:O),LOOKUP(AC237,Catálogos!O:O,Catálogos!R:R))","v":{"$error":"#N/A"}},"",null,null,null,{"$f":"IF(CD237=FALSE,\"COL. INCORRECTA\",LOOKUP(CONCATENATE(AE237,\" - \",AC237),Catálogos!T:T,Catálogos!Y:Y))","v":{"$error":"#N/A"}},{"$f":"IF(CD237=FALSE,\"COL. INCORRECTA\",LOOKUP(CONCATENATE(AE237,\" - \",AC237),Catálogos!T:T,Catálogos!X:X))","v":{"$error":"#N/A"}}," -SELECCIONAR-",""," -SELECCIONAR-",null,null," -SELECCIONAR-",null,null,null," -SELECCIONAR-",null,null," -SELECCIONAR-"," -SELECCIONAR-",null,null,null,null,null," -SELECCIONAR-",null,null,null,null,null,null," -SELECCIONAR-",null,null,null,null,null,null," -SELECCIONAR-",null,null,null,null,null,null," -SELECCIONAR-",null,null,{"$f":"LOOKUP(AB237,Catálogos!AP:AP,Catálogos!AO:AO)","v":"ERR"},{"$f":"CONCATENATE(LOOKUP(AC237,Catálogos!O:O,Catálogos!P:P),\".\",LOOKUP(AC237,Catálogos!O:O,Catálogos!Q:Q))","v":{"$error":"#N/A"}},{"$f":"IF(AC237=LOOKUP(CONCATENATE(AE237,\" - \",AC237),Catálogos!T:T,Catálogos!V:V),LOOKUP(CONCATENATE(AE237,\" - \",AC237),Catálogos!T:T,Catálogos!W:W),FALSE)","v":{"$error":"#N/A"}},{"$f":"LOOKUP(BD237,Catálogos!AM:AM,Catálogos!AL:AL)","v":"ERR"},{"$f":"LOOKUP(BK237,Catálogos!AM:AM,Catálogos!AL:AL)","v":"ERR"},{"$f":"LOOKUP(BR237,Catálogos!AM:AM,Catálogos!AL:AL)","v":"ERR"},{"$f":"LOOKUP(BY237,Catálogos!AM:AM,Catálogos!AL:AL)","v":"ERR"},0]
[null,null,null,null,null,null,null," -SELECCIONAR-"," -SELECCIONAR-"," -SELECCIONAR-",null," -SELECCIONAR-"," -SELECCIONAR-"," -SELECCIONAR-"," -SELECCIONAR-",null,null," -SELECCIONAR-",null,null,null," -SELECCIONAR-",null,null," -SELECCIONAR-",null," -SELECCIONAR-"," -SELECCIONAR-",null,{"$f":"IF(AC238=FALSE, LOOKUP(AC238,Catálogos!O:O),LOOKUP(AC238,Catálogos!O:O,Catálogos!R:R))","v":{"$error":"#N/A"}},"",null,null,null,{"$f":"IF(CD238=FALSE,\"COL. INCORRECTA\",LOOKUP(CONCATENATE(AE238,\" - \",AC238),Catálogos!T:T,Catálogos!Y:Y))","v":{"$error":"#N/A"}},{"$f":"IF(CD238=FALSE,\"COL. INCORRECTA\",LOOKUP(CONCATENATE(AE238,\" - \",AC238),Catálogos!T:T,Catálogos!X:X))","v":{"$error":"#N/A"}}," -SELECCIONAR-",""," -SELECCIONAR-",null,null," -SELECCIONAR-",null,null,null," -SELECCIONAR-",null,null," -SELECCIONAR-"," -SELECCIONAR-",null,null,null,null,null," -SELECCIONAR-",null,null,null,null,null,null," -SELECCIONAR-",null,null,null,null,null,null," -SELECCIONAR-",null,null,null,null,null,null," -SELECCIONAR-",null,null,{"$f":"LOOKUP(AB238,Catálogos!AP:AP,Catálogos!AO:AO)","v":"ERR"},{"$f":"CONCATENATE(LOOKUP(AC238,Catálogos!O:O,Catálogos!P:P),\".\",LOOKUP(AC238,Catálogos!O:O,Catálogos!Q:Q))","v":{"$error":"#N/A"}},{"$f":"IF(AC238=LOOKUP(CONCATENATE(AE238,\" - \",AC238),Catálogos!T:T,Catálogos!V:V),LOOKUP(CONCATENATE(AE238,\" - \",AC238),Catálogos!T:T,Catálogos!W:W),FALSE)","v":{"$error":"#N/A"}},{"$f":"LOOKUP(BD238,Catálogos!AM:AM,Catálogos!AL:AL)","v":"ERR"},{"$f":"LOOKUP(BK238,Catálogos!AM:AM,Catálogos!AL:AL)","v":"ERR"},{"$f":"LOOKUP(BR238,Catálogos!AM:AM,Catálogos!AL:AL)","v":"ERR"},{"$f":"LOOKUP(BY238,Catálogos!AM:AM,Catálogos!AL:AL)","v":"ERR"},0]
[null,null,null,null,null,null,null," -SELECCIONAR-"," -SELECCIONAR-"," -SELECCIONAR-",null," -SELECCIONAR-"," -SELECCIONAR-"," -SELECCIONAR-"," -SELECCIONAR-",null,null," -SELECCIONAR-",null,null,null," -SELECCIONAR-",null,null," -SELECCIONAR-",null," -SELECCIONAR-"," -SELECCIONAR-",null,{"$f":"IF(AC239=FALSE, LOOKUP(AC239,Catálogos!O:O),LOOKUP(AC239,Catálogos!O:O,Catálogos!R:R))","v":{"$error":"#N/A"}},"",null,null,null,{"$f":"IF(CD239=FALSE,\"COL. INCORRECTA\",LOOKUP(CONCATENATE(AE239,\" - \",AC239),Catálogos!T:T,Catálogos!Y:Y))","v":{"$error":"#N/A"}},{"$f":"IF(CD239=FALSE,\"COL. INCORRECTA\",LOOKUP(CONCATENATE(AE239,\" - \",AC239),Catálogos!T:T,Catálogos!X:X))","v":{"$error":"#N/A"}}," -SELECCIONAR-",""," -SELECCIONAR-",null,null," -SELECCIONAR-",null,null,null," -SELECCIONAR-",null,null," -SELECCIONAR-"," -SELECCIONAR-",null,null,null,null,null," -SELECCIONAR-",null,null,null,null,null,null," -SELECCIONAR-",null,null,null,null,null,null," -SELECCIONAR-",null,null,null,null,null,null," -SELECCIONAR-",null,null,{"$f":"LOOKUP(AB239,Catálogos!AP:AP,Catálogos!AO:AO)","v":"ERR"},{"$f":"CONCATENATE(LOOKUP(AC239,Catálogos!O:O,Catálogos!P:P),\".\",LOOKUP(AC239,Catálogos!O:O,Catálogos!Q:Q))","v":{"$error":"#N/A"}},{"$f":"IF(AC239=LOOKUP(CONCATENATE(AE239,\" - \",AC239),Catálogos!T:T,Catálogos!V:V),LOOKUP(CONCATENATE(AE239,\" - \",AC239),Catálogos!T:T,Catálogos!W:W),FALSE)","v":{"$error":"#N/A"}},{"$f":"LOOKUP(BD239,Catálogos!AM:AM,Catálogos!AL:AL)","v":"ERR"},{"$f":"LOOKUP(BK239,Catálogos!AM:AM,Catálogos!AL:AL)","v":"ERR"},{"$f":"LOOKUP(BR239,Catálogos!AM:AM,Catálogos!AL:AL)","v":"ERR"},{"$f":"LOOKUP(BY239,Catálogos!AM:AM,Catálogos!AL:AL)","v":"ERR"},0]
[null,null,null,null,null,null,null," -SELECCIONAR-"," -SELECCIONAR-"," -SELECCIONAR-",null," -SELECCIONAR-"," -SELECCIONAR-"," -SELECCIONAR-"," -SELECCIONAR-",null,null," -SELECCIONAR-",null,null,null," -SELECCIONAR-",null,null," -SELECCIONAR-",null," -SELECCIONAR-"," -SELECCIONAR-",null,{"$f":"IF(AC240=FALSE, LOOKUP(AC240,Catálogos!O:O),LOOKUP(AC240,Catálogos!O:O,Catálogos!R:R))","v":{"$error":"#N/A"}},"",null,null,null,{"$f":"IF(CD240=FALSE,\"COL. INCORRECTA\",LOOKUP(CONCATENATE(AE240,\" - \",AC240),Catálogos!T:T,Catálogos!Y:Y))","v":{"$error":"#N/A"}},{"$f":"IF(CD240=FALSE,\"COL. INCORRECTA\",LOOKUP(CONCATENATE(AE240,\" - \",AC240),Catálogos!T:T,Catálogos!X:X))","v":{"$error":"#N/A"}}," -SELECCIONAR-",""," -SELECCIONAR-",null,null," -SELECCIONAR-",null,null,null," -SELECCIONAR-",null,null," -SELECCIONAR-"," -SELECCIONAR-",null,null,null,null,null," -SELECCIONAR-",null,null,null,null,null,null," -SELECCIONAR-",null,null,null,null,null,null," -SELECCIONAR-",null,null,null,null,null,null," -SELECCIONAR-",null,null,{"$f":"LOOKUP(AB240,Catálogos!AP:AP,Catálogos!AO:AO)","v":"ERR"},{"$f":"CONCATENATE(LOOKUP(AC240,Catálogos!O:O,Catálogos!P:P),\".\",LOOKUP(AC240,Catálogos!O:O,Catálogos!Q:Q))","v":{"$error":"#N/A"}},{"$f":"IF(AC240=LOOKUP(CONCATENATE(AE240,\" - \",AC240),Catálogos!T:T,Catálogos!V:V),LOOKUP(CONCATENATE(AE240,\" - \",AC240),Catálogos!T:T,Catálogos!W:W),FALSE)","v":{"$error":"#N/A"}},{"$f":"LOOKUP(BD240,Catálogos!AM:AM,Catálogos!AL:AL)","v":"ERR"},{"$f":"LOOKUP(BK240,Catálogos!AM:AM,Catálogos!AL:AL)","v":"ERR"},{"$f":"LOOKUP(BR240,Catálogos!AM:AM,Catálogos!AL:AL)","v":"ERR"},{"$f":"LOOKUP(BY240,Catálogos!AM:AM,Catálogos!AL:AL)","v":"ERR"},0]
[null,null,null,null,null,null,null," -SELECCIONAR-"," -SELECCIONAR-"," -SELECCIONAR-",null," -SELECCIONAR-"," -SELECCIONAR-"," -SELECCIONAR-"," -SELECCIONAR-",null,null," -SELECCIONAR-",null,null,null," -SELECCIONAR-",null,null," -SELECCIONAR-",null," -SELECCIONAR-"," -SELECCIONAR-",null,{"$f":"IF(AC241=FALSE, LOOKUP(AC241,Catálogos!O:O),LOOKUP(AC241,Catálogos!O:O,Catálogos!R:R))","v":{"$error":"#N/A"}},"",null,null,null,{"$f":"IF(CD241=FALSE,\"COL. INCORRECTA\",LOOKUP(CONCATENATE(AE241,\" - \",AC241),Catálogos!T:T,Catálogos!Y:Y))","v":{"$error":"#N/A"}},{"$f":"IF(CD241=FALSE,\"COL. INCORRECTA\",LOOKUP(CONCATENATE(AE241,\" - \",AC241),Catálogos!T:T,Catálogos!X:X))","v":{"$error":"#N/A"}}," -SELECCIONAR-",""," -SELECCIONAR-",null,null," -SELECCIONAR-",null,null,null," -SELECCIONAR-",null,null," -SELECCIONAR-"," -SELECCIONAR-",null,null,null,null,null," -SELECCIONAR-",null,null,null,null,null,null," -SELECCIONAR-",null,null,null,null,null,null," -SELECCIONAR-",null,null,null,null,null,null," -SELECCIONAR-",null,null,{"$f":"LOOKUP(AB241,Catálogos!AP:AP,Catálogos!AO:AO)","v":"ERR"},{"$f":"CONCATENATE(LOOKUP(AC241,Catálogos!O:O,Catálogos!P:P),\".\",LOOKUP(AC241,Catálogos!O:O,Catálogos!Q:Q))","v":{"$error":"#N/A"}},{"$f":"IF(AC241=LOOKUP(CONCATENATE(AE241,\" - \",AC241),Catálogos!T:T,Catálogos!V:V),LOOKUP(CONCATENATE(AE241,\" - \",AC241),Catálogos!T:T,Catálogos!W:W),FALSE)","v":{"$error":"#N/A"}},{"$f":"LOOKUP(BD241,Catálogos!AM:AM,Catálogos!AL:AL)","v":"ERR"},{"$f":"LOOKUP(BK241,Catálogos!AM:AM,Catálogos!AL:AL)","v":"ERR"},{"$f":"LOOKUP(BR241,Catálogos!AM:AM,Catálogos!AL:AL)","v":"ERR"},{"$f":"LOOKUP(BY241,Catálogos!AM:AM,Catálogos!AL:AL)","v":"ERR"},0]
[null,null,null,null,null,null,null," -SELECCIONAR-"," -SELECCIONAR-"," -SELECCIONAR-",null," -SELECCIONAR-"," -SELECCIONAR-"," -SELECCIONAR-"," -SELECCIONAR-",null,null," -SELECCIONAR-",null,null,null," -SELECCIONAR-",null,null," -SELECCIONAR-",null," -SELECCIONAR-"," -SELECCIONAR-",null,{"$f":"IF(AC242=FALSE, LOOKUP(AC242,Catálogos!O:O),LOOKUP(AC242,Catálogos!O:O,Catálogos!R:R))","v":{"$error":"#N/A"}},"",null,null,null,{"$f":"IF(CD242=FALSE,\"COL. INCORRECTA\",LOOKUP(CONCATENATE(AE242,\" - \",AC242),Catálogos!T:T,Catálogos!Y:Y))","v":{"$error":"#N/A"}},{"$f":"IF(CD242=FALSE,\"COL. INCORRECTA\",LOOKUP(CONCATENATE(AE242,\" - \",AC242),Catálogos!T:T,Catálogos!X:X))","v":{"$error":"#N/A"}}," -SELECCIONAR-",""," -SELECCIONAR-",null,null," -SELECCIONAR-",null,null,null," -SELECCIONAR-",null,null," -SELECCIONAR-"," -SELECCIONAR-",null,null,null,null,null," -SELECCIONAR-",null,null,null,null,null,null," -SELECCIONAR-",null,null,null,null,null,null," -SELECCIONAR-",null,null,null,null,null,null," -SELECCIONAR-",null,null,{"$f":"LOOKUP(AB242,Catálogos!AP:AP,Catálogos!AO:AO)","v":"ERR"},{"$f":"CONCATENATE(LOOKUP(AC242,Catálogos!O:O,Catálogos!P:P),\".\",LOOKUP(AC242,Catálogos!O:O,Catálogos!Q:Q))","v":{"$error":"#N/A"}},{"$f":"IF(AC242=LOOKUP(CONCATENATE(AE242,\" - \",AC242),Catálogos!T:T,Catálogos!V:V),LOOKUP(CONCATENATE(AE242,\" - \",AC242),Catálogos!T:T,Catálogos!W:W),FALSE)","v":{"$error":"#N/A"}},{"$f":"LOOKUP(BD242,Catálogos!AM:AM,Catálogos!AL:AL)","v":"ERR"},{"$f":"LOOKUP(BK242,Catálogos!AM:AM,Catálogos!AL:AL)","v":"ERR"},{"$f":"LOOKUP(BR242,Catálogos!AM:AM,Catálogos!AL:AL)","v":"ERR"},{"$f":"LOOKUP(BY242,Catálogos!AM:AM,Catálogos!AL:AL)","v":"ERR"},0]
[null,null,null,null,null,null,null," -SELECCIONAR-"," -SELECCIONAR-"," -SELECCIONAR-",null," -SELECCIONAR-"," -SELECCIONAR-"," -SELECCIONAR-"," -SELECCIONAR-",null,null," -SELECCIONAR-",null,null,null," -SELECCIONAR-",null,null," -SELECCIONAR-",null," -SELECCIONAR-"," -SELECCIONAR-",null,{"$f":"IF(AC243=FALSE, LOOKUP(AC243,Catálogos!O:O),LOOKUP(AC243,Catálogos!O:O,Catálogos!R:R))","v":{"$error":"#N/A"}},"",null,null,null,{"$f":"IF(CD243=FALSE,\"COL. INCORRECTA\",LOOKUP(CONCATENATE(AE243,\" - \",AC243),Catálogos!T:T,Catálogos!Y:Y))","v":{"$error":"#N/A"}},{"$f":"IF(CD243=FALSE,\"COL. INCORRECTA\",LOOKUP(CONCATENATE(AE243,\" - \",AC243),Catálogos!T:T,Catálogos!X:X))","v":{"$error":"#N/A"}}," -SELECCIONAR-",""," -SELECCIONAR-",null,null," -SELECCIONAR-",null,null,null," -SELECCIONAR-",null,null," -SELECCIONAR-"," -SELECCIONAR-",null,null,null,null,null," -SELECCIONAR-",null,null,null,null,null,null," -SELECCIONAR-",null,null,null,null,null,null," -SELECCIONAR-",null,null,null,null,null,null," -SELECCIONAR-",null,null,{"$f":"LOOKUP(AB243,Catálogos!AP:AP,Catálogos!AO:AO)","v":"ERR"},{"$f":"CONCATENATE(LOOKUP(AC243,Catálogos!O:O,Catálogos!P:P),\".\",LOOKUP(AC243,Catálogos!O:O,Catálogos!Q:Q))","v":{"$error":"#N/A"}},{"$f":"IF(AC243=LOOKUP(CONCATENATE(AE243,\" - \",AC243),Catálogos!T:T,Catálogos!V:V),LOOKUP(CONCATENATE(AE243,\" - \",AC243),Catálogos!T:T,Catálogos!W:W),FALSE)","v":{"$error":"#N/A"}},{"$f":"LOOKUP(BD243,Catálogos!AM:AM,Catálogos!AL:AL)","v":"ERR"},{"$f":"LOOKUP(BK243,Catálogos!AM:AM,Catálogos!AL:AL)","v":"ERR"},{"$f":"LOOKUP(BR243,Catálogos!AM:AM,Catálogos!AL:AL)","v":"ERR"},{"$f":"LOOKUP(BY243,Catálogos!AM:AM,Catálogos!AL:AL)","v":"ERR"},0]
[null,null,null,null,null,null,null," -SELECCIONAR-"," -SELECCIONAR-"," -SELECCIONAR-",null," -SELECCIONAR-"," -SELECCIONAR-"," -SELECCIONAR-"," -SELECCIONAR-",null,null," -SELECCIONAR-",null,null,null," -SELECCIONAR-",null,null," -SELECCIONAR-",null," -SELECCIONAR-"," -SELECCIONAR-",null,{"$f":"IF(AC244=FALSE, LOOKUP(AC244,Catálogos!O:O),LOOKUP(AC244,Catálogos!O:O,Catálogos!R:R))","v":{"$error":"#N/A"}},"",null,null,null,{"$f":"IF(CD244=FALSE,\"COL. INCORRECTA\",LOOKUP(CONCATENATE(AE244,\" - \",AC244),Catálogos!T:T,Catálogos!Y:Y))","v":{"$error":"#N/A"}},{"$f":"IF(CD244=FALSE,\"COL. INCORRECTA\",LOOKUP(CONCATENATE(AE244,\" - \",AC244),Catálogos!T:T,Catálogos!X:X))","v":{"$error":"#N/A"}}," -SELECCIONAR-",""," -SELECCIONAR-",null,null," -SELECCIONAR-",null,null,null," -SELECCIONAR-",null,null," -SELECCIONAR-"," -SELECCIONAR-",null,null,null,null,null," -SELECCIONAR-",null,null,null,null,null,null," -SELECCIONAR-",null,null,null,null,null,null," -SELECCIONAR-",null,null,null,null,null,null," -SELECCIONAR-",null,null,{"$f":"LOOKUP(AB244,Catálogos!AP:AP,Catálogos!AO:AO)","v":"ERR"},{"$f":"CONCATENATE(LOOKUP(AC244,Catálogos!O:O,Catálogos!P:P),\".\",LOOKUP(AC244,Catálogos!O:O,Catálogos!Q:Q))","v":{"$error":"#N/A"}},{"$f":"IF(AC244=LOOKUP(CONCATENATE(AE244,\" - \",AC244),Catálogos!T:T,Catálogos!V:V),LOOKUP(CONCATENATE(AE244,\" - \",AC244),Catálogos!T:T,Catálogos!W:W),FALSE)","v":{"$error":"#N/A"}},{"$f":"LOOKUP(BD244,Catálogos!AM:AM,Catálogos!AL:AL)","v":"ERR"},{"$f":"LOOKUP(BK244,Catálogos!AM:AM,Catálogos!AL:AL)","v":"ERR"},{"$f":"LOOKUP(BR244,Catálogos!AM:AM,Catálogos!AL:AL)","v":"ERR"},{"$f":"LOOKUP(BY244,Catálogos!AM:AM,Catálogos!AL:AL)","v":"ERR"},0]
[null,null,null,null,null,null,null," -SELECCIONAR-"," -SELECCIONAR-"," -SELECCIONAR-",null," -SELECCIONAR-"," -SELECCIONAR-"," -SELECCIONAR-"," -SELECCIONAR-",null,null," -SELECCIONAR-",null,null,null," -SELECCIONAR-",null,null," -SELECCIONAR-",null," -SELECCIONAR-"," -SELECCIONAR-",null,{"$f":"IF(AC245=FALSE, LOOKUP(AC245,Catálogos!O:O),LOOKUP(AC245,Catálogos!O:O,Catálogos!R:R))","v":{"$error":"#N/A"}},"",null,null,null,{"$f":"IF(CD245=FALSE,\"COL. INCORRECTA\",LOOKUP(CONCATENATE(AE245,\" - \",AC245),Catálogos!T:T,Catálogos!Y:Y))","v":{"$error":"#N/A"}},{"$f":"IF(CD245=FALSE,\"COL. INCORRECTA\",LOOKUP(CONCATENATE(AE245,\" - \",AC245),Catálogos!T:T,Catálogos!X:X))","v":{"$error":"#N/A"}}," -SELECCIONAR-",""," -SELECCIONAR-",null,null," -SELECCIONAR-",null,null,null," -SELECCIONAR-",null,null," -SELECCIONAR-"," -SELECCIONAR-",null,null,null,null,null," -SELECCIONAR-",null,null,null,null,null,null," -SELECCIONAR-",null,null,null,null,null,null," -SELECCIONAR-",null,null,null,null,null,null," -SELECCIONAR-",null,null,{"$f":"LOOKUP(AB245,Catálogos!AP:AP,Catálogos!AO:AO)","v":"ERR"},{"$f":"CONCATENATE(LOOKUP(AC245,Catálogos!O:O,Catálogos!P:P),\".\",LOOKUP(AC245,Catálogos!O:O,Catálogos!Q:Q))","v":{"$error":"#N/A"}},{"$f":"IF(AC245=LOOKUP(CONCATENATE(AE245,\" - \",AC245),Catálogos!T:T,Catálogos!V:V),LOOKUP(CONCATENATE(AE245,\" - \",AC245),Catálogos!T:T,Catálogos!W:W),FALSE)","v":{"$error":"#N/A"}},{"$f":"LOOKUP(BD245,Catálogos!AM:AM,Catálogos!AL:AL)","v":"ERR"},{"$f":"LOOKUP(BK245,Catálogos!AM:AM,Catálogos!AL:AL)","v":"ERR"},{"$f":"LOOKUP(BR245,Catálogos!AM:AM,Catálogos!AL:AL)","v":"ERR"},{"$f":"LOOKUP(BY245,Catálogos!AM:AM,Catálogos!AL:AL)","v":"ERR"},0]
[null,null,null,null,null,null,null," -SELECCIONAR-"," -SELECCIONAR-"," -SELECCIONAR-",null," -SELECCIONAR-"," -SELECCIONAR-"," -SELECCIONAR-"," -SELECCIONAR-",null,null," -SELECCIONAR-",null,null,null," -SELECCIONAR-",null,null," -SELECCIONAR-",null," -SELECCIONAR-"," -SELECCIONAR-",null,{"$f":"IF(AC246=FALSE, LOOKUP(AC246,Catálogos!O:O),LOOKUP(AC246,Catálogos!O:O,Catálogos!R:R))","v":{"$error":"#N/A"}},"",null,null,null,{"$f":"IF(CD246=FALSE,\"COL. INCORRECTA\",LOOKUP(CONCATENATE(AE246,\" - \",AC246),Catálogos!T:T,Catálogos!Y:Y))","v":{"$error":"#N/A"}},{"$f":"IF(CD246=FALSE,\"COL. INCORRECTA\",LOOKUP(CONCATENATE(AE246,\" - \",AC246),Catálogos!T:T,Catálogos!X:X))","v":{"$error":"#N/A"}}," -SELECCIONAR-",""," -SELECCIONAR-",null,null," -SELECCIONAR-",null,null,null," -SELECCIONAR-",null,null," -SELECCIONAR-"," -SELECCIONAR-",null,null,null,null,null," -SELECCIONAR-",null,null,null,null,null,null," -SELECCIONAR-",null,null,null,null,null,null," -SELECCIONAR-",null,null,null,null,null,null," -SELECCIONAR-",null,null,{"$f":"LOOKUP(AB246,Catálogos!AP:AP,Catálogos!AO:AO)","v":"ERR"},{"$f":"CONCATENATE(LOOKUP(AC246,Catálogos!O:O,Catálogos!P:P),\".\",LOOKUP(AC246,Catálogos!O:O,Catálogos!Q:Q))","v":{"$error":"#N/A"}},{"$f":"IF(AC246=LOOKUP(CONCATENATE(AE246,\" - \",AC246),Catálogos!T:T,Catálogos!V:V),LOOKUP(CONCATENATE(AE246,\" - \",AC246),Catálogos!T:T,Catálogos!W:W),FALSE)","v":{"$error":"#N/A"}},{"$f":"LOOKUP(BD246,Catálogos!AM:AM,Catálogos!AL:AL)","v":"ERR"},{"$f":"LOOKUP(BK246,Catálogos!AM:AM,Catálogos!AL:AL)","v":"ERR"},{"$f":"LOOKUP(BR246,Catálogos!AM:AM,Catálogos!AL:AL)","v":"ERR"},{"$f":"LOOKUP(BY246,Catálogos!AM:AM,Catálogos!AL:AL)","v":"ERR"},0]
[null,null,null,null,null,null,null," -SELECCIONAR-"," -SELECCIONAR-"," -SELECCIONAR-",null," -SELECCIONAR-"," -SELECCIONAR-"," -SELECCIONAR-"," -SELECCIONAR-",null,null," -SELECCIONAR-",null,null,null," -SELECCIONAR-",null,null," -SELECCIONAR-",null," -SELECCIONAR-"," -SELECCIONAR-",null,{"$f":"IF(AC247=FALSE, LOOKUP(AC247,Catálogos!O:O),LOOKUP(AC247,Catálogos!O:O,Catálogos!R:R))","v":{"$error":"#N/A"}},"",null,null,null,{"$f":"IF(CD247=FALSE,\"COL. INCORRECTA\",LOOKUP(CONCATENATE(AE247,\" - \",AC247),Catálogos!T:T,Catálogos!Y:Y))","v":{"$error":"#N/A"}},{"$f":"IF(CD247=FALSE,\"COL. INCORRECTA\",LOOKUP(CONCATENATE(AE247,\" - \",AC247),Catálogos!T:T,Catálogos!X:X))","v":{"$error":"#N/A"}}," -SELECCIONAR-",""," -SELECCIONAR-",null,null," -SELECCIONAR-",null,null,null," -SELECCIONAR-",null,null," -SELECCIONAR-"," -SELECCIONAR-",null,null,null,null,null," -SELECCIONAR-",null,null,null,null,null,null," -SELECCIONAR-",null,null,null,null,null,null," -SELECCIONAR-",null,null,null,null,null,null," -SELECCIONAR-",null,null,{"$f":"LOOKUP(AB247,Catálogos!AP:AP,Catálogos!AO:AO)","v":"ERR"},{"$f":"CONCATENATE(LOOKUP(AC247,Catálogos!O:O,Catálogos!P:P),\".\",LOOKUP(AC247,Catálogos!O:O,Catálogos!Q:Q))","v":{"$error":"#N/A"}},{"$f":"IF(AC247=LOOKUP(CONCATENATE(AE247,\" - \",AC247),Catálogos!T:T,Catálogos!V:V),LOOKUP(CONCATENATE(AE247,\" - \",AC247),Catálogos!T:T,Catálogos!W:W),FALSE)","v":{"$error":"#N/A"}},{"$f":"LOOKUP(BD247,Catálogos!AM:AM,Catálogos!AL:AL)","v":"ERR"},{"$f":"LOOKUP(BK247,Catálogos!AM:AM,Catálogos!AL:AL)","v":"ERR"},{"$f":"LOOKUP(BR247,Catálogos!AM:AM,Catálogos!AL:AL)","v":"ERR"},{"$f":"LOOKUP(BY247,Catálogos!AM:AM,Catálogos!AL:AL)","v":"ERR"},0]
[null,null,null,null,null,null,null," -SELECCIONAR-"," -SELECCIONAR-"," -SELECCIONAR-",null," -SELECCIONAR-"," -SELECCIONAR-"," -SELECCIONAR-"," -SELECCIONAR-",null,null," -SELECCIONAR-",null,null,null," -SELECCIONAR-",null,null," -SELECCIONAR-",null," -SELECCIONAR-"," -SELECCIONAR-",null,{"$f":"IF(AC248=FALSE, LOOKUP(AC248,Catálogos!O:O),LOOKUP(AC248,Catálogos!O:O,Catálogos!R:R))","v":{"$error":"#N/A"}},"",null,null,null,{"$f":"IF(CD248=FALSE,\"COL. INCORRECTA\",LOOKUP(CONCATENATE(AE248,\" - \",AC248),Catálogos!T:T,Catálogos!Y:Y))","v":{"$error":"#N/A"}},{"$f":"IF(CD248=FALSE,\"COL. INCORRECTA\",LOOKUP(CONCATENATE(AE248,\" - \",AC248),Catálogos!T:T,Catálogos!X:X))","v":{"$error":"#N/A"}}," -SELECCIONAR-",""," -SELECCIONAR-",null,null," -SELECCIONAR-",null,null,null," -SELECCIONAR-",null,null," -SELECCIONAR-"," -SELECCIONAR-",null,null,null,null,null," -SELECCIONAR-",null,null,null,null,null,null," -SELECCIONAR-",null,null,null,null,null,null," -SELECCIONAR-",null,null,null,null,null,null," -SELECCIONAR-",null,null,{"$f":"LOOKUP(AB248,Catálogos!AP:AP,Catálogos!AO:AO)","v":"ERR"},{"$f":"CONCATENATE(LOOKUP(AC248,Catálogos!O:O,Catálogos!P:P),\".\",LOOKUP(AC248,Catálogos!O:O,Catálogos!Q:Q))","v":{"$error":"#N/A"}},{"$f":"IF(AC248=LOOKUP(CONCATENATE(AE248,\" - \",AC248),Catálogos!T:T,Catálogos!V:V),LOOKUP(CONCATENATE(AE248,\" - \",AC248),Catálogos!T:T,Catálogos!W:W),FALSE)","v":{"$error":"#N/A"}},{"$f":"LOOKUP(BD248,Catálogos!AM:AM,Catálogos!AL:AL)","v":"ERR"},{"$f":"LOOKUP(BK248,Catálogos!AM:AM,Catálogos!AL:AL)","v":"ERR"},{"$f":"LOOKUP(BR248,Catálogos!AM:AM,Catálogos!AL:AL)","v":"ERR"},{"$f":"LOOKUP(BY248,Catálogos!AM:AM,Catálogos!AL:AL)","v":"ERR"},0]
[null,null,null,null,null,null,null," -SELECCIONAR-"," -SELECCIONAR-"," -SELECCIONAR-",null," -SELECCIONAR-"," -SELECCIONAR-"," -SELECCIONAR-"," -SELECCIONAR-",null,null," -SELECCIONAR-",null,null,null," -SELECCIONAR-",null,null," -SELECCIONAR-",null," -SELECCIONAR-"," -SELECCIONAR-",null,{"$f":"IF(AC249=FALSE, LOOKUP(AC249,Catálogos!O:O),LOOKUP(AC249,Catálogos!O:O,Catálogos!R:R))","v":{"$error":"#N/A"}},"",null,null,null,{"$f":"IF(CD249=FALSE,\"COL. INCORRECTA\",LOOKUP(CONCATENATE(AE249,\" - \",AC249),Catálogos!T:T,Catálogos!Y:Y))","v":{"$error":"#N/A"}},{"$f":"IF(CD249=FALSE,\"COL. INCORRECTA\",LOOKUP(CONCATENATE(AE249,\" - \",AC249),Catálogos!T:T,Catálogos!X:X))","v":{"$error":"#N/A"}}," -SELECCIONAR-",""," -SELECCIONAR-",null,null," -SELECCIONAR-",null,null,null," -SELECCIONAR-",null,null," -SELECCIONAR-"," -SELECCIONAR-",null,null,null,null,null," -SELECCIONAR-",null,null,null,null,null,null," -SELECCIONAR-",null,null,null,null,null,null," -SELECCIONAR-",null,null,null,null,null,null," -SELECCIONAR-",null,null,{"$f":"LOOKUP(AB249,Catálogos!AP:AP,Catálogos!AO:AO)","v":"ERR"},{"$f":"CONCATENATE(LOOKUP(AC249,Catálogos!O:O,Catálogos!P:P),\".\",LOOKUP(AC249,Catálogos!O:O,Catálogos!Q:Q))","v":{"$error":"#N/A"}},{"$f":"IF(AC249=LOOKUP(CONCATENATE(AE249,\" - \",AC249),Catálogos!T:T,Catálogos!V:V),LOOKUP(CONCATENATE(AE249,\" - \",AC249),Catálogos!T:T,Catálogos!W:W),FALSE)","v":{"$error":"#N/A"}},{"$f":"LOOKUP(BD249,Catálogos!AM:AM,Catálogos!AL:AL)","v":"ERR"},{"$f":"LOOKUP(BK249,Catálogos!AM:AM,Catálogos!AL:AL)","v":"ERR"},{"$f":"LOOKUP(BR249,Catálogos!AM:AM,Catálogos!AL:AL)","v":"ERR"},{"$f":"LOOKUP(BY249,Catálogos!AM:AM,Catálogos!AL:AL)","v":"ERR"},0]
[null,null,null,null,null,null,null," -SELECCIONAR-"," -SELECCIONAR-"," -SELECCIONAR-",null," -SELECCIONAR-"," -SELECCIONAR-"," -SELECCIONAR-"," -SELECCIONAR-",null,null," -SELECCIONAR-",null,null,null," -SELECCIONAR-",null,null," -SELECCIONAR-",null," -SELECCIONAR-"," -SELECCIONAR-",null,{"$f":"IF(AC250=FALSE, LOOKUP(AC250,Catálogos!O:O),LOOKUP(AC250,Catálogos!O:O,Catálogos!R:R))","v":{"$error":"#N/A"}},"",null,null,null,{"$f":"IF(CD250=FALSE,\"COL. INCORRECTA\",LOOKUP(CONCATENATE(AE250,\" - \",AC250),Catálogos!T:T,Catálogos!Y:Y))","v":{"$error":"#N/A"}},{"$f":"IF(CD250=FALSE,\"COL. INCORRECTA\",LOOKUP(CONCATENATE(AE250,\" - \",AC250),Catálogos!T:T,Catálogos!X:X))","v":{"$error":"#N/A"}}," -SELECCIONAR-",""," -SELECCIONAR-",null,null," -SELECCIONAR-",null,null,null," -SELECCIONAR-",null,null," -SELECCIONAR-"," -SELECCIONAR-",null,null,null,null,null," -SELECCIONAR-",null,null,null,null,null,null," -SELECCIONAR-",null,null,null,null,null,null," -SELECCIONAR-",null,null,null,null,null,null," -SELECCIONAR-",null,null,{"$f":"LOOKUP(AB250,Catálogos!AP:AP,Catálogos!AO:AO)","v":"ERR"},{"$f":"CONCATENATE(LOOKUP(AC250,Catálogos!O:O,Catálogos!P:P),\".\",LOOKUP(AC250,Catálogos!O:O,Catálogos!Q:Q))","v":{"$error":"#N/A"}},{"$f":"IF(AC250=LOOKUP(CONCATENATE(AE250,\" - \",AC250),Catálogos!T:T,Catálogos!V:V),LOOKUP(CONCATENATE(AE250,\" - \",AC250),Catálogos!T:T,Catálogos!W:W),FALSE)","v":{"$error":"#N/A"}},{"$f":"LOOKUP(BD250,Catálogos!AM:AM,Catálogos!AL:AL)","v":"ERR"},{"$f":"LOOKUP(BK250,Catálogos!AM:AM,Catálogos!AL:AL)","v":"ERR"},{"$f":"LOOKUP(BR250,Catálogos!AM:AM,Catálogos!AL:AL)","v":"ERR"},{"$f":"LOOKUP(BY250,Catálogos!AM:AM,Catálogos!AL:AL)","v":"ERR"},0]
[null,null,null,null,null,null,null," -SELECCIONAR-"," -SELECCIONAR-"," -SELECCIONAR-",null," -SELECCIONAR-"," -SELECCIONAR-"," -SELECCIONAR-"," -SELECCIONAR-",null,null," -SELECCIONAR-",null,null,null," -SELECCIONAR-",null,null," -SELECCIONAR-",null," -SELECCIONAR-"," -SELECCIONAR-",null,{"$f":"IF(AC251=FALSE, LOOKUP(AC251,Catálogos!O:O),LOOKUP(AC251,Catálogos!O:O,Catálogos!R:R))","v":{"$error":"#N/A"}},"",null,null,null,{"$f":"IF(CD251=FALSE,\"COL. INCORRECTA\",LOOKUP(CONCATENATE(AE251,\" - \",AC251),Catálogos!T:T,Catálogos!Y:Y))","v":{"$error":"#N/A"}},{"$f":"IF(CD251=FALSE,\"COL. INCORRECTA\",LOOKUP(CONCATENATE(AE251,\" - \",AC251),Catálogos!T:T,Catálogos!X:X))","v":{"$error":"#N/A"}}," -SELECCIONAR-",""," -SELECCIONAR-",null,null," -SELECCIONAR-",null,null,null," -SELECCIONAR-",null,null," -SELECCIONAR-"," -SELECCIONAR-",null,null,null,null,null," -SELECCIONAR-",null,null,null,null,null,null," -SELECCIONAR-",null,null,null,null,null,null," -SELECCIONAR-",null,null,null,null,null,null," -SELECCIONAR-",null,null,{"$f":"LOOKUP(AB251,Catálogos!AP:AP,Catálogos!AO:AO)","v":"ERR"},{"$f":"CONCATENATE(LOOKUP(AC251,Catálogos!O:O,Catálogos!P:P),\".\",LOOKUP(AC251,Catálogos!O:O,Catálogos!Q:Q))","v":{"$error":"#N/A"}},{"$f":"IF(AC251=LOOKUP(CONCATENATE(AE251,\" - \",AC251),Catálogos!T:T,Catálogos!V:V),LOOKUP(CONCATENATE(AE251,\" - \",AC251),Catálogos!T:T,Catálogos!W:W),FALSE)","v":{"$error":"#N/A"}},{"$f":"LOOKUP(BD251,Catálogos!AM:AM,Catálogos!AL:AL)","v":"ERR"},{"$f":"LOOKUP(BK251,Catálogos!AM:AM,Catálogos!AL:AL)","v":"ERR"},{"$f":"LOOKUP(BR251,Catálogos!AM:AM,Catálogos!AL:AL)","v":"ERR"},{"$f":"LOOKUP(BY251,Catálogos!AM:AM,Catálogos!AL:AL)","v":"ERR"},0]
[null,null,null,null,null,null,null," -SELECCIONAR-"," -SELECCIONAR-"," -SELECCIONAR-",null," -SELECCIONAR-"," -SELECCIONAR-"," -SELECCIONAR-"," -SELECCIONAR-",null,null," -SELECCIONAR-",null,null,null," -SELECCIONAR-",null,null," -SELECCIONAR-",null," -SELECCIONAR-"," -SELECCIONAR-",null,{"$f":"IF(AC252=FALSE, LOOKUP(AC252,Catálogos!O:O),LOOKUP(AC252,Catálogos!O:O,Catálogos!R:R))","v":{"$error":"#N/A"}},"",null,null,null,{"$f":"IF(CD252=FALSE,\"COL. INCORRECTA\",LOOKUP(CONCATENATE(AE252,\" - \",AC252),Catálogos!T:T,Catálogos!Y:Y))","v":{"$error":"#N/A"}},{"$f":"IF(CD252=FALSE,\"COL. INCORRECTA\",LOOKUP(CONCATENATE(AE252,\" - \",AC252),Catálogos!T:T,Catálogos!X:X))","v":{"$error":"#N/A"}}," -SELECCIONAR-",""," -SELECCIONAR-",null,null," -SELECCIONAR-",null,null,null," -SELECCIONAR-",null,null," -SELECCIONAR-"," -SELECCIONAR-",null,null,null,null,null," -SELECCIONAR-",null,null,null,null,null,null," -SELECCIONAR-",null,null,null,null,null,null," -SELECCIONAR-",null,null,null,null,null,null," -SELECCIONAR-",null,null,{"$f":"LOOKUP(AB252,Catálogos!AP:AP,Catálogos!AO:AO)","v":"ERR"},{"$f":"CONCATENATE(LOOKUP(AC252,Catálogos!O:O,Catálogos!P:P),\".\",LOOKUP(AC252,Catálogos!O:O,Catálogos!Q:Q))","v":{"$error":"#N/A"}},{"$f":"IF(AC252=LOOKUP(CONCATENATE(AE252,\" - \",AC252),Catálogos!T:T,Catálogos!V:V),LOOKUP(CONCATENATE(AE252,\" - \",AC252),Catálogos!T:T,Catálogos!W:W),FALSE)","v":{"$error":"#N/A"}},{"$f":"LOOKUP(BD252,Catálogos!AM:AM,Catálogos!AL:AL)","v":"ERR"},{"$f":"LOOKUP(BK252,Catálogos!AM:AM,Catálogos!AL:AL)","v":"ERR"},{"$f":"LOOKUP(BR252,Catálogos!AM:AM,Catálogos!AL:AL)","v":"ERR"},{"$f":"LOOKUP(BY252,Catálogos!AM:AM,Catálogos!AL:AL)","v":"ERR"},0]
[null,null,null,null,null,null,null," -SELECCIONAR-"," -SELECCIONAR-"," -SELECCIONAR-",null," -SELECCIONAR-"," -SELECCIONAR-"," -SELECCIONAR-"," -SELECCIONAR-",null,null," -SELECCIONAR-",null,null,null," -SELECCIONAR-",null,null," -SELECCIONAR-",null," -SELECCIONAR-"," -SELECCIONAR-",null,{"$f":"IF(AC253=FALSE, LOOKUP(AC253,Catálogos!O:O),LOOKUP(AC253,Catálogos!O:O,Catálogos!R:R))","v":{"$error":"#N/A"}},"",null,null,null,{"$f":"IF(CD253=FALSE,\"COL. INCORRECTA\",LOOKUP(CONCATENATE(AE253,\" - \",AC253),Catálogos!T:T,Catálogos!Y:Y))","v":{"$error":"#N/A"}},{"$f":"IF(CD253=FALSE,\"COL. INCORRECTA\",LOOKUP(CONCATENATE(AE253,\" - \",AC253),Catálogos!T:T,Catálogos!X:X))","v":{"$error":"#N/A"}}," -SELECCIONAR-",""," -SELECCIONAR-",null,null," -SELECCIONAR-",null,null,null," -SELECCIONAR-",null,null," -SELECCIONAR-"," -SELECCIONAR-",null,null,null,null,null," -SELECCIONAR-",null,null,null,null,null,null," -SELECCIONAR-",null,null,null,null,null,null," -SELECCIONAR-",null,null,null,null,null,null," -SELECCIONAR-",null,null,{"$f":"LOOKUP(AB253,Catálogos!AP:AP,Catálogos!AO:AO)","v":"ERR"},{"$f":"CONCATENATE(LOOKUP(AC253,Catálogos!O:O,Catálogos!P:P),\".\",LOOKUP(AC253,Catálogos!O:O,Catálogos!Q:Q))","v":{"$error":"#N/A"}},{"$f":"IF(AC253=LOOKUP(CONCATENATE(AE253,\" - \",AC253),Catálogos!T:T,Catálogos!V:V),LOOKUP(CONCATENATE(AE253,\" - \",AC253),Catálogos!T:T,Catálogos!W:W),FALSE)","v":{"$error":"#N/A"}},{"$f":"LOOKUP(BD253,Catálogos!AM:AM,Catálogos!AL:AL)","v":"ERR"},{"$f":"LOOKUP(BK253,Catálogos!AM:AM,Catálogos!AL:AL)","v":"ERR"},{"$f":"LOOKUP(BR253,Catálogos!AM:AM,Catálogos!AL:AL)","v":"ERR"},{"$f":"LOOKUP(BY253,Catálogos!AM:AM,Catálogos!AL:AL)","v":"ERR"},0]
[null,null,null,null,null,null,null," -SELECCIONAR-"," -SELECCIONAR-"," -SELECCIONAR-",null," -SELECCIONAR-"," -SELECCIONAR-"," -SELECCIONAR-"," -SELECCIONAR-",null,null," -SELECCIONAR-",null,null,null," -SELECCIONAR-",null,null," -SELECCIONAR-",null," -SELECCIONAR-"," -SELECCIONAR-",null,{"$f":"IF(AC254=FALSE, LOOKUP(AC254,Catálogos!O:O),LOOKUP(AC254,Catálogos!O:O,Catálogos!R:R))","v":{"$error":"#N/A"}},"",null,null,null,{"$f":"IF(CD254=FALSE,\"COL. INCORRECTA\",LOOKUP(CONCATENATE(AE254,\" - \",AC254),Catálogos!T:T,Catálogos!Y:Y))","v":{"$error":"#N/A"}},{"$f":"IF(CD254=FALSE,\"COL. INCORRECTA\",LOOKUP(CONCATENATE(AE254,\" - \",AC254),Catálogos!T:T,Catálogos!X:X))","v":{"$error":"#N/A"}}," -SELECCIONAR-",""," -SELECCIONAR-",null,null," -SELECCIONAR-",null,null,null," -SELECCIONAR-",null,null," -SELECCIONAR-"," -SELECCIONAR-",null,null,null,null,null," -SELECCIONAR-",null,null,null,null,null,null," -SELECCIONAR-",null,null,null,null,null,null," -SELECCIONAR-",null,null,null,null,null,null," -SELECCIONAR-",null,null,{"$f":"LOOKUP(AB254,Catálogos!AP:AP,Catálogos!AO:AO)","v":"ERR"},{"$f":"CONCATENATE(LOOKUP(AC254,Catálogos!O:O,Catálogos!P:P),\".\",LOOKUP(AC254,Catálogos!O:O,Catálogos!Q:Q))","v":{"$error":"#N/A"}},{"$f":"IF(AC254=LOOKUP(CONCATENATE(AE254,\" - \",AC254),Catálogos!T:T,Catálogos!V:V),LOOKUP(CONCATENATE(AE254,\" - \",AC254),Catálogos!T:T,Catálogos!W:W),FALSE)","v":{"$error":"#N/A"}},{"$f":"LOOKUP(BD254,Catálogos!AM:AM,Catálogos!AL:AL)","v":"ERR"},{"$f":"LOOKUP(BK254,Catálogos!AM:AM,Catálogos!AL:AL)","v":"ERR"},{"$f":"LOOKUP(BR254,Catálogos!AM:AM,Catálogos!AL:AL)","v":"ERR"},{"$f":"LOOKUP(BY254,Catálogos!AM:AM,Catálogos!AL:AL)","v":"ERR"},0]
[null,null,null,null,null,null,null," -SELECCIONAR-"," -SELECCIONAR-"," -SELECCIONAR-",null," -SELECCIONAR-"," -SELECCIONAR-"," -SELECCIONAR-"," -SELECCIONAR-",null,null," -SELECCIONAR-",null,null,null," -SELECCIONAR-",null,null," -SELECCIONAR-",null," -SELECCIONAR-"," -SELECCIONAR-",null,{"$f":"IF(AC255=FALSE, LOOKUP(AC255,Catálogos!O:O),LOOKUP(AC255,Catálogos!O:O,Catálogos!R:R))","v":{"$error":"#N/A"}},"",null,null,null,{"$f":"IF(CD255=FALSE,\"COL. INCORRECTA\",LOOKUP(CONCATENATE(AE255,\" - \",AC255),Catálogos!T:T,Catálogos!Y:Y))","v":{"$error":"#N/A"}},{"$f":"IF(CD255=FALSE,\"COL. INCORRECTA\",LOOKUP(CONCATENATE(AE255,\" - \",AC255),Catálogos!T:T,Catálogos!X:X))","v":{"$error":"#N/A"}}," -SELECCIONAR-",""," -SELECCIONAR-",null,null," -SELECCIONAR-",null,null,null," -SELECCIONAR-",null,null," -SELECCIONAR-"," -SELECCIONAR-",null,null,null,null,null," -SELECCIONAR-",null,null,null,null,null,null," -SELECCIONAR-",null,null,null,null,null,null," -SELECCIONAR-",null,null,null,null,null,null," -SELECCIONAR-",null,null,{"$f":"LOOKUP(AB255,Catálogos!AP:AP,Catálogos!AO:AO)","v":"ERR"},{"$f":"CONCATENATE(LOOKUP(AC255,Catálogos!O:O,Catálogos!P:P),\".\",LOOKUP(AC255,Catálogos!O:O,Catálogos!Q:Q))","v":{"$error":"#N/A"}},{"$f":"IF(AC255=LOOKUP(CONCATENATE(AE255,\" - \",AC255),Catálogos!T:T,Catálogos!V:V),LOOKUP(CONCATENATE(AE255,\" - \",AC255),Catálogos!T:T,Catálogos!W:W),FALSE)","v":{"$error":"#N/A"}},{"$f":"LOOKUP(BD255,Catálogos!AM:AM,Catálogos!AL:AL)","v":"ERR"},{"$f":"LOOKUP(BK255,Catálogos!AM:AM,Catálogos!AL:AL)","v":"ERR"},{"$f":"LOOKUP(BR255,Catálogos!AM:AM,Catálogos!AL:AL)","v":"ERR"},{"$f":"LOOKUP(BY255,Catálogos!AM:AM,Catálogos!AL:AL)","v":"ERR"},0]
[null,null,null,null,null,null,null," -SELECCIONAR-"," -SELECCIONAR-"," -SELECCIONAR-",null," -SELECCIONAR-"," -SELECCIONAR-"," -SELECCIONAR-"," -SELECCIONAR-",null,null," -SELECCIONAR-",null,null,null," -SELECCIONAR-",null,null," -SELECCIONAR-",null," -SELECCIONAR-"," -SELECCIONAR-",null,{"$f":"IF(AC256=FALSE, LOOKUP(AC256,Catálogos!O:O),LOOKUP(AC256,Catálogos!O:O,Catálogos!R:R))","v":{"$error":"#N/A"}},"",null,null,null,{"$f":"IF(CD256=FALSE,\"COL. INCORRECTA\",LOOKUP(CONCATENATE(AE256,\" - \",AC256),Catálogos!T:T,Catálogos!Y:Y))","v":{"$error":"#N/A"}},{"$f":"IF(CD256=FALSE,\"COL. INCORRECTA\",LOOKUP(CONCATENATE(AE256,\" - \",AC256),Catálogos!T:T,Catálogos!X:X))","v":{"$error":"#N/A"}}," -SELECCIONAR-",""," -SELECCIONAR-",null,null," -SELECCIONAR-",null,null,null," -SELECCIONAR-",null,null," -SELECCIONAR-"," -SELECCIONAR-",null,null,null,null,null," -SELECCIONAR-",null,null,null,null,null,null," -SELECCIONAR-",null,null,null,null,null,null," -SELECCIONAR-",null,null,null,null,null,null," -SELECCIONAR-",null,null,{"$f":"LOOKUP(AB256,Catálogos!AP:AP,Catálogos!AO:AO)","v":"ERR"},{"$f":"CONCATENATE(LOOKUP(AC256,Catálogos!O:O,Catálogos!P:P),\".\",LOOKUP(AC256,Catálogos!O:O,Catálogos!Q:Q))","v":{"$error":"#N/A"}},{"$f":"IF(AC256=LOOKUP(CONCATENATE(AE256,\" - \",AC256),Catálogos!T:T,Catálogos!V:V),LOOKUP(CONCATENATE(AE256,\" - \",AC256),Catálogos!T:T,Catálogos!W:W),FALSE)","v":{"$error":"#N/A"}},{"$f":"LOOKUP(BD256,Catálogos!AM:AM,Catálogos!AL:AL)","v":"ERR"},{"$f":"LOOKUP(BK256,Catálogos!AM:AM,Catálogos!AL:AL)","v":"ERR"},{"$f":"LOOKUP(BR256,Catálogos!AM:AM,Catálogos!AL:AL)","v":"ERR"},{"$f":"LOOKUP(BY256,Catálogos!AM:AM,Catálogos!AL:AL)","v":"ERR"},0]
[null,null,null,null,null,null,null," -SELECCIONAR-"," -SELECCIONAR-"," -SELECCIONAR-",null," -SELECCIONAR-"," -SELECCIONAR-"," -SELECCIONAR-"," -SELECCIONAR-",null,null," -SELECCIONAR-",null,null,null," -SELECCIONAR-",null,null," -SELECCIONAR-",null," -SELECCIONAR-"," -SELECCIONAR-",null,{"$f":"IF(AC257=FALSE, LOOKUP(AC257,Catálogos!O:O),LOOKUP(AC257,Catálogos!O:O,Catálogos!R:R))","v":{"$error":"#N/A"}},"",null,null,null,{"$f":"IF(CD257=FALSE,\"COL. INCORRECTA\",LOOKUP(CONCATENATE(AE257,\" - \",AC257),Catálogos!T:T,Catálogos!Y:Y))","v":{"$error":"#N/A"}},{"$f":"IF(CD257=FALSE,\"COL. INCORRECTA\",LOOKUP(CONCATENATE(AE257,\" - \",AC257),Catálogos!T:T,Catálogos!X:X))","v":{"$error":"#N/A"}}," -SELECCIONAR-",""," -SELECCIONAR-",null,null," -SELECCIONAR-",null,null,null," -SELECCIONAR-",null,null," -SELECCIONAR-"," -SELECCIONAR-",null,null,null,null,null," -SELECCIONAR-",null,null,null,null,null,null," -SELECCIONAR-",null,null,null,null,null,null," -SELECCIONAR-",null,null,null,null,null,null," -SELECCIONAR-",null,null,{"$f":"LOOKUP(AB257,Catálogos!AP:AP,Catálogos!AO:AO)","v":"ERR"},{"$f":"CONCATENATE(LOOKUP(AC257,Catálogos!O:O,Catálogos!P:P),\".\",LOOKUP(AC257,Catálogos!O:O,Catálogos!Q:Q))","v":{"$error":"#N/A"}},{"$f":"IF(AC257=LOOKUP(CONCATENATE(AE257,\" - \",AC257),Catálogos!T:T,Catálogos!V:V),LOOKUP(CONCATENATE(AE257,\" - \",AC257),Catálogos!T:T,Catálogos!W:W),FALSE)","v":{"$error":"#N/A"}},{"$f":"LOOKUP(BD257,Catálogos!AM:AM,Catálogos!AL:AL)","v":"ERR"},{"$f":"LOOKUP(BK257,Catálogos!AM:AM,Catálogos!AL:AL)","v":"ERR"},{"$f":"LOOKUP(BR257,Catálogos!AM:AM,Catálogos!AL:AL)","v":"ERR"},{"$f":"LOOKUP(BY257,Catálogos!AM:AM,Catálogos!AL:AL)","v":"ERR"},0]
[null,null,null,null,null,null,null," -SELECCIONAR-"," -SELECCIONAR-"," -SELECCIONAR-",null," -SELECCIONAR-"," -SELECCIONAR-"," -SELECCIONAR-"," -SELECCIONAR-",null,null," -SELECCIONAR-",null,null,null," -SELECCIONAR-",null,null," -SELECCIONAR-",null," -SELECCIONAR-"," -SELECCIONAR-",null,{"$f":"IF(AC258=FALSE, LOOKUP(AC258,Catálogos!O:O),LOOKUP(AC258,Catálogos!O:O,Catálogos!R:R))","v":{"$error":"#N/A"}},"",null,null,null,{"$f":"IF(CD258=FALSE,\"COL. INCORRECTA\",LOOKUP(CONCATENATE(AE258,\" - \",AC258),Catálogos!T:T,Catálogos!Y:Y))","v":{"$error":"#N/A"}},{"$f":"IF(CD258=FALSE,\"COL. INCORRECTA\",LOOKUP(CONCATENATE(AE258,\" - \",AC258),Catálogos!T:T,Catálogos!X:X))","v":{"$error":"#N/A"}}," -SELECCIONAR-",""," -SELECCIONAR-",null,null," -SELECCIONAR-",null,null,null," -SELECCIONAR-",null,null," -SELECCIONAR-"," -SELECCIONAR-",null,null,null,null,null," -SELECCIONAR-",null,null,null,null,null,null," -SELECCIONAR-",null,null,null,null,null,null," -SELECCIONAR-",null,null,null,null,null,null," -SELECCIONAR-",null,null,{"$f":"LOOKUP(AB258,Catálogos!AP:AP,Catálogos!AO:AO)","v":"ERR"},{"$f":"CONCATENATE(LOOKUP(AC258,Catálogos!O:O,Catálogos!P:P),\".\",LOOKUP(AC258,Catálogos!O:O,Catálogos!Q:Q))","v":{"$error":"#N/A"}},{"$f":"IF(AC258=LOOKUP(CONCATENATE(AE258,\" - \",AC258),Catálogos!T:T,Catálogos!V:V),LOOKUP(CONCATENATE(AE258,\" - \",AC258),Catálogos!T:T,Catálogos!W:W),FALSE)","v":{"$error":"#N/A"}},{"$f":"LOOKUP(BD258,Catálogos!AM:AM,Catálogos!AL:AL)","v":"ERR"},{"$f":"LOOKUP(BK258,Catálogos!AM:AM,Catálogos!AL:AL)","v":"ERR"},{"$f":"LOOKUP(BR258,Catálogos!AM:AM,Catálogos!AL:AL)","v":"ERR"},{"$f":"LOOKUP(BY258,Catálogos!AM:AM,Catálogos!AL:AL)","v":"ERR"},0]
[null,null,null,null,null,null,null," -SELECCIONAR-"," -SELECCIONAR-"," -SELECCIONAR-",null," -SELECCIONAR-"," -SELECCIONAR-"," -SELECCIONAR-"," -SELECCIONAR-",null,null," -SELECCIONAR-",null,null,null," -SELECCIONAR-",null,null," -SELECCIONAR-",null," -SELECCIONAR-"," -SELECCIONAR-",null,{"$f":"IF(AC259=FALSE, LOOKUP(AC259,Catálogos!O:O),LOOKUP(AC259,Catálogos!O:O,Catálogos!R:R))","v":{"$error":"#N/A"}},"",null,null,null,{"$f":"IF(CD259=FALSE,\"COL. INCORRECTA\",LOOKUP(CONCATENATE(AE259,\" - \",AC259),Catálogos!T:T,Catálogos!Y:Y))","v":{"$error":"#N/A"}},{"$f":"IF(CD259=FALSE,\"COL. INCORRECTA\",LOOKUP(CONCATENATE(AE259,\" - \",AC259),Catálogos!T:T,Catálogos!X:X))","v":{"$error":"#N/A"}}," -SELECCIONAR-",""," -SELECCIONAR-",null,null," -SELECCIONAR-",null,null,null," -SELECCIONAR-",null,null," -SELECCIONAR-"," -SELECCIONAR-",null,null,null,null,null," -SELECCIONAR-",null,null,null,null,null,null," -SELECCIONAR-",null,null,null,null,null,null," -SELECCIONAR-",null,null,null,null,null,null," -SELECCIONAR-",null,null,{"$f":"LOOKUP(AB259,Catálogos!AP:AP,Catálogos!AO:AO)","v":"ERR"},{"$f":"CONCATENATE(LOOKUP(AC259,Catálogos!O:O,Catálogos!P:P),\".\",LOOKUP(AC259,Catálogos!O:O,Catálogos!Q:Q))","v":{"$error":"#N/A"}},{"$f":"IF(AC259=LOOKUP(CONCATENATE(AE259,\" - \",AC259),Catálogos!T:T,Catálogos!V:V),LOOKUP(CONCATENATE(AE259,\" - \",AC259),Catálogos!T:T,Catálogos!W:W),FALSE)","v":{"$error":"#N/A"}},{"$f":"LOOKUP(BD259,Catálogos!AM:AM,Catálogos!AL:AL)","v":"ERR"},{"$f":"LOOKUP(BK259,Catálogos!AM:AM,Catálogos!AL:AL)","v":"ERR"},{"$f":"LOOKUP(BR259,Catálogos!AM:AM,Catálogos!AL:AL)","v":"ERR"},{"$f":"LOOKUP(BY259,Catálogos!AM:AM,Catálogos!AL:AL)","v":"ERR"},0]
[null,null,null,null,null,null,null," -SELECCIONAR-"," -SELECCIONAR-"," -SELECCIONAR-",null," -SELECCIONAR-"," -SELECCIONAR-"," -SELECCIONAR-"," -SELECCIONAR-",null,null," -SELECCIONAR-",null,null,null," -SELECCIONAR-",null,null," -SELECCIONAR-",null," -SELECCIONAR-"," -SELECCIONAR-",null,{"$f":"IF(AC260=FALSE, LOOKUP(AC260,Catálogos!O:O),LOOKUP(AC260,Catálogos!O:O,Catálogos!R:R))","v":{"$error":"#N/A"}},"",null,null,null,{"$f":"IF(CD260=FALSE,\"COL. INCORRECTA\",LOOKUP(CONCATENATE(AE260,\" - \",AC260),Catálogos!T:T,Catálogos!Y:Y))","v":{"$error":"#N/A"}},{"$f":"IF(CD260=FALSE,\"COL. INCORRECTA\",LOOKUP(CONCATENATE(AE260,\" - \",AC260),Catálogos!T:T,Catálogos!X:X))","v":{"$error":"#N/A"}}," -SELECCIONAR-",""," -SELECCIONAR-",null,null," -SELECCIONAR-",null,null,null," -SELECCIONAR-",null,null," -SELECCIONAR-"," -SELECCIONAR-",null,null,null,null,null," -SELECCIONAR-",null,null,null,null,null,null," -SELECCIONAR-",null,null,null,null,null,null," -SELECCIONAR-",null,null,null,null,null,null," -SELECCIONAR-",null,null,{"$f":"LOOKUP(AB260,Catálogos!AP:AP,Catálogos!AO:AO)","v":"ERR"},{"$f":"CONCATENATE(LOOKUP(AC260,Catálogos!O:O,Catálogos!P:P),\".\",LOOKUP(AC260,Catálogos!O:O,Catálogos!Q:Q))","v":{"$error":"#N/A"}},{"$f":"IF(AC260=LOOKUP(CONCATENATE(AE260,\" - \",AC260),Catálogos!T:T,Catálogos!V:V),LOOKUP(CONCATENATE(AE260,\" - \",AC260),Catálogos!T:T,Catálogos!W:W),FALSE)","v":{"$error":"#N/A"}},{"$f":"LOOKUP(BD260,Catálogos!AM:AM,Catálogos!AL:AL)","v":"ERR"},{"$f":"LOOKUP(BK260,Catálogos!AM:AM,Catálogos!AL:AL)","v":"ERR"},{"$f":"LOOKUP(BR260,Catálogos!AM:AM,Catálogos!AL:AL)","v":"ERR"},{"$f":"LOOKUP(BY260,Catálogos!AM:AM,Catálogos!AL:AL)","v":"ERR"},0]
[null,null,null,null,null,null,null," -SELECCIONAR-"," -SELECCIONAR-"," -SELECCIONAR-",null," -SELECCIONAR-"," -SELECCIONAR-"," -SELECCIONAR-"," -SELECCIONAR-",null,null," -SELECCIONAR-",null,null,null," -SELECCIONAR-",null,null," -SELECCIONAR-",null," -SELECCIONAR-"," -SELECCIONAR-",null,{"$f":"IF(AC261=FALSE, LOOKUP(AC261,Catálogos!O:O),LOOKUP(AC261,Catálogos!O:O,Catálogos!R:R))","v":{"$error":"#N/A"}},"",null,null,null,{"$f":"IF(CD261=FALSE,\"COL. INCORRECTA\",LOOKUP(CONCATENATE(AE261,\" - \",AC261),Catálogos!T:T,Catálogos!Y:Y))","v":{"$error":"#N/A"}},{"$f":"IF(CD261=FALSE,\"COL. INCORRECTA\",LOOKUP(CONCATENATE(AE261,\" - \",AC261),Catálogos!T:T,Catálogos!X:X))","v":{"$error":"#N/A"}}," -SELECCIONAR-",""," -SELECCIONAR-",null,null," -SELECCIONAR-",null,null,null," -SELECCIONAR-",null,null," -SELECCIONAR-"," -SELECCIONAR-",null,null,null,null,null," -SELECCIONAR-",null,null,null,null,null,null," -SELECCIONAR-",null,null,null,null,null,null," -SELECCIONAR-",null,null,null,null,null,null," -SELECCIONAR-",null,null,{"$f":"LOOKUP(AB261,Catálogos!AP:AP,Catálogos!AO:AO)","v":"ERR"},{"$f":"CONCATENATE(LOOKUP(AC261,Catálogos!O:O,Catálogos!P:P),\".\",LOOKUP(AC261,Catálogos!O:O,Catálogos!Q:Q))","v":{"$error":"#N/A"}},{"$f":"IF(AC261=LOOKUP(CONCATENATE(AE261,\" - \",AC261),Catálogos!T:T,Catálogos!V:V),LOOKUP(CONCATENATE(AE261,\" - \",AC261),Catálogos!T:T,Catálogos!W:W),FALSE)","v":{"$error":"#N/A"}},{"$f":"LOOKUP(BD261,Catálogos!AM:AM,Catálogos!AL:AL)","v":"ERR"},{"$f":"LOOKUP(BK261,Catálogos!AM:AM,Catálogos!AL:AL)","v":"ERR"},{"$f":"LOOKUP(BR261,Catálogos!AM:AM,Catálogos!AL:AL)","v":"ERR"},{"$f":"LOOKUP(BY261,Catálogos!AM:AM,Catálogos!AL:AL)","v":"ERR"},{"$f":"SUM(BE261+BL261+BS261+BZ261)","v":0}]
[null,null,null,null,null,null,null," -SELECCIONAR-"," -SELECCIONAR-"," -SELECCIONAR-",null," -SELECCIONAR-"," -SELECCIONAR-"," -SELECCIONAR-"," -SELECCIONAR-",null,null," -SELECCIONAR-",null,null,null," -SELECCIONAR-",null,null," -SELECCIONAR-",null," -SELECCIONAR-"," -SELECCIONAR-",null,{"$f":"IF(AC262=FALSE, LOOKUP(AC262,Catálogos!O:O),LOOKUP(AC262,Catálogos!O:O,Catálogos!R:R))","v":{"$error":"#N/A"}},"",null,null,null,{"$f":"IF(CD262=FALSE,\"COL. INCORRECTA\",LOOKUP(CONCATENATE(AE262,\" - \",AC262),Catálogos!T:T,Catálogos!Y:Y))","v":{"$error":"#N/A"}},{"$f":"IF(CD262=FALSE,\"COL. INCORRECTA\",LOOKUP(CONCATENATE(AE262,\" - \",AC262),Catálogos!T:T,Catálogos!X:X))","v":{"$error":"#N/A"}}," -SELECCIONAR-",""," -SELECCIONAR-",null,null," -SELECCIONAR-",null,null,null," -SELECCIONAR-",null,null," -SELECCIONAR-"," -SELECCIONAR-",null,null,null,null,null," -SELECCIONAR-",null,null,null,null,null,null," -SELECCIONAR-",null,null,null,null,null,null," -SELECCIONAR-",null,null,null,null,null,null," -SELECCIONAR-",null,null,{"$f":"LOOKUP(AB262,Catálogos!AP:AP,Catálogos!AO:AO)","v":"ERR"},{"$f":"CONCATENATE(LOOKUP(AC262,Catálogos!O:O,Catálogos!P:P),\".\",LOOKUP(AC262,Catálogos!O:O,Catálogos!Q:Q))","v":{"$error":"#N/A"}},{"$f":"IF(AC262=LOOKUP(CONCATENATE(AE262,\" - \",AC262),Catálogos!T:T,Catálogos!V:V),LOOKUP(CONCATENATE(AE262,\" - \",AC262),Catálogos!T:T,Catálogos!W:W),FALSE)","v":{"$error":"#N/A"}},{"$f":"LOOKUP(BD262,Catálogos!AM:AM,Catálogos!AL:AL)","v":"ERR"},{"$f":"LOOKUP(BK262,Catálogos!AM:AM,Catálogos!AL:AL)","v":"ERR"},{"$f":"LOOKUP(BR262,Catálogos!AM:AM,Catálogos!AL:AL)","v":"ERR"},{"$f":"LOOKUP(BY262,Catálogos!AM:AM,Catálogos!AL:AL)","v":"ERR"},0]
[null,null,null,null,null,null,null," -SELECCIONAR-"," -SELECCIONAR-"," -SELECCIONAR-",null," -SELECCIONAR-"," -SELECCIONAR-"," -SELECCIONAR-"," -SELECCIONAR-",null,null," -SELECCIONAR-",null,null,null," -SELECCIONAR-",null,null," -SELECCIONAR-",null," -SELECCIONAR-"," -SELECCIONAR-",null,{"$f":"IF(AC263=FALSE, LOOKUP(AC263,Catálogos!O:O),LOOKUP(AC263,Catálogos!O:O,Catálogos!R:R))","v":{"$error":"#N/A"}},"",null,null,null,{"$f":"IF(CD263=FALSE,\"COL. INCORRECTA\",LOOKUP(CONCATENATE(AE263,\" - \",AC263),Catálogos!T:T,Catálogos!Y:Y))","v":{"$error":"#N/A"}},{"$f":"IF(CD263=FALSE,\"COL. INCORRECTA\",LOOKUP(CONCATENATE(AE263,\" - \",AC263),Catálogos!T:T,Catálogos!X:X))","v":{"$error":"#N/A"}}," -SELECCIONAR-",""," -SELECCIONAR-",null,null," -SELECCIONAR-",null,null,null," -SELECCIONAR-",null,null," -SELECCIONAR-"," -SELECCIONAR-",null,null,null,null,null," -SELECCIONAR-",null,null,null,null,null,null," -SELECCIONAR-",null,null,null,null,null,null," -SELECCIONAR-",null,null,null,null,null,null," -SELECCIONAR-",null,null,{"$f":"LOOKUP(AB263,Catálogos!AP:AP,Catálogos!AO:AO)","v":"ERR"},{"$f":"CONCATENATE(LOOKUP(AC263,Catálogos!O:O,Catálogos!P:P),\".\",LOOKUP(AC263,Catálogos!O:O,Catálogos!Q:Q))","v":{"$error":"#N/A"}},{"$f":"IF(AC263=LOOKUP(CONCATENATE(AE263,\" - \",AC263),Catálogos!T:T,Catálogos!V:V),LOOKUP(CONCATENATE(AE263,\" - \",AC263),Catálogos!T:T,Catálogos!W:W),FALSE)","v":{"$error":"#N/A"}},{"$f":"LOOKUP(BD263,Catálogos!AM:AM,Catálogos!AL:AL)","v":"ERR"},{"$f":"LOOKUP(BK263,Catálogos!AM:AM,Catálogos!AL:AL)","v":"ERR"},{"$f":"LOOKUP(BR263,Catálogos!AM:AM,Catálogos!AL:AL)","v":"ERR"},{"$f":"LOOKUP(BY263,Catálogos!AM:AM,Catálogos!AL:AL)","v":"ERR"},0]
[null,null,null,null,null,null,null," -SELECCIONAR-"," -SELECCIONAR-"," -SELECCIONAR-",null," -SELECCIONAR-"," -SELECCIONAR-"," -SELECCIONAR-"," -SELECCIONAR-",null,null," -SELECCIONAR-",null,null,null," -SELECCIONAR-",null,null," -SELECCIONAR-",null," -SELECCIONAR-"," -SELECCIONAR-",null,{"$f":"IF(AC264=FALSE, LOOKUP(AC264,Catálogos!O:O),LOOKUP(AC264,Catálogos!O:O,Catálogos!R:R))","v":{"$error":"#N/A"}},"",null,null,null,{"$f":"IF(CD264=FALSE,\"COL. INCORRECTA\",LOOKUP(CONCATENATE(AE264,\" - \",AC264),Catálogos!T:T,Catálogos!Y:Y))","v":{"$error":"#N/A"}},{"$f":"IF(CD264=FALSE,\"COL. INCORRECTA\",LOOKUP(CONCATENATE(AE264,\" - \",AC264),Catálogos!T:T,Catálogos!X:X))","v":{"$error":"#N/A"}}," -SELECCIONAR-",""," -SELECCIONAR-",null,null," -SELECCIONAR-",null,null,null," -SELECCIONAR-",null,null," -SELECCIONAR-"," -SELECCIONAR-",null,null,null,null,null," -SELECCIONAR-",null,null,null,null,null,null," -SELECCIONAR-",null,null,null,null,null,null," -SELECCIONAR-",null,null,null,null,null,null," -SELECCIONAR-",null,null,{"$f":"LOOKUP(AB264,Catálogos!AP:AP,Catálogos!AO:AO)","v":"ERR"},{"$f":"CONCATENATE(LOOKUP(AC264,Catálogos!O:O,Catálogos!P:P),\".\",LOOKUP(AC264,Catálogos!O:O,Catálogos!Q:Q))","v":{"$error":"#N/A"}},{"$f":"IF(AC264=LOOKUP(CONCATENATE(AE264,\" - \",AC264),Catálogos!T:T,Catálogos!V:V),LOOKUP(CONCATENATE(AE264,\" - \",AC264),Catálogos!T:T,Catálogos!W:W),FALSE)","v":{"$error":"#N/A"}},{"$f":"LOOKUP(BD264,Catálogos!AM:AM,Catálogos!AL:AL)","v":"ERR"},{"$f":"LOOKUP(BK264,Catálogos!AM:AM,Catálogos!AL:AL)","v":"ERR"},{"$f":"LOOKUP(BR264,Catálogos!AM:AM,Catálogos!AL:AL)","v":"ERR"},{"$f":"LOOKUP(BY264,Catálogos!AM:AM,Catálogos!AL:AL)","v":"ERR"},0]
[null,null,null,null,null,null,null," -SELECCIONAR-"," -SELECCIONAR-"," -SELECCIONAR-",null," -SELECCIONAR-"," -SELECCIONAR-"," -SELECCIONAR-"," -SELECCIONAR-",null,null," -SELECCIONAR-",null,null,null," -SELECCIONAR-",null,null," -SELECCIONAR-",null," -SELECCIONAR-"," -SELECCIONAR-",null,{"$f":"IF(AC265=FALSE, LOOKUP(AC265,Catálogos!O:O),LOOKUP(AC265,Catálogos!O:O,Catálogos!R:R))","v":{"$error":"#N/A"}},"",null,null,null,{"$f":"IF(CD265=FALSE,\"COL. INCORRECTA\",LOOKUP(CONCATENATE(AE265,\" - \",AC265),Catálogos!T:T,Catálogos!Y:Y))","v":{"$error":"#N/A"}},{"$f":"IF(CD265=FALSE,\"COL. INCORRECTA\",LOOKUP(CONCATENATE(AE265,\" - \",AC265),Catálogos!T:T,Catálogos!X:X))","v":{"$error":"#N/A"}}," -SELECCIONAR-",""," -SELECCIONAR-",null,null," -SELECCIONAR-",null,null,null," -SELECCIONAR-",null,null," -SELECCIONAR-"," -SELECCIONAR-",null,null,null,null,null," -SELECCIONAR-",null,null,null,null,null,null," -SELECCIONAR-",null,null,null,null,null,null," -SELECCIONAR-",null,null,null,null,null,null," -SELECCIONAR-",null,null,{"$f":"LOOKUP(AB265,Catálogos!AP:AP,Catálogos!AO:AO)","v":"ERR"},{"$f":"CONCATENATE(LOOKUP(AC265,Catálogos!O:O,Catálogos!P:P),\".\",LOOKUP(AC265,Catálogos!O:O,Catálogos!Q:Q))","v":{"$error":"#N/A"}},{"$f":"IF(AC265=LOOKUP(CONCATENATE(AE265,\" - \",AC265),Catálogos!T:T,Catálogos!V:V),LOOKUP(CONCATENATE(AE265,\" - \",AC265),Catálogos!T:T,Catálogos!W:W),FALSE)","v":{"$error":"#N/A"}},{"$f":"LOOKUP(BD265,Catálogos!AM:AM,Catálogos!AL:AL)","v":"ERR"},{"$f":"LOOKUP(BK265,Catálogos!AM:AM,Catálogos!AL:AL)","v":"ERR"},{"$f":"LOOKUP(BR265,Catálogos!AM:AM,Catálogos!AL:AL)","v":"ERR"},{"$f":"LOOKUP(BY265,Catálogos!AM:AM,Catálogos!AL:AL)","v":"ERR"},0]
[null,null,null,null,null,null,null," -SELECCIONAR-"," -SELECCIONAR-"," -SELECCIONAR-",null," -SELECCIONAR-"," -SELECCIONAR-"," -SELECCIONAR-"," -SELECCIONAR-",null,null," -SELECCIONAR-",null,null,null," -SELECCIONAR-",null,null," -SELECCIONAR-",null," -SELECCIONAR-"," -SELECCIONAR-",null,{"$f":"IF(AC266=FALSE, LOOKUP(AC266,Catálogos!O:O),LOOKUP(AC266,Catálogos!O:O,Catálogos!R:R))","v":{"$error":"#N/A"}},"",null,null,null,{"$f":"IF(CD266=FALSE,\"COL. INCORRECTA\",LOOKUP(CONCATENATE(AE266,\" - \",AC266),Catálogos!T:T,Catálogos!Y:Y))","v":{"$error":"#N/A"}},{"$f":"IF(CD266=FALSE,\"COL. INCORRECTA\",LOOKUP(CONCATENATE(AE266,\" - \",AC266),Catálogos!T:T,Catálogos!X:X))","v":{"$error":"#N/A"}}," -SELECCIONAR-",""," -SELECCIONAR-",null,null," -SELECCIONAR-",null,null,null," -SELECCIONAR-",null,null," -SELECCIONAR-"," -SELECCIONAR-",null,null,null,null,null," -SELECCIONAR-",null,null,null,null,null,null," -SELECCIONAR-",null,null,null,null,null,null," -SELECCIONAR-",null,null,null,null,null,null," -SELECCIONAR-",null,null,{"$f":"LOOKUP(AB266,Catálogos!AP:AP,Catálogos!AO:AO)","v":"ERR"},{"$f":"CONCATENATE(LOOKUP(AC266,Catálogos!O:O,Catálogos!P:P),\".\",LOOKUP(AC266,Catálogos!O:O,Catálogos!Q:Q))","v":{"$error":"#N/A"}},{"$f":"IF(AC266=LOOKUP(CONCATENATE(AE266,\" - \",AC266),Catálogos!T:T,Catálogos!V:V),LOOKUP(CONCATENATE(AE266,\" - \",AC266),Catálogos!T:T,Catálogos!W:W),FALSE)","v":{"$error":"#N/A"}},{"$f":"LOOKUP(BD266,Catálogos!AM:AM,Catálogos!AL:AL)","v":"ERR"},{"$f":"LOOKUP(BK266,Catálogos!AM:AM,Catálogos!AL:AL)","v":"ERR"},{"$f":"LOOKUP(BR266,Catálogos!AM:AM,Catálogos!AL:AL)","v":"ERR"},{"$f":"LOOKUP(BY266,Catálogos!AM:AM,Catálogos!AL:AL)","v":"ERR"},0]
[null,null,null,null,null,null,null," -SELECCIONAR-"," -SELECCIONAR-"," -SELECCIONAR-",null," -SELECCIONAR-"," -SELECCIONAR-"," -SELECCIONAR-"," -SELECCIONAR-",null,null," -SELECCIONAR-",null,null,null," -SELECCIONAR-",null,null," -SELECCIONAR-",null," -SELECCIONAR-"," -SELECCIONAR-",null,{"$f":"IF(AC267=FALSE, LOOKUP(AC267,Catálogos!O:O),LOOKUP(AC267,Catálogos!O:O,Catálogos!R:R))","v":{"$error":"#N/A"}},"",null,null,null,{"$f":"IF(CD267=FALSE,\"COL. INCORRECTA\",LOOKUP(CONCATENATE(AE267,\" - \",AC267),Catálogos!T:T,Catálogos!Y:Y))","v":{"$error":"#N/A"}},{"$f":"IF(CD267=FALSE,\"COL. INCORRECTA\",LOOKUP(CONCATENATE(AE267,\" - \",AC267),Catálogos!T:T,Catálogos!X:X))","v":{"$error":"#N/A"}}," -SELECCIONAR-",""," -SELECCIONAR-",null,null," -SELECCIONAR-",null,null,null," -SELECCIONAR-",null,null," -SELECCIONAR-"," -SELECCIONAR-",null,null,null,null,null," -SELECCIONAR-",null,null,null,null,null,null," -SELECCIONAR-",null,null,null,null,null,null," -SELECCIONAR-",null,null,null,null,null,null," -SELECCIONAR-",null,null,{"$f":"LOOKUP(AB267,Catálogos!AP:AP,Catálogos!AO:AO)","v":"ERR"},{"$f":"CONCATENATE(LOOKUP(AC267,Catálogos!O:O,Catálogos!P:P),\".\",LOOKUP(AC267,Catálogos!O:O,Catálogos!Q:Q))","v":{"$error":"#N/A"}},{"$f":"IF(AC267=LOOKUP(CONCATENATE(AE267,\" - \",AC267),Catálogos!T:T,Catálogos!V:V),LOOKUP(CONCATENATE(AE267,\" - \",AC267),Catálogos!T:T,Catálogos!W:W),FALSE)","v":{"$error":"#N/A"}},{"$f":"LOOKUP(BD267,Catálogos!AM:AM,Catálogos!AL:AL)","v":"ERR"},{"$f":"LOOKUP(BK267,Catálogos!AM:AM,Catálogos!AL:AL)","v":"ERR"},{"$f":"LOOKUP(BR267,Catálogos!AM:AM,Catálogos!AL:AL)","v":"ERR"},{"$f":"LOOKUP(BY267,Catálogos!AM:AM,Catálogos!AL:AL)","v":"ERR"},0]
[null,null,null,null,null,null,null," -SELECCIONAR-"," -SELECCIONAR-"," -SELECCIONAR-",null," -SELECCIONAR-"," -SELECCIONAR-"," -SELECCIONAR-"," -SELECCIONAR-",null,null," -SELECCIONAR-",null,null,null," -SELECCIONAR-",null,null," -SELECCIONAR-",null," -SELECCIONAR-"," -SELECCIONAR-",null,{"$f":"IF(AC268=FALSE, LOOKUP(AC268,Catálogos!O:O),LOOKUP(AC268,Catálogos!O:O,Catálogos!R:R))","v":{"$error":"#N/A"}},"",null,null,null,{"$f":"IF(CD268=FALSE,\"COL. INCORRECTA\",LOOKUP(CONCATENATE(AE268,\" - \",AC268),Catálogos!T:T,Catálogos!Y:Y))","v":{"$error":"#N/A"}},{"$f":"IF(CD268=FALSE,\"COL. INCORRECTA\",LOOKUP(CONCATENATE(AE268,\" - \",AC268),Catálogos!T:T,Catálogos!X:X))","v":{"$error":"#N/A"}}," -SELECCIONAR-",""," -SELECCIONAR-",null,null," -SELECCIONAR-",null,null,null," -SELECCIONAR-",null,null," -SELECCIONAR-"," -SELECCIONAR-",null,null,null,null,null," -SELECCIONAR-",null,null,null,null,null,null," -SELECCIONAR-",null,null,null,null,null,null," -SELECCIONAR-",null,null,null,null,null,null," -SELECCIONAR-",null,null,{"$f":"LOOKUP(AB268,Catálogos!AP:AP,Catálogos!AO:AO)","v":"ERR"},{"$f":"CONCATENATE(LOOKUP(AC268,Catálogos!O:O,Catálogos!P:P),\".\",LOOKUP(AC268,Catálogos!O:O,Catálogos!Q:Q))","v":{"$error":"#N/A"}},{"$f":"IF(AC268=LOOKUP(CONCATENATE(AE268,\" - \",AC268),Catálogos!T:T,Catálogos!V:V),LOOKUP(CONCATENATE(AE268,\" - \",AC268),Catálogos!T:T,Catálogos!W:W),FALSE)","v":{"$error":"#N/A"}},{"$f":"LOOKUP(BD268,Catálogos!AM:AM,Catálogos!AL:AL)","v":"ERR"},{"$f":"LOOKUP(BK268,Catálogos!AM:AM,Catálogos!AL:AL)","v":"ERR"},{"$f":"LOOKUP(BR268,Catálogos!AM:AM,Catálogos!AL:AL)","v":"ERR"},{"$f":"LOOKUP(BY268,Catálogos!AM:AM,Catálogos!AL:AL)","v":"ERR"},0]
[null,null,null,null,null,null,null," -SELECCIONAR-"," -SELECCIONAR-"," -SELECCIONAR-",null," -SELECCIONAR-"," -SELECCIONAR-"," -SELECCIONAR-"," -SELECCIONAR-",null,null," -SELECCIONAR-",null,null,null," -SELECCIONAR-",null,null," -SELECCIONAR-",null," -SELECCIONAR-"," -SELECCIONAR-",null,{"$f":"IF(AC269=FALSE, LOOKUP(AC269,Catálogos!O:O),LOOKUP(AC269,Catálogos!O:O,Catálogos!R:R))","v":{"$error":"#N/A"}},"",null,null,null,{"$f":"IF(CD269=FALSE,\"COL. INCORRECTA\",LOOKUP(CONCATENATE(AE269,\" - \",AC269),Catálogos!T:T,Catálogos!Y:Y))","v":{"$error":"#N/A"}},{"$f":"IF(CD269=FALSE,\"COL. INCORRECTA\",LOOKUP(CONCATENATE(AE269,\" - \",AC269),Catálogos!T:T,Catálogos!X:X))","v":{"$error":"#N/A"}}," -SELECCIONAR-",""," -SELECCIONAR-",null,null," -SELECCIONAR-",null,null,null," -SELECCIONAR-",null,null," -SELECCIONAR-"," -SELECCIONAR-",null,null,null,null,null," -SELECCIONAR-",null,null,null,null,null,null," -SELECCIONAR-",null,null,null,null,null,null," -SELECCIONAR-",null,null,null,null,null,null," -SELECCIONAR-",null,null,{"$f":"LOOKUP(AB269,Catálogos!AP:AP,Catálogos!AO:AO)","v":"ERR"},{"$f":"CONCATENATE(LOOKUP(AC269,Catálogos!O:O,Catálogos!P:P),\".\",LOOKUP(AC269,Catálogos!O:O,Catálogos!Q:Q))","v":{"$error":"#N/A"}},{"$f":"IF(AC269=LOOKUP(CONCATENATE(AE269,\" - \",AC269),Catálogos!T:T,Catálogos!V:V),LOOKUP(CONCATENATE(AE269,\" - \",AC269),Catálogos!T:T,Catálogos!W:W),FALSE)","v":{"$error":"#N/A"}},{"$f":"LOOKUP(BD269,Catálogos!AM:AM,Catálogos!AL:AL)","v":"ERR"},{"$f":"LOOKUP(BK269,Catálogos!AM:AM,Catálogos!AL:AL)","v":"ERR"},{"$f":"LOOKUP(BR269,Catálogos!AM:AM,Catálogos!AL:AL)","v":"ERR"},{"$f":"LOOKUP(BY269,Catálogos!AM:AM,Catálogos!AL:AL)","v":"ERR"},0]
[null,null,null,null,null,null,null," -SELECCIONAR-"," -SELECCIONAR-"," -SELECCIONAR-",null," -SELECCIONAR-"," -SELECCIONAR-"," -SELECCIONAR-"," -SELECCIONAR-",null,null," -SELECCIONAR-",null,null,null," -SELECCIONAR-",null,null," -SELECCIONAR-",null," -SELECCIONAR-"," -SELECCIONAR-",null,{"$f":"IF(AC270=FALSE, LOOKUP(AC270,Catálogos!O:O),LOOKUP(AC270,Catálogos!O:O,Catálogos!R:R))","v":{"$error":"#N/A"}},"",null,null,null,{"$f":"IF(CD270=FALSE,\"COL. INCORRECTA\",LOOKUP(CONCATENATE(AE270,\" - \",AC270),Catálogos!T:T,Catálogos!Y:Y))","v":{"$error":"#N/A"}},{"$f":"IF(CD270=FALSE,\"COL. INCORRECTA\",LOOKUP(CONCATENATE(AE270,\" - \",AC270),Catálogos!T:T,Catálogos!X:X))","v":{"$error":"#N/A"}}," -SELECCIONAR-",""," -SELECCIONAR-",null,null," -SELECCIONAR-",null,null,null," -SELECCIONAR-",null,null," -SELECCIONAR-"," -SELECCIONAR-",null,null,null,null,null," -SELECCIONAR-",null,null,null,null,null,null," -SELECCIONAR-",null,null,null,null,null,null," -SELECCIONAR-",null,null,null,null,null,null," -SELECCIONAR-",null,null,{"$f":"LOOKUP(AB270,Catálogos!AP:AP,Catálogos!AO:AO)","v":"ERR"},{"$f":"CONCATENATE(LOOKUP(AC270,Catálogos!O:O,Catálogos!P:P),\".\",LOOKUP(AC270,Catálogos!O:O,Catálogos!Q:Q))","v":{"$error":"#N/A"}},{"$f":"IF(AC270=LOOKUP(CONCATENATE(AE270,\" - \",AC270),Catálogos!T:T,Catálogos!V:V),LOOKUP(CONCATENATE(AE270,\" - \",AC270),Catálogos!T:T,Catálogos!W:W),FALSE)","v":{"$error":"#N/A"}},{"$f":"LOOKUP(BD270,Catálogos!AM:AM,Catálogos!AL:AL)","v":"ERR"},{"$f":"LOOKUP(BK270,Catálogos!AM:AM,Catálogos!AL:AL)","v":"ERR"},{"$f":"LOOKUP(BR270,Catálogos!AM:AM,Catálogos!AL:AL)","v":"ERR"},{"$f":"LOOKUP(BY270,Catálogos!AM:AM,Catálogos!AL:AL)","v":"ERR"},0]
[null,null,null,null,null,null,null," -SELECCIONAR-"," -SELECCIONAR-"," -SELECCIONAR-",null," -SELECCIONAR-"," -SELECCIONAR-"," -SELECCIONAR-"," -SELECCIONAR-",null,null," -SELECCIONAR-",null,null,null," -SELECCIONAR-",null,null," -SELECCIONAR-",null," -SELECCIONAR-"," -SELECCIONAR-",null,{"$f":"IF(AC271=FALSE, LOOKUP(AC271,Catálogos!O:O),LOOKUP(AC271,Catálogos!O:O,Catálogos!R:R))","v":{"$error":"#N/A"}},"",null,null,null,{"$f":"IF(CD271=FALSE,\"COL. INCORRECTA\",LOOKUP(CONCATENATE(AE271,\" - \",AC271),Catálogos!T:T,Catálogos!Y:Y))","v":{"$error":"#N/A"}},{"$f":"IF(CD271=FALSE,\"COL. INCORRECTA\",LOOKUP(CONCATENATE(AE271,\" - \",AC271),Catálogos!T:T,Catálogos!X:X))","v":{"$error":"#N/A"}}," -SELECCIONAR-",""," -SELECCIONAR-",null,null," -SELECCIONAR-",null,null,null," -SELECCIONAR-",null,null," -SELECCIONAR-"," -SELECCIONAR-",null,null,null,null,null," -SELECCIONAR-",null,null,null,null,null,null," -SELECCIONAR-",null,null,null,null,null,null," -SELECCIONAR-",null,null,null,null,null,null," -SELECCIONAR-",null,null,{"$f":"LOOKUP(AB271,Catálogos!AP:AP,Catálogos!AO:AO)","v":"ERR"},{"$f":"CONCATENATE(LOOKUP(AC271,Catálogos!O:O,Catálogos!P:P),\".\",LOOKUP(AC271,Catálogos!O:O,Catálogos!Q:Q))","v":{"$error":"#N/A"}},{"$f":"IF(AC271=LOOKUP(CONCATENATE(AE271,\" - \",AC271),Catálogos!T:T,Catálogos!V:V),LOOKUP(CONCATENATE(AE271,\" - \",AC271),Catálogos!T:T,Catálogos!W:W),FALSE)","v":{"$error":"#N/A"}},{"$f":"LOOKUP(BD271,Catálogos!AM:AM,Catálogos!AL:AL)","v":"ERR"},{"$f":"LOOKUP(BK271,Catálogos!AM:AM,Catálogos!AL:AL)","v":"ERR"},{"$f":"LOOKUP(BR271,Catálogos!AM:AM,Catálogos!AL:AL)","v":"ERR"},{"$f":"LOOKUP(BY271,Catálogos!AM:AM,Catálogos!AL:AL)","v":"ERR"},0]
[null,null,null,null,null,null,null," -SELECCIONAR-"," -SELECCIONAR-"," -SELECCIONAR-",null," -SELECCIONAR-"," -SELECCIONAR-"," -SELECCIONAR-"," -SELECCIONAR-",null,null," -SELECCIONAR-",null,null,null," -SELECCIONAR-",null,null," -SELECCIONAR-",null," -SELECCIONAR-"," -SELECCIONAR-",null,{"$f":"IF(AC272=FALSE, LOOKUP(AC272,Catálogos!O:O),LOOKUP(AC272,Catálogos!O:O,Catálogos!R:R))","v":{"$error":"#N/A"}},"",null,null,null,{"$f":"IF(CD272=FALSE,\"COL. INCORRECTA\",LOOKUP(CONCATENATE(AE272,\" - \",AC272),Catálogos!T:T,Catálogos!Y:Y))","v":{"$error":"#N/A"}},{"$f":"IF(CD272=FALSE,\"COL. INCORRECTA\",LOOKUP(CONCATENATE(AE272,\" - \",AC272),Catálogos!T:T,Catálogos!X:X))","v":{"$error":"#N/A"}}," -SELECCIONAR-",""," -SELECCIONAR-",null,null," -SELECCIONAR-",null,null,null," -SELECCIONAR-",null,null," -SELECCIONAR-"," -SELECCIONAR-",null,null,null,null,null," -SELECCIONAR-",null,null,null,null,null,null," -SELECCIONAR-",null,null,null,null,null,null," -SELECCIONAR-",null,null,null,null,null,null," -SELECCIONAR-",null,null,{"$f":"LOOKUP(AB272,Catálogos!AP:AP,Catálogos!AO:AO)","v":"ERR"},{"$f":"CONCATENATE(LOOKUP(AC272,Catálogos!O:O,Catálogos!P:P),\".\",LOOKUP(AC272,Catálogos!O:O,Catálogos!Q:Q))","v":{"$error":"#N/A"}},{"$f":"IF(AC272=LOOKUP(CONCATENATE(AE272,\" - \",AC272),Catálogos!T:T,Catálogos!V:V),LOOKUP(CONCATENATE(AE272,\" - \",AC272),Catálogos!T:T,Catálogos!W:W),FALSE)","v":{"$error":"#N/A"}},{"$f":"LOOKUP(BD272,Catálogos!AM:AM,Catálogos!AL:AL)","v":"ERR"},{"$f":"LOOKUP(BK272,Catálogos!AM:AM,Catálogos!AL:AL)","v":"ERR"},{"$f":"LOOKUP(BR272,Catálogos!AM:AM,Catálogos!AL:AL)","v":"ERR"},{"$f":"LOOKUP(BY272,Catálogos!AM:AM,Catálogos!AL:AL)","v":"ERR"},0]
[null,null,null,null,null,null,null," -SELECCIONAR-"," -SELECCIONAR-"," -SELECCIONAR-",null," -SELECCIONAR-"," -SELECCIONAR-"," -SELECCIONAR-"," -SELECCIONAR-",null,null," -SELECCIONAR-",null,null,null," -SELECCIONAR-",null,null," -SELECCIONAR-",null," -SELECCIONAR-"," -SELECCIONAR-",null,{"$f":"IF(AC273=FALSE, LOOKUP(AC273,Catálogos!O:O),LOOKUP(AC273,Catálogos!O:O,Catálogos!R:R))","v":{"$error":"#N/A"}},"",null,null,null,{"$f":"IF(CD273=FALSE,\"COL. INCORRECTA\",LOOKUP(CONCATENATE(AE273,\" - \",AC273),Catálogos!T:T,Catálogos!Y:Y))","v":{"$error":"#N/A"}},{"$f":"IF(CD273=FALSE,\"COL. INCORRECTA\",LOOKUP(CONCATENATE(AE273,\" - \",AC273),Catálogos!T:T,Catálogos!X:X))","v":{"$error":"#N/A"}}," -SELECCIONAR-",""," -SELECCIONAR-",null,null," -SELECCIONAR-",null,null,null," -SELECCIONAR-",null,null," -SELECCIONAR-"," -SELECCIONAR-",null,null,null,null,null," -SELECCIONAR-",null,null,null,null,null,null," -SELECCIONAR-",null,null,null,null,null,null," -SELECCIONAR-",null,null,null,null,null,null," -SELECCIONAR-",null,null,{"$f":"LOOKUP(AB273,Catálogos!AP:AP,Catálogos!AO:AO)","v":"ERR"},{"$f":"CONCATENATE(LOOKUP(AC273,Catálogos!O:O,Catálogos!P:P),\".\",LOOKUP(AC273,Catálogos!O:O,Catálogos!Q:Q))","v":{"$error":"#N/A"}},{"$f":"IF(AC273=LOOKUP(CONCATENATE(AE273,\" - \",AC273),Catálogos!T:T,Catálogos!V:V),LOOKUP(CONCATENATE(AE273,\" - \",AC273),Catálogos!T:T,Catálogos!W:W),FALSE)","v":{"$error":"#N/A"}},{"$f":"LOOKUP(BD273,Catálogos!AM:AM,Catálogos!AL:AL)","v":"ERR"},{"$f":"LOOKUP(BK273,Catálogos!AM:AM,Catálogos!AL:AL)","v":"ERR"},{"$f":"LOOKUP(BR273,Catálogos!AM:AM,Catálogos!AL:AL)","v":"ERR"},{"$f":"LOOKUP(BY273,Catálogos!AM:AM,Catálogos!AL:AL)","v":"ERR"},0]
[null,null,null,null,null,null,null," -SELECCIONAR-"," -SELECCIONAR-"," -SELECCIONAR-",null," -SELECCIONAR-"," -SELECCIONAR-"," -SELECCIONAR-"," -SELECCIONAR-",null,null," -SELECCIONAR-",null,null,null," -SELECCIONAR-",null,null," -SELECCIONAR-",null," -SELECCIONAR-"," -SELECCIONAR-",null,{"$f":"IF(AC274=FALSE, LOOKUP(AC274,Catálogos!O:O),LOOKUP(AC274,Catálogos!O:O,Catálogos!R:R))","v":{"$error":"#N/A"}},"",null,null,null,{"$f":"IF(CD274=FALSE,\"COL. INCORRECTA\",LOOKUP(CONCATENATE(AE274,\" - \",AC274),Catálogos!T:T,Catálogos!Y:Y))","v":{"$error":"#N/A"}},{"$f":"IF(CD274=FALSE,\"COL. INCORRECTA\",LOOKUP(CONCATENATE(AE274,\" - \",AC274),Catálogos!T:T,Catálogos!X:X))","v":{"$error":"#N/A"}}," -SELECCIONAR-",""," -SELECCIONAR-",null,null," -SELECCIONAR-",null,null,null," -SELECCIONAR-",null,null," -SELECCIONAR-"," -SELECCIONAR-",null,null,null,null,null," -SELECCIONAR-",null,null,null,null,null,null," -SELECCIONAR-",null,null,null,null,null,null," -SELECCIONAR-",null,null,null,null,null,null," -SELECCIONAR-",null,null,{"$f":"LOOKUP(AB274,Catálogos!AP:AP,Catálogos!AO:AO)","v":"ERR"},{"$f":"CONCATENATE(LOOKUP(AC274,Catálogos!O:O,Catálogos!P:P),\".\",LOOKUP(AC274,Catálogos!O:O,Catálogos!Q:Q))","v":{"$error":"#N/A"}},{"$f":"IF(AC274=LOOKUP(CONCATENATE(AE274,\" - \",AC274),Catálogos!T:T,Catálogos!V:V),LOOKUP(CONCATENATE(AE274,\" - \",AC274),Catálogos!T:T,Catálogos!W:W),FALSE)","v":{"$error":"#N/A"}},{"$f":"LOOKUP(BD274,Catálogos!AM:AM,Catálogos!AL:AL)","v":"ERR"},{"$f":"LOOKUP(BK274,Catálogos!AM:AM,Catálogos!AL:AL)","v":"ERR"},{"$f":"LOOKUP(BR274,Catálogos!AM:AM,Catálogos!AL:AL)","v":"ERR"},{"$f":"LOOKUP(BY274,Catálogos!AM:AM,Catálogos!AL:AL)","v":"ERR"},0]
[null,null,null,null,null,null,null," -SELECCIONAR-"," -SELECCIONAR-"," -SELECCIONAR-",null," -SELECCIONAR-"," -SELECCIONAR-"," -SELECCIONAR-"," -SELECCIONAR-",null,null," -SELECCIONAR-",null,null,null," -SELECCIONAR-",null,null," -SELECCIONAR-",null," -SELECCIONAR-"," -SELECCIONAR-",null,{"$f":"IF(AC275=FALSE, LOOKUP(AC275,Catálogos!O:O),LOOKUP(AC275,Catálogos!O:O,Catálogos!R:R))","v":{"$error":"#N/A"}},"",null,null,null,{"$f":"IF(CD275=FALSE,\"COL. INCORRECTA\",LOOKUP(CONCATENATE(AE275,\" - \",AC275),Catálogos!T:T,Catálogos!Y:Y))","v":{"$error":"#N/A"}},{"$f":"IF(CD275=FALSE,\"COL. INCORRECTA\",LOOKUP(CONCATENATE(AE275,\" - \",AC275),Catálogos!T:T,Catálogos!X:X))","v":{"$error":"#N/A"}}," -SELECCIONAR-",""," -SELECCIONAR-",null,null," -SELECCIONAR-",null,null,null," -SELECCIONAR-",null,null," -SELECCIONAR-"," -SELECCIONAR-",null,null,null,null,null," -SELECCIONAR-",null,null,null,null,null,null," -SELECCIONAR-",null,null,null,null,null,null," -SELECCIONAR-",null,null,null,null,null,null," -SELECCIONAR-",null,null,{"$f":"LOOKUP(AB275,Catálogos!AP:AP,Catálogos!AO:AO)","v":"ERR"},{"$f":"CONCATENATE(LOOKUP(AC275,Catálogos!O:O,Catálogos!P:P),\".\",LOOKUP(AC275,Catálogos!O:O,Catálogos!Q:Q))","v":{"$error":"#N/A"}},{"$f":"IF(AC275=LOOKUP(CONCATENATE(AE275,\" - \",AC275),Catálogos!T:T,Catálogos!V:V),LOOKUP(CONCATENATE(AE275,\" - \",AC275),Catálogos!T:T,Catálogos!W:W),FALSE)","v":{"$error":"#N/A"}},{"$f":"LOOKUP(BD275,Catálogos!AM:AM,Catálogos!AL:AL)","v":"ERR"},{"$f":"LOOKUP(BK275,Catálogos!AM:AM,Catálogos!AL:AL)","v":"ERR"},{"$f":"LOOKUP(BR275,Catálogos!AM:AM,Catálogos!AL:AL)","v":"ERR"},{"$f":"LOOKUP(BY275,Catálogos!AM:AM,Catálogos!AL:AL)","v":"ERR"},0]
[null,null,null,null,null,null,null," -SELECCIONAR-"," -SELECCIONAR-"," -SELECCIONAR-",null," -SELECCIONAR-"," -SELECCIONAR-"," -SELECCIONAR-"," -SELECCIONAR-",null,null," -SELECCIONAR-",null,null,null," -SELECCIONAR-",null,null," -SELECCIONAR-",null," -SELECCIONAR-"," -SELECCIONAR-",null,{"$f":"IF(AC276=FALSE, LOOKUP(AC276,Catálogos!O:O),LOOKUP(AC276,Catálogos!O:O,Catálogos!R:R))","v":{"$error":"#N/A"}},"",null,null,null,{"$f":"IF(CD276=FALSE,\"COL. INCORRECTA\",LOOKUP(CONCATENATE(AE276,\" - \",AC276),Catálogos!T:T,Catálogos!Y:Y))","v":{"$error":"#N/A"}},{"$f":"IF(CD276=FALSE,\"COL. INCORRECTA\",LOOKUP(CONCATENATE(AE276,\" - \",AC276),Catálogos!T:T,Catálogos!X:X))","v":{"$error":"#N/A"}}," -SELECCIONAR-",""," -SELECCIONAR-",null,null," -SELECCIONAR-",null,null,null," -SELECCIONAR-",null,null," -SELECCIONAR-"," -SELECCIONAR-",null,null,null,null,null," -SELECCIONAR-",null,null,null,null,null,null," -SELECCIONAR-",null,null,null,null,null,null," -SELECCIONAR-",null,null,null,null,null,null," -SELECCIONAR-",null,null,{"$f":"LOOKUP(AB276,Catálogos!AP:AP,Catálogos!AO:AO)","v":"ERR"},{"$f":"CONCATENATE(LOOKUP(AC276,Catálogos!O:O,Catálogos!P:P),\".\",LOOKUP(AC276,Catálogos!O:O,Catálogos!Q:Q))","v":{"$error":"#N/A"}},{"$f":"IF(AC276=LOOKUP(CONCATENATE(AE276,\" - \",AC276),Catálogos!T:T,Catálogos!V:V),LOOKUP(CONCATENATE(AE276,\" - \",AC276),Catálogos!T:T,Catálogos!W:W),FALSE)","v":{"$error":"#N/A"}},{"$f":"LOOKUP(BD276,Catálogos!AM:AM,Catálogos!AL:AL)","v":"ERR"},{"$f":"LOOKUP(BK276,Catálogos!AM:AM,Catálogos!AL:AL)","v":"ERR"},{"$f":"LOOKUP(BR276,Catálogos!AM:AM,Catálogos!AL:AL)","v":"ERR"},{"$f":"LOOKUP(BY276,Catálogos!AM:AM,Catálogos!AL:AL)","v":"ERR"},0]
[null,null,null,null,null,null,null," -SELECCIONAR-"," -SELECCIONAR-"," -SELECCIONAR-",null," -SELECCIONAR-"," -SELECCIONAR-"," -SELECCIONAR-"," -SELECCIONAR-",null,null," -SELECCIONAR-",null,null,null," -SELECCIONAR-",null,null," -SELECCIONAR-",null," -SELECCIONAR-"," -SELECCIONAR-",null,{"$f":"IF(AC277=FALSE, LOOKUP(AC277,Catálogos!O:O),LOOKUP(AC277,Catálogos!O:O,Catálogos!R:R))","v":{"$error":"#N/A"}},"",null,null,null,{"$f":"IF(CD277=FALSE,\"COL. INCORRECTA\",LOOKUP(CONCATENATE(AE277,\" - \",AC277),Catálogos!T:T,Catálogos!Y:Y))","v":{"$error":"#N/A"}},{"$f":"IF(CD277=FALSE,\"COL. INCORRECTA\",LOOKUP(CONCATENATE(AE277,\" - \",AC277),Catálogos!T:T,Catálogos!X:X))","v":{"$error":"#N/A"}}," -SELECCIONAR-",""," -SELECCIONAR-",null,null," -SELECCIONAR-",null,null,null," -SELECCIONAR-",null,null," -SELECCIONAR-"," -SELECCIONAR-",null,null,null,null,null," -SELECCIONAR-",null,null,null,null,null,null," -SELECCIONAR-",null,null,null,null,null,null," -SELECCIONAR-",null,null,null,null,null,null," -SELECCIONAR-",null,null,{"$f":"LOOKUP(AB277,Catálogos!AP:AP,Catálogos!AO:AO)","v":"ERR"},{"$f":"CONCATENATE(LOOKUP(AC277,Catálogos!O:O,Catálogos!P:P),\".\",LOOKUP(AC277,Catálogos!O:O,Catálogos!Q:Q))","v":{"$error":"#N/A"}},{"$f":"IF(AC277=LOOKUP(CONCATENATE(AE277,\" - \",AC277),Catálogos!T:T,Catálogos!V:V),LOOKUP(CONCATENATE(AE277,\" - \",AC277),Catálogos!T:T,Catálogos!W:W),FALSE)","v":{"$error":"#N/A"}},{"$f":"LOOKUP(BD277,Catálogos!AM:AM,Catálogos!AL:AL)","v":"ERR"},{"$f":"LOOKUP(BK277,Catálogos!AM:AM,Catálogos!AL:AL)","v":"ERR"},{"$f":"LOOKUP(BR277,Catálogos!AM:AM,Catálogos!AL:AL)","v":"ERR"},{"$f":"LOOKUP(BY277,Catálogos!AM:AM,Catálogos!AL:AL)","v":"ERR"},0]
[null,null,null,null,null,null,null," -SELECCIONAR-"," -SELECCIONAR-"," -SELECCIONAR-",null," -SELECCIONAR-"," -SELECCIONAR-"," -SELECCIONAR-"," -SELECCIONAR-",null,null," -SELECCIONAR-",null,null,null," -SELECCIONAR-",null,null," -SELECCIONAR-",null," -SELECCIONAR-"," -SELECCIONAR-",null,{"$f":"IF(AC278=FALSE, LOOKUP(AC278,Catálogos!O:O),LOOKUP(AC278,Catálogos!O:O,Catálogos!R:R))","v":{"$error":"#N/A"}},"",null,null,null,{"$f":"IF(CD278=FALSE,\"COL. INCORRECTA\",LOOKUP(CONCATENATE(AE278,\" - \",AC278),Catálogos!T:T,Catálogos!Y:Y))","v":{"$error":"#N/A"}},{"$f":"IF(CD278=FALSE,\"COL. INCORRECTA\",LOOKUP(CONCATENATE(AE278,\" - \",AC278),Catálogos!T:T,Catálogos!X:X))","v":{"$error":"#N/A"}}," -SELECCIONAR-",""," -SELECCIONAR-",null,null," -SELECCIONAR-",null,null,null," -SELECCIONAR-",null,null," -SELECCIONAR-"," -SELECCIONAR-",null,null,null,null,null," -SELECCIONAR-",null,null,null,null,null,null," -SELECCIONAR-",null,null,null,null,null,null," -SELECCIONAR-",null,null,null,null,null,null," -SELECCIONAR-",null,null,{"$f":"LOOKUP(AB278,Catálogos!AP:AP,Catálogos!AO:AO)","v":"ERR"},{"$f":"CONCATENATE(LOOKUP(AC278,Catálogos!O:O,Catálogos!P:P),\".\",LOOKUP(AC278,Catálogos!O:O,Catálogos!Q:Q))","v":{"$error":"#N/A"}},{"$f":"IF(AC278=LOOKUP(CONCATENATE(AE278,\" - \",AC278),Catálogos!T:T,Catálogos!V:V),LOOKUP(CONCATENATE(AE278,\" - \",AC278),Catálogos!T:T,Catálogos!W:W),FALSE)","v":{"$error":"#N/A"}},{"$f":"LOOKUP(BD278,Catálogos!AM:AM,Catálogos!AL:AL)","v":"ERR"},{"$f":"LOOKUP(BK278,Catálogos!AM:AM,Catálogos!AL:AL)","v":"ERR"},{"$f":"LOOKUP(BR278,Catálogos!AM:AM,Catálogos!AL:AL)","v":"ERR"},{"$f":"LOOKUP(BY278,Catálogos!AM:AM,Catálogos!AL:AL)","v":"ERR"},0]
[null,null,null,null,null,null,null," -SELECCIONAR-"," -SELECCIONAR-"," -SELECCIONAR-",null," -SELECCIONAR-"," -SELECCIONAR-"," -SELECCIONAR-"," -SELECCIONAR-",null,null," -SELECCIONAR-",null,null,null," -SELECCIONAR-",null,null," -SELECCIONAR-",null," -SELECCIONAR-"," -SELECCIONAR-",null,{"$f":"IF(AC279=FALSE, LOOKUP(AC279,Catálogos!O:O),LOOKUP(AC279,Catálogos!O:O,Catálogos!R:R))","v":{"$error":"#N/A"}},"",null,null,null,{"$f":"IF(CD279=FALSE,\"COL. INCORRECTA\",LOOKUP(CONCATENATE(AE279,\" - \",AC279),Catálogos!T:T,Catálogos!Y:Y))","v":{"$error":"#N/A"}},{"$f":"IF(CD279=FALSE,\"COL. INCORRECTA\",LOOKUP(CONCATENATE(AE279,\" - \",AC279),Catálogos!T:T,Catálogos!X:X))","v":{"$error":"#N/A"}}," -SELECCIONAR-",""," -SELECCIONAR-",null,null," -SELECCIONAR-",null,null,null," -SELECCIONAR-",null,null," -SELECCIONAR-"," -SELECCIONAR-",null,null,null,null,null," -SELECCIONAR-",null,null,null,null,null,null," -SELECCIONAR-",null,null,null,null,null,null," -SELECCIONAR-",null,null,null,null,null,null," -SELECCIONAR-",null,null,{"$f":"LOOKUP(AB279,Catálogos!AP:AP,Catálogos!AO:AO)","v":"ERR"},{"$f":"CONCATENATE(LOOKUP(AC279,Catálogos!O:O,Catálogos!P:P),\".\",LOOKUP(AC279,Catálogos!O:O,Catálogos!Q:Q))","v":{"$error":"#N/A"}},{"$f":"IF(AC279=LOOKUP(CONCATENATE(AE279,\" - \",AC279),Catálogos!T:T,Catálogos!V:V),LOOKUP(CONCATENATE(AE279,\" - \",AC279),Catálogos!T:T,Catálogos!W:W),FALSE)","v":{"$error":"#N/A"}},{"$f":"LOOKUP(BD279,Catálogos!AM:AM,Catálogos!AL:AL)","v":"ERR"},{"$f":"LOOKUP(BK279,Catálogos!AM:AM,Catálogos!AL:AL)","v":"ERR"},{"$f":"LOOKUP(BR279,Catálogos!AM:AM,Catálogos!AL:AL)","v":"ERR"},{"$f":"LOOKUP(BY279,Catálogos!AM:AM,Catálogos!AL:AL)","v":"ERR"},0]
[null,null,null,null,null,null,null," -SELECCIONAR-"," -SELECCIONAR-"," -SELECCIONAR-",null," -SELECCIONAR-"," -SELECCIONAR-"," -SELECCIONAR-"," -SELECCIONAR-",null,null," -SELECCIONAR-",null,null,null," -SELECCIONAR-",null,null," -SELECCIONAR-",null," -SELECCIONAR-"," -SELECCIONAR-",null,{"$f":"IF(AC280=FALSE, LOOKUP(AC280,Catálogos!O:O),LOOKUP(AC280,Catálogos!O:O,Catálogos!R:R))","v":{"$error":"#N/A"}},"",null,null,null,{"$f":"IF(CD280=FALSE,\"COL. INCORRECTA\",LOOKUP(CONCATENATE(AE280,\" - \",AC280),Catálogos!T:T,Catálogos!Y:Y))","v":{"$error":"#N/A"}},{"$f":"IF(CD280=FALSE,\"COL. INCORRECTA\",LOOKUP(CONCATENATE(AE280,\" - \",AC280),Catálogos!T:T,Catálogos!X:X))","v":{"$error":"#N/A"}}," -SELECCIONAR-",""," -SELECCIONAR-",null,null," -SELECCIONAR-",null,null,null," -SELECCIONAR-",null,null," -SELECCIONAR-"," -SELECCIONAR-",null,null,null,null,null," -SELECCIONAR-",null,null,null,null,null,null," -SELECCIONAR-",null,null,null,null,null,null," -SELECCIONAR-",null,null,null,null,null,null," -SELECCIONAR-",null,null,{"$f":"LOOKUP(AB280,Catálogos!AP:AP,Catálogos!AO:AO)","v":"ERR"},{"$f":"CONCATENATE(LOOKUP(AC280,Catálogos!O:O,Catálogos!P:P),\".\",LOOKUP(AC280,Catálogos!O:O,Catálogos!Q:Q))","v":{"$error":"#N/A"}},{"$f":"IF(AC280=LOOKUP(CONCATENATE(AE280,\" - \",AC280),Catálogos!T:T,Catálogos!V:V),LOOKUP(CONCATENATE(AE280,\" - \",AC280),Catálogos!T:T,Catálogos!W:W),FALSE)","v":{"$error":"#N/A"}},{"$f":"LOOKUP(BD280,Catálogos!AM:AM,Catálogos!AL:AL)","v":"ERR"},{"$f":"LOOKUP(BK280,Catálogos!AM:AM,Catálogos!AL:AL)","v":"ERR"},{"$f":"LOOKUP(BR280,Catálogos!AM:AM,Catálogos!AL:AL)","v":"ERR"},{"$f":"LOOKUP(BY280,Catálogos!AM:AM,Catálogos!AL:AL)","v":"ERR"},0]
[null,null,null,null,null,null,null," -SELECCIONAR-"," -SELECCIONAR-"," -SELECCIONAR-",null," -SELECCIONAR-"," -SELECCIONAR-"," -SELECCIONAR-"," -SELECCIONAR-",null,null," -SELECCIONAR-",null,null,null," -SELECCIONAR-",null,null," -SELECCIONAR-",null," -SELECCIONAR-"," -SELECCIONAR-",null,{"$f":"IF(AC281=FALSE, LOOKUP(AC281,Catálogos!O:O),LOOKUP(AC281,Catálogos!O:O,Catálogos!R:R))","v":{"$error":"#N/A"}},"",null,null,null,{"$f":"IF(CD281=FALSE,\"COL. INCORRECTA\",LOOKUP(CONCATENATE(AE281,\" - \",AC281),Catálogos!T:T,Catálogos!Y:Y))","v":{"$error":"#N/A"}},{"$f":"IF(CD281=FALSE,\"COL. INCORRECTA\",LOOKUP(CONCATENATE(AE281,\" - \",AC281),Catálogos!T:T,Catálogos!X:X))","v":{"$error":"#N/A"}}," -SELECCIONAR-",""," -SELECCIONAR-",null,null," -SELECCIONAR-",null,null,null," -SELECCIONAR-",null,null," -SELECCIONAR-"," -SELECCIONAR-",null,null,null,null,null," -SELECCIONAR-",null,null,null,null,null,null," -SELECCIONAR-",null,null,null,null,null,null," -SELECCIONAR-",null,null,null,null,null,null," -SELECCIONAR-",null,null,{"$f":"LOOKUP(AB281,Catálogos!AP:AP,Catálogos!AO:AO)","v":"ERR"},{"$f":"CONCATENATE(LOOKUP(AC281,Catálogos!O:O,Catálogos!P:P),\".\",LOOKUP(AC281,Catálogos!O:O,Catálogos!Q:Q))","v":{"$error":"#N/A"}},{"$f":"IF(AC281=LOOKUP(CONCATENATE(AE281,\" - \",AC281),Catálogos!T:T,Catálogos!V:V),LOOKUP(CONCATENATE(AE281,\" - \",AC281),Catálogos!T:T,Catálogos!W:W),FALSE)","v":{"$error":"#N/A"}},{"$f":"LOOKUP(BD281,Catálogos!AM:AM,Catálogos!AL:AL)","v":"ERR"},{"$f":"LOOKUP(BK281,Catálogos!AM:AM,Catálogos!AL:AL)","v":"ERR"},{"$f":"LOOKUP(BR281,Catálogos!AM:AM,Catálogos!AL:AL)","v":"ERR"},{"$f":"LOOKUP(BY281,Catálogos!AM:AM,Catálogos!AL:AL)","v":"ERR"},0]
[null,null,null,null,null,null,null," -SELECCIONAR-"," -SELECCIONAR-"," -SELECCIONAR-",null," -SELECCIONAR-"," -SELECCIONAR-"," -SELECCIONAR-"," -SELECCIONAR-",null,null," -SELECCIONAR-",null,null,null," -SELECCIONAR-",null,null," -SELECCIONAR-",null," -SELECCIONAR-"," -SELECCIONAR-",null,{"$f":"IF(AC282=FALSE, LOOKUP(AC282,Catálogos!O:O),LOOKUP(AC282,Catálogos!O:O,Catálogos!R:R))","v":{"$error":"#N/A"}},"",null,null,null,{"$f":"IF(CD282=FALSE,\"COL. INCORRECTA\",LOOKUP(CONCATENATE(AE282,\" - \",AC282),Catálogos!T:T,Catálogos!Y:Y))","v":{"$error":"#N/A"}},{"$f":"IF(CD282=FALSE,\"COL. INCORRECTA\",LOOKUP(CONCATENATE(AE282,\" - \",AC282),Catálogos!T:T,Catálogos!X:X))","v":{"$error":"#N/A"}}," -SELECCIONAR-",""," -SELECCIONAR-",null,null," -SELECCIONAR-",null,null,null," -SELECCIONAR-",null,null," -SELECCIONAR-"," -SELECCIONAR-",null,null,null,null,null," -SELECCIONAR-",null,null,null,null,null,null," -SELECCIONAR-",null,null,null,null,null,null," -SELECCIONAR-",null,null,null,null,null,null," -SELECCIONAR-",null,null,{"$f":"LOOKUP(AB282,Catálogos!AP:AP,Catálogos!AO:AO)","v":"ERR"},{"$f":"CONCATENATE(LOOKUP(AC282,Catálogos!O:O,Catálogos!P:P),\".\",LOOKUP(AC282,Catálogos!O:O,Catálogos!Q:Q))","v":{"$error":"#N/A"}},{"$f":"IF(AC282=LOOKUP(CONCATENATE(AE282,\" - \",AC282),Catálogos!T:T,Catálogos!V:V),LOOKUP(CONCATENATE(AE282,\" - \",AC282),Catálogos!T:T,Catálogos!W:W),FALSE)","v":{"$error":"#N/A"}},{"$f":"LOOKUP(BD282,Catálogos!AM:AM,Catálogos!AL:AL)","v":"ERR"},{"$f":"LOOKUP(BK282,Catálogos!AM:AM,Catálogos!AL:AL)","v":"ERR"},{"$f":"LOOKUP(BR282,Catálogos!AM:AM,Catálogos!AL:AL)","v":"ERR"},{"$f":"LOOKUP(BY282,Catálogos!AM:AM,Catálogos!AL:AL)","v":"ERR"},0]
[null,null,null,null,null,null,null," -SELECCIONAR-"," -SELECCIONAR-"," -SELECCIONAR-",null," -SELECCIONAR-"," -SELECCIONAR-"," -SELECCIONAR-"," -SELECCIONAR-",null,null," -SELECCIONAR-",null,null,null," -SELECCIONAR-",null,null," -SELECCIONAR-",null," -SELECCIONAR-"," -SELECCIONAR-",null,{"$f":"IF(AC283=FALSE, LOOKUP(AC283,Catálogos!O:O),LOOKUP(AC283,Catálogos!O:O,Catálogos!R:R))","v":{"$error":"#N/A"}},"",null,null,null,{"$f":"IF(CD283=FALSE,\"COL. INCORRECTA\",LOOKUP(CONCATENATE(AE283,\" - \",AC283),Catálogos!T:T,Catálogos!Y:Y))","v":{"$error":"#N/A"}},{"$f":"IF(CD283=FALSE,\"COL. INCORRECTA\",LOOKUP(CONCATENATE(AE283,\" - \",AC283),Catálogos!T:T,Catálogos!X:X))","v":{"$error":"#N/A"}}," -SELECCIONAR-",""," -SELECCIONAR-",null,null," -SELECCIONAR-",null,null,null," -SELECCIONAR-",null,null," -SELECCIONAR-"," -SELECCIONAR-",null,null,null,null,null," -SELECCIONAR-",null,null,null,null,null,null," -SELECCIONAR-",null,null,null,null,null,null," -SELECCIONAR-",null,null,null,null,null,null," -SELECCIONAR-",null,null,{"$f":"LOOKUP(AB283,Catálogos!AP:AP,Catálogos!AO:AO)","v":"ERR"},{"$f":"CONCATENATE(LOOKUP(AC283,Catálogos!O:O,Catálogos!P:P),\".\",LOOKUP(AC283,Catálogos!O:O,Catálogos!Q:Q))","v":{"$error":"#N/A"}},{"$f":"IF(AC283=LOOKUP(CONCATENATE(AE283,\" - \",AC283),Catálogos!T:T,Catálogos!V:V),LOOKUP(CONCATENATE(AE283,\" - \",AC283),Catálogos!T:T,Catálogos!W:W),FALSE)","v":{"$error":"#N/A"}},{"$f":"LOOKUP(BD283,Catálogos!AM:AM,Catálogos!AL:AL)","v":"ERR"},{"$f":"LOOKUP(BK283,Catálogos!AM:AM,Catálogos!AL:AL)","v":"ERR"},{"$f":"LOOKUP(BR283,Catálogos!AM:AM,Catálogos!AL:AL)","v":"ERR"},{"$f":"LOOKUP(BY283,Catálogos!AM:AM,Catálogos!AL:AL)","v":"ERR"},0]
[null,null,null,null,null,null,null," -SELECCIONAR-"," -SELECCIONAR-"," -SELECCIONAR-",null," -SELECCIONAR-"," -SELECCIONAR-"," -SELECCIONAR-"," -SELECCIONAR-",null,null," -SELECCIONAR-",null,null,null," -SELECCIONAR-",null,null," -SELECCIONAR-",null," -SELECCIONAR-"," -SELECCIONAR-",null,{"$f":"IF(AC284=FALSE, LOOKUP(AC284,Catálogos!O:O),LOOKUP(AC284,Catálogos!O:O,Catálogos!R:R))","v":{"$error":"#N/A"}},"",null,null,null,{"$f":"IF(CD284=FALSE,\"COL. INCORRECTA\",LOOKUP(CONCATENATE(AE284,\" - \",AC284),Catálogos!T:T,Catálogos!Y:Y))","v":{"$error":"#N/A"}},{"$f":"IF(CD284=FALSE,\"COL. INCORRECTA\",LOOKUP(CONCATENATE(AE284,\" - \",AC284),Catálogos!T:T,Catálogos!X:X))","v":{"$error":"#N/A"}}," -SELECCIONAR-",""," -SELECCIONAR-",null,null," -SELECCIONAR-",null,null,null," -SELECCIONAR-",null,null," -SELECCIONAR-"," -SELECCIONAR-",null,null,null,null,null," -SELECCIONAR-",null,null,null,null,null,null," -SELECCIONAR-",null,null,null,null,null,null," -SELECCIONAR-",null,null,null,null,null,null," -SELECCIONAR-",null,null,{"$f":"LOOKUP(AB284,Catálogos!AP:AP,Catálogos!AO:AO)","v":"ERR"},{"$f":"CONCATENATE(LOOKUP(AC284,Catálogos!O:O,Catálogos!P:P),\".\",LOOKUP(AC284,Catálogos!O:O,Catálogos!Q:Q))","v":{"$error":"#N/A"}},{"$f":"IF(AC284=LOOKUP(CONCATENATE(AE284,\" - \",AC284),Catálogos!T:T,Catálogos!V:V),LOOKUP(CONCATENATE(AE284,\" - \",AC284),Catálogos!T:T,Catálogos!W:W),FALSE)","v":{"$error":"#N/A"}},{"$f":"LOOKUP(BD284,Catálogos!AM:AM,Catálogos!AL:AL)","v":"ERR"},{"$f":"LOOKUP(BK284,Catálogos!AM:AM,Catálogos!AL:AL)","v":"ERR"},{"$f":"LOOKUP(BR284,Catálogos!AM:AM,Catálogos!AL:AL)","v":"ERR"},{"$f":"LOOKUP(BY284,Catálogos!AM:AM,Catálogos!AL:AL)","v":"ERR"},0]
[null,null,null,null,null,null,null," -SELECCIONAR-"," -SELECCIONAR-"," -SELECCIONAR-",null," -SELECCIONAR-"," -SELECCIONAR-"," -SELECCIONAR-"," -SELECCIONAR-",null,null," -SELECCIONAR-",null,null,null," -SELECCIONAR-",null,null," -SELECCIONAR-",null," -SELECCIONAR-"," -SELECCIONAR-",null,{"$f":"IF(AC285=FALSE, LOOKUP(AC285,Catálogos!O:O),LOOKUP(AC285,Catálogos!O:O,Catálogos!R:R))","v":{"$error":"#N/A"}},"",null,null,null,{"$f":"IF(CD285=FALSE,\"COL. INCORRECTA\",LOOKUP(CONCATENATE(AE285,\" - \",AC285),Catálogos!T:T,Catálogos!Y:Y))","v":{"$error":"#N/A"}},{"$f":"IF(CD285=FALSE,\"COL. INCORRECTA\",LOOKUP(CONCATENATE(AE285,\" - \",AC285),Catálogos!T:T,Catálogos!X:X))","v":{"$error":"#N/A"}}," -SELECCIONAR-",""," -SELECCIONAR-",null,null," -SELECCIONAR-",null,null,null," -SELECCIONAR-",null,null," -SELECCIONAR-"," -SELECCIONAR-",null,null,null,null,null," -SELECCIONAR-",null,null,null,null,null,null," -SELECCIONAR-",null,null,null,null,null,null," -SELECCIONAR-",null,null,null,null,null,null," -SELECCIONAR-",null,null,{"$f":"LOOKUP(AB285,Catálogos!AP:AP,Catálogos!AO:AO)","v":"ERR"},{"$f":"CONCATENATE(LOOKUP(AC285,Catálogos!O:O,Catálogos!P:P),\".\",LOOKUP(AC285,Catálogos!O:O,Catálogos!Q:Q))","v":{"$error":"#N/A"}},{"$f":"IF(AC285=LOOKUP(CONCATENATE(AE285,\" - \",AC285),Catálogos!T:T,Catálogos!V:V),LOOKUP(CONCATENATE(AE285,\" - \",AC285),Catálogos!T:T,Catálogos!W:W),FALSE)","v":{"$error":"#N/A"}},{"$f":"LOOKUP(BD285,Catálogos!AM:AM,Catálogos!AL:AL)","v":"ERR"},{"$f":"LOOKUP(BK285,Catálogos!AM:AM,Catálogos!AL:AL)","v":"ERR"},{"$f":"LOOKUP(BR285,Catálogos!AM:AM,Catálogos!AL:AL)","v":"ERR"},{"$f":"LOOKUP(BY285,Catálogos!AM:AM,Catálogos!AL:AL)","v":"ERR"},0]
[null,null,null,null,null,null,null," -SELECCIONAR-"," -SELECCIONAR-"," -SELECCIONAR-",null," -SELECCIONAR-"," -SELECCIONAR-"," -SELECCIONAR-"," -SELECCIONAR-",null,null," -SELECCIONAR-",null,null,null," -SELECCIONAR-",null,null," -SELECCIONAR-",null," -SELECCIONAR-"," -SELECCIONAR-",null,{"$f":"IF(AC286=FALSE, LOOKUP(AC286,Catálogos!O:O),LOOKUP(AC286,Catálogos!O:O,Catálogos!R:R))","v":{"$error":"#N/A"}},"",null,null,null,{"$f":"IF(CD286=FALSE,\"COL. INCORRECTA\",LOOKUP(CONCATENATE(AE286,\" - \",AC286),Catálogos!T:T,Catálogos!Y:Y))","v":{"$error":"#N/A"}},{"$f":"IF(CD286=FALSE,\"COL. INCORRECTA\",LOOKUP(CONCATENATE(AE286,\" - \",AC286),Catálogos!T:T,Catálogos!X:X))","v":{"$error":"#N/A"}}," -SELECCIONAR-",""," -SELECCIONAR-",null,null," -SELECCIONAR-",null,null,null," -SELECCIONAR-",null,null," -SELECCIONAR-"," -SELECCIONAR-",null,null,null,null,null," -SELECCIONAR-",null,null,null,null,null,null," -SELECCIONAR-",null,null,null,null,null,null," -SELECCIONAR-",null,null,null,null,null,null," -SELECCIONAR-",null,null,{"$f":"LOOKUP(AB286,Catálogos!AP:AP,Catálogos!AO:AO)","v":"ERR"},{"$f":"CONCATENATE(LOOKUP(AC286,Catálogos!O:O,Catálogos!P:P),\".\",LOOKUP(AC286,Catálogos!O:O,Catálogos!Q:Q))","v":{"$error":"#N/A"}},{"$f":"IF(AC286=LOOKUP(CONCATENATE(AE286,\" - \",AC286),Catálogos!T:T,Catálogos!V:V),LOOKUP(CONCATENATE(AE286,\" - \",AC286),Catálogos!T:T,Catálogos!W:W),FALSE)","v":{"$error":"#N/A"}},{"$f":"LOOKUP(BD286,Catálogos!AM:AM,Catálogos!AL:AL)","v":"ERR"},{"$f":"LOOKUP(BK286,Catálogos!AM:AM,Catálogos!AL:AL)","v":"ERR"},{"$f":"LOOKUP(BR286,Catálogos!AM:AM,Catálogos!AL:AL)","v":"ERR"},{"$f":"LOOKUP(BY286,Catálogos!AM:AM,Catálogos!AL:AL)","v":"ERR"},0]
[null,null,null,null,null,null,null," -SELECCIONAR-"," -SELECCIONAR-"," -SELECCIONAR-",null," -SELECCIONAR-"," -SELECCIONAR-"," -SELECCIONAR-"," -SELECCIONAR-",null,null," -SELECCIONAR-",null,null,null," -SELECCIONAR-",null,null," -SELECCIONAR-",null," -SELECCIONAR-"," -SELECCIONAR-",null,{"$f":"IF(AC287=FALSE, LOOKUP(AC287,Catálogos!O:O),LOOKUP(AC287,Catálogos!O:O,Catálogos!R:R))","v":{"$error":"#N/A"}},"",null,null,null,{"$f":"IF(CD287=FALSE,\"COL. INCORRECTA\",LOOKUP(CONCATENATE(AE287,\" - \",AC287),Catálogos!T:T,Catálogos!Y:Y))","v":{"$error":"#N/A"}},{"$f":"IF(CD287=FALSE,\"COL. INCORRECTA\",LOOKUP(CONCATENATE(AE287,\" - \",AC287),Catálogos!T:T,Catálogos!X:X))","v":{"$error":"#N/A"}}," -SELECCIONAR-",""," -SELECCIONAR-",null,null," -SELECCIONAR-",null,null,null," -SELECCIONAR-",null,null," -SELECCIONAR-"," -SELECCIONAR-",null,null,null,null,null," -SELECCIONAR-",null,null,null,null,null,null," -SELECCIONAR-",null,null,null,null,null,null," -SELECCIONAR-",null,null,null,null,null,null," -SELECCIONAR-",null,null,{"$f":"LOOKUP(AB287,Catálogos!AP:AP,Catálogos!AO:AO)","v":"ERR"},{"$f":"CONCATENATE(LOOKUP(AC287,Catálogos!O:O,Catálogos!P:P),\".\",LOOKUP(AC287,Catálogos!O:O,Catálogos!Q:Q))","v":{"$error":"#N/A"}},{"$f":"IF(AC287=LOOKUP(CONCATENATE(AE287,\" - \",AC287),Catálogos!T:T,Catálogos!V:V),LOOKUP(CONCATENATE(AE287,\" - \",AC287),Catálogos!T:T,Catálogos!W:W),FALSE)","v":{"$error":"#N/A"}},{"$f":"LOOKUP(BD287,Catálogos!AM:AM,Catálogos!AL:AL)","v":"ERR"},{"$f":"LOOKUP(BK287,Catálogos!AM:AM,Catálogos!AL:AL)","v":"ERR"},{"$f":"LOOKUP(BR287,Catálogos!AM:AM,Catálogos!AL:AL)","v":"ERR"},{"$f":"LOOKUP(BY287,Catálogos!AM:AM,Catálogos!AL:AL)","v":"ERR"},0]
[null,null,null,null,null,null,null," -SELECCIONAR-"," -SELECCIONAR-"," -SELECCIONAR-",null," -SELECCIONAR-"," -SELECCIONAR-"," -SELECCIONAR-"," -SELECCIONAR-",null,null," -SELECCIONAR-",null,null,null," -SELECCIONAR-",null,null," -SELECCIONAR-",null," -SELECCIONAR-"," -SELECCIONAR-",null,{"$f":"IF(AC288=FALSE, LOOKUP(AC288,Catálogos!O:O),LOOKUP(AC288,Catálogos!O:O,Catálogos!R:R))","v":{"$error":"#N/A"}},"",null,null,null,{"$f":"IF(CD288=FALSE,\"COL. INCORRECTA\",LOOKUP(CONCATENATE(AE288,\" - \",AC288),Catálogos!T:T,Catálogos!Y:Y))","v":{"$error":"#N/A"}},{"$f":"IF(CD288=FALSE,\"COL. INCORRECTA\",LOOKUP(CONCATENATE(AE288,\" - \",AC288),Catálogos!T:T,Catálogos!X:X))","v":{"$error":"#N/A"}}," -SELECCIONAR-",""," -SELECCIONAR-",null,null," -SELECCIONAR-",null,null,null," -SELECCIONAR-",null,null," -SELECCIONAR-"," -SELECCIONAR-",null,null,null,null,null," -SELECCIONAR-",null,null,null,null,null,null," -SELECCIONAR-",null,null,null,null,null,null," -SELECCIONAR-",null,null,null,null,null,null," -SELECCIONAR-",null,null,{"$f":"LOOKUP(AB288,Catálogos!AP:AP,Catálogos!AO:AO)","v":"ERR"},{"$f":"CONCATENATE(LOOKUP(AC288,Catálogos!O:O,Catálogos!P:P),\".\",LOOKUP(AC288,Catálogos!O:O,Catálogos!Q:Q))","v":{"$error":"#N/A"}},{"$f":"IF(AC288=LOOKUP(CONCATENATE(AE288,\" - \",AC288),Catálogos!T:T,Catálogos!V:V),LOOKUP(CONCATENATE(AE288,\" - \",AC288),Catálogos!T:T,Catálogos!W:W),FALSE)","v":{"$error":"#N/A"}},{"$f":"LOOKUP(BD288,Catálogos!AM:AM,Catálogos!AL:AL)","v":"ERR"},{"$f":"LOOKUP(BK288,Catálogos!AM:AM,Catálogos!AL:AL)","v":"ERR"},{"$f":"LOOKUP(BR288,Catálogos!AM:AM,Catálogos!AL:AL)","v":"ERR"},{"$f":"LOOKUP(BY288,Catálogos!AM:AM,Catálogos!AL:AL)","v":"ERR"},0]
[null,null,null,null,null,null,null," -SELECCIONAR-"," -SELECCIONAR-"," -SELECCIONAR-",null," -SELECCIONAR-"," -SELECCIONAR-"," -SELECCIONAR-"," -SELECCIONAR-",null,null," -SELECCIONAR-",null,null,null," -SELECCIONAR-",null,null," -SELECCIONAR-",null," -SELECCIONAR-"," -SELECCIONAR-",null,{"$f":"IF(AC289=FALSE, LOOKUP(AC289,Catálogos!O:O),LOOKUP(AC289,Catálogos!O:O,Catálogos!R:R))","v":{"$error":"#N/A"}},"",null,null,null,{"$f":"IF(CD289=FALSE,\"COL. INCORRECTA\",LOOKUP(CONCATENATE(AE289,\" - \",AC289),Catálogos!T:T,Catálogos!Y:Y))","v":{"$error":"#N/A"}},{"$f":"IF(CD289=FALSE,\"COL. INCORRECTA\",LOOKUP(CONCATENATE(AE289,\" - \",AC289),Catálogos!T:T,Catálogos!X:X))","v":{"$error":"#N/A"}}," -SELECCIONAR-",""," -SELECCIONAR-",null,null," -SELECCIONAR-",null,null,null," -SELECCIONAR-",null,null," -SELECCIONAR-"," -SELECCIONAR-",null,null,null,null,null," -SELECCIONAR-",null,null,null,null,null,null," -SELECCIONAR-",null,null,null,null,null,null," -SELECCIONAR-",null,null,null,null,null,null," -SELECCIONAR-",null,null,{"$f":"LOOKUP(AB289,Catálogos!AP:AP,Catálogos!AO:AO)","v":"ERR"},{"$f":"CONCATENATE(LOOKUP(AC289,Catálogos!O:O,Catálogos!P:P),\".\",LOOKUP(AC289,Catálogos!O:O,Catálogos!Q:Q))","v":{"$error":"#N/A"}},{"$f":"IF(AC289=LOOKUP(CONCATENATE(AE289,\" - \",AC289),Catálogos!T:T,Catálogos!V:V),LOOKUP(CONCATENATE(AE289,\" - \",AC289),Catálogos!T:T,Catálogos!W:W),FALSE)","v":{"$error":"#N/A"}},{"$f":"LOOKUP(BD289,Catálogos!AM:AM,Catálogos!AL:AL)","v":"ERR"},{"$f":"LOOKUP(BK289,Catálogos!AM:AM,Catálogos!AL:AL)","v":"ERR"},{"$f":"LOOKUP(BR289,Catálogos!AM:AM,Catálogos!AL:AL)","v":"ERR"},{"$f":"LOOKUP(BY289,Catálogos!AM:AM,Catálogos!AL:AL)","v":"ERR"},0]
[null,null,null,null,null,null,null," -SELECCIONAR-"," -SELECCIONAR-"," -SELECCIONAR-",null," -SELECCIONAR-"," -SELECCIONAR-"," -SELECCIONAR-"," -SELECCIONAR-",null,null," -SELECCIONAR-",null,null,null," -SELECCIONAR-",null,null," -SELECCIONAR-",null," -SELECCIONAR-"," -SELECCIONAR-",null,{"$f":"IF(AC290=FALSE, LOOKUP(AC290,Catálogos!O:O),LOOKUP(AC290,Catálogos!O:O,Catálogos!R:R))","v":{"$error":"#N/A"}},"",null,null,null,{"$f":"IF(CD290=FALSE,\"COL. INCORRECTA\",LOOKUP(CONCATENATE(AE290,\" - \",AC290),Catálogos!T:T,Catálogos!Y:Y))","v":{"$error":"#N/A"}},{"$f":"IF(CD290=FALSE,\"COL. INCORRECTA\",LOOKUP(CONCATENATE(AE290,\" - \",AC290),Catálogos!T:T,Catálogos!X:X))","v":{"$error":"#N/A"}}," -SELECCIONAR-",""," -SELECCIONAR-",null,null," -SELECCIONAR-",null,null,null," -SELECCIONAR-",null,null," -SELECCIONAR-"," -SELECCIONAR-",null,null,null,null,null," -SELECCIONAR-",null,null,null,null,null,null," -SELECCIONAR-",null,null,null,null,null,null," -SELECCIONAR-",null,null,null,null,null,null," -SELECCIONAR-",null,null,{"$f":"LOOKUP(AB290,Catálogos!AP:AP,Catálogos!AO:AO)","v":"ERR"},{"$f":"CONCATENATE(LOOKUP(AC290,Catálogos!O:O,Catálogos!P:P),\".\",LOOKUP(AC290,Catálogos!O:O,Catálogos!Q:Q))","v":{"$error":"#N/A"}},{"$f":"IF(AC290=LOOKUP(CONCATENATE(AE290,\" - \",AC290),Catálogos!T:T,Catálogos!V:V),LOOKUP(CONCATENATE(AE290,\" - \",AC290),Catálogos!T:T,Catálogos!W:W),FALSE)","v":{"$error":"#N/A"}},{"$f":"LOOKUP(BD290,Catálogos!AM:AM,Catálogos!AL:AL)","v":"ERR"},{"$f":"LOOKUP(BK290,Catálogos!AM:AM,Catálogos!AL:AL)","v":"ERR"},{"$f":"LOOKUP(BR290,Catálogos!AM:AM,Catálogos!AL:AL)","v":"ERR"},{"$f":"LOOKUP(BY290,Catálogos!AM:AM,Catálogos!AL:AL)","v":"ERR"},0]
[null,null,null,null,null,null,null," -SELECCIONAR-"," -SELECCIONAR-"," -SELECCIONAR-",null," -SELECCIONAR-"," -SELECCIONAR-"," -SELECCIONAR-"," -SELECCIONAR-",null,null," -SELECCIONAR-",null,null,null," -SELECCIONAR-",null,null," -SELECCIONAR-",null," -SELECCIONAR-"," -SELECCIONAR-",null,{"$f":"IF(AC291=FALSE, LOOKUP(AC291,Catálogos!O:O),LOOKUP(AC291,Catálogos!O:O,Catálogos!R:R))","v":{"$error":"#N/A"}},"",null,null,null,{"$f":"IF(CD291=FALSE,\"COL. INCORRECTA\",LOOKUP(CONCATENATE(AE291,\" - \",AC291),Catálogos!T:T,Catálogos!Y:Y))","v":{"$error":"#N/A"}},{"$f":"IF(CD291=FALSE,\"COL. INCORRECTA\",LOOKUP(CONCATENATE(AE291,\" - \",AC291),Catálogos!T:T,Catálogos!X:X))","v":{"$error":"#N/A"}}," -SELECCIONAR-",""," -SELECCIONAR-",null,null," -SELECCIONAR-",null,null,null," -SELECCIONAR-",null,null," -SELECCIONAR-"," -SELECCIONAR-",null,null,null,null,null," -SELECCIONAR-",null,null,null,null,null,null," -SELECCIONAR-",null,null,null,null,null,null," -SELECCIONAR-",null,null,null,null,null,null," -SELECCIONAR-",null,null,{"$f":"LOOKUP(AB291,Catálogos!AP:AP,Catálogos!AO:AO)","v":"ERR"},{"$f":"CONCATENATE(LOOKUP(AC291,Catálogos!O:O,Catálogos!P:P),\".\",LOOKUP(AC291,Catálogos!O:O,Catálogos!Q:Q))","v":{"$error":"#N/A"}},{"$f":"IF(AC291=LOOKUP(CONCATENATE(AE291,\" - \",AC291),Catálogos!T:T,Catálogos!V:V),LOOKUP(CONCATENATE(AE291,\" - \",AC291),Catálogos!T:T,Catálogos!W:W),FALSE)","v":{"$error":"#N/A"}},{"$f":"LOOKUP(BD291,Catálogos!AM:AM,Catálogos!AL:AL)","v":"ERR"},{"$f":"LOOKUP(BK291,Catálogos!AM:AM,Catálogos!AL:AL)","v":"ERR"},{"$f":"LOOKUP(BR291,Catálogos!AM:AM,Catálogos!AL:AL)","v":"ERR"},{"$f":"LOOKUP(BY291,Catálogos!AM:AM,Catálogos!AL:AL)","v":"ERR"},0]
[null,null,null,null,null,null,null," -SELECCIONAR-"," -SELECCIONAR-"," -SELECCIONAR-",null," -SELECCIONAR-"," -SELECCIONAR-"," -SELECCIONAR-"," -SELECCIONAR-",null,null," -SELECCIONAR-",null,null,null," -SELECCIONAR-",null,null," -SELECCIONAR-",null," -SELECCIONAR-"," -SELECCIONAR-",null,{"$f":"IF(AC292=FALSE, LOOKUP(AC292,Catálogos!O:O),LOOKUP(AC292,Catálogos!O:O,Catálogos!R:R))","v":{"$error":"#N/A"}},"",null,null,null,{"$f":"IF(CD292=FALSE,\"COL. INCORRECTA\",LOOKUP(CONCATENATE(AE292,\" - \",AC292),Catálogos!T:T,Catálogos!Y:Y))","v":{"$error":"#N/A"}},{"$f":"IF(CD292=FALSE,\"COL. INCORRECTA\",LOOKUP(CONCATENATE(AE292,\" - \",AC292),Catálogos!T:T,Catálogos!X:X))","v":{"$error":"#N/A"}}," -SELECCIONAR-",""," -SELECCIONAR-",null,null," -SELECCIONAR-",null,null,null," -SELECCIONAR-",null,null," -SELECCIONAR-"," -SELECCIONAR-",null,null,null,null,null," -SELECCIONAR-",null,null,null,null,null,null," -SELECCIONAR-",null,null,null,null,null,null," -SELECCIONAR-",null,null,null,null,null,null," -SELECCIONAR-",null,null,{"$f":"LOOKUP(AB292,Catálogos!AP:AP,Catálogos!AO:AO)","v":"ERR"},{"$f":"CONCATENATE(LOOKUP(AC292,Catálogos!O:O,Catálogos!P:P),\".\",LOOKUP(AC292,Catálogos!O:O,Catálogos!Q:Q))","v":{"$error":"#N/A"}},{"$f":"IF(AC292=LOOKUP(CONCATENATE(AE292,\" - \",AC292),Catálogos!T:T,Catálogos!V:V),LOOKUP(CONCATENATE(AE292,\" - \",AC292),Catálogos!T:T,Catálogos!W:W),FALSE)","v":{"$error":"#N/A"}},{"$f":"LOOKUP(BD292,Catálogos!AM:AM,Catálogos!AL:AL)","v":"ERR"},{"$f":"LOOKUP(BK292,Catálogos!AM:AM,Catálogos!AL:AL)","v":"ERR"},{"$f":"LOOKUP(BR292,Catálogos!AM:AM,Catálogos!AL:AL)","v":"ERR"},{"$f":"LOOKUP(BY292,Catálogos!AM:AM,Catálogos!AL:AL)","v":"ERR"},0]
[null,null,null,null,null,null,null," -SELECCIONAR-"," -SELECCIONAR-"," -SELECCIONAR-",null," -SELECCIONAR-"," -SELECCIONAR-"," -SELECCIONAR-"," -SELECCIONAR-",null,null," -SELECCIONAR-",null,null,null," -SELECCIONAR-",null,null," -SELECCIONAR-",null," -SELECCIONAR-"," -SELECCIONAR-",null,{"$f":"IF(AC293=FALSE, LOOKUP(AC293,Catálogos!O:O),LOOKUP(AC293,Catálogos!O:O,Catálogos!R:R))","v":{"$error":"#N/A"}},"",null,null,null,{"$f":"IF(CD293=FALSE,\"COL. INCORRECTA\",LOOKUP(CONCATENATE(AE293,\" - \",AC293),Catálogos!T:T,Catálogos!Y:Y))","v":{"$error":"#N/A"}},{"$f":"IF(CD293=FALSE,\"COL. INCORRECTA\",LOOKUP(CONCATENATE(AE293,\" - \",AC293),Catálogos!T:T,Catálogos!X:X))","v":{"$error":"#N/A"}}," -SELECCIONAR-",""," -SELECCIONAR-",null,null," -SELECCIONAR-",null,null,null," -SELECCIONAR-",null,null," -SELECCIONAR-"," -SELECCIONAR-",null,null,null,null,null," -SELECCIONAR-",null,null,null,null,null,null," -SELECCIONAR-",null,null,null,null,null,null," -SELECCIONAR-",null,null,null,null,null,null," -SELECCIONAR-",null,null,{"$f":"LOOKUP(AB293,Catálogos!AP:AP,Catálogos!AO:AO)","v":"ERR"},{"$f":"CONCATENATE(LOOKUP(AC293,Catálogos!O:O,Catálogos!P:P),\".\",LOOKUP(AC293,Catálogos!O:O,Catálogos!Q:Q))","v":{"$error":"#N/A"}},{"$f":"IF(AC293=LOOKUP(CONCATENATE(AE293,\" - \",AC293),Catálogos!T:T,Catálogos!V:V),LOOKUP(CONCATENATE(AE293,\" - \",AC293),Catálogos!T:T,Catálogos!W:W),FALSE)","v":{"$error":"#N/A"}},{"$f":"LOOKUP(BD293,Catálogos!AM:AM,Catálogos!AL:AL)","v":"ERR"},{"$f":"LOOKUP(BK293,Catálogos!AM:AM,Catálogos!AL:AL)","v":"ERR"},{"$f":"LOOKUP(BR293,Catálogos!AM:AM,Catálogos!AL:AL)","v":"ERR"},{"$f":"LOOKUP(BY293,Catálogos!AM:AM,Catálogos!AL:AL)","v":"ERR"},0]
[null,null,null,null,null,null,null," -SELECCIONAR-"," -SELECCIONAR-"," -SELECCIONAR-",null," -SELECCIONAR-"," -SELECCIONAR-"," -SELECCIONAR-"," -SELECCIONAR-",null,null," -SELECCIONAR-",null,null,null," -SELECCIONAR-",null,null," -SELECCIONAR-",null," -SELECCIONAR-"," -SELECCIONAR-",null,{"$f":"IF(AC294=FALSE, LOOKUP(AC294,Catálogos!O:O),LOOKUP(AC294,Catálogos!O:O,Catálogos!R:R))","v":{"$error":"#N/A"}},"",null,null,null,{"$f":"IF(CD294=FALSE,\"COL. INCORRECTA\",LOOKUP(CONCATENATE(AE294,\" - \",AC294),Catálogos!T:T,Catálogos!Y:Y))","v":{"$error":"#N/A"}},{"$f":"IF(CD294=FALSE,\"COL. INCORRECTA\",LOOKUP(CONCATENATE(AE294,\" - \",AC294),Catálogos!T:T,Catálogos!X:X))","v":{"$error":"#N/A"}}," -SELECCIONAR-",""," -SELECCIONAR-",null,null," -SELECCIONAR-",null,null,null," -SELECCIONAR-",null,null," -SELECCIONAR-"," -SELECCIONAR-",null,null,null,null,null," -SELECCIONAR-",null,null,null,null,null,null," -SELECCIONAR-",null,null,null,null,null,null," -SELECCIONAR-",null,null,null,null,null,null," -SELECCIONAR-",null,null,{"$f":"LOOKUP(AB294,Catálogos!AP:AP,Catálogos!AO:AO)","v":"ERR"},{"$f":"CONCATENATE(LOOKUP(AC294,Catálogos!O:O,Catálogos!P:P),\".\",LOOKUP(AC294,Catálogos!O:O,Catálogos!Q:Q))","v":{"$error":"#N/A"}},{"$f":"IF(AC294=LOOKUP(CONCATENATE(AE294,\" - \",AC294),Catálogos!T:T,Catálogos!V:V),LOOKUP(CONCATENATE(AE294,\" - \",AC294),Catálogos!T:T,Catálogos!W:W),FALSE)","v":{"$error":"#N/A"}},{"$f":"LOOKUP(BD294,Catálogos!AM:AM,Catálogos!AL:AL)","v":"ERR"},{"$f":"LOOKUP(BK294,Catálogos!AM:AM,Catálogos!AL:AL)","v":"ERR"},{"$f":"LOOKUP(BR294,Catálogos!AM:AM,Catálogos!AL:AL)","v":"ERR"},{"$f":"LOOKUP(BY294,Catálogos!AM:AM,Catálogos!AL:AL)","v":"ERR"},0]
[null,null,null,null,null,null,null," -SELECCIONAR-"," -SELECCIONAR-"," -SELECCIONAR-",null," -SELECCIONAR-"," -SELECCIONAR-"," -SELECCIONAR-"," -SELECCIONAR-",null,null," -SELECCIONAR-",null,null,null," -SELECCIONAR-",null,null," -SELECCIONAR-",null," -SELECCIONAR-"," -SELECCIONAR-",null,{"$f":"IF(AC295=FALSE, LOOKUP(AC295,Catálogos!O:O),LOOKUP(AC295,Catálogos!O:O,Catálogos!R:R))","v":{"$error":"#N/A"}},"",null,null,null,{"$f":"IF(CD295=FALSE,\"COL. INCORRECTA\",LOOKUP(CONCATENATE(AE295,\" - \",AC295),Catálogos!T:T,Catálogos!Y:Y))","v":{"$error":"#N/A"}},{"$f":"IF(CD295=FALSE,\"COL. INCORRECTA\",LOOKUP(CONCATENATE(AE295,\" - \",AC295),Catálogos!T:T,Catálogos!X:X))","v":{"$error":"#N/A"}}," -SELECCIONAR-",""," -SELECCIONAR-",null,null," -SELECCIONAR-",null,null,null," -SELECCIONAR-",null,null," -SELECCIONAR-"," -SELECCIONAR-",null,null,null,null,null," -SELECCIONAR-",null,null,null,null,null,null," -SELECCIONAR-",null,null,null,null,null,null," -SELECCIONAR-",null,null,null,null,null,null," -SELECCIONAR-",null,null,{"$f":"LOOKUP(AB295,Catálogos!AP:AP,Catálogos!AO:AO)","v":"ERR"},{"$f":"CONCATENATE(LOOKUP(AC295,Catálogos!O:O,Catálogos!P:P),\".\",LOOKUP(AC295,Catálogos!O:O,Catálogos!Q:Q))","v":{"$error":"#N/A"}},{"$f":"IF(AC295=LOOKUP(CONCATENATE(AE295,\" - \",AC295),Catálogos!T:T,Catálogos!V:V),LOOKUP(CONCATENATE(AE295,\" - \",AC295),Catálogos!T:T,Catálogos!W:W),FALSE)","v":{"$error":"#N/A"}},{"$f":"LOOKUP(BD295,Catálogos!AM:AM,Catálogos!AL:AL)","v":"ERR"},{"$f":"LOOKUP(BK295,Catálogos!AM:AM,Catálogos!AL:AL)","v":"ERR"},{"$f":"LOOKUP(BR295,Catálogos!AM:AM,Catálogos!AL:AL)","v":"ERR"},{"$f":"LOOKUP(BY295,Catálogos!AM:AM,Catálogos!AL:AL)","v":"ERR"},0]
[null,null,null,null,null,null,null," -SELECCIONAR-"," -SELECCIONAR-"," -SELECCIONAR-",null," -SELECCIONAR-"," -SELECCIONAR-"," -SELECCIONAR-"," -SELECCIONAR-",null,null," -SELECCIONAR-",null,null,null," -SELECCIONAR-",null,null," -SELECCIONAR-",null," -SELECCIONAR-"," -SELECCIONAR-",null,{"$f":"IF(AC296=FALSE, LOOKUP(AC296,Catálogos!O:O),LOOKUP(AC296,Catálogos!O:O,Catálogos!R:R))","v":{"$error":"#N/A"}},"",null,null,null,{"$f":"IF(CD296=FALSE,\"COL. INCORRECTA\",LOOKUP(CONCATENATE(AE296,\" - \",AC296),Catálogos!T:T,Catálogos!Y:Y))","v":{"$error":"#N/A"}},{"$f":"IF(CD296=FALSE,\"COL. INCORRECTA\",LOOKUP(CONCATENATE(AE296,\" - \",AC296),Catálogos!T:T,Catálogos!X:X))","v":{"$error":"#N/A"}}," -SELECCIONAR-",""," -SELECCIONAR-",null,null," -SELECCIONAR-",null,null,null," -SELECCIONAR-",null,null," -SELECCIONAR-"," -SELECCIONAR-",null,null,null,null,null," -SELECCIONAR-",null,null,null,null,null,null," -SELECCIONAR-",null,null,null,null,null,null," -SELECCIONAR-",null,null,null,null,null,null," -SELECCIONAR-",null,null,{"$f":"LOOKUP(AB296,Catálogos!AP:AP,Catálogos!AO:AO)","v":"ERR"},{"$f":"CONCATENATE(LOOKUP(AC296,Catálogos!O:O,Catálogos!P:P),\".\",LOOKUP(AC296,Catálogos!O:O,Catálogos!Q:Q))","v":{"$error":"#N/A"}},{"$f":"IF(AC296=LOOKUP(CONCATENATE(AE296,\" - \",AC296),Catálogos!T:T,Catálogos!V:V),LOOKUP(CONCATENATE(AE296,\" - \",AC296),Catálogos!T:T,Catálogos!W:W),FALSE)","v":{"$error":"#N/A"}},{"$f":"LOOKUP(BD296,Catálogos!AM:AM,Catálogos!AL:AL)","v":"ERR"},{"$f":"LOOKUP(BK296,Catálogos!AM:AM,Catálogos!AL:AL)","v":"ERR"},{"$f":"LOOKUP(BR296,Catálogos!AM:AM,Catálogos!AL:AL)","v":"ERR"},{"$f":"LOOKUP(BY296,Catálogos!AM:AM,Catálogos!AL:AL)","v":"ERR"},0]
[null,null,null,null,null,null,null," -SELECCIONAR-"," -SELECCIONAR-"," -SELECCIONAR-",null," -SELECCIONAR-"," -SELECCIONAR-"," -SELECCIONAR-"," -SELECCIONAR-",null,null," -SELECCIONAR-",null,null,null," -SELECCIONAR-",null,null," -SELECCIONAR-",null," -SELECCIONAR-"," -SELECCIONAR-",null,{"$f":"IF(AC297=FALSE, LOOKUP(AC297,Catálogos!O:O),LOOKUP(AC297,Catálogos!O:O,Catálogos!R:R))","v":{"$error":"#N/A"}},"",null,null,null,{"$f":"IF(CD297=FALSE,\"COL. INCORRECTA\",LOOKUP(CONCATENATE(AE297,\" - \",AC297),Catálogos!T:T,Catálogos!Y:Y))","v":{"$error":"#N/A"}},{"$f":"IF(CD297=FALSE,\"COL. INCORRECTA\",LOOKUP(CONCATENATE(AE297,\" - \",AC297),Catálogos!T:T,Catálogos!X:X))","v":{"$error":"#N/A"}}," -SELECCIONAR-",""," -SELECCIONAR-",null,null," -SELECCIONAR-",null,null,null," -SELECCIONAR-",null,null," -SELECCIONAR-"," -SELECCIONAR-",null,null,null,null,null," -SELECCIONAR-",null,null,null,null,null,null," -SELECCIONAR-",null,null,null,null,null,null," -SELECCIONAR-",null,null,null,null,null,null," -SELECCIONAR-",null,null,{"$f":"LOOKUP(AB297,Catálogos!AP:AP,Catálogos!AO:AO)","v":"ERR"},{"$f":"CONCATENATE(LOOKUP(AC297,Catálogos!O:O,Catálogos!P:P),\".\",LOOKUP(AC297,Catálogos!O:O,Catálogos!Q:Q))","v":{"$error":"#N/A"}},{"$f":"IF(AC297=LOOKUP(CONCATENATE(AE297,\" - \",AC297),Catálogos!T:T,Catálogos!V:V),LOOKUP(CONCATENATE(AE297,\" - \",AC297),Catálogos!T:T,Catálogos!W:W),FALSE)","v":{"$error":"#N/A"}},{"$f":"LOOKUP(BD297,Catálogos!AM:AM,Catálogos!AL:AL)","v":"ERR"},{"$f":"LOOKUP(BK297,Catálogos!AM:AM,Catálogos!AL:AL)","v":"ERR"},{"$f":"LOOKUP(BR297,Catálogos!AM:AM,Catálogos!AL:AL)","v":"ERR"},{"$f":"LOOKUP(BY297,Catálogos!AM:AM,Catálogos!AL:AL)","v":"ERR"},0]
[null,null,null,null,null,null,null," -SELECCIONAR-"," -SELECCIONAR-"," -SELECCIONAR-",null," -SELECCIONAR-"," -SELECCIONAR-"," -SELECCIONAR-"," -SELECCIONAR-",null,null," -SELECCIONAR-",null,null,null," -SELECCIONAR-",null,null," -SELECCIONAR-",null," -SELECCIONAR-"," -SELECCIONAR-",null,{"$f":"IF(AC298=FALSE, LOOKUP(AC298,Catálogos!O:O),LOOKUP(AC298,Catálogos!O:O,Catálogos!R:R))","v":{"$error":"#N/A"}},"",null,null,null,{"$f":"IF(CD298=FALSE,\"COL. INCORRECTA\",LOOKUP(CONCATENATE(AE298,\" - \",AC298),Catálogos!T:T,Catálogos!Y:Y))","v":{"$error":"#N/A"}},{"$f":"IF(CD298=FALSE,\"COL. INCORRECTA\",LOOKUP(CONCATENATE(AE298,\" - \",AC298),Catálogos!T:T,Catálogos!X:X))","v":{"$error":"#N/A"}}," -SELECCIONAR-",""," -SELECCIONAR-",null,null," -SELECCIONAR-",null,null,null," -SELECCIONAR-",null,null," -SELECCIONAR-"," -SELECCIONAR-",null,null,null,null,null," -SELECCIONAR-",null,null,null,null,null,null," -SELECCIONAR-",null,null,null,null,null,null," -SELECCIONAR-",null,null,null,null,null,null," -SELECCIONAR-",null,null,{"$f":"LOOKUP(AB298,Catálogos!AP:AP,Catálogos!AO:AO)","v":"ERR"},{"$f":"CONCATENATE(LOOKUP(AC298,Catálogos!O:O,Catálogos!P:P),\".\",LOOKUP(AC298,Catálogos!O:O,Catálogos!Q:Q))","v":{"$error":"#N/A"}},{"$f":"IF(AC298=LOOKUP(CONCATENATE(AE298,\" - \",AC298),Catálogos!T:T,Catálogos!V:V),LOOKUP(CONCATENATE(AE298,\" - \",AC298),Catálogos!T:T,Catálogos!W:W),FALSE)","v":{"$error":"#N/A"}},{"$f":"LOOKUP(BD298,Catálogos!AM:AM,Catálogos!AL:AL)","v":"ERR"},{"$f":"LOOKUP(BK298,Catálogos!AM:AM,Catálogos!AL:AL)","v":"ERR"},{"$f":"LOOKUP(BR298,Catálogos!AM:AM,Catálogos!AL:AL)","v":"ERR"},{"$f":"LOOKUP(BY298,Catálogos!AM:AM,Catálogos!AL:AL)","v":"ERR"},0]
[null,null,null,null,null,null,null," -SELECCIONAR-"," -SELECCIONAR-"," -SELECCIONAR-",null," -SELECCIONAR-"," -SELECCIONAR-"," -SELECCIONAR-"," -SELECCIONAR-",null,null," -SELECCIONAR-",null,null,null," -SELECCIONAR-",null,null," -SELECCIONAR-",null," -SELECCIONAR-"," -SELECCIONAR-",null,{"$f":"IF(AC299=FALSE, LOOKUP(AC299,Catálogos!O:O),LOOKUP(AC299,Catálogos!O:O,Catálogos!R:R))","v":{"$error":"#N/A"}},"",null,null,null,{"$f":"IF(CD299=FALSE,\"COL. INCORRECTA\",LOOKUP(CONCATENATE(AE299,\" - \",AC299),Catálogos!T:T,Catálogos!Y:Y))","v":{"$error":"#N/A"}},{"$f":"IF(CD299=FALSE,\"COL. INCORRECTA\",LOOKUP(CONCATENATE(AE299,\" - \",AC299),Catálogos!T:T,Catálogos!X:X))","v":{"$error":"#N/A"}}," -SELECCIONAR-",""," -SELECCIONAR-",null,null," -SELECCIONAR-",null,null,null," -SELECCIONAR-",null,null," -SELECCIONAR-"," -SELECCIONAR-",null,null,null,null,null," -SELECCIONAR-",null,null,null,null,null,null," -SELECCIONAR-",null,null,null,null,null,null," -SELECCIONAR-",null,null,null,null,null,null," -SELECCIONAR-",null,null,{"$f":"LOOKUP(AB299,Catálogos!AP:AP,Catálogos!AO:AO)","v":"ERR"},{"$f":"CONCATENATE(LOOKUP(AC299,Catálogos!O:O,Catálogos!P:P),\".\",LOOKUP(AC299,Catálogos!O:O,Catálogos!Q:Q))","v":{"$error":"#N/A"}},{"$f":"IF(AC299=LOOKUP(CONCATENATE(AE299,\" - \",AC299),Catálogos!T:T,Catálogos!V:V),LOOKUP(CONCATENATE(AE299,\" - \",AC299),Catálogos!T:T,Catálogos!W:W),FALSE)","v":{"$error":"#N/A"}},{"$f":"LOOKUP(BD299,Catálogos!AM:AM,Catálogos!AL:AL)","v":"ERR"},{"$f":"LOOKUP(BK299,Catálogos!AM:AM,Catálogos!AL:AL)","v":"ERR"},{"$f":"LOOKUP(BR299,Catálogos!AM:AM,Catálogos!AL:AL)","v":"ERR"},{"$f":"LOOKUP(BY299,Catálogos!AM:AM,Catálogos!AL:AL)","v":"ERR"},0]
[null,null,null,null,null,null,null," -SELECCIONAR-"," -SELECCIONAR-"," -SELECCIONAR-",null," -SELECCIONAR-"," -SELECCIONAR-"," -SELECCIONAR-"," -SELECCIONAR-",null,null," -SELECCIONAR-",null,null,null," -SELECCIONAR-",null,null," -SELECCIONAR-",null," -SELECCIONAR-"," -SELECCIONAR-",null,{"$f":"IF(AC300=FALSE, LOOKUP(AC300,Catálogos!O:O),LOOKUP(AC300,Catálogos!O:O,Catálogos!R:R))","v":{"$error":"#N/A"}},"",null,null,null,{"$f":"IF(CD300=FALSE,\"COL. INCORRECTA\",LOOKUP(CONCATENATE(AE300,\" - \",AC300),Catálogos!T:T,Catálogos!Y:Y))","v":{"$error":"#N/A"}},{"$f":"IF(CD300=FALSE,\"COL. INCORRECTA\",LOOKUP(CONCATENATE(AE300,\" - \",AC300),Catálogos!T:T,Catálogos!X:X))","v":{"$error":"#N/A"}}," -SELECCIONAR-",""," -SELECCIONAR-",null,null," -SELECCIONAR-",null,null,null," -SELECCIONAR-",null,null," -SELECCIONAR-"," -SELECCIONAR-",null,null,null,null,null," -SELECCIONAR-",null,null,null,null,null,null," -SELECCIONAR-",null,null,null,null,null,null," -SELECCIONAR-",null,null,null,null,null,null," -SELECCIONAR-",null,null,{"$f":"LOOKUP(AB300,Catálogos!AP:AP,Catálogos!AO:AO)","v":"ERR"},{"$f":"CONCATENATE(LOOKUP(AC300,Catálogos!O:O,Catálogos!P:P),\".\",LOOKUP(AC300,Catálogos!O:O,Catálogos!Q:Q))","v":{"$error":"#N/A"}},{"$f":"IF(AC300=LOOKUP(CONCATENATE(AE300,\" - \",AC300),Catálogos!T:T,Catálogos!V:V),LOOKUP(CONCATENATE(AE300,\" - \",AC300),Catálogos!T:T,Catálogos!W:W),FALSE)","v":{"$error":"#N/A"}},{"$f":"LOOKUP(BD300,Catálogos!AM:AM,Catálogos!AL:AL)","v":"ERR"},{"$f":"LOOKUP(BK300,Catálogos!AM:AM,Catálogos!AL:AL)","v":"ERR"},{"$f":"LOOKUP(BR300,Catálogos!AM:AM,Catálogos!AL:AL)","v":"ERR"},{"$f":"LOOKUP(BY300,Catálogos!AM:AM,Catálogos!AL:AL)","v":"ERR"},0]
[null,null,null,null,null,null,null," -SELECCIONAR-"," -SELECCIONAR-"," -SELECCIONAR-",null," -SELECCIONAR-"," -SELECCIONAR-"," -SELECCIONAR-"," -SELECCIONAR-",null,null," -SELECCIONAR-",null,null,null," -SELECCIONAR-",null,null," -SELECCIONAR-",null," -SELECCIONAR-"," -SELECCIONAR-",null,{"$f":"IF(AC301=FALSE, LOOKUP(AC301,Catálogos!O:O),LOOKUP(AC301,Catálogos!O:O,Catálogos!R:R))","v":{"$error":"#N/A"}},"",null,null,null,{"$f":"IF(CD301=FALSE,\"COL. INCORRECTA\",LOOKUP(CONCATENATE(AE301,\" - \",AC301),Catálogos!T:T,Catálogos!Y:Y))","v":{"$error":"#N/A"}},{"$f":"IF(CD301=FALSE,\"COL. INCORRECTA\",LOOKUP(CONCATENATE(AE301,\" - \",AC301),Catálogos!T:T,Catálogos!X:X))","v":{"$error":"#N/A"}}," -SELECCIONAR-",""," -SELECCIONAR-",null,null," -SELECCIONAR-",null,null,null," -SELECCIONAR-",null,null," -SELECCIONAR-"," -SELECCIONAR-",null,null,null,null,null," -SELECCIONAR-",null,null,null,null,null,null," -SELECCIONAR-",null,null,null,null,null,null," -SELECCIONAR-",null,null,null,null,null,null," -SELECCIONAR-",null,null,{"$f":"LOOKUP(AB301,Catálogos!AP:AP,Catálogos!AO:AO)","v":"ERR"},{"$f":"CONCATENATE(LOOKUP(AC301,Catálogos!O:O,Catálogos!P:P),\".\",LOOKUP(AC301,Catálogos!O:O,Catálogos!Q:Q))","v":{"$error":"#N/A"}},{"$f":"IF(AC301=LOOKUP(CONCATENATE(AE301,\" - \",AC301),Catálogos!T:T,Catálogos!V:V),LOOKUP(CONCATENATE(AE301,\" - \",AC301),Catálogos!T:T,Catálogos!W:W),FALSE)","v":{"$error":"#N/A"}},{"$f":"LOOKUP(BD301,Catálogos!AM:AM,Catálogos!AL:AL)","v":"ERR"},{"$f":"LOOKUP(BK301,Catálogos!AM:AM,Catálogos!AL:AL)","v":"ERR"},{"$f":"LOOKUP(BR301,Catálogos!AM:AM,Catálogos!AL:AL)","v":"ERR"},{"$f":"LOOKUP(BY301,Catálogos!AM:AM,Catálogos!AL:AL)","v":"ERR"},0]
[null,null,null,null,null,null,null," -SELECCIONAR-"," -SELECCIONAR-"," -SELECCIONAR-",null," -SELECCIONAR-"," -SELECCIONAR-"," -SELECCIONAR-"," -SELECCIONAR-",null,null," -SELECCIONAR-",null,null,null," -SELECCIONAR-",null,null," -SELECCIONAR-",null," -SELECCIONAR-"," -SELECCIONAR-",null,{"$f":"IF(AC302=FALSE, LOOKUP(AC302,Catálogos!O:O),LOOKUP(AC302,Catálogos!O:O,Catálogos!R:R))","v":{"$error":"#N/A"}},"",null,null,null,{"$f":"IF(CD302=FALSE,\"COL. INCORRECTA\",LOOKUP(CONCATENATE(AE302,\" - \",AC302),Catálogos!T:T,Catálogos!Y:Y))","v":{"$error":"#N/A"}},{"$f":"IF(CD302=FALSE,\"COL. INCORRECTA\",LOOKUP(CONCATENATE(AE302,\" - \",AC302),Catálogos!T:T,Catálogos!X:X))","v":{"$error":"#N/A"}}," -SELECCIONAR-",""," -SELECCIONAR-",null,null," -SELECCIONAR-",null,null,null," -SELECCIONAR-",null,null," -SELECCIONAR-"," -SELECCIONAR-",null,null,null,null,null," -SELECCIONAR-",null,null,null,null,null,null," -SELECCIONAR-",null,null,null,null,null,null," -SELECCIONAR-",null,null,null,null,null,null," -SELECCIONAR-",null,null,{"$f":"LOOKUP(AB302,Catálogos!AP:AP,Catálogos!AO:AO)","v":"ERR"},{"$f":"CONCATENATE(LOOKUP(AC302,Catálogos!O:O,Catálogos!P:P),\".\",LOOKUP(AC302,Catálogos!O:O,Catálogos!Q:Q))","v":{"$error":"#N/A"}},{"$f":"IF(AC302=LOOKUP(CONCATENATE(AE302,\" - \",AC302),Catálogos!T:T,Catálogos!V:V),LOOKUP(CONCATENATE(AE302,\" - \",AC302),Catálogos!T:T,Catálogos!W:W),FALSE)","v":{"$error":"#N/A"}},{"$f":"LOOKUP(BD302,Catálogos!AM:AM,Catálogos!AL:AL)","v":"ERR"},{"$f":"LOOKUP(BK302,Catálogos!AM:AM,Catálogos!AL:AL)","v":"ERR"},{"$f":"LOOKUP(BR302,Catálogos!AM:AM,Catálogos!AL:AL)","v":"ERR"},{"$f":"LOOKUP(BY302,Catálogos!AM:AM,Catálogos!AL:AL)","v":"ERR"},0]
[null,null,null,null,null,null,null," -SELECCIONAR-"," -SELECCIONAR-"," -SELECCIONAR-",null," -SELECCIONAR-"," -SELECCIONAR-"," -SELECCIONAR-"," -SELECCIONAR-",null,null," -SELECCIONAR-",null,null,null," -SELECCIONAR-",null,null," -SELECCIONAR-",null," -SELECCIONAR-"," -SELECCIONAR-",null,{"$f":"IF(AC303=FALSE, LOOKUP(AC303,Catálogos!O:O),LOOKUP(AC303,Catálogos!O:O,Catálogos!R:R))","v":{"$error":"#N/A"}},"",null,null,null,{"$f":"IF(CD303=FALSE,\"COL. INCORRECTA\",LOOKUP(CONCATENATE(AE303,\" - \",AC303),Catálogos!T:T,Catálogos!Y:Y))","v":{"$error":"#N/A"}},{"$f":"IF(CD303=FALSE,\"COL. INCORRECTA\",LOOKUP(CONCATENATE(AE303,\" - \",AC303),Catálogos!T:T,Catálogos!X:X))","v":{"$error":"#N/A"}}," -SELECCIONAR-",""," -SELECCIONAR-",null,null," -SELECCIONAR-",null,null,null," -SELECCIONAR-",null,null," -SELECCIONAR-"," -SELECCIONAR-",null,null,null,null,null," -SELECCIONAR-",null,null,null,null,null,null," -SELECCIONAR-",null,null,null,null,null,null," -SELECCIONAR-",null,null,null,null,null,null," -SELECCIONAR-",null,null,{"$f":"LOOKUP(AB303,Catálogos!AP:AP,Catálogos!AO:AO)","v":"ERR"},{"$f":"CONCATENATE(LOOKUP(AC303,Catálogos!O:O,Catálogos!P:P),\".\",LOOKUP(AC303,Catálogos!O:O,Catálogos!Q:Q))","v":{"$error":"#N/A"}},{"$f":"IF(AC303=LOOKUP(CONCATENATE(AE303,\" - \",AC303),Catálogos!T:T,Catálogos!V:V),LOOKUP(CONCATENATE(AE303,\" - \",AC303),Catálogos!T:T,Catálogos!W:W),FALSE)","v":{"$error":"#N/A"}},{"$f":"LOOKUP(BD303,Catálogos!AM:AM,Catálogos!AL:AL)","v":"ERR"},{"$f":"LOOKUP(BK303,Catálogos!AM:AM,Catálogos!AL:AL)","v":"ERR"},{"$f":"LOOKUP(BR303,Catálogos!AM:AM,Catálogos!AL:AL)","v":"ERR"},{"$f":"LOOKUP(BY303,Catálogos!AM:AM,Catálogos!AL:AL)","v":"ERR"},0]
[null,null,null,null,null,null,null," -SELECCIONAR-"," -SELECCIONAR-"," -SELECCIONAR-",null," -SELECCIONAR-"," -SELECCIONAR-"," -SELECCIONAR-"," -SELECCIONAR-",null,null," -SELECCIONAR-",null,null,null," -SELECCIONAR-",null,null," -SELECCIONAR-",null," -SELECCIONAR-"," -SELECCIONAR-",null,{"$f":"IF(AC304=FALSE, LOOKUP(AC304,Catálogos!O:O),LOOKUP(AC304,Catálogos!O:O,Catálogos!R:R))","v":{"$error":"#N/A"}},"",null,null,null,{"$f":"IF(CD304=FALSE,\"COL. INCORRECTA\",LOOKUP(CONCATENATE(AE304,\" - \",AC304),Catálogos!T:T,Catálogos!Y:Y))","v":{"$error":"#N/A"}},{"$f":"IF(CD304=FALSE,\"COL. INCORRECTA\",LOOKUP(CONCATENATE(AE304,\" - \",AC304),Catálogos!T:T,Catálogos!X:X))","v":{"$error":"#N/A"}}," -SELECCIONAR-",""," -SELECCIONAR-",null,null," -SELECCIONAR-",null,null,null," -SELECCIONAR-",null,null," -SELECCIONAR-"," -SELECCIONAR-",null,null,null,null,null," -SELECCIONAR-",null,null,null,null,null,null," -SELECCIONAR-",null,null,null,null,null,null," -SELECCIONAR-",null,null,null,null,null,null," -SELECCIONAR-",null,null,{"$f":"LOOKUP(AB304,Catálogos!AP:AP,Catálogos!AO:AO)","v":"ERR"},{"$f":"CONCATENATE(LOOKUP(AC304,Catálogos!O:O,Catálogos!P:P),\".\",LOOKUP(AC304,Catálogos!O:O,Catálogos!Q:Q))","v":{"$error":"#N/A"}},{"$f":"IF(AC304=LOOKUP(CONCATENATE(AE304,\" - \",AC304),Catálogos!T:T,Catálogos!V:V),LOOKUP(CONCATENATE(AE304,\" - \",AC304),Catálogos!T:T,Catálogos!W:W),FALSE)","v":{"$error":"#N/A"}},{"$f":"LOOKUP(BD304,Catálogos!AM:AM,Catálogos!AL:AL)","v":"ERR"},{"$f":"LOOKUP(BK304,Catálogos!AM:AM,Catálogos!AL:AL)","v":"ERR"},{"$f":"LOOKUP(BR304,Catálogos!AM:AM,Catálogos!AL:AL)","v":"ERR"},{"$f":"LOOKUP(BY304,Catálogos!AM:AM,Catálogos!AL:AL)","v":"ERR"},0]
[null,null,null,null,null,null,null," -SELECCIONAR-"," -SELECCIONAR-"," -SELECCIONAR-",null," -SELECCIONAR-"," -SELECCIONAR-"," -SELECCIONAR-"," -SELECCIONAR-",null,null," -SELECCIONAR-",null,null,null," -SELECCIONAR-",null,null," -SELECCIONAR-",null," -SELECCIONAR-"," -SELECCIONAR-",null,{"$f":"IF(AC305=FALSE, LOOKUP(AC305,Catálogos!O:O),LOOKUP(AC305,Catálogos!O:O,Catálogos!R:R))","v":{"$error":"#N/A"}},"",null,null,null,{"$f":"IF(CD305=FALSE,\"COL. INCORRECTA\",LOOKUP(CONCATENATE(AE305,\" - \",AC305),Catálogos!T:T,Catálogos!Y:Y))","v":{"$error":"#N/A"}},{"$f":"IF(CD305=FALSE,\"COL. INCORRECTA\",LOOKUP(CONCATENATE(AE305,\" - \",AC305),Catálogos!T:T,Catálogos!X:X))","v":{"$error":"#N/A"}}," -SELECCIONAR-",""," -SELECCIONAR-",null,null," -SELECCIONAR-",null,null,null," -SELECCIONAR-",null,null," -SELECCIONAR-"," -SELECCIONAR-",null,null,null,null,null," -SELECCIONAR-",null,null,null,null,null,null," -SELECCIONAR-",null,null,null,null,null,null," -SELECCIONAR-",null,null,null,null,null,null," -SELECCIONAR-",null,null,{"$f":"LOOKUP(AB305,Catálogos!AP:AP,Catálogos!AO:AO)","v":"ERR"},{"$f":"CONCATENATE(LOOKUP(AC305,Catálogos!O:O,Catálogos!P:P),\".\",LOOKUP(AC305,Catálogos!O:O,Catálogos!Q:Q))","v":{"$error":"#N/A"}},{"$f":"IF(AC305=LOOKUP(CONCATENATE(AE305,\" - \",AC305),Catálogos!T:T,Catálogos!V:V),LOOKUP(CONCATENATE(AE305,\" - \",AC305),Catálogos!T:T,Catálogos!W:W),FALSE)","v":{"$error":"#N/A"}},{"$f":"LOOKUP(BD305,Catálogos!AM:AM,Catálogos!AL:AL)","v":"ERR"},{"$f":"LOOKUP(BK305,Catálogos!AM:AM,Catálogos!AL:AL)","v":"ERR"},{"$f":"LOOKUP(BR305,Catálogos!AM:AM,Catálogos!AL:AL)","v":"ERR"},{"$f":"LOOKUP(BY305,Catálogos!AM:AM,Catálogos!AL:AL)","v":"ERR"},0]
[null,null,null,null,null,null,null," -SELECCIONAR-"," -SELECCIONAR-"," -SELECCIONAR-",null," -SELECCIONAR-"," -SELECCIONAR-"," -SELECCIONAR-"," -SELECCIONAR-",null,null," -SELECCIONAR-",null,null,null," -SELECCIONAR-",null,null," -SELECCIONAR-",null," -SELECCIONAR-"," -SELECCIONAR-",null,{"$f":"IF(AC306=FALSE, LOOKUP(AC306,Catálogos!O:O),LOOKUP(AC306,Catálogos!O:O,Catálogos!R:R))","v":{"$error":"#N/A"}},"",null,null,null,{"$f":"IF(CD306=FALSE,\"COL. INCORRECTA\",LOOKUP(CONCATENATE(AE306,\" - \",AC306),Catálogos!T:T,Catálogos!Y:Y))","v":{"$error":"#N/A"}},{"$f":"IF(CD306=FALSE,\"COL. INCORRECTA\",LOOKUP(CONCATENATE(AE306,\" - \",AC306),Catálogos!T:T,Catálogos!X:X))","v":{"$error":"#N/A"}}," -SELECCIONAR-",""," -SELECCIONAR-",null,null," -SELECCIONAR-",null,null,null," -SELECCIONAR-",null,null," -SELECCIONAR-"," -SELECCIONAR-",null,null,null,null,null," -SELECCIONAR-",null,null,null,null,null,null," -SELECCIONAR-",null,null,null,null,null,null," -SELECCIONAR-",null,null,null,null,null,null," -SELECCIONAR-",null,null,{"$f":"LOOKUP(AB306,Catálogos!AP:AP,Catálogos!AO:AO)","v":"ERR"},{"$f":"CONCATENATE(LOOKUP(AC306,Catálogos!O:O,Catálogos!P:P),\".\",LOOKUP(AC306,Catálogos!O:O,Catálogos!Q:Q))","v":{"$error":"#N/A"}},{"$f":"IF(AC306=LOOKUP(CONCATENATE(AE306,\" - \",AC306),Catálogos!T:T,Catálogos!V:V),LOOKUP(CONCATENATE(AE306,\" - \",AC306),Catálogos!T:T,Catálogos!W:W),FALSE)","v":{"$error":"#N/A"}},{"$f":"LOOKUP(BD306,Catálogos!AM:AM,Catálogos!AL:AL)","v":"ERR"},{"$f":"LOOKUP(BK306,Catálogos!AM:AM,Catálogos!AL:AL)","v":"ERR"},{"$f":"LOOKUP(BR306,Catálogos!AM:AM,Catálogos!AL:AL)","v":"ERR"},{"$f":"LOOKUP(BY306,Catálogos!AM:AM,Catálogos!AL:AL)","v":"ERR"},0]
[null,null,null,null,null,null,null," -SELECCIONAR-"," -SELECCIONAR-"," -SELECCIONAR-",null," -SELECCIONAR-"," -SELECCIONAR-"," -SELECCIONAR-"," -SELECCIONAR-",null,null," -SELECCIONAR-",null,null,null," -SELECCIONAR-",null,null," -SELECCIONAR-",null," -SELECCIONAR-"," -SELECCIONAR-",null,{"$f":"IF(AC307=FALSE, LOOKUP(AC307,Catálogos!O:O),LOOKUP(AC307,Catálogos!O:O,Catálogos!R:R))","v":{"$error":"#N/A"}},"",null,null,null,{"$f":"IF(CD307=FALSE,\"COL. INCORRECTA\",LOOKUP(CONCATENATE(AE307,\" - \",AC307),Catálogos!T:T,Catálogos!Y:Y))","v":{"$error":"#N/A"}},{"$f":"IF(CD307=FALSE,\"COL. INCORRECTA\",LOOKUP(CONCATENATE(AE307,\" - \",AC307),Catálogos!T:T,Catálogos!X:X))","v":{"$error":"#N/A"}}," -SELECCIONAR-",""," -SELECCIONAR-",null,null," -SELECCIONAR-",null,null,null," -SELECCIONAR-",null,null," -SELECCIONAR-"," -SELECCIONAR-",null,null,null,null,null," -SELECCIONAR-",null,null,null,null,null,null," -SELECCIONAR-",null,null,null,null,null,null," -SELECCIONAR-",null,null,null,null,null,null," -SELECCIONAR-",null,null,{"$f":"LOOKUP(AB307,Catálogos!AP:AP,Catálogos!AO:AO)","v":"ERR"},{"$f":"CONCATENATE(LOOKUP(AC307,Catálogos!O:O,Catálogos!P:P),\".\",LOOKUP(AC307,Catálogos!O:O,Catálogos!Q:Q))","v":{"$error":"#N/A"}},{"$f":"IF(AC307=LOOKUP(CONCATENATE(AE307,\" - \",AC307),Catálogos!T:T,Catálogos!V:V),LOOKUP(CONCATENATE(AE307,\" - \",AC307),Catálogos!T:T,Catálogos!W:W),FALSE)","v":{"$error":"#N/A"}},{"$f":"LOOKUP(BD307,Catálogos!AM:AM,Catálogos!AL:AL)","v":"ERR"},{"$f":"LOOKUP(BK307,Catálogos!AM:AM,Catálogos!AL:AL)","v":"ERR"},{"$f":"LOOKUP(BR307,Catálogos!AM:AM,Catálogos!AL:AL)","v":"ERR"},{"$f":"LOOKUP(BY307,Catálogos!AM:AM,Catálogos!AL:AL)","v":"ERR"},0]
[null,null,null,null,null,null,null," -SELECCIONAR-"," -SELECCIONAR-"," -SELECCIONAR-",null," -SELECCIONAR-"," -SELECCIONAR-"," -SELECCIONAR-"," -SELECCIONAR-",null,null," -SELECCIONAR-",null,null,null," -SELECCIONAR-",null,null," -SELECCIONAR-",null," -SELECCIONAR-"," -SELECCIONAR-",null,{"$f":"IF(AC308=FALSE, LOOKUP(AC308,Catálogos!O:O),LOOKUP(AC308,Catálogos!O:O,Catálogos!R:R))","v":{"$error":"#N/A"}},"",null,null,null,{"$f":"IF(CD308=FALSE,\"COL. INCORRECTA\",LOOKUP(CONCATENATE(AE308,\" - \",AC308),Catálogos!T:T,Catálogos!Y:Y))","v":{"$error":"#N/A"}},{"$f":"IF(CD308=FALSE,\"COL. INCORRECTA\",LOOKUP(CONCATENATE(AE308,\" - \",AC308),Catálogos!T:T,Catálogos!X:X))","v":{"$error":"#N/A"}}," -SELECCIONAR-",""," -SELECCIONAR-",null,null," -SELECCIONAR-",null,null,null," -SELECCIONAR-",null,null," -SELECCIONAR-"," -SELECCIONAR-",null,null,null,null,null," -SELECCIONAR-",null,null,null,null,null,null," -SELECCIONAR-",null,null,null,null,null,null," -SELECCIONAR-",null,null,null,null,null,null," -SELECCIONAR-",null,null,{"$f":"LOOKUP(AB308,Catálogos!AP:AP,Catálogos!AO:AO)","v":"ERR"},{"$f":"CONCATENATE(LOOKUP(AC308,Catálogos!O:O,Catálogos!P:P),\".\",LOOKUP(AC308,Catálogos!O:O,Catálogos!Q:Q))","v":{"$error":"#N/A"}},{"$f":"IF(AC308=LOOKUP(CONCATENATE(AE308,\" - \",AC308),Catálogos!T:T,Catálogos!V:V),LOOKUP(CONCATENATE(AE308,\" - \",AC308),Catálogos!T:T,Catálogos!W:W),FALSE)","v":{"$error":"#N/A"}},{"$f":"LOOKUP(BD308,Catálogos!AM:AM,Catálogos!AL:AL)","v":"ERR"},{"$f":"LOOKUP(BK308,Catálogos!AM:AM,Catálogos!AL:AL)","v":"ERR"},{"$f":"LOOKUP(BR308,Catálogos!AM:AM,Catálogos!AL:AL)","v":"ERR"},{"$f":"LOOKUP(BY308,Catálogos!AM:AM,Catálogos!AL:AL)","v":"ERR"},0]
[null,null,null,null,null,null,null," -SELECCIONAR-"," -SELECCIONAR-"," -SELECCIONAR-",null," -SELECCIONAR-"," -SELECCIONAR-"," -SELECCIONAR-"," -SELECCIONAR-",null,null," -SELECCIONAR-",null,null,null," -SELECCIONAR-",null,null," -SELECCIONAR-",null," -SELECCIONAR-"," -SELECCIONAR-",null,{"$f":"IF(AC309=FALSE, LOOKUP(AC309,Catálogos!O:O),LOOKUP(AC309,Catálogos!O:O,Catálogos!R:R))","v":{"$error":"#N/A"}},"",null,null,null,{"$f":"IF(CD309=FALSE,\"COL. INCORRECTA\",LOOKUP(CONCATENATE(AE309,\" - \",AC309),Catálogos!T:T,Catálogos!Y:Y))","v":{"$error":"#N/A"}},{"$f":"IF(CD309=FALSE,\"COL. INCORRECTA\",LOOKUP(CONCATENATE(AE309,\" - \",AC309),Catálogos!T:T,Catálogos!X:X))","v":{"$error":"#N/A"}}," -SELECCIONAR-",""," -SELECCIONAR-",null,null," -SELECCIONAR-",null,null,null," -SELECCIONAR-",null,null," -SELECCIONAR-"," -SELECCIONAR-",null,null,null,null,null," -SELECCIONAR-",null,null,null,null,null,null," -SELECCIONAR-",null,null,null,null,null,null," -SELECCIONAR-",null,null,null,null,null,null," -SELECCIONAR-",null,null,{"$f":"LOOKUP(AB309,Catálogos!AP:AP,Catálogos!AO:AO)","v":"ERR"},{"$f":"CONCATENATE(LOOKUP(AC309,Catálogos!O:O,Catálogos!P:P),\".\",LOOKUP(AC309,Catálogos!O:O,Catálogos!Q:Q))","v":{"$error":"#N/A"}},{"$f":"IF(AC309=LOOKUP(CONCATENATE(AE309,\" - \",AC309),Catálogos!T:T,Catálogos!V:V),LOOKUP(CONCATENATE(AE309,\" - \",AC309),Catálogos!T:T,Catálogos!W:W),FALSE)","v":{"$error":"#N/A"}},{"$f":"LOOKUP(BD309,Catálogos!AM:AM,Catálogos!AL:AL)","v":"ERR"},{"$f":"LOOKUP(BK309,Catálogos!AM:AM,Catálogos!AL:AL)","v":"ERR"},{"$f":"LOOKUP(BR309,Catálogos!AM:AM,Catálogos!AL:AL)","v":"ERR"},{"$f":"LOOKUP(BY309,Catálogos!AM:AM,Catálogos!AL:AL)","v":"ERR"},0]
[null,null,null,null,null,null,null," -SELECCIONAR-"," -SELECCIONAR-"," -SELECCIONAR-",null," -SELECCIONAR-"," -SELECCIONAR-"," -SELECCIONAR-"," -SELECCIONAR-",null,null," -SELECCIONAR-",null,null,null," -SELECCIONAR-",null,null," -SELECCIONAR-",null," -SELECCIONAR-"," -SELECCIONAR-",null,{"$f":"IF(AC310=FALSE, LOOKUP(AC310,Catálogos!O:O),LOOKUP(AC310,Catálogos!O:O,Catálogos!R:R))","v":{"$error":"#N/A"}},"",null,null,null,{"$f":"IF(CD310=FALSE,\"COL. INCORRECTA\",LOOKUP(CONCATENATE(AE310,\" - \",AC310),Catálogos!T:T,Catálogos!Y:Y))","v":{"$error":"#N/A"}},{"$f":"IF(CD310=FALSE,\"COL. INCORRECTA\",LOOKUP(CONCATENATE(AE310,\" - \",AC310),Catálogos!T:T,Catálogos!X:X))","v":{"$error":"#N/A"}}," -SELECCIONAR-",""," -SELECCIONAR-",null,null," -SELECCIONAR-",null,null,null," -SELECCIONAR-",null,null," -SELECCIONAR-"," -SELECCIONAR-",null,null,null,null,null," -SELECCIONAR-",null,null,null,null,null,null," -SELECCIONAR-",null,null,null,null,null,null," -SELECCIONAR-",null,null,null,null,null,null," -SELECCIONAR-",null,null,{"$f":"LOOKUP(AB310,Catálogos!AP:AP,Catálogos!AO:AO)","v":"ERR"},{"$f":"CONCATENATE(LOOKUP(AC310,Catálogos!O:O,Catálogos!P:P),\".\",LOOKUP(AC310,Catálogos!O:O,Catálogos!Q:Q))","v":{"$error":"#N/A"}},{"$f":"IF(AC310=LOOKUP(CONCATENATE(AE310,\" - \",AC310),Catálogos!T:T,Catálogos!V:V),LOOKUP(CONCATENATE(AE310,\" - \",AC310),Catálogos!T:T,Catálogos!W:W),FALSE)","v":{"$error":"#N/A"}},{"$f":"LOOKUP(BD310,Catálogos!AM:AM,Catálogos!AL:AL)","v":"ERR"},{"$f":"LOOKUP(BK310,Catálogos!AM:AM,Catálogos!AL:AL)","v":"ERR"},{"$f":"LOOKUP(BR310,Catálogos!AM:AM,Catálogos!AL:AL)","v":"ERR"},{"$f":"LOOKUP(BY310,Catálogos!AM:AM,Catálogos!AL:AL)","v":"ERR"},0]
[null,null,null,null,null,null,null," -SELECCIONAR-"," -SELECCIONAR-"," -SELECCIONAR-",null," -SELECCIONAR-"," -SELECCIONAR-"," -SELECCIONAR-"," -SELECCIONAR-",null,null," -SELECCIONAR-",null,null,null," -SELECCIONAR-",null,null," -SELECCIONAR-",null," -SELECCIONAR-"," -SELECCIONAR-",null,{"$f":"IF(AC311=FALSE, LOOKUP(AC311,Catálogos!O:O),LOOKUP(AC311,Catálogos!O:O,Catálogos!R:R))","v":{"$error":"#N/A"}},"",null,null,null,{"$f":"IF(CD311=FALSE,\"COL. INCORRECTA\",LOOKUP(CONCATENATE(AE311,\" - \",AC311),Catálogos!T:T,Catálogos!Y:Y))","v":{"$error":"#N/A"}},{"$f":"IF(CD311=FALSE,\"COL. INCORRECTA\",LOOKUP(CONCATENATE(AE311,\" - \",AC311),Catálogos!T:T,Catálogos!X:X))","v":{"$error":"#N/A"}}," -SELECCIONAR-",""," -SELECCIONAR-",null,null," -SELECCIONAR-",null,null,null," -SELECCIONAR-",null,null," -SELECCIONAR-"," -SELECCIONAR-",null,null,null,null,null," -SELECCIONAR-",null,null,null,null,null,null," -SELECCIONAR-",null,null,null,null,null,null," -SELECCIONAR-",null,null,null,null,null,null," -SELECCIONAR-",null,null,{"$f":"LOOKUP(AB311,Catálogos!AP:AP,Catálogos!AO:AO)","v":"ERR"},{"$f":"CONCATENATE(LOOKUP(AC311,Catálogos!O:O,Catálogos!P:P),\".\",LOOKUP(AC311,Catálogos!O:O,Catálogos!Q:Q))","v":{"$error":"#N/A"}},{"$f":"IF(AC311=LOOKUP(CONCATENATE(AE311,\" - \",AC311),Catálogos!T:T,Catálogos!V:V),LOOKUP(CONCATENATE(AE311,\" - \",AC311),Catálogos!T:T,Catálogos!W:W),FALSE)","v":{"$error":"#N/A"}},{"$f":"LOOKUP(BD311,Catálogos!AM:AM,Catálogos!AL:AL)","v":"ERR"},{"$f":"LOOKUP(BK311,Catálogos!AM:AM,Catálogos!AL:AL)","v":"ERR"},{"$f":"LOOKUP(BR311,Catálogos!AM:AM,Catálogos!AL:AL)","v":"ERR"},{"$f":"LOOKUP(BY311,Catálogos!AM:AM,Catálogos!AL:AL)","v":"ERR"},0]
[null,null,null,null,null,null,null," -SELECCIONAR-"," -SELECCIONAR-"," -SELECCIONAR-",null," -SELECCIONAR-"," -SELECCIONAR-"," -SELECCIONAR-"," -SELECCIONAR-",null,null," -SELECCIONAR-",null,null,null," -SELECCIONAR-",null,null," -SELECCIONAR-",null," -SELECCIONAR-"," -SELECCIONAR-",null,{"$f":"IF(AC312=FALSE, LOOKUP(AC312,Catálogos!O:O),LOOKUP(AC312,Catálogos!O:O,Catálogos!R:R))","v":{"$error":"#N/A"}},"",null,null,null,{"$f":"IF(CD312=FALSE,\"COL. INCORRECTA\",LOOKUP(CONCATENATE(AE312,\" - \",AC312),Catálogos!T:T,Catálogos!Y:Y))","v":{"$error":"#N/A"}},{"$f":"IF(CD312=FALSE,\"COL. INCORRECTA\",LOOKUP(CONCATENATE(AE312,\" - \",AC312),Catálogos!T:T,Catálogos!X:X))","v":{"$error":"#N/A"}}," -SELECCIONAR-",""," -SELECCIONAR-",null,null," -SELECCIONAR-",null,null,null," -SELECCIONAR-",null,null," -SELECCIONAR-"," -SELECCIONAR-",null,null,null,null,null," -SELECCIONAR-",null,null,null,null,null,null," -SELECCIONAR-",null,null,null,null,null,null," -SELECCIONAR-",null,null,null,null,null,null," -SELECCIONAR-",null,null,{"$f":"LOOKUP(AB312,Catálogos!AP:AP,Catálogos!AO:AO)","v":"ERR"},{"$f":"CONCATENATE(LOOKUP(AC312,Catálogos!O:O,Catálogos!P:P),\".\",LOOKUP(AC312,Catálogos!O:O,Catálogos!Q:Q))","v":{"$error":"#N/A"}},{"$f":"IF(AC312=LOOKUP(CONCATENATE(AE312,\" - \",AC312),Catálogos!T:T,Catálogos!V:V),LOOKUP(CONCATENATE(AE312,\" - \",AC312),Catálogos!T:T,Catálogos!W:W),FALSE)","v":{"$error":"#N/A"}},{"$f":"LOOKUP(BD312,Catálogos!AM:AM,Catálogos!AL:AL)","v":"ERR"},{"$f":"LOOKUP(BK312,Catálogos!AM:AM,Catálogos!AL:AL)","v":"ERR"},{"$f":"LOOKUP(BR312,Catálogos!AM:AM,Catálogos!AL:AL)","v":"ERR"},{"$f":"LOOKUP(BY312,Catálogos!AM:AM,Catálogos!AL:AL)","v":"ERR"},0]
[null,null,null,null,null,null,null," -SELECCIONAR-"," -SELECCIONAR-"," -SELECCIONAR-",null," -SELECCIONAR-"," -SELECCIONAR-"," -SELECCIONAR-"," -SELECCIONAR-",null,null," -SELECCIONAR-",null,null,null," -SELECCIONAR-",null,null," -SELECCIONAR-",null," -SELECCIONAR-"," -SELECCIONAR-",null,{"$f":"IF(AC313=FALSE, LOOKUP(AC313,Catálogos!O:O),LOOKUP(AC313,Catálogos!O:O,Catálogos!R:R))","v":{"$error":"#N/A"}},"",null,null,null,{"$f":"IF(CD313=FALSE,\"COL. INCORRECTA\",LOOKUP(CONCATENATE(AE313,\" - \",AC313),Catálogos!T:T,Catálogos!Y:Y))","v":{"$error":"#N/A"}},{"$f":"IF(CD313=FALSE,\"COL. INCORRECTA\",LOOKUP(CONCATENATE(AE313,\" - \",AC313),Catálogos!T:T,Catálogos!X:X))","v":{"$error":"#N/A"}}," -SELECCIONAR-",""," -SELECCIONAR-",null,null," -SELECCIONAR-",null,null,null," -SELECCIONAR-",null,null," -SELECCIONAR-"," -SELECCIONAR-",null,null,null,null,null," -SELECCIONAR-",null,null,null,null,null,null," -SELECCIONAR-",null,null,null,null,null,null," -SELECCIONAR-",null,null,null,null,null,null," -SELECCIONAR-",null,null,{"$f":"LOOKUP(AB313,Catálogos!AP:AP,Catálogos!AO:AO)","v":"ERR"},{"$f":"CONCATENATE(LOOKUP(AC313,Catálogos!O:O,Catálogos!P:P),\".\",LOOKUP(AC313,Catálogos!O:O,Catálogos!Q:Q))","v":{"$error":"#N/A"}},{"$f":"IF(AC313=LOOKUP(CONCATENATE(AE313,\" - \",AC313),Catálogos!T:T,Catálogos!V:V),LOOKUP(CONCATENATE(AE313,\" - \",AC313),Catálogos!T:T,Catálogos!W:W),FALSE)","v":{"$error":"#N/A"}},{"$f":"LOOKUP(BD313,Catálogos!AM:AM,Catálogos!AL:AL)","v":"ERR"},{"$f":"LOOKUP(BK313,Catálogos!AM:AM,Catálogos!AL:AL)","v":"ERR"},{"$f":"LOOKUP(BR313,Catálogos!AM:AM,Catálogos!AL:AL)","v":"ERR"},{"$f":"LOOKUP(BY313,Catálogos!AM:AM,Catálogos!AL:AL)","v":"ERR"},0]
[null,null,null,null,null,null,null," -SELECCIONAR-"," -SELECCIONAR-"," -SELECCIONAR-",null," -SELECCIONAR-"," -SELECCIONAR-"," -SELECCIONAR-"," -SELECCIONAR-",null,null," -SELECCIONAR-",null,null,null," -SELECCIONAR-",null,null," -SELECCIONAR-",null," -SELECCIONAR-"," -SELECCIONAR-",null,{"$f":"IF(AC314=FALSE, LOOKUP(AC314,Catálogos!O:O),LOOKUP(AC314,Catálogos!O:O,Catálogos!R:R))","v":{"$error":"#N/A"}},"",null,null,null,{"$f":"IF(CD314=FALSE,\"COL. INCORRECTA\",LOOKUP(CONCATENATE(AE314,\" - \",AC314),Catálogos!T:T,Catálogos!Y:Y))","v":{"$error":"#N/A"}},{"$f":"IF(CD314=FALSE,\"COL. INCORRECTA\",LOOKUP(CONCATENATE(AE314,\" - \",AC314),Catálogos!T:T,Catálogos!X:X))","v":{"$error":"#N/A"}}," -SELECCIONAR-",""," -SELECCIONAR-",null,null," -SELECCIONAR-",null,null,null," -SELECCIONAR-",null,null," -SELECCIONAR-"," -SELECCIONAR-",null,null,null,null,null," -SELECCIONAR-",null,null,null,null,null,null," -SELECCIONAR-",null,null,null,null,null,null," -SELECCIONAR-",null,null,null,null,null,null," -SELECCIONAR-",null,null,{"$f":"LOOKUP(AB314,Catálogos!AP:AP,Catálogos!AO:AO)","v":"ERR"},{"$f":"CONCATENATE(LOOKUP(AC314,Catálogos!O:O,Catálogos!P:P),\".\",LOOKUP(AC314,Catálogos!O:O,Catálogos!Q:Q))","v":{"$error":"#N/A"}},{"$f":"IF(AC314=LOOKUP(CONCATENATE(AE314,\" - \",AC314),Catálogos!T:T,Catálogos!V:V),LOOKUP(CONCATENATE(AE314,\" - \",AC314),Catálogos!T:T,Catálogos!W:W),FALSE)","v":{"$error":"#N/A"}},{"$f":"LOOKUP(BD314,Catálogos!AM:AM,Catálogos!AL:AL)","v":"ERR"},{"$f":"LOOKUP(BK314,Catálogos!AM:AM,Catálogos!AL:AL)","v":"ERR"},{"$f":"LOOKUP(BR314,Catálogos!AM:AM,Catálogos!AL:AL)","v":"ERR"},{"$f":"LOOKUP(BY314,Catálogos!AM:AM,Catálogos!AL:AL)","v":"ERR"},0]
[null,null,null,null,null,null,null," -SELECCIONAR-"," -SELECCIONAR-"," -SELECCIONAR-",null," -SELECCIONAR-"," -SELECCIONAR-"," -SELECCIONAR-"," -SELECCIONAR-",null,null," -SELECCIONAR-",null,null,null," -SELECCIONAR-",null,null," -SELECCIONAR-",null," -SELECCIONAR-"," -SELECCIONAR-",null,{"$f":"IF(AC315=FALSE, LOOKUP(AC315,Catálogos!O:O),LOOKUP(AC315,Catálogos!O:O,Catálogos!R:R))","v":{"$error":"#N/A"}},"",null,null,null,{"$f":"IF(CD315=FALSE,\"COL. INCORRECTA\",LOOKUP(CONCATENATE(AE315,\" - \",AC315),Catálogos!T:T,Catálogos!Y:Y))","v":{"$error":"#N/A"}},{"$f":"IF(CD315=FALSE,\"COL. INCORRECTA\",LOOKUP(CONCATENATE(AE315,\" - \",AC315),Catálogos!T:T,Catálogos!X:X))","v":{"$error":"#N/A"}}," -SELECCIONAR-",""," -SELECCIONAR-",null,null," -SELECCIONAR-",null,null,null," -SELECCIONAR-",null,null," -SELECCIONAR-"," -SELECCIONAR-",null,null,null,null,null," -SELECCIONAR-",null,null,null,null,null,null," -SELECCIONAR-",null,null,null,null,null,null," -SELECCIONAR-",null,null,null,null,null,null," -SELECCIONAR-",null,null,{"$f":"LOOKUP(AB315,Catálogos!AP:AP,Catálogos!AO:AO)","v":"ERR"},{"$f":"CONCATENATE(LOOKUP(AC315,Catálogos!O:O,Catálogos!P:P),\".\",LOOKUP(AC315,Catálogos!O:O,Catálogos!Q:Q))","v":{"$error":"#N/A"}},{"$f":"IF(AC315=LOOKUP(CONCATENATE(AE315,\" - \",AC315),Catálogos!T:T,Catálogos!V:V),LOOKUP(CONCATENATE(AE315,\" - \",AC315),Catálogos!T:T,Catálogos!W:W),FALSE)","v":{"$error":"#N/A"}},{"$f":"LOOKUP(BD315,Catálogos!AM:AM,Catálogos!AL:AL)","v":"ERR"},{"$f":"LOOKUP(BK315,Catálogos!AM:AM,Catálogos!AL:AL)","v":"ERR"},{"$f":"LOOKUP(BR315,Catálogos!AM:AM,Catálogos!AL:AL)","v":"ERR"},{"$f":"LOOKUP(BY315,Catálogos!AM:AM,Catálogos!AL:AL)","v":"ERR"},0]
[null,null,null,null,null,null,null," -SELECCIONAR-"," -SELECCIONAR-"," -SELECCIONAR-",null," -SELECCIONAR-"," -SELECCIONAR-"," -SELECCIONAR-"," -SELECCIONAR-",null,null," -SELECCIONAR-",null,null,null," -SELECCIONAR-",null,null," -SELECCIONAR-",null," -SELECCIONAR-"," -SELECCIONAR-",null,{"$f":"IF(AC316=FALSE, LOOKUP(AC316,Catálogos!O:O),LOOKUP(AC316,Catálogos!O:O,Catálogos!R:R))","v":{"$error":"#N/A"}},"",null,null,null,{"$f":"IF(CD316=FALSE,\"COL. INCORRECTA\",LOOKUP(CONCATENATE(AE316,\" - \",AC316),Catálogos!T:T,Catálogos!Y:Y))","v":{"$error":"#N/A"}},{"$f":"IF(CD316=FALSE,\"COL. INCORRECTA\",LOOKUP(CONCATENATE(AE316,\" - \",AC316),Catálogos!T:T,Catálogos!X:X))","v":{"$error":"#N/A"}}," -SELECCIONAR-",""," -SELECCIONAR-",null,null," -SELECCIONAR-",null,null,null," -SELECCIONAR-",null,null," -SELECCIONAR-"," -SELECCIONAR-",null,null,null,null,null," -SELECCIONAR-",null,null,null,null,null,null," -SELECCIONAR-",null,null,null,null,null,null," -SELECCIONAR-",null,null,null,null,null,null," -SELECCIONAR-",null,null,{"$f":"LOOKUP(AB316,Catálogos!AP:AP,Catálogos!AO:AO)","v":"ERR"},{"$f":"CONCATENATE(LOOKUP(AC316,Catálogos!O:O,Catálogos!P:P),\".\",LOOKUP(AC316,Catálogos!O:O,Catálogos!Q:Q))","v":{"$error":"#N/A"}},{"$f":"IF(AC316=LOOKUP(CONCATENATE(AE316,\" - \",AC316),Catálogos!T:T,Catálogos!V:V),LOOKUP(CONCATENATE(AE316,\" - \",AC316),Catálogos!T:T,Catálogos!W:W),FALSE)","v":{"$error":"#N/A"}},{"$f":"LOOKUP(BD316,Catálogos!AM:AM,Catálogos!AL:AL)","v":"ERR"},{"$f":"LOOKUP(BK316,Catálogos!AM:AM,Catálogos!AL:AL)","v":"ERR"},{"$f":"LOOKUP(BR316,Catálogos!AM:AM,Catálogos!AL:AL)","v":"ERR"},{"$f":"LOOKUP(BY316,Catálogos!AM:AM,Catálogos!AL:AL)","v":"ERR"},0]
[null,null,null,null,null,null,null," -SELECCIONAR-"," -SELECCIONAR-"," -SELECCIONAR-",null," -SELECCIONAR-"," -SELECCIONAR-"," -SELECCIONAR-"," -SELECCIONAR-",null,null," -SELECCIONAR-",null,null,null," -SELECCIONAR-",null,null," -SELECCIONAR-",null," -SELECCIONAR-"," -SELECCIONAR-",null,{"$f":"IF(AC317=FALSE, LOOKUP(AC317,Catálogos!O:O),LOOKUP(AC317,Catálogos!O:O,Catálogos!R:R))","v":{"$error":"#N/A"}},"",null,null,null,{"$f":"IF(CD317=FALSE,\"COL. INCORRECTA\",LOOKUP(CONCATENATE(AE317,\" - \",AC317),Catálogos!T:T,Catálogos!Y:Y))","v":{"$error":"#N/A"}},{"$f":"IF(CD317=FALSE,\"COL. INCORRECTA\",LOOKUP(CONCATENATE(AE317,\" - \",AC317),Catálogos!T:T,Catálogos!X:X))","v":{"$error":"#N/A"}}," -SELECCIONAR-",""," -SELECCIONAR-",null,null," -SELECCIONAR-",null,null,null," -SELECCIONAR-",null,null," -SELECCIONAR-"," -SELECCIONAR-",null,null,null,null,null," -SELECCIONAR-",null,null,null,null,null,null," -SELECCIONAR-",null,null,null,null,null,null," -SELECCIONAR-",null,null,null,null,null,null," -SELECCIONAR-",null,null,{"$f":"LOOKUP(AB317,Catálogos!AP:AP,Catálogos!AO:AO)","v":"ERR"},{"$f":"CONCATENATE(LOOKUP(AC317,Catálogos!O:O,Catálogos!P:P),\".\",LOOKUP(AC317,Catálogos!O:O,Catálogos!Q:Q))","v":{"$error":"#N/A"}},{"$f":"IF(AC317=LOOKUP(CONCATENATE(AE317,\" - \",AC317),Catálogos!T:T,Catálogos!V:V),LOOKUP(CONCATENATE(AE317,\" - \",AC317),Catálogos!T:T,Catálogos!W:W),FALSE)","v":{"$error":"#N/A"}},{"$f":"LOOKUP(BD317,Catálogos!AM:AM,Catálogos!AL:AL)","v":"ERR"},{"$f":"LOOKUP(BK317,Catálogos!AM:AM,Catálogos!AL:AL)","v":"ERR"},{"$f":"LOOKUP(BR317,Catálogos!AM:AM,Catálogos!AL:AL)","v":"ERR"},{"$f":"LOOKUP(BY317,Catálogos!AM:AM,Catálogos!AL:AL)","v":"ERR"},0]
[null,null,null,null,null,null,null," -SELECCIONAR-"," -SELECCIONAR-"," -SELECCIONAR-",null," -SELECCIONAR-"," -SELECCIONAR-"," -SELECCIONAR-"," -SELECCIONAR-",null,null," -SELECCIONAR-",null,null,null," -SELECCIONAR-",null,null," -SELECCIONAR-",null," -SELECCIONAR-"," -SELECCIONAR-",null,{"$f":"IF(AC318=FALSE, LOOKUP(AC318,Catálogos!O:O),LOOKUP(AC318,Catálogos!O:O,Catálogos!R:R))","v":{"$error":"#N/A"}},"",null,null,null,{"$f":"IF(CD318=FALSE,\"COL. INCORRECTA\",LOOKUP(CONCATENATE(AE318,\" - \",AC318),Catálogos!T:T,Catálogos!Y:Y))","v":{"$error":"#N/A"}},{"$f":"IF(CD318=FALSE,\"COL. INCORRECTA\",LOOKUP(CONCATENATE(AE318,\" - \",AC318),Catálogos!T:T,Catálogos!X:X))","v":{"$error":"#N/A"}}," -SELECCIONAR-",""," -SELECCIONAR-",null,null," -SELECCIONAR-",null,null,null," -SELECCIONAR-",null,null," -SELECCIONAR-"," -SELECCIONAR-",null,null,null,null,null," -SELECCIONAR-",null,null,null,null,null,null," -SELECCIONAR-",null,null,null,null,null,null," -SELECCIONAR-",null,null,null,null,null,null," -SELECCIONAR-",null,null,{"$f":"LOOKUP(AB318,Catálogos!AP:AP,Catálogos!AO:AO)","v":"ERR"},{"$f":"CONCATENATE(LOOKUP(AC318,Catálogos!O:O,Catálogos!P:P),\".\",LOOKUP(AC318,Catálogos!O:O,Catálogos!Q:Q))","v":{"$error":"#N/A"}},{"$f":"IF(AC318=LOOKUP(CONCATENATE(AE318,\" - \",AC318),Catálogos!T:T,Catálogos!V:V),LOOKUP(CONCATENATE(AE318,\" - \",AC318),Catálogos!T:T,Catálogos!W:W),FALSE)","v":{"$error":"#N/A"}},{"$f":"LOOKUP(BD318,Catálogos!AM:AM,Catálogos!AL:AL)","v":"ERR"},{"$f":"LOOKUP(BK318,Catálogos!AM:AM,Catálogos!AL:AL)","v":"ERR"},{"$f":"LOOKUP(BR318,Catálogos!AM:AM,Catálogos!AL:AL)","v":"ERR"},{"$f":"LOOKUP(BY318,Catálogos!AM:AM,Catálogos!AL:AL)","v":"ERR"},0]
[null,null,null,null,null,null,null," -SELECCIONAR-"," -SELECCIONAR-"," -SELECCIONAR-",null," -SELECCIONAR-"," -SELECCIONAR-"," -SELECCIONAR-"," -SELECCIONAR-",null,null," -SELECCIONAR-",null,null,null," -SELECCIONAR-",null,null," -SELECCIONAR-",null," -SELECCIONAR-"," -SELECCIONAR-",null,{"$f":"IF(AC319=FALSE, LOOKUP(AC319,Catálogos!O:O),LOOKUP(AC319,Catálogos!O:O,Catálogos!R:R))","v":{"$error":"#N/A"}},"",null,null,null,{"$f":"IF(CD319=FALSE,\"COL. INCORRECTA\",LOOKUP(CONCATENATE(AE319,\" - \",AC319),Catálogos!T:T,Catálogos!Y:Y))","v":{"$error":"#N/A"}},{"$f":"IF(CD319=FALSE,\"COL. INCORRECTA\",LOOKUP(CONCATENATE(AE319,\" - \",AC319),Catálogos!T:T,Catálogos!X:X))","v":{"$error":"#N/A"}}," -SELECCIONAR-",""," -SELECCIONAR-",null,null," -SELECCIONAR-",null,null,null," -SELECCIONAR-",null,null," -SELECCIONAR-"," -SELECCIONAR-",null,null,null,null,null," -SELECCIONAR-",null,null,null,null,null,null," -SELECCIONAR-",null,null,null,null,null,null," -SELECCIONAR-",null,null,null,null,null,null," -SELECCIONAR-",null,null,{"$f":"LOOKUP(AB319,Catálogos!AP:AP,Catálogos!AO:AO)","v":"ERR"},{"$f":"CONCATENATE(LOOKUP(AC319,Catálogos!O:O,Catálogos!P:P),\".\",LOOKUP(AC319,Catálogos!O:O,Catálogos!Q:Q))","v":{"$error":"#N/A"}},{"$f":"IF(AC319=LOOKUP(CONCATENATE(AE319,\" - \",AC319),Catálogos!T:T,Catálogos!V:V),LOOKUP(CONCATENATE(AE319,\" - \",AC319),Catálogos!T:T,Catálogos!W:W),FALSE)","v":{"$error":"#N/A"}},{"$f":"LOOKUP(BD319,Catálogos!AM:AM,Catálogos!AL:AL)","v":"ERR"},{"$f":"LOOKUP(BK319,Catálogos!AM:AM,Catálogos!AL:AL)","v":"ERR"},{"$f":"LOOKUP(BR319,Catálogos!AM:AM,Catálogos!AL:AL)","v":"ERR"},{"$f":"LOOKUP(BY319,Catálogos!AM:AM,Catálogos!AL:AL)","v":"ERR"},0]
[null,null,null,null,null,null,null," -SELECCIONAR-"," -SELECCIONAR-"," -SELECCIONAR-",null," -SELECCIONAR-"," -SELECCIONAR-"," -SELECCIONAR-"," -SELECCIONAR-",null,null," -SELECCIONAR-",null,null,null," -SELECCIONAR-",null,null," -SELECCIONAR-",null," -SELECCIONAR-"," -SELECCIONAR-",null,{"$f":"IF(AC320=FALSE, LOOKUP(AC320,Catálogos!O:O),LOOKUP(AC320,Catálogos!O:O,Catálogos!R:R))","v":{"$error":"#N/A"}},"",null,null,null,{"$f":"IF(CD320=FALSE,\"COL. INCORRECTA\",LOOKUP(CONCATENATE(AE320,\" - \",AC320),Catálogos!T:T,Catálogos!Y:Y))","v":{"$error":"#N/A"}},{"$f":"IF(CD320=FALSE,\"COL. INCORRECTA\",LOOKUP(CONCATENATE(AE320,\" - \",AC320),Catálogos!T:T,Catálogos!X:X))","v":{"$error":"#N/A"}}," -SELECCIONAR-",""," -SELECCIONAR-",null,null," -SELECCIONAR-",null,null,null," -SELECCIONAR-",null,null," -SELECCIONAR-"," -SELECCIONAR-",null,null,null,null,null," -SELECCIONAR-",null,null,null,null,null,null," -SELECCIONAR-",null,null,null,null,null,null," -SELECCIONAR-",null,null,null,null,null,null," -SELECCIONAR-",null,null,{"$f":"LOOKUP(AB320,Catálogos!AP:AP,Catálogos!AO:AO)","v":"ERR"},{"$f":"CONCATENATE(LOOKUP(AC320,Catálogos!O:O,Catálogos!P:P),\".\",LOOKUP(AC320,Catálogos!O:O,Catálogos!Q:Q))","v":{"$error":"#N/A"}},{"$f":"IF(AC320=LOOKUP(CONCATENATE(AE320,\" - \",AC320),Catálogos!T:T,Catálogos!V:V),LOOKUP(CONCATENATE(AE320,\" - \",AC320),Catálogos!T:T,Catálogos!W:W),FALSE)","v":{"$error":"#N/A"}},{"$f":"LOOKUP(BD320,Catálogos!AM:AM,Catálogos!AL:AL)","v":"ERR"},{"$f":"LOOKUP(BK320,Catálogos!AM:AM,Catálogos!AL:AL)","v":"ERR"},{"$f":"LOOKUP(BR320,Catálogos!AM:AM,Catálogos!AL:AL)","v":"ERR"},{"$f":"LOOKUP(BY320,Catálogos!AM:AM,Catálogos!AL:AL)","v":"ERR"},0]
[null,null,null,null,null,null,null," -SELECCIONAR-"," -SELECCIONAR-"," -SELECCIONAR-",null," -SELECCIONAR-"," -SELECCIONAR-"," -SELECCIONAR-"," -SELECCIONAR-",null,null," -SELECCIONAR-",null,null,null," -SELECCIONAR-",null,null," -SELECCIONAR-",null," -SELECCIONAR-"," -SELECCIONAR-",null,{"$f":"IF(AC321=FALSE, LOOKUP(AC321,Catálogos!O:O),LOOKUP(AC321,Catálogos!O:O,Catálogos!R:R))","v":{"$error":"#N/A"}},"",null,null,null,{"$f":"IF(CD321=FALSE,\"COL. INCORRECTA\",LOOKUP(CONCATENATE(AE321,\" - \",AC321),Catálogos!T:T,Catálogos!Y:Y))","v":{"$error":"#N/A"}},{"$f":"IF(CD321=FALSE,\"COL. INCORRECTA\",LOOKUP(CONCATENATE(AE321,\" - \",AC321),Catálogos!T:T,Catálogos!X:X))","v":{"$error":"#N/A"}}," -SELECCIONAR-",""," -SELECCIONAR-",null,null," -SELECCIONAR-",null,null,null," -SELECCIONAR-",null,null," -SELECCIONAR-"," -SELECCIONAR-",null,null,null,null,null," -SELECCIONAR-",null,null,null,null,null,null," -SELECCIONAR-",null,null,null,null,null,null," -SELECCIONAR-",null,null,null,null,null,null," -SELECCIONAR-",null,null,{"$f":"LOOKUP(AB321,Catálogos!AP:AP,Catálogos!AO:AO)","v":"ERR"},{"$f":"CONCATENATE(LOOKUP(AC321,Catálogos!O:O,Catálogos!P:P),\".\",LOOKUP(AC321,Catálogos!O:O,Catálogos!Q:Q))","v":{"$error":"#N/A"}},{"$f":"IF(AC321=LOOKUP(CONCATENATE(AE321,\" - \",AC321),Catálogos!T:T,Catálogos!V:V),LOOKUP(CONCATENATE(AE321,\" - \",AC321),Catálogos!T:T,Catálogos!W:W),FALSE)","v":{"$error":"#N/A"}},{"$f":"LOOKUP(BD321,Catálogos!AM:AM,Catálogos!AL:AL)","v":"ERR"},{"$f":"LOOKUP(BK321,Catálogos!AM:AM,Catálogos!AL:AL)","v":"ERR"},{"$f":"LOOKUP(BR321,Catálogos!AM:AM,Catálogos!AL:AL)","v":"ERR"},{"$f":"LOOKUP(BY321,Catálogos!AM:AM,Catálogos!AL:AL)","v":"ERR"},0]
[null,null,null,null,null,null,null," -SELECCIONAR-"," -SELECCIONAR-"," -SELECCIONAR-",null," -SELECCIONAR-"," -SELECCIONAR-"," -SELECCIONAR-"," -SELECCIONAR-",null,null," -SELECCIONAR-",null,null,null," -SELECCIONAR-",null,null," -SELECCIONAR-",null," -SELECCIONAR-"," -SELECCIONAR-",null,{"$f":"IF(AC322=FALSE, LOOKUP(AC322,Catálogos!O:O),LOOKUP(AC322,Catálogos!O:O,Catálogos!R:R))","v":{"$error":"#N/A"}},"",null,null,null,{"$f":"IF(CD322=FALSE,\"COL. INCORRECTA\",LOOKUP(CONCATENATE(AE322,\" - \",AC322),Catálogos!T:T,Catálogos!Y:Y))","v":{"$error":"#N/A"}},{"$f":"IF(CD322=FALSE,\"COL. INCORRECTA\",LOOKUP(CONCATENATE(AE322,\" - \",AC322),Catálogos!T:T,Catálogos!X:X))","v":{"$error":"#N/A"}}," -SELECCIONAR-",""," -SELECCIONAR-",null,null," -SELECCIONAR-",null,null,null," -SELECCIONAR-",null,null," -SELECCIONAR-"," -SELECCIONAR-",null,null,null,null,null," -SELECCIONAR-",null,null,null,null,null,null," -SELECCIONAR-",null,null,null,null,null,null," -SELECCIONAR-",null,null,null,null,null,null," -SELECCIONAR-",null,null,{"$f":"LOOKUP(AB322,Catálogos!AP:AP,Catálogos!AO:AO)","v":"ERR"},{"$f":"CONCATENATE(LOOKUP(AC322,Catálogos!O:O,Catálogos!P:P),\".\",LOOKUP(AC322,Catálogos!O:O,Catálogos!Q:Q))","v":{"$error":"#N/A"}},{"$f":"IF(AC322=LOOKUP(CONCATENATE(AE322,\" - \",AC322),Catálogos!T:T,Catálogos!V:V),LOOKUP(CONCATENATE(AE322,\" - \",AC322),Catálogos!T:T,Catálogos!W:W),FALSE)","v":{"$error":"#N/A"}},{"$f":"LOOKUP(BD322,Catálogos!AM:AM,Catálogos!AL:AL)","v":"ERR"},{"$f":"LOOKUP(BK322,Catálogos!AM:AM,Catálogos!AL:AL)","v":"ERR"},{"$f":"LOOKUP(BR322,Catálogos!AM:AM,Catálogos!AL:AL)","v":"ERR"},{"$f":"LOOKUP(BY322,Catálogos!AM:AM,Catálogos!AL:AL)","v":"ERR"},0]
[null,null,null,null,null,null,null," -SELECCIONAR-"," -SELECCIONAR-"," -SELECCIONAR-",null," -SELECCIONAR-"," -SELECCIONAR-"," -SELECCIONAR-"," -SELECCIONAR-",null,null," -SELECCIONAR-",null,null,null," -SELECCIONAR-",null,null," -SELECCIONAR-",null," -SELECCIONAR-"," -SELECCIONAR-",null,{"$f":"IF(AC323=FALSE, LOOKUP(AC323,Catálogos!O:O),LOOKUP(AC323,Catálogos!O:O,Catálogos!R:R))","v":{"$error":"#N/A"}},"",null,null,null,{"$f":"IF(CD323=FALSE,\"COL. INCORRECTA\",LOOKUP(CONCATENATE(AE323,\" - \",AC323),Catálogos!T:T,Catálogos!Y:Y))","v":{"$error":"#N/A"}},{"$f":"IF(CD323=FALSE,\"COL. INCORRECTA\",LOOKUP(CONCATENATE(AE323,\" - \",AC323),Catálogos!T:T,Catálogos!X:X))","v":{"$error":"#N/A"}}," -SELECCIONAR-",""," -SELECCIONAR-",null,null," -SELECCIONAR-",null,null,null," -SELECCIONAR-",null,null," -SELECCIONAR-"," -SELECCIONAR-",null,null,null,null,null," -SELECCIONAR-",null,null,null,null,null,null," -SELECCIONAR-",null,null,null,null,null,null," -SELECCIONAR-",null,null,null,null,null,null," -SELECCIONAR-",null,null,{"$f":"LOOKUP(AB323,Catálogos!AP:AP,Catálogos!AO:AO)","v":"ERR"},{"$f":"CONCATENATE(LOOKUP(AC323,Catálogos!O:O,Catálogos!P:P),\".\",LOOKUP(AC323,Catálogos!O:O,Catálogos!Q:Q))","v":{"$error":"#N/A"}},{"$f":"IF(AC323=LOOKUP(CONCATENATE(AE323,\" - \",AC323),Catálogos!T:T,Catálogos!V:V),LOOKUP(CONCATENATE(AE323,\" - \",AC323),Catálogos!T:T,Catálogos!W:W),FALSE)","v":{"$error":"#N/A"}},{"$f":"LOOKUP(BD323,Catálogos!AM:AM,Catálogos!AL:AL)","v":"ERR"},{"$f":"LOOKUP(BK323,Catálogos!AM:AM,Catálogos!AL:AL)","v":"ERR"},{"$f":"LOOKUP(BR323,Catálogos!AM:AM,Catálogos!AL:AL)","v":"ERR"},{"$f":"LOOKUP(BY323,Catálogos!AM:AM,Catálogos!AL:AL)","v":"ERR"},0]
[null,null,null,null,null,null,null," -SELECCIONAR-"," -SELECCIONAR-"," -SELECCIONAR-",null," -SELECCIONAR-"," -SELECCIONAR-"," -SELECCIONAR-"," -SELECCIONAR-",null,null," -SELECCIONAR-",null,null,null," -SELECCIONAR-",null,null," -SELECCIONAR-",null," -SELECCIONAR-"," -SELECCIONAR-",null,{"$f":"IF(AC324=FALSE, LOOKUP(AC324,Catálogos!O:O),LOOKUP(AC324,Catálogos!O:O,Catálogos!R:R))","v":{"$error":"#N/A"}},"",null,null,null,{"$f":"IF(CD324=FALSE,\"COL. INCORRECTA\",LOOKUP(CONCATENATE(AE324,\" - \",AC324),Catálogos!T:T,Catálogos!Y:Y))","v":{"$error":"#N/A"}},{"$f":"IF(CD324=FALSE,\"COL. INCORRECTA\",LOOKUP(CONCATENATE(AE324,\" - \",AC324),Catálogos!T:T,Catálogos!X:X))","v":{"$error":"#N/A"}}," -SELECCIONAR-",""," -SELECCIONAR-",null,null," -SELECCIONAR-",null,null,null," -SELECCIONAR-",null,null," -SELECCIONAR-"," -SELECCIONAR-",null,null,null,null,null," -SELECCIONAR-",null,null,null,null,null,null," -SELECCIONAR-",null,null,null,null,null,null," -SELECCIONAR-",null,null,null,null,null,null," -SELECCIONAR-",null,null,{"$f":"LOOKUP(AB324,Catálogos!AP:AP,Catálogos!AO:AO)","v":"ERR"},{"$f":"CONCATENATE(LOOKUP(AC324,Catálogos!O:O,Catálogos!P:P),\".\",LOOKUP(AC324,Catálogos!O:O,Catálogos!Q:Q))","v":{"$error":"#N/A"}},{"$f":"IF(AC324=LOOKUP(CONCATENATE(AE324,\" - \",AC324),Catálogos!T:T,Catálogos!V:V),LOOKUP(CONCATENATE(AE324,\" - \",AC324),Catálogos!T:T,Catálogos!W:W),FALSE)","v":{"$error":"#N/A"}},{"$f":"LOOKUP(BD324,Catálogos!AM:AM,Catálogos!AL:AL)","v":"ERR"},{"$f":"LOOKUP(BK324,Catálogos!AM:AM,Catálogos!AL:AL)","v":"ERR"},{"$f":"LOOKUP(BR324,Catálogos!AM:AM,Catálogos!AL:AL)","v":"ERR"},{"$f":"LOOKUP(BY324,Catálogos!AM:AM,Catálogos!AL:AL)","v":"ERR"},0]
[null,null,null,null,null,null,null," -SELECCIONAR-"," -SELECCIONAR-"," -SELECCIONAR-",null," -SELECCIONAR-"," -SELECCIONAR-"," -SELECCIONAR-"," -SELECCIONAR-",null,null," -SELECCIONAR-",null,null,null," -SELECCIONAR-",null,null," -SELECCIONAR-",null," -SELECCIONAR-"," -SELECCIONAR-",null,{"$f":"IF(AC325=FALSE, LOOKUP(AC325,Catálogos!O:O),LOOKUP(AC325,Catálogos!O:O,Catálogos!R:R))","v":{"$error":"#N/A"}},"",null,null,null,{"$f":"IF(CD325=FALSE,\"COL. INCORRECTA\",LOOKUP(CONCATENATE(AE325,\" - \",AC325),Catálogos!T:T,Catálogos!Y:Y))","v":{"$error":"#N/A"}},{"$f":"IF(CD325=FALSE,\"COL. INCORRECTA\",LOOKUP(CONCATENATE(AE325,\" - \",AC325),Catálogos!T:T,Catálogos!X:X))","v":{"$error":"#N/A"}}," -SELECCIONAR-",""," -SELECCIONAR-",null,null," -SELECCIONAR-",null,null,null," -SELECCIONAR-",null,null," -SELECCIONAR-"," -SELECCIONAR-",null,null,null,null,null," -SELECCIONAR-",null,null,null,null,null,null," -SELECCIONAR-",null,null,null,null,null,null," -SELECCIONAR-",null,null,null,null,null,null," -SELECCIONAR-",null,null,{"$f":"LOOKUP(AB325,Catálogos!AP:AP,Catálogos!AO:AO)","v":"ERR"},{"$f":"CONCATENATE(LOOKUP(AC325,Catálogos!O:O,Catálogos!P:P),\".\",LOOKUP(AC325,Catálogos!O:O,Catálogos!Q:Q))","v":{"$error":"#N/A"}},{"$f":"IF(AC325=LOOKUP(CONCATENATE(AE325,\" - \",AC325),Catálogos!T:T,Catálogos!V:V),LOOKUP(CONCATENATE(AE325,\" - \",AC325),Catálogos!T:T,Catálogos!W:W),FALSE)","v":{"$error":"#N/A"}},{"$f":"LOOKUP(BD325,Catálogos!AM:AM,Catálogos!AL:AL)","v":"ERR"},{"$f":"LOOKUP(BK325,Catálogos!AM:AM,Catálogos!AL:AL)","v":"ERR"},{"$f":"LOOKUP(BR325,Catálogos!AM:AM,Catálogos!AL:AL)","v":"ERR"},{"$f":"LOOKUP(BY325,Catálogos!AM:AM,Catálogos!AL:AL)","v":"ERR"},{"$f":"SUM(BE325+BL325+BS325+BZ325)","v":0}]
[null,null,null,null,null,null,null," -SELECCIONAR-"," -SELECCIONAR-"," -SELECCIONAR-",null," -SELECCIONAR-"," -SELECCIONAR-"," -SELECCIONAR-"," -SELECCIONAR-",null,null," -SELECCIONAR-",null,null,null," -SELECCIONAR-",null,null," -SELECCIONAR-",null," -SELECCIONAR-"," -SELECCIONAR-",null,{"$f":"IF(AC326=FALSE, LOOKUP(AC326,Catálogos!O:O),LOOKUP(AC326,Catálogos!O:O,Catálogos!R:R))","v":{"$error":"#N/A"}},"",null,null,null,{"$f":"IF(CD326=FALSE,\"COL. INCORRECTA\",LOOKUP(CONCATENATE(AE326,\" - \",AC326),Catálogos!T:T,Catálogos!Y:Y))","v":{"$error":"#N/A"}},{"$f":"IF(CD326=FALSE,\"COL. INCORRECTA\",LOOKUP(CONCATENATE(AE326,\" - \",AC326),Catálogos!T:T,Catálogos!X:X))","v":{"$error":"#N/A"}}," -SELECCIONAR-",""," -SELECCIONAR-",null,null," -SELECCIONAR-",null,null,null," -SELECCIONAR-",null,null," -SELECCIONAR-"," -SELECCIONAR-",null,null,null,null,null," -SELECCIONAR-",null,null,null,null,null,null," -SELECCIONAR-",null,null,null,null,null,null," -SELECCIONAR-",null,null,null,null,null,null," -SELECCIONAR-",null,null,{"$f":"LOOKUP(AB326,Catálogos!AP:AP,Catálogos!AO:AO)","v":"ERR"},{"$f":"CONCATENATE(LOOKUP(AC326,Catálogos!O:O,Catálogos!P:P),\".\",LOOKUP(AC326,Catálogos!O:O,Catálogos!Q:Q))","v":{"$error":"#N/A"}},{"$f":"IF(AC326=LOOKUP(CONCATENATE(AE326,\" - \",AC326),Catálogos!T:T,Catálogos!V:V),LOOKUP(CONCATENATE(AE326,\" - \",AC326),Catálogos!T:T,Catálogos!W:W),FALSE)","v":{"$error":"#N/A"}},{"$f":"LOOKUP(BD326,Catálogos!AM:AM,Catálogos!AL:AL)","v":"ERR"},{"$f":"LOOKUP(BK326,Catálogos!AM:AM,Catálogos!AL:AL)","v":"ERR"},{"$f":"LOOKUP(BR326,Catálogos!AM:AM,Catálogos!AL:AL)","v":"ERR"},{"$f":"LOOKUP(BY326,Catálogos!AM:AM,Catálogos!AL:AL)","v":"ERR"},0]
[null,null,null,null,null,null,null," -SELECCIONAR-"," -SELECCIONAR-"," -SELECCIONAR-",null," -SELECCIONAR-"," -SELECCIONAR-"," -SELECCIONAR-"," -SELECCIONAR-",null,null," -SELECCIONAR-",null,null,null," -SELECCIONAR-",null,null," -SELECCIONAR-",null," -SELECCIONAR-"," -SELECCIONAR-",null,{"$f":"IF(AC327=FALSE, LOOKUP(AC327,Catálogos!O:O),LOOKUP(AC327,Catálogos!O:O,Catálogos!R:R))","v":{"$error":"#N/A"}},"",null,null,null,{"$f":"IF(CD327=FALSE,\"COL. INCORRECTA\",LOOKUP(CONCATENATE(AE327,\" - \",AC327),Catálogos!T:T,Catálogos!Y:Y))","v":{"$error":"#N/A"}},{"$f":"IF(CD327=FALSE,\"COL. INCORRECTA\",LOOKUP(CONCATENATE(AE327,\" - \",AC327),Catálogos!T:T,Catálogos!X:X))","v":{"$error":"#N/A"}}," -SELECCIONAR-",""," -SELECCIONAR-",null,null," -SELECCIONAR-",null,null,null," -SELECCIONAR-",null,null," -SELECCIONAR-"," -SELECCIONAR-",null,null,null,null,null," -SELECCIONAR-",null,null,null,null,null,null," -SELECCIONAR-",null,null,null,null,null,null," -SELECCIONAR-",null,null,null,null,null,null," -SELECCIONAR-",null,null,{"$f":"LOOKUP(AB327,Catálogos!AP:AP,Catálogos!AO:AO)","v":"ERR"},{"$f":"CONCATENATE(LOOKUP(AC327,Catálogos!O:O,Catálogos!P:P),\".\",LOOKUP(AC327,Catálogos!O:O,Catálogos!Q:Q))","v":{"$error":"#N/A"}},{"$f":"IF(AC327=LOOKUP(CONCATENATE(AE327,\" - \",AC327),Catálogos!T:T,Catálogos!V:V),LOOKUP(CONCATENATE(AE327,\" - \",AC327),Catálogos!T:T,Catálogos!W:W),FALSE)","v":{"$error":"#N/A"}},{"$f":"LOOKUP(BD327,Catálogos!AM:AM,Catálogos!AL:AL)","v":"ERR"},{"$f":"LOOKUP(BK327,Catálogos!AM:AM,Catálogos!AL:AL)","v":"ERR"},{"$f":"LOOKUP(BR327,Catálogos!AM:AM,Catálogos!AL:AL)","v":"ERR"},{"$f":"LOOKUP(BY327,Catálogos!AM:AM,Catálogos!AL:AL)","v":"ERR"},0]
[null,null,null,null,null,null,null," -SELECCIONAR-"," -SELECCIONAR-"," -SELECCIONAR-",null," -SELECCIONAR-"," -SELECCIONAR-"," -SELECCIONAR-"," -SELECCIONAR-",null,null," -SELECCIONAR-",null,null,null," -SELECCIONAR-",null,null," -SELECCIONAR-",null," -SELECCIONAR-"," -SELECCIONAR-",null,{"$f":"IF(AC328=FALSE, LOOKUP(AC328,Catálogos!O:O),LOOKUP(AC328,Catálogos!O:O,Catálogos!R:R))","v":{"$error":"#N/A"}},"",null,null,null,{"$f":"IF(CD328=FALSE,\"COL. INCORRECTA\",LOOKUP(CONCATENATE(AE328,\" - \",AC328),Catálogos!T:T,Catálogos!Y:Y))","v":{"$error":"#N/A"}},{"$f":"IF(CD328=FALSE,\"COL. INCORRECTA\",LOOKUP(CONCATENATE(AE328,\" - \",AC328),Catálogos!T:T,Catálogos!X:X))","v":{"$error":"#N/A"}}," -SELECCIONAR-",""," -SELECCIONAR-",null,null," -SELECCIONAR-",null,null,null," -SELECCIONAR-",null,null," -SELECCIONAR-"," -SELECCIONAR-",null,null,null,null,null," -SELECCIONAR-",null,null,null,null,null,null," -SELECCIONAR-",null,null,null,null,null,null," -SELECCIONAR-",null,null,null,null,null,null," -SELECCIONAR-",null,null,{"$f":"LOOKUP(AB328,Catálogos!AP:AP,Catálogos!AO:AO)","v":"ERR"},{"$f":"CONCATENATE(LOOKUP(AC328,Catálogos!O:O,Catálogos!P:P),\".\",LOOKUP(AC328,Catálogos!O:O,Catálogos!Q:Q))","v":{"$error":"#N/A"}},{"$f":"IF(AC328=LOOKUP(CONCATENATE(AE328,\" - \",AC328),Catálogos!T:T,Catálogos!V:V),LOOKUP(CONCATENATE(AE328,\" - \",AC328),Catálogos!T:T,Catálogos!W:W),FALSE)","v":{"$error":"#N/A"}},{"$f":"LOOKUP(BD328,Catálogos!AM:AM,Catálogos!AL:AL)","v":"ERR"},{"$f":"LOOKUP(BK328,Catálogos!AM:AM,Catálogos!AL:AL)","v":"ERR"},{"$f":"LOOKUP(BR328,Catálogos!AM:AM,Catálogos!AL:AL)","v":"ERR"},{"$f":"LOOKUP(BY328,Catálogos!AM:AM,Catálogos!AL:AL)","v":"ERR"},0]
[null,null,null,null,null,null,null," -SELECCIONAR-"," -SELECCIONAR-"," -SELECCIONAR-",null," -SELECCIONAR-"," -SELECCIONAR-"," -SELECCIONAR-"," -SELECCIONAR-",null,null," -SELECCIONAR-",null,null,null," -SELECCIONAR-",null,null," -SELECCIONAR-",null," -SELECCIONAR-"," -SELECCIONAR-",null,{"$f":"IF(AC329=FALSE, LOOKUP(AC329,Catálogos!O:O),LOOKUP(AC329,Catálogos!O:O,Catálogos!R:R))","v":{"$error":"#N/A"}},"",null,null,null,{"$f":"IF(CD329=FALSE,\"COL. INCORRECTA\",LOOKUP(CONCATENATE(AE329,\" - \",AC329),Catálogos!T:T,Catálogos!Y:Y))","v":{"$error":"#N/A"}},{"$f":"IF(CD329=FALSE,\"COL. INCORRECTA\",LOOKUP(CONCATENATE(AE329,\" - \",AC329),Catálogos!T:T,Catálogos!X:X))","v":{"$error":"#N/A"}}," -SELECCIONAR-",""," -SELECCIONAR-",null,null," -SELECCIONAR-",null,null,null," -SELECCIONAR-",null,null," -SELECCIONAR-"," -SELECCIONAR-",null,null,null,null,null," -SELECCIONAR-",null,null,null,null,null,null," -SELECCIONAR-",null,null,null,null,null,null," -SELECCIONAR-",null,null,null,null,null,null," -SELECCIONAR-",null,null,{"$f":"LOOKUP(AB329,Catálogos!AP:AP,Catálogos!AO:AO)","v":"ERR"},{"$f":"CONCATENATE(LOOKUP(AC329,Catálogos!O:O,Catálogos!P:P),\".\",LOOKUP(AC329,Catálogos!O:O,Catálogos!Q:Q))","v":{"$error":"#N/A"}},{"$f":"IF(AC329=LOOKUP(CONCATENATE(AE329,\" - \",AC329),Catálogos!T:T,Catálogos!V:V),LOOKUP(CONCATENATE(AE329,\" - \",AC329),Catálogos!T:T,Catálogos!W:W),FALSE)","v":{"$error":"#N/A"}},{"$f":"LOOKUP(BD329,Catálogos!AM:AM,Catálogos!AL:AL)","v":"ERR"},{"$f":"LOOKUP(BK329,Catálogos!AM:AM,Catálogos!AL:AL)","v":"ERR"},{"$f":"LOOKUP(BR329,Catálogos!AM:AM,Catálogos!AL:AL)","v":"ERR"},{"$f":"LOOKUP(BY329,Catálogos!AM:AM,Catálogos!AL:AL)","v":"ERR"},0]
[null,null,null,null,null,null,null," -SELECCIONAR-"," -SELECCIONAR-"," -SELECCIONAR-",null," -SELECCIONAR-"," -SELECCIONAR-"," -SELECCIONAR-"," -SELECCIONAR-",null,null," -SELECCIONAR-",null,null,null," -SELECCIONAR-",null,null," -SELECCIONAR-",null," -SELECCIONAR-"," -SELECCIONAR-",null,{"$f":"IF(AC330=FALSE, LOOKUP(AC330,Catálogos!O:O),LOOKUP(AC330,Catálogos!O:O,Catálogos!R:R))","v":{"$error":"#N/A"}},"",null,null,null,{"$f":"IF(CD330=FALSE,\"COL. INCORRECTA\",LOOKUP(CONCATENATE(AE330,\" - \",AC330),Catálogos!T:T,Catálogos!Y:Y))","v":{"$error":"#N/A"}},{"$f":"IF(CD330=FALSE,\"COL. INCORRECTA\",LOOKUP(CONCATENATE(AE330,\" - \",AC330),Catálogos!T:T,Catálogos!X:X))","v":{"$error":"#N/A"}}," -SELECCIONAR-",""," -SELECCIONAR-",null,null," -SELECCIONAR-",null,null,null," -SELECCIONAR-",null,null," -SELECCIONAR-"," -SELECCIONAR-",null,null,null,null,null," -SELECCIONAR-",null,null,null,null,null,null," -SELECCIONAR-",null,null,null,null,null,null," -SELECCIONAR-",null,null,null,null,null,null," -SELECCIONAR-",null,null,{"$f":"LOOKUP(AB330,Catálogos!AP:AP,Catálogos!AO:AO)","v":"ERR"},{"$f":"CONCATENATE(LOOKUP(AC330,Catálogos!O:O,Catálogos!P:P),\".\",LOOKUP(AC330,Catálogos!O:O,Catálogos!Q:Q))","v":{"$error":"#N/A"}},{"$f":"IF(AC330=LOOKUP(CONCATENATE(AE330,\" - \",AC330),Catálogos!T:T,Catálogos!V:V),LOOKUP(CONCATENATE(AE330,\" - \",AC330),Catálogos!T:T,Catálogos!W:W),FALSE)","v":{"$error":"#N/A"}},{"$f":"LOOKUP(BD330,Catálogos!AM:AM,Catálogos!AL:AL)","v":"ERR"},{"$f":"LOOKUP(BK330,Catálogos!AM:AM,Catálogos!AL:AL)","v":"ERR"},{"$f":"LOOKUP(BR330,Catálogos!AM:AM,Catálogos!AL:AL)","v":"ERR"},{"$f":"LOOKUP(BY330,Catálogos!AM:AM,Catálogos!AL:AL)","v":"ERR"},0]
[null,null,null,null,null,null,null," -SELECCIONAR-"," -SELECCIONAR-"," -SELECCIONAR-",null," -SELECCIONAR-"," -SELECCIONAR-"," -SELECCIONAR-"," -SELECCIONAR-",null,null," -SELECCIONAR-",null,null,null," -SELECCIONAR-",null,null," -SELECCIONAR-",null," -SELECCIONAR-"," -SELECCIONAR-",null,{"$f":"IF(AC331=FALSE, LOOKUP(AC331,Catálogos!O:O),LOOKUP(AC331,Catálogos!O:O,Catálogos!R:R))","v":{"$error":"#N/A"}},"",null,null,null,{"$f":"IF(CD331=FALSE,\"COL. INCORRECTA\",LOOKUP(CONCATENATE(AE331,\" - \",AC331),Catálogos!T:T,Catálogos!Y:Y))","v":{"$error":"#N/A"}},{"$f":"IF(CD331=FALSE,\"COL. INCORRECTA\",LOOKUP(CONCATENATE(AE331,\" - \",AC331),Catálogos!T:T,Catálogos!X:X))","v":{"$error":"#N/A"}}," -SELECCIONAR-",""," -SELECCIONAR-",null,null," -SELECCIONAR-",null,null,null," -SELECCIONAR-",null,null," -SELECCIONAR-"," -SELECCIONAR-",null,null,null,null,null," -SELECCIONAR-",null,null,null,null,null,null," -SELECCIONAR-",null,null,null,null,null,null," -SELECCIONAR-",null,null,null,null,null,null," -SELECCIONAR-",null,null,{"$f":"LOOKUP(AB331,Catálogos!AP:AP,Catálogos!AO:AO)","v":"ERR"},{"$f":"CONCATENATE(LOOKUP(AC331,Catálogos!O:O,Catálogos!P:P),\".\",LOOKUP(AC331,Catálogos!O:O,Catálogos!Q:Q))","v":{"$error":"#N/A"}},{"$f":"IF(AC331=LOOKUP(CONCATENATE(AE331,\" - \",AC331),Catálogos!T:T,Catálogos!V:V),LOOKUP(CONCATENATE(AE331,\" - \",AC331),Catálogos!T:T,Catálogos!W:W),FALSE)","v":{"$error":"#N/A"}},{"$f":"LOOKUP(BD331,Catálogos!AM:AM,Catálogos!AL:AL)","v":"ERR"},{"$f":"LOOKUP(BK331,Catálogos!AM:AM,Catálogos!AL:AL)","v":"ERR"},{"$f":"LOOKUP(BR331,Catálogos!AM:AM,Catálogos!AL:AL)","v":"ERR"},{"$f":"LOOKUP(BY331,Catálogos!AM:AM,Catálogos!AL:AL)","v":"ERR"},0]
[null,null,null,null,null,null,null," -SELECCIONAR-"," -SELECCIONAR-"," -SELECCIONAR-",null," -SELECCIONAR-"," -SELECCIONAR-"," -SELECCIONAR-"," -SELECCIONAR-",null,null," -SELECCIONAR-",null,null,null," -SELECCIONAR-",null,null," -SELECCIONAR-",null," -SELECCIONAR-"," -SELECCIONAR-",null,{"$f":"IF(AC332=FALSE, LOOKUP(AC332,Catálogos!O:O),LOOKUP(AC332,Catálogos!O:O,Catálogos!R:R))","v":{"$error":"#N/A"}},"",null,null,null,{"$f":"IF(CD332=FALSE,\"COL. INCORRECTA\",LOOKUP(CONCATENATE(AE332,\" - \",AC332),Catálogos!T:T,Catálogos!Y:Y))","v":{"$error":"#N/A"}},{"$f":"IF(CD332=FALSE,\"COL. INCORRECTA\",LOOKUP(CONCATENATE(AE332,\" - \",AC332),Catálogos!T:T,Catálogos!X:X))","v":{"$error":"#N/A"}}," -SELECCIONAR-",""," -SELECCIONAR-",null,null," -SELECCIONAR-",null,null,null," -SELECCIONAR-",null,null," -SELECCIONAR-"," -SELECCIONAR-",null,null,null,null,null," -SELECCIONAR-",null,null,null,null,null,null," -SELECCIONAR-",null,null,null,null,null,null," -SELECCIONAR-",null,null,null,null,null,null," -SELECCIONAR-",null,null,{"$f":"LOOKUP(AB332,Catálogos!AP:AP,Catálogos!AO:AO)","v":"ERR"},{"$f":"CONCATENATE(LOOKUP(AC332,Catálogos!O:O,Catálogos!P:P),\".\",LOOKUP(AC332,Catálogos!O:O,Catálogos!Q:Q))","v":{"$error":"#N/A"}},{"$f":"IF(AC332=LOOKUP(CONCATENATE(AE332,\" - \",AC332),Catálogos!T:T,Catálogos!V:V),LOOKUP(CONCATENATE(AE332,\" - \",AC332),Catálogos!T:T,Catálogos!W:W),FALSE)","v":{"$error":"#N/A"}},{"$f":"LOOKUP(BD332,Catálogos!AM:AM,Catálogos!AL:AL)","v":"ERR"},{"$f":"LOOKUP(BK332,Catálogos!AM:AM,Catálogos!AL:AL)","v":"ERR"},{"$f":"LOOKUP(BR332,Catálogos!AM:AM,Catálogos!AL:AL)","v":"ERR"},{"$f":"LOOKUP(BY332,Catálogos!AM:AM,Catálogos!AL:AL)","v":"ERR"},0]
[null,null,null,null,null,null,null," -SELECCIONAR-"," -SELECCIONAR-"," -SELECCIONAR-",null," -SELECCIONAR-"," -SELECCIONAR-"," -SELECCIONAR-"," -SELECCIONAR-",null,null," -SELECCIONAR-",null,null,null," -SELECCIONAR-",null,null," -SELECCIONAR-",null," -SELECCIONAR-"," -SELECCIONAR-",null,{"$f":"IF(AC333=FALSE, LOOKUP(AC333,Catálogos!O:O),LOOKUP(AC333,Catálogos!O:O,Catálogos!R:R))","v":{"$error":"#N/A"}},"",null,null,null,{"$f":"IF(CD333=FALSE,\"COL. INCORRECTA\",LOOKUP(CONCATENATE(AE333,\" - \",AC333),Catálogos!T:T,Catálogos!Y:Y))","v":{"$error":"#N/A"}},{"$f":"IF(CD333=FALSE,\"COL. INCORRECTA\",LOOKUP(CONCATENATE(AE333,\" - \",AC333),Catálogos!T:T,Catálogos!X:X))","v":{"$error":"#N/A"}}," -SELECCIONAR-",""," -SELECCIONAR-",null,null," -SELECCIONAR-",null,null,null," -SELECCIONAR-",null,null," -SELECCIONAR-"," -SELECCIONAR-",null,null,null,null,null," -SELECCIONAR-",null,null,null,null,null,null," -SELECCIONAR-",null,null,null,null,null,null," -SELECCIONAR-",null,null,null,null,null,null," -SELECCIONAR-",null,null,{"$f":"LOOKUP(AB333,Catálogos!AP:AP,Catálogos!AO:AO)","v":"ERR"},{"$f":"CONCATENATE(LOOKUP(AC333,Catálogos!O:O,Catálogos!P:P),\".\",LOOKUP(AC333,Catálogos!O:O,Catálogos!Q:Q))","v":{"$error":"#N/A"}},{"$f":"IF(AC333=LOOKUP(CONCATENATE(AE333,\" - \",AC333),Catálogos!T:T,Catálogos!V:V),LOOKUP(CONCATENATE(AE333,\" - \",AC333),Catálogos!T:T,Catálogos!W:W),FALSE)","v":{"$error":"#N/A"}},{"$f":"LOOKUP(BD333,Catálogos!AM:AM,Catálogos!AL:AL)","v":"ERR"},{"$f":"LOOKUP(BK333,Catálogos!AM:AM,Catálogos!AL:AL)","v":"ERR"},{"$f":"LOOKUP(BR333,Catálogos!AM:AM,Catálogos!AL:AL)","v":"ERR"},{"$f":"LOOKUP(BY333,Catálogos!AM:AM,Catálogos!AL:AL)","v":"ERR"},0]
[null,null,null,null,null,null,null," -SELECCIONAR-"," -SELECCIONAR-"," -SELECCIONAR-",null," -SELECCIONAR-"," -SELECCIONAR-"," -SELECCIONAR-"," -SELECCIONAR-",null,null," -SELECCIONAR-",null,null,null," -SELECCIONAR-",null,null," -SELECCIONAR-",null," -SELECCIONAR-"," -SELECCIONAR-",null,{"$f":"IF(AC334=FALSE, LOOKUP(AC334,Catálogos!O:O),LOOKUP(AC334,Catálogos!O:O,Catálogos!R:R))","v":{"$error":"#N/A"}},"",null,null,null,{"$f":"IF(CD334=FALSE,\"COL. INCORRECTA\",LOOKUP(CONCATENATE(AE334,\" - \",AC334),Catálogos!T:T,Catálogos!Y:Y))","v":{"$error":"#N/A"}},{"$f":"IF(CD334=FALSE,\"COL. INCORRECTA\",LOOKUP(CONCATENATE(AE334,\" - \",AC334),Catálogos!T:T,Catálogos!X:X))","v":{"$error":"#N/A"}}," -SELECCIONAR-",""," -SELECCIONAR-",null,null," -SELECCIONAR-",null,null,null," -SELECCIONAR-",null,null," -SELECCIONAR-"," -SELECCIONAR-",null,null,null,null,null," -SELECCIONAR-",null,null,null,null,null,null," -SELECCIONAR-",null,null,null,null,null,null," -SELECCIONAR-",null,null,null,null,null,null," -SELECCIONAR-",null,null,{"$f":"LOOKUP(AB334,Catálogos!AP:AP,Catálogos!AO:AO)","v":"ERR"},{"$f":"CONCATENATE(LOOKUP(AC334,Catálogos!O:O,Catálogos!P:P),\".\",LOOKUP(AC334,Catálogos!O:O,Catálogos!Q:Q))","v":{"$error":"#N/A"}},{"$f":"IF(AC334=LOOKUP(CONCATENATE(AE334,\" - \",AC334),Catálogos!T:T,Catálogos!V:V),LOOKUP(CONCATENATE(AE334,\" - \",AC334),Catálogos!T:T,Catálogos!W:W),FALSE)","v":{"$error":"#N/A"}},{"$f":"LOOKUP(BD334,Catálogos!AM:AM,Catálogos!AL:AL)","v":"ERR"},{"$f":"LOOKUP(BK334,Catálogos!AM:AM,Catálogos!AL:AL)","v":"ERR"},{"$f":"LOOKUP(BR334,Catálogos!AM:AM,Catálogos!AL:AL)","v":"ERR"},{"$f":"LOOKUP(BY334,Catálogos!AM:AM,Catálogos!AL:AL)","v":"ERR"},0]
[null,null,null,null,null,null,null," -SELECCIONAR-"," -SELECCIONAR-"," -SELECCIONAR-",null," -SELECCIONAR-"," -SELECCIONAR-"," -SELECCIONAR-"," -SELECCIONAR-",null,null," -SELECCIONAR-",null,null,null," -SELECCIONAR-",null,null," -SELECCIONAR-",null," -SELECCIONAR-"," -SELECCIONAR-",null,{"$f":"IF(AC335=FALSE, LOOKUP(AC335,Catálogos!O:O),LOOKUP(AC335,Catálogos!O:O,Catálogos!R:R))","v":{"$error":"#N/A"}},"",null,null,null,{"$f":"IF(CD335=FALSE,\"COL. INCORRECTA\",LOOKUP(CONCATENATE(AE335,\" - \",AC335),Catálogos!T:T,Catálogos!Y:Y))","v":{"$error":"#N/A"}},{"$f":"IF(CD335=FALSE,\"COL. INCORRECTA\",LOOKUP(CONCATENATE(AE335,\" - \",AC335),Catálogos!T:T,Catálogos!X:X))","v":{"$error":"#N/A"}}," -SELECCIONAR-",""," -SELECCIONAR-",null,null," -SELECCIONAR-",null,null,null," -SELECCIONAR-",null,null," -SELECCIONAR-"," -SELECCIONAR-",null,null,null,null,null," -SELECCIONAR-",null,null,null,null,null,null," -SELECCIONAR-",null,null,null,null,null,null," -SELECCIONAR-",null,null,null,null,null,null," -SELECCIONAR-",null,null,{"$f":"LOOKUP(AB335,Catálogos!AP:AP,Catálogos!AO:AO)","v":"ERR"},{"$f":"CONCATENATE(LOOKUP(AC335,Catálogos!O:O,Catálogos!P:P),\".\",LOOKUP(AC335,Catálogos!O:O,Catálogos!Q:Q))","v":{"$error":"#N/A"}},{"$f":"IF(AC335=LOOKUP(CONCATENATE(AE335,\" - \",AC335),Catálogos!T:T,Catálogos!V:V),LOOKUP(CONCATENATE(AE335,\" - \",AC335),Catálogos!T:T,Catálogos!W:W),FALSE)","v":{"$error":"#N/A"}},{"$f":"LOOKUP(BD335,Catálogos!AM:AM,Catálogos!AL:AL)","v":"ERR"},{"$f":"LOOKUP(BK335,Catálogos!AM:AM,Catálogos!AL:AL)","v":"ERR"},{"$f":"LOOKUP(BR335,Catálogos!AM:AM,Catálogos!AL:AL)","v":"ERR"},{"$f":"LOOKUP(BY335,Catálogos!AM:AM,Catálogos!AL:AL)","v":"ERR"},0]
[null,null,null,null,null,null,null," -SELECCIONAR-"," -SELECCIONAR-"," -SELECCIONAR-",null," -SELECCIONAR-"," -SELECCIONAR-"," -SELECCIONAR-"," -SELECCIONAR-",null,null," -SELECCIONAR-",null,null,null," -SELECCIONAR-",null,null," -SELECCIONAR-",null," -SELECCIONAR-"," -SELECCIONAR-",null,{"$f":"IF(AC336=FALSE, LOOKUP(AC336,Catálogos!O:O),LOOKUP(AC336,Catálogos!O:O,Catálogos!R:R))","v":{"$error":"#N/A"}},"",null,null,null,{"$f":"IF(CD336=FALSE,\"COL. INCORRECTA\",LOOKUP(CONCATENATE(AE336,\" - \",AC336),Catálogos!T:T,Catálogos!Y:Y))","v":{"$error":"#N/A"}},{"$f":"IF(CD336=FALSE,\"COL. INCORRECTA\",LOOKUP(CONCATENATE(AE336,\" - \",AC336),Catálogos!T:T,Catálogos!X:X))","v":{"$error":"#N/A"}}," -SELECCIONAR-",""," -SELECCIONAR-",null,null," -SELECCIONAR-",null,null,null," -SELECCIONAR-",null,null," -SELECCIONAR-"," -SELECCIONAR-",null,null,null,null,null," -SELECCIONAR-",null,null,null,null,null,null," -SELECCIONAR-",null,null,null,null,null,null," -SELECCIONAR-",null,null,null,null,null,null," -SELECCIONAR-",null,null,{"$f":"LOOKUP(AB336,Catálogos!AP:AP,Catálogos!AO:AO)","v":"ERR"},{"$f":"CONCATENATE(LOOKUP(AC336,Catálogos!O:O,Catálogos!P:P),\".\",LOOKUP(AC336,Catálogos!O:O,Catálogos!Q:Q))","v":{"$error":"#N/A"}},{"$f":"IF(AC336=LOOKUP(CONCATENATE(AE336,\" - \",AC336),Catálogos!T:T,Catálogos!V:V),LOOKUP(CONCATENATE(AE336,\" - \",AC336),Catálogos!T:T,Catálogos!W:W),FALSE)","v":{"$error":"#N/A"}},{"$f":"LOOKUP(BD336,Catálogos!AM:AM,Catálogos!AL:AL)","v":"ERR"},{"$f":"LOOKUP(BK336,Catálogos!AM:AM,Catálogos!AL:AL)","v":"ERR"},{"$f":"LOOKUP(BR336,Catálogos!AM:AM,Catálogos!AL:AL)","v":"ERR"},{"$f":"LOOKUP(BY336,Catálogos!AM:AM,Catálogos!AL:AL)","v":"ERR"},0]
[null,null,null,null,null,null,null," -SELECCIONAR-"," -SELECCIONAR-"," -SELECCIONAR-",null," -SELECCIONAR-"," -SELECCIONAR-"," -SELECCIONAR-"," -SELECCIONAR-",null,null," -SELECCIONAR-",null,null,null," -SELECCIONAR-",null,null," -SELECCIONAR-",null," -SELECCIONAR-"," -SELECCIONAR-",null,{"$f":"IF(AC337=FALSE, LOOKUP(AC337,Catálogos!O:O),LOOKUP(AC337,Catálogos!O:O,Catálogos!R:R))","v":{"$error":"#N/A"}},"",null,null,null,{"$f":"IF(CD337=FALSE,\"COL. INCORRECTA\",LOOKUP(CONCATENATE(AE337,\" - \",AC337),Catálogos!T:T,Catálogos!Y:Y))","v":{"$error":"#N/A"}},{"$f":"IF(CD337=FALSE,\"COL. INCORRECTA\",LOOKUP(CONCATENATE(AE337,\" - \",AC337),Catálogos!T:T,Catálogos!X:X))","v":{"$error":"#N/A"}}," -SELECCIONAR-",""," -SELECCIONAR-",null,null," -SELECCIONAR-",null,null,null," -SELECCIONAR-",null,null," -SELECCIONAR-"," -SELECCIONAR-",null,null,null,null,null," -SELECCIONAR-",null,null,null,null,null,null," -SELECCIONAR-",null,null,null,null,null,null," -SELECCIONAR-",null,null,null,null,null,null," -SELECCIONAR-",null,null,{"$f":"LOOKUP(AB337,Catálogos!AP:AP,Catálogos!AO:AO)","v":"ERR"},{"$f":"CONCATENATE(LOOKUP(AC337,Catálogos!O:O,Catálogos!P:P),\".\",LOOKUP(AC337,Catálogos!O:O,Catálogos!Q:Q))","v":{"$error":"#N/A"}},{"$f":"IF(AC337=LOOKUP(CONCATENATE(AE337,\" - \",AC337),Catálogos!T:T,Catálogos!V:V),LOOKUP(CONCATENATE(AE337,\" - \",AC337),Catálogos!T:T,Catálogos!W:W),FALSE)","v":{"$error":"#N/A"}},{"$f":"LOOKUP(BD337,Catálogos!AM:AM,Catálogos!AL:AL)","v":"ERR"},{"$f":"LOOKUP(BK337,Catálogos!AM:AM,Catálogos!AL:AL)","v":"ERR"},{"$f":"LOOKUP(BR337,Catálogos!AM:AM,Catálogos!AL:AL)","v":"ERR"},{"$f":"LOOKUP(BY337,Catálogos!AM:AM,Catálogos!AL:AL)","v":"ERR"},0]
[null,null,null,null,null,null,null," -SELECCIONAR-"," -SELECCIONAR-"," -SELECCIONAR-",null," -SELECCIONAR-"," -SELECCIONAR-"," -SELECCIONAR-"," -SELECCIONAR-",null,null," -SELECCIONAR-",null,null,null," -SELECCIONAR-",null,null," -SELECCIONAR-",null," -SELECCIONAR-"," -SELECCIONAR-",null,{"$f":"IF(AC338=FALSE, LOOKUP(AC338,Catálogos!O:O),LOOKUP(AC338,Catálogos!O:O,Catálogos!R:R))","v":{"$error":"#N/A"}},"",null,null,null,{"$f":"IF(CD338=FALSE,\"COL. INCORRECTA\",LOOKUP(CONCATENATE(AE338,\" - \",AC338),Catálogos!T:T,Catálogos!Y:Y))","v":{"$error":"#N/A"}},{"$f":"IF(CD338=FALSE,\"COL. INCORRECTA\",LOOKUP(CONCATENATE(AE338,\" - \",AC338),Catálogos!T:T,Catálogos!X:X))","v":{"$error":"#N/A"}}," -SELECCIONAR-",""," -SELECCIONAR-",null,null," -SELECCIONAR-",null,null,null," -SELECCIONAR-",null,null," -SELECCIONAR-"," -SELECCIONAR-",null,null,null,null,null," -SELECCIONAR-",null,null,null,null,null,null," -SELECCIONAR-",null,null,null,null,null,null," -SELECCIONAR-",null,null,null,null,null,null," -SELECCIONAR-",null,null,{"$f":"LOOKUP(AB338,Catálogos!AP:AP,Catálogos!AO:AO)","v":"ERR"},{"$f":"CONCATENATE(LOOKUP(AC338,Catálogos!O:O,Catálogos!P:P),\".\",LOOKUP(AC338,Catálogos!O:O,Catálogos!Q:Q))","v":{"$error":"#N/A"}},{"$f":"IF(AC338=LOOKUP(CONCATENATE(AE338,\" - \",AC338),Catálogos!T:T,Catálogos!V:V),LOOKUP(CONCATENATE(AE338,\" - \",AC338),Catálogos!T:T,Catálogos!W:W),FALSE)","v":{"$error":"#N/A"}},{"$f":"LOOKUP(BD338,Catálogos!AM:AM,Catálogos!AL:AL)","v":"ERR"},{"$f":"LOOKUP(BK338,Catálogos!AM:AM,Catálogos!AL:AL)","v":"ERR"},{"$f":"LOOKUP(BR338,Catálogos!AM:AM,Catálogos!AL:AL)","v":"ERR"},{"$f":"LOOKUP(BY338,Catálogos!AM:AM,Catálogos!AL:AL)","v":"ERR"},0]
[null,null,null,null,null,null,null," -SELECCIONAR-"," -SELECCIONAR-"," -SELECCIONAR-",null," -SELECCIONAR-"," -SELECCIONAR-"," -SELECCIONAR-"," -SELECCIONAR-",null,null," -SELECCIONAR-",null,null,null," -SELECCIONAR-",null,null," -SELECCIONAR-",null," -SELECCIONAR-"," -SELECCIONAR-",null,{"$f":"IF(AC339=FALSE, LOOKUP(AC339,Catálogos!O:O),LOOKUP(AC339,Catálogos!O:O,Catálogos!R:R))","v":{"$error":"#N/A"}},"",null,null,null,{"$f":"IF(CD339=FALSE,\"COL. INCORRECTA\",LOOKUP(CONCATENATE(AE339,\" - \",AC339),Catálogos!T:T,Catálogos!Y:Y))","v":{"$error":"#N/A"}},{"$f":"IF(CD339=FALSE,\"COL. INCORRECTA\",LOOKUP(CONCATENATE(AE339,\" - \",AC339),Catálogos!T:T,Catálogos!X:X))","v":{"$error":"#N/A"}}," -SELECCIONAR-",""," -SELECCIONAR-",null,null," -SELECCIONAR-",null,null,null," -SELECCIONAR-",null,null," -SELECCIONAR-"," -SELECCIONAR-",null,null,null,null,null," -SELECCIONAR-",null,null,null,null,null,null," -SELECCIONAR-",null,null,null,null,null,null," -SELECCIONAR-",null,null,null,null,null,null," -SELECCIONAR-",null,null,{"$f":"LOOKUP(AB339,Catálogos!AP:AP,Catálogos!AO:AO)","v":"ERR"},{"$f":"CONCATENATE(LOOKUP(AC339,Catálogos!O:O,Catálogos!P:P),\".\",LOOKUP(AC339,Catálogos!O:O,Catálogos!Q:Q))","v":{"$error":"#N/A"}},{"$f":"IF(AC339=LOOKUP(CONCATENATE(AE339,\" - \",AC339),Catálogos!T:T,Catálogos!V:V),LOOKUP(CONCATENATE(AE339,\" - \",AC339),Catálogos!T:T,Catálogos!W:W),FALSE)","v":{"$error":"#N/A"}},{"$f":"LOOKUP(BD339,Catálogos!AM:AM,Catálogos!AL:AL)","v":"ERR"},{"$f":"LOOKUP(BK339,Catálogos!AM:AM,Catálogos!AL:AL)","v":"ERR"},{"$f":"LOOKUP(BR339,Catálogos!AM:AM,Catálogos!AL:AL)","v":"ERR"},{"$f":"LOOKUP(BY339,Catálogos!AM:AM,Catálogos!AL:AL)","v":"ERR"},0]
[null,null,null,null,null,null,null," -SELECCIONAR-"," -SELECCIONAR-"," -SELECCIONAR-",null," -SELECCIONAR-"," -SELECCIONAR-"," -SELECCIONAR-"," -SELECCIONAR-",null,null," -SELECCIONAR-",null,null,null," -SELECCIONAR-",null,null," -SELECCIONAR-",null," -SELECCIONAR-"," -SELECCIONAR-",null,{"$f":"IF(AC340=FALSE, LOOKUP(AC340,Catálogos!O:O),LOOKUP(AC340,Catálogos!O:O,Catálogos!R:R))","v":{"$error":"#N/A"}},"",null,null,null,{"$f":"IF(CD340=FALSE,\"COL. INCORRECTA\",LOOKUP(CONCATENATE(AE340,\" - \",AC340),Catálogos!T:T,Catálogos!Y:Y))","v":{"$error":"#N/A"}},{"$f":"IF(CD340=FALSE,\"COL. INCORRECTA\",LOOKUP(CONCATENATE(AE340,\" - \",AC340),Catálogos!T:T,Catálogos!X:X))","v":{"$error":"#N/A"}}," -SELECCIONAR-",""," -SELECCIONAR-",null,null," -SELECCIONAR-",null,null,null," -SELECCIONAR-",null,null," -SELECCIONAR-"," -SELECCIONAR-",null,null,null,null,null," -SELECCIONAR-",null,null,null,null,null,null," -SELECCIONAR-",null,null,null,null,null,null," -SELECCIONAR-",null,null,null,null,null,null," -SELECCIONAR-",null,null,{"$f":"LOOKUP(AB340,Catálogos!AP:AP,Catálogos!AO:AO)","v":"ERR"},{"$f":"CONCATENATE(LOOKUP(AC340,Catálogos!O:O,Catálogos!P:P),\".\",LOOKUP(AC340,Catálogos!O:O,Catálogos!Q:Q))","v":{"$error":"#N/A"}},{"$f":"IF(AC340=LOOKUP(CONCATENATE(AE340,\" - \",AC340),Catálogos!T:T,Catálogos!V:V),LOOKUP(CONCATENATE(AE340,\" - \",AC340),Catálogos!T:T,Catálogos!W:W),FALSE)","v":{"$error":"#N/A"}},{"$f":"LOOKUP(BD340,Catálogos!AM:AM,Catálogos!AL:AL)","v":"ERR"},{"$f":"LOOKUP(BK340,Catálogos!AM:AM,Catálogos!AL:AL)","v":"ERR"},{"$f":"LOOKUP(BR340,Catálogos!AM:AM,Catálogos!AL:AL)","v":"ERR"},{"$f":"LOOKUP(BY340,Catálogos!AM:AM,Catálogos!AL:AL)","v":"ERR"},0]
[null,null,null,null,null,null,null," -SELECCIONAR-"," -SELECCIONAR-"," -SELECCIONAR-",null," -SELECCIONAR-"," -SELECCIONAR-"," -SELECCIONAR-"," -SELECCIONAR-",null,null," -SELECCIONAR-",null,null,null," -SELECCIONAR-",null,null," -SELECCIONAR-",null," -SELECCIONAR-"," -SELECCIONAR-",null,{"$f":"IF(AC341=FALSE, LOOKUP(AC341,Catálogos!O:O),LOOKUP(AC341,Catálogos!O:O,Catálogos!R:R))","v":{"$error":"#N/A"}},"",null,null,null,{"$f":"IF(CD341=FALSE,\"COL. INCORRECTA\",LOOKUP(CONCATENATE(AE341,\" - \",AC341),Catálogos!T:T,Catálogos!Y:Y))","v":{"$error":"#N/A"}},{"$f":"IF(CD341=FALSE,\"COL. INCORRECTA\",LOOKUP(CONCATENATE(AE341,\" - \",AC341),Catálogos!T:T,Catálogos!X:X))","v":{"$error":"#N/A"}}," -SELECCIONAR-",""," -SELECCIONAR-",null,null," -SELECCIONAR-",null,null,null," -SELECCIONAR-",null,null," -SELECCIONAR-"," -SELECCIONAR-",null,null,null,null,null," -SELECCIONAR-",null,null,null,null,null,null," -SELECCIONAR-",null,null,null,null,null,null," -SELECCIONAR-",null,null,null,null,null,null," -SELECCIONAR-",null,null,{"$f":"LOOKUP(AB341,Catálogos!AP:AP,Catálogos!AO:AO)","v":"ERR"},{"$f":"CONCATENATE(LOOKUP(AC341,Catálogos!O:O,Catálogos!P:P),\".\",LOOKUP(AC341,Catálogos!O:O,Catálogos!Q:Q))","v":{"$error":"#N/A"}},{"$f":"IF(AC341=LOOKUP(CONCATENATE(AE341,\" - \",AC341),Catálogos!T:T,Catálogos!V:V),LOOKUP(CONCATENATE(AE341,\" - \",AC341),Catálogos!T:T,Catálogos!W:W),FALSE)","v":{"$error":"#N/A"}},{"$f":"LOOKUP(BD341,Catálogos!AM:AM,Catálogos!AL:AL)","v":"ERR"},{"$f":"LOOKUP(BK341,Catálogos!AM:AM,Catálogos!AL:AL)","v":"ERR"},{"$f":"LOOKUP(BR341,Catálogos!AM:AM,Catálogos!AL:AL)","v":"ERR"},{"$f":"LOOKUP(BY341,Catálogos!AM:AM,Catálogos!AL:AL)","v":"ERR"},0]
[null,null,null,null,null,null,null," -SELECCIONAR-"," -SELECCIONAR-"," -SELECCIONAR-",null," -SELECCIONAR-"," -SELECCIONAR-"," -SELECCIONAR-"," -SELECCIONAR-",null,null," -SELECCIONAR-",null,null,null," -SELECCIONAR-",null,null," -SELECCIONAR-",null," -SELECCIONAR-"," -SELECCIONAR-",null,{"$f":"IF(AC342=FALSE, LOOKUP(AC342,Catálogos!O:O),LOOKUP(AC342,Catálogos!O:O,Catálogos!R:R))","v":{"$error":"#N/A"}},"",null,null,null,{"$f":"IF(CD342=FALSE,\"COL. INCORRECTA\",LOOKUP(CONCATENATE(AE342,\" - \",AC342),Catálogos!T:T,Catálogos!Y:Y))","v":{"$error":"#N/A"}},{"$f":"IF(CD342=FALSE,\"COL. INCORRECTA\",LOOKUP(CONCATENATE(AE342,\" - \",AC342),Catálogos!T:T,Catálogos!X:X))","v":{"$error":"#N/A"}}," -SELECCIONAR-",""," -SELECCIONAR-",null,null," -SELECCIONAR-",null,null,null," -SELECCIONAR-",null,null," -SELECCIONAR-"," -SELECCIONAR-",null,null,null,null,null," -SELECCIONAR-",null,null,null,null,null,null," -SELECCIONAR-",null,null,null,null,null,null," -SELECCIONAR-",null,null,null,null,null,null," -SELECCIONAR-",null,null,{"$f":"LOOKUP(AB342,Catálogos!AP:AP,Catálogos!AO:AO)","v":"ERR"},{"$f":"CONCATENATE(LOOKUP(AC342,Catálogos!O:O,Catálogos!P:P),\".\",LOOKUP(AC342,Catálogos!O:O,Catálogos!Q:Q))","v":{"$error":"#N/A"}},{"$f":"IF(AC342=LOOKUP(CONCATENATE(AE342,\" - \",AC342),Catálogos!T:T,Catálogos!V:V),LOOKUP(CONCATENATE(AE342,\" - \",AC342),Catálogos!T:T,Catálogos!W:W),FALSE)","v":{"$error":"#N/A"}},{"$f":"LOOKUP(BD342,Catálogos!AM:AM,Catálogos!AL:AL)","v":"ERR"},{"$f":"LOOKUP(BK342,Catálogos!AM:AM,Catálogos!AL:AL)","v":"ERR"},{"$f":"LOOKUP(BR342,Catálogos!AM:AM,Catálogos!AL:AL)","v":"ERR"},{"$f":"LOOKUP(BY342,Catálogos!AM:AM,Catálogos!AL:AL)","v":"ERR"},0]
[null,null,null,null,null,null,null," -SELECCIONAR-"," -SELECCIONAR-"," -SELECCIONAR-",null," -SELECCIONAR-"," -SELECCIONAR-"," -SELECCIONAR-"," -SELECCIONAR-",null,null," -SELECCIONAR-",null,null,null," -SELECCIONAR-",null,null," -SELECCIONAR-",null," -SELECCIONAR-"," -SELECCIONAR-",null,{"$f":"IF(AC343=FALSE, LOOKUP(AC343,Catálogos!O:O),LOOKUP(AC343,Catálogos!O:O,Catálogos!R:R))","v":{"$error":"#N/A"}},"",null,null,null,{"$f":"IF(CD343=FALSE,\"COL. INCORRECTA\",LOOKUP(CONCATENATE(AE343,\" - \",AC343),Catálogos!T:T,Catálogos!Y:Y))","v":{"$error":"#N/A"}},{"$f":"IF(CD343=FALSE,\"COL. INCORRECTA\",LOOKUP(CONCATENATE(AE343,\" - \",AC343),Catálogos!T:T,Catálogos!X:X))","v":{"$error":"#N/A"}}," -SELECCIONAR-",""," -SELECCIONAR-",null,null," -SELECCIONAR-",null,null,null," -SELECCIONAR-",null,null," -SELECCIONAR-"," -SELECCIONAR-",null,null,null,null,null," -SELECCIONAR-",null,null,null,null,null,null," -SELECCIONAR-",null,null,null,null,null,null," -SELECCIONAR-",null,null,null,null,null,null," -SELECCIONAR-",null,null,{"$f":"LOOKUP(AB343,Catálogos!AP:AP,Catálogos!AO:AO)","v":"ERR"},{"$f":"CONCATENATE(LOOKUP(AC343,Catálogos!O:O,Catálogos!P:P),\".\",LOOKUP(AC343,Catálogos!O:O,Catálogos!Q:Q))","v":{"$error":"#N/A"}},{"$f":"IF(AC343=LOOKUP(CONCATENATE(AE343,\" - \",AC343),Catálogos!T:T,Catálogos!V:V),LOOKUP(CONCATENATE(AE343,\" - \",AC343),Catálogos!T:T,Catálogos!W:W),FALSE)","v":{"$error":"#N/A"}},{"$f":"LOOKUP(BD343,Catálogos!AM:AM,Catálogos!AL:AL)","v":"ERR"},{"$f":"LOOKUP(BK343,Catálogos!AM:AM,Catálogos!AL:AL)","v":"ERR"},{"$f":"LOOKUP(BR343,Catálogos!AM:AM,Catálogos!AL:AL)","v":"ERR"},{"$f":"LOOKUP(BY343,Catálogos!AM:AM,Catálogos!AL:AL)","v":"ERR"},0]
[null,null,null,null,null,null,null," -SELECCIONAR-"," -SELECCIONAR-"," -SELECCIONAR-",null," -SELECCIONAR-"," -SELECCIONAR-"," -SELECCIONAR-"," -SELECCIONAR-",null,null," -SELECCIONAR-",null,null,null," -SELECCIONAR-",null,null," -SELECCIONAR-",null," -SELECCIONAR-"," -SELECCIONAR-",null,{"$f":"IF(AC344=FALSE, LOOKUP(AC344,Catálogos!O:O),LOOKUP(AC344,Catálogos!O:O,Catálogos!R:R))","v":{"$error":"#N/A"}},"",null,null,null,{"$f":"IF(CD344=FALSE,\"COL. INCORRECTA\",LOOKUP(CONCATENATE(AE344,\" - \",AC344),Catálogos!T:T,Catálogos!Y:Y))","v":{"$error":"#N/A"}},{"$f":"IF(CD344=FALSE,\"COL. INCORRECTA\",LOOKUP(CONCATENATE(AE344,\" - \",AC344),Catálogos!T:T,Catálogos!X:X))","v":{"$error":"#N/A"}}," -SELECCIONAR-",""," -SELECCIONAR-",null,null," -SELECCIONAR-",null,null,null," -SELECCIONAR-",null,null," -SELECCIONAR-"," -SELECCIONAR-",null,null,null,null,null," -SELECCIONAR-",null,null,null,null,null,null," -SELECCIONAR-",null,null,null,null,null,null," -SELECCIONAR-",null,null,null,null,null,null," -SELECCIONAR-",null,null,{"$f":"LOOKUP(AB344,Catálogos!AP:AP,Catálogos!AO:AO)","v":"ERR"},{"$f":"CONCATENATE(LOOKUP(AC344,Catálogos!O:O,Catálogos!P:P),\".\",LOOKUP(AC344,Catálogos!O:O,Catálogos!Q:Q))","v":{"$error":"#N/A"}},{"$f":"IF(AC344=LOOKUP(CONCATENATE(AE344,\" - \",AC344),Catálogos!T:T,Catálogos!V:V),LOOKUP(CONCATENATE(AE344,\" - \",AC344),Catálogos!T:T,Catálogos!W:W),FALSE)","v":{"$error":"#N/A"}},{"$f":"LOOKUP(BD344,Catálogos!AM:AM,Catálogos!AL:AL)","v":"ERR"},{"$f":"LOOKUP(BK344,Catálogos!AM:AM,Catálogos!AL:AL)","v":"ERR"},{"$f":"LOOKUP(BR344,Catálogos!AM:AM,Catálogos!AL:AL)","v":"ERR"},{"$f":"LOOKUP(BY344,Catálogos!AM:AM,Catálogos!AL:AL)","v":"ERR"},0]
[null,null,null,null,null,null,null," -SELECCIONAR-"," -SELECCIONAR-"," -SELECCIONAR-",null," -SELECCIONAR-"," -SELECCIONAR-"," -SELECCIONAR-"," -SELECCIONAR-",null,null," -SELECCIONAR-",null,null,null," -SELECCIONAR-",null,null," -SELECCIONAR-",null," -SELECCIONAR-"," -SELECCIONAR-",null,{"$f":"IF(AC345=FALSE, LOOKUP(AC345,Catálogos!O:O),LOOKUP(AC345,Catálogos!O:O,Catálogos!R:R))","v":{"$error":"#N/A"}},"",null,null,null,{"$f":"IF(CD345=FALSE,\"COL. INCORRECTA\",LOOKUP(CONCATENATE(AE345,\" - \",AC345),Catálogos!T:T,Catálogos!Y:Y))","v":{"$error":"#N/A"}},{"$f":"IF(CD345=FALSE,\"COL. INCORRECTA\",LOOKUP(CONCATENATE(AE345,\" - \",AC345),Catálogos!T:T,Catálogos!X:X))","v":{"$error":"#N/A"}}," -SELECCIONAR-",""," -SELECCIONAR-",null,null," -SELECCIONAR-",null,null,null," -SELECCIONAR-",null,null," -SELECCIONAR-"," -SELECCIONAR-",null,null,null,null,null," -SELECCIONAR-",null,null,null,null,null,null," -SELECCIONAR-",null,null,null,null,null,null," -SELECCIONAR-",null,null,null,null,null,null," -SELECCIONAR-",null,null,{"$f":"LOOKUP(AB345,Catálogos!AP:AP,Catálogos!AO:AO)","v":"ERR"},{"$f":"CONCATENATE(LOOKUP(AC345,Catálogos!O:O,Catálogos!P:P),\".\",LOOKUP(AC345,Catálogos!O:O,Catálogos!Q:Q))","v":{"$error":"#N/A"}},{"$f":"IF(AC345=LOOKUP(CONCATENATE(AE345,\" - \",AC345),Catálogos!T:T,Catálogos!V:V),LOOKUP(CONCATENATE(AE345,\" - \",AC345),Catálogos!T:T,Catálogos!W:W),FALSE)","v":{"$error":"#N/A"}},{"$f":"LOOKUP(BD345,Catálogos!AM:AM,Catálogos!AL:AL)","v":"ERR"},{"$f":"LOOKUP(BK345,Catálogos!AM:AM,Catálogos!AL:AL)","v":"ERR"},{"$f":"LOOKUP(BR345,Catálogos!AM:AM,Catálogos!AL:AL)","v":"ERR"},{"$f":"LOOKUP(BY345,Catálogos!AM:AM,Catálogos!AL:AL)","v":"ERR"},0]
[null,null,null,null,null,null,null," -SELECCIONAR-"," -SELECCIONAR-"," -SELECCIONAR-",null," -SELECCIONAR-"," -SELECCIONAR-"," -SELECCIONAR-"," -SELECCIONAR-",null,null," -SELECCIONAR-",null,null,null," -SELECCIONAR-",null,null," -SELECCIONAR-",null," -SELECCIONAR-"," -SELECCIONAR-",null,{"$f":"IF(AC346=FALSE, LOOKUP(AC346,Catálogos!O:O),LOOKUP(AC346,Catálogos!O:O,Catálogos!R:R))","v":{"$error":"#N/A"}},"",null,null,null,{"$f":"IF(CD346=FALSE,\"COL. INCORRECTA\",LOOKUP(CONCATENATE(AE346,\" - \",AC346),Catálogos!T:T,Catálogos!Y:Y))","v":{"$error":"#N/A"}},{"$f":"IF(CD346=FALSE,\"COL. INCORRECTA\",LOOKUP(CONCATENATE(AE346,\" - \",AC346),Catálogos!T:T,Catálogos!X:X))","v":{"$error":"#N/A"}}," -SELECCIONAR-",""," -SELECCIONAR-",null,null," -SELECCIONAR-",null,null,null," -SELECCIONAR-",null,null," -SELECCIONAR-"," -SELECCIONAR-",null,null,null,null,null," -SELECCIONAR-",null,null,null,null,null,null," -SELECCIONAR-",null,null,null,null,null,null," -SELECCIONAR-",null,null,null,null,null,null," -SELECCIONAR-",null,null,{"$f":"LOOKUP(AB346,Catálogos!AP:AP,Catálogos!AO:AO)","v":"ERR"},{"$f":"CONCATENATE(LOOKUP(AC346,Catálogos!O:O,Catálogos!P:P),\".\",LOOKUP(AC346,Catálogos!O:O,Catálogos!Q:Q))","v":{"$error":"#N/A"}},{"$f":"IF(AC346=LOOKUP(CONCATENATE(AE346,\" - \",AC346),Catálogos!T:T,Catálogos!V:V),LOOKUP(CONCATENATE(AE346,\" - \",AC346),Catálogos!T:T,Catálogos!W:W),FALSE)","v":{"$error":"#N/A"}},{"$f":"LOOKUP(BD346,Catálogos!AM:AM,Catálogos!AL:AL)","v":"ERR"},{"$f":"LOOKUP(BK346,Catálogos!AM:AM,Catálogos!AL:AL)","v":"ERR"},{"$f":"LOOKUP(BR346,Catálogos!AM:AM,Catálogos!AL:AL)","v":"ERR"},{"$f":"LOOKUP(BY346,Catálogos!AM:AM,Catálogos!AL:AL)","v":"ERR"},0]
[null,null,null,null,null,null,null," -SELECCIONAR-"," -SELECCIONAR-"," -SELECCIONAR-",null," -SELECCIONAR-"," -SELECCIONAR-"," -SELECCIONAR-"," -SELECCIONAR-",null,null," -SELECCIONAR-",null,null,null," -SELECCIONAR-",null,null," -SELECCIONAR-",null," -SELECCIONAR-"," -SELECCIONAR-",null,{"$f":"IF(AC347=FALSE, LOOKUP(AC347,Catálogos!O:O),LOOKUP(AC347,Catálogos!O:O,Catálogos!R:R))","v":{"$error":"#N/A"}},"",null,null,null,{"$f":"IF(CD347=FALSE,\"COL. INCORRECTA\",LOOKUP(CONCATENATE(AE347,\" - \",AC347),Catálogos!T:T,Catálogos!Y:Y))","v":{"$error":"#N/A"}},{"$f":"IF(CD347=FALSE,\"COL. INCORRECTA\",LOOKUP(CONCATENATE(AE347,\" - \",AC347),Catálogos!T:T,Catálogos!X:X))","v":{"$error":"#N/A"}}," -SELECCIONAR-",""," -SELECCIONAR-",null,null," -SELECCIONAR-",null,null,null," -SELECCIONAR-",null,null," -SELECCIONAR-"," -SELECCIONAR-",null,null,null,null,null," -SELECCIONAR-",null,null,null,null,null,null," -SELECCIONAR-",null,null,null,null,null,null," -SELECCIONAR-",null,null,null,null,null,null," -SELECCIONAR-",null,null,{"$f":"LOOKUP(AB347,Catálogos!AP:AP,Catálogos!AO:AO)","v":"ERR"},{"$f":"CONCATENATE(LOOKUP(AC347,Catálogos!O:O,Catálogos!P:P),\".\",LOOKUP(AC347,Catálogos!O:O,Catálogos!Q:Q))","v":{"$error":"#N/A"}},{"$f":"IF(AC347=LOOKUP(CONCATENATE(AE347,\" - \",AC347),Catálogos!T:T,Catálogos!V:V),LOOKUP(CONCATENATE(AE347,\" - \",AC347),Catálogos!T:T,Catálogos!W:W),FALSE)","v":{"$error":"#N/A"}},{"$f":"LOOKUP(BD347,Catálogos!AM:AM,Catálogos!AL:AL)","v":"ERR"},{"$f":"LOOKUP(BK347,Catálogos!AM:AM,Catálogos!AL:AL)","v":"ERR"},{"$f":"LOOKUP(BR347,Catálogos!AM:AM,Catálogos!AL:AL)","v":"ERR"},{"$f":"LOOKUP(BY347,Catálogos!AM:AM,Catálogos!AL:AL)","v":"ERR"},0]
[null,null,null,null,null,null,null," -SELECCIONAR-"," -SELECCIONAR-"," -SELECCIONAR-",null," -SELECCIONAR-"," -SELECCIONAR-"," -SELECCIONAR-"," -SELECCIONAR-",null,null," -SELECCIONAR-",null,null,null," -SELECCIONAR-",null,null," -SELECCIONAR-",null," -SELECCIONAR-"," -SELECCIONAR-",null,{"$f":"IF(AC348=FALSE, LOOKUP(AC348,Catálogos!O:O),LOOKUP(AC348,Catálogos!O:O,Catálogos!R:R))","v":{"$error":"#N/A"}},"",null,null,null,{"$f":"IF(CD348=FALSE,\"COL. INCORRECTA\",LOOKUP(CONCATENATE(AE348,\" - \",AC348),Catálogos!T:T,Catálogos!Y:Y))","v":{"$error":"#N/A"}},{"$f":"IF(CD348=FALSE,\"COL. INCORRECTA\",LOOKUP(CONCATENATE(AE348,\" - \",AC348),Catálogos!T:T,Catálogos!X:X))","v":{"$error":"#N/A"}}," -SELECCIONAR-",""," -SELECCIONAR-",null,null," -SELECCIONAR-",null,null,null," -SELECCIONAR-",null,null," -SELECCIONAR-"," -SELECCIONAR-",null,null,null,null,null," -SELECCIONAR-",null,null,null,null,null,null," -SELECCIONAR-",null,null,null,null,null,null," -SELECCIONAR-",null,null,null,null,null,null," -SELECCIONAR-",null,null,{"$f":"LOOKUP(AB348,Catálogos!AP:AP,Catálogos!AO:AO)","v":"ERR"},{"$f":"CONCATENATE(LOOKUP(AC348,Catálogos!O:O,Catálogos!P:P),\".\",LOOKUP(AC348,Catálogos!O:O,Catálogos!Q:Q))","v":{"$error":"#N/A"}},{"$f":"IF(AC348=LOOKUP(CONCATENATE(AE348,\" - \",AC348),Catálogos!T:T,Catálogos!V:V),LOOKUP(CONCATENATE(AE348,\" - \",AC348),Catálogos!T:T,Catálogos!W:W),FALSE)","v":{"$error":"#N/A"}},{"$f":"LOOKUP(BD348,Catálogos!AM:AM,Catálogos!AL:AL)","v":"ERR"},{"$f":"LOOKUP(BK348,Catálogos!AM:AM,Catálogos!AL:AL)","v":"ERR"},{"$f":"LOOKUP(BR348,Catálogos!AM:AM,Catálogos!AL:AL)","v":"ERR"},{"$f":"LOOKUP(BY348,Catálogos!AM:AM,Catálogos!AL:AL)","v":"ERR"},0]
[null,null,null,null,null,null,null," -SELECCIONAR-"," -SELECCIONAR-"," -SELECCIONAR-",null," -SELECCIONAR-"," -SELECCIONAR-"," -SELECCIONAR-"," -SELECCIONAR-",null,null," -SELECCIONAR-",null,null,null," -SELECCIONAR-",null,null," -SELECCIONAR-",null," -SELECCIONAR-"," -SELECCIONAR-",null,{"$f":"IF(AC349=FALSE, LOOKUP(AC349,Catálogos!O:O),LOOKUP(AC349,Catálogos!O:O,Catálogos!R:R))","v":{"$error":"#N/A"}},"",null,null,null,{"$f":"IF(CD349=FALSE,\"COL. INCORRECTA\",LOOKUP(CONCATENATE(AE349,\" - \",AC349),Catálogos!T:T,Catálogos!Y:Y))","v":{"$error":"#N/A"}},{"$f":"IF(CD349=FALSE,\"COL. INCORRECTA\",LOOKUP(CONCATENATE(AE349,\" - \",AC349),Catálogos!T:T,Catálogos!X:X))","v":{"$error":"#N/A"}}," -SELECCIONAR-",""," -SELECCIONAR-",null,null," -SELECCIONAR-",null,null,null," -SELECCIONAR-",null,null," -SELECCIONAR-"," -SELECCIONAR-",null,null,null,null,null," -SELECCIONAR-",null,null,null,null,null,null," -SELECCIONAR-",null,null,null,null,null,null," -SELECCIONAR-",null,null,null,null,null,null," -SELECCIONAR-",null,null,{"$f":"LOOKUP(AB349,Catálogos!AP:AP,Catálogos!AO:AO)","v":"ERR"},{"$f":"CONCATENATE(LOOKUP(AC349,Catálogos!O:O,Catálogos!P:P),\".\",LOOKUP(AC349,Catálogos!O:O,Catálogos!Q:Q))","v":{"$error":"#N/A"}},{"$f":"IF(AC349=LOOKUP(CONCATENATE(AE349,\" - \",AC349),Catálogos!T:T,Catálogos!V:V),LOOKUP(CONCATENATE(AE349,\" - \",AC349),Catálogos!T:T,Catálogos!W:W),FALSE)","v":{"$error":"#N/A"}},{"$f":"LOOKUP(BD349,Catálogos!AM:AM,Catálogos!AL:AL)","v":"ERR"},{"$f":"LOOKUP(BK349,Catálogos!AM:AM,Catálogos!AL:AL)","v":"ERR"},{"$f":"LOOKUP(BR349,Catálogos!AM:AM,Catálogos!AL:AL)","v":"ERR"},{"$f":"LOOKUP(BY349,Catálogos!AM:AM,Catálogos!AL:AL)","v":"ERR"},0]
[null,null,null,null,null,null,null," -SELECCIONAR-"," -SELECCIONAR-"," -SELECCIONAR-",null," -SELECCIONAR-"," -SELECCIONAR-"," -SELECCIONAR-"," -SELECCIONAR-",null,null," -SELECCIONAR-",null,null,null," -SELECCIONAR-",null,null," -SELECCIONAR-",null," -SELECCIONAR-"," -SELECCIONAR-",null,{"$f":"IF(AC350=FALSE, LOOKUP(AC350,Catálogos!O:O),LOOKUP(AC350,Catálogos!O:O,Catálogos!R:R))","v":{"$error":"#N/A"}},"",null,null,null,{"$f":"IF(CD350=FALSE,\"COL. INCORRECTA\",LOOKUP(CONCATENATE(AE350,\" - \",AC350),Catálogos!T:T,Catálogos!Y:Y))","v":{"$error":"#N/A"}},{"$f":"IF(CD350=FALSE,\"COL. INCORRECTA\",LOOKUP(CONCATENATE(AE350,\" - \",AC350),Catálogos!T:T,Catálogos!X:X))","v":{"$error":"#N/A"}}," -SELECCIONAR-",""," -SELECCIONAR-",null,null," -SELECCIONAR-",null,null,null," -SELECCIONAR-",null,null," -SELECCIONAR-"," -SELECCIONAR-",null,null,null,null,null," -SELECCIONAR-",null,null,null,null,null,null," -SELECCIONAR-",null,null,null,null,null,null," -SELECCIONAR-",null,null,null,null,null,null," -SELECCIONAR-",null,null,{"$f":"LOOKUP(AB350,Catálogos!AP:AP,Catálogos!AO:AO)","v":"ERR"},{"$f":"CONCATENATE(LOOKUP(AC350,Catálogos!O:O,Catálogos!P:P),\".\",LOOKUP(AC350,Catálogos!O:O,Catálogos!Q:Q))","v":{"$error":"#N/A"}},{"$f":"IF(AC350=LOOKUP(CONCATENATE(AE350,\" - \",AC350),Catálogos!T:T,Catálogos!V:V),LOOKUP(CONCATENATE(AE350,\" - \",AC350),Catálogos!T:T,Catálogos!W:W),FALSE)","v":{"$error":"#N/A"}},{"$f":"LOOKUP(BD350,Catálogos!AM:AM,Catálogos!AL:AL)","v":"ERR"},{"$f":"LOOKUP(BK350,Catálogos!AM:AM,Catálogos!AL:AL)","v":"ERR"},{"$f":"LOOKUP(BR350,Catálogos!AM:AM,Catálogos!AL:AL)","v":"ERR"},{"$f":"LOOKUP(BY350,Catálogos!AM:AM,Catálogos!AL:AL)","v":"ERR"},0]
[null,null,null,null,null,null,null," -SELECCIONAR-"," -SELECCIONAR-"," -SELECCIONAR-",null," -SELECCIONAR-"," -SELECCIONAR-"," -SELECCIONAR-"," -SELECCIONAR-",null,null," -SELECCIONAR-",null,null,null," -SELECCIONAR-",null,null," -SELECCIONAR-",null," -SELECCIONAR-"," -SELECCIONAR-",null,{"$f":"IF(AC351=FALSE, LOOKUP(AC351,Catálogos!O:O),LOOKUP(AC351,Catálogos!O:O,Catálogos!R:R))","v":{"$error":"#N/A"}},"",null,null,null,{"$f":"IF(CD351=FALSE,\"COL. INCORRECTA\",LOOKUP(CONCATENATE(AE351,\" - \",AC351),Catálogos!T:T,Catálogos!Y:Y))","v":{"$error":"#N/A"}},{"$f":"IF(CD351=FALSE,\"COL. INCORRECTA\",LOOKUP(CONCATENATE(AE351,\" - \",AC351),Catálogos!T:T,Catálogos!X:X))","v":{"$error":"#N/A"}}," -SELECCIONAR-",""," -SELECCIONAR-",null,null," -SELECCIONAR-",null,null,null," -SELECCIONAR-",null,null," -SELECCIONAR-"," -SELECCIONAR-",null,null,null,null,null," -SELECCIONAR-",null,null,null,null,null,null," -SELECCIONAR-",null,null,null,null,null,null," -SELECCIONAR-",null,null,null,null,null,null," -SELECCIONAR-",null,null,{"$f":"LOOKUP(AB351,Catálogos!AP:AP,Catálogos!AO:AO)","v":"ERR"},{"$f":"CONCATENATE(LOOKUP(AC351,Catálogos!O:O,Catálogos!P:P),\".\",LOOKUP(AC351,Catálogos!O:O,Catálogos!Q:Q))","v":{"$error":"#N/A"}},{"$f":"IF(AC351=LOOKUP(CONCATENATE(AE351,\" - \",AC351),Catálogos!T:T,Catálogos!V:V),LOOKUP(CONCATENATE(AE351,\" - \",AC351),Catálogos!T:T,Catálogos!W:W),FALSE)","v":{"$error":"#N/A"}},{"$f":"LOOKUP(BD351,Catálogos!AM:AM,Catálogos!AL:AL)","v":"ERR"},{"$f":"LOOKUP(BK351,Catálogos!AM:AM,Catálogos!AL:AL)","v":"ERR"},{"$f":"LOOKUP(BR351,Catálogos!AM:AM,Catálogos!AL:AL)","v":"ERR"},{"$f":"LOOKUP(BY351,Catálogos!AM:AM,Catálogos!AL:AL)","v":"ERR"},0]
[null,null,null,null,null,null,null," -SELECCIONAR-"," -SELECCIONAR-"," -SELECCIONAR-",null," -SELECCIONAR-"," -SELECCIONAR-"," -SELECCIONAR-"," -SELECCIONAR-",null,null," -SELECCIONAR-",null,null,null," -SELECCIONAR-",null,null," -SELECCIONAR-",null," -SELECCIONAR-"," -SELECCIONAR-",null,{"$f":"IF(AC352=FALSE, LOOKUP(AC352,Catálogos!O:O),LOOKUP(AC352,Catálogos!O:O,Catálogos!R:R))","v":{"$error":"#N/A"}},"",null,null,null,{"$f":"IF(CD352=FALSE,\"COL. INCORRECTA\",LOOKUP(CONCATENATE(AE352,\" - \",AC352),Catálogos!T:T,Catálogos!Y:Y))","v":{"$error":"#N/A"}},{"$f":"IF(CD352=FALSE,\"COL. INCORRECTA\",LOOKUP(CONCATENATE(AE352,\" - \",AC352),Catálogos!T:T,Catálogos!X:X))","v":{"$error":"#N/A"}}," -SELECCIONAR-",""," -SELECCIONAR-",null,null," -SELECCIONAR-",null,null,null," -SELECCIONAR-",null,null," -SELECCIONAR-"," -SELECCIONAR-",null,null,null,null,null," -SELECCIONAR-",null,null,null,null,null,null," -SELECCIONAR-",null,null,null,null,null,null," -SELECCIONAR-",null,null,null,null,null,null," -SELECCIONAR-",null,null,{"$f":"LOOKUP(AB352,Catálogos!AP:AP,Catálogos!AO:AO)","v":"ERR"},{"$f":"CONCATENATE(LOOKUP(AC352,Catálogos!O:O,Catálogos!P:P),\".\",LOOKUP(AC352,Catálogos!O:O,Catálogos!Q:Q))","v":{"$error":"#N/A"}},{"$f":"IF(AC352=LOOKUP(CONCATENATE(AE352,\" - \",AC352),Catálogos!T:T,Catálogos!V:V),LOOKUP(CONCATENATE(AE352,\" - \",AC352),Catálogos!T:T,Catálogos!W:W),FALSE)","v":{"$error":"#N/A"}},{"$f":"LOOKUP(BD352,Catálogos!AM:AM,Catálogos!AL:AL)","v":"ERR"},{"$f":"LOOKUP(BK352,Catálogos!AM:AM,Catálogos!AL:AL)","v":"ERR"},{"$f":"LOOKUP(BR352,Catálogos!AM:AM,Catálogos!AL:AL)","v":"ERR"},{"$f":"LOOKUP(BY352,Catálogos!AM:AM,Catálogos!AL:AL)","v":"ERR"},0]
[null,null,null,null,null,null,null," -SELECCIONAR-"," -SELECCIONAR-"," -SELECCIONAR-",null," -SELECCIONAR-"," -SELECCIONAR-"," -SELECCIONAR-"," -SELECCIONAR-",null,null," -SELECCIONAR-",null,null,null," -SELECCIONAR-",null,null," -SELECCIONAR-",null," -SELECCIONAR-"," -SELECCIONAR-",null,{"$f":"IF(AC353=FALSE, LOOKUP(AC353,Catálogos!O:O),LOOKUP(AC353,Catálogos!O:O,Catálogos!R:R))","v":{"$error":"#N/A"}},"",null,null,null,{"$f":"IF(CD353=FALSE,\"COL. INCORRECTA\",LOOKUP(CONCATENATE(AE353,\" - \",AC353),Catálogos!T:T,Catálogos!Y:Y))","v":{"$error":"#N/A"}},{"$f":"IF(CD353=FALSE,\"COL. INCORRECTA\",LOOKUP(CONCATENATE(AE353,\" - \",AC353),Catálogos!T:T,Catálogos!X:X))","v":{"$error":"#N/A"}}," -SELECCIONAR-",""," -SELECCIONAR-",null,null," -SELECCIONAR-",null,null,null," -SELECCIONAR-",null,null," -SELECCIONAR-"," -SELECCIONAR-",null,null,null,null,null," -SELECCIONAR-",null,null,null,null,null,null," -SELECCIONAR-",null,null,null,null,null,null," -SELECCIONAR-",null,null,null,null,null,null," -SELECCIONAR-",null,null,{"$f":"LOOKUP(AB353,Catálogos!AP:AP,Catálogos!AO:AO)","v":"ERR"},{"$f":"CONCATENATE(LOOKUP(AC353,Catálogos!O:O,Catálogos!P:P),\".\",LOOKUP(AC353,Catálogos!O:O,Catálogos!Q:Q))","v":{"$error":"#N/A"}},{"$f":"IF(AC353=LOOKUP(CONCATENATE(AE353,\" - \",AC353),Catálogos!T:T,Catálogos!V:V),LOOKUP(CONCATENATE(AE353,\" - \",AC353),Catálogos!T:T,Catálogos!W:W),FALSE)","v":{"$error":"#N/A"}},{"$f":"LOOKUP(BD353,Catálogos!AM:AM,Catálogos!AL:AL)","v":"ERR"},{"$f":"LOOKUP(BK353,Catálogos!AM:AM,Catálogos!AL:AL)","v":"ERR"},{"$f":"LOOKUP(BR353,Catálogos!AM:AM,Catálogos!AL:AL)","v":"ERR"},{"$f":"LOOKUP(BY353,Catálogos!AM:AM,Catálogos!AL:AL)","v":"ERR"},0]
[null,null,null,null,null,null,null," -SELECCIONAR-"," -SELECCIONAR-"," -SELECCIONAR-",null," -SELECCIONAR-"," -SELECCIONAR-"," -SELECCIONAR-"," -SELECCIONAR-",null,null," -SELECCIONAR-",null,null,null," -SELECCIONAR-",null,null," -SELECCIONAR-",null," -SELECCIONAR-"," -SELECCIONAR-",null,{"$f":"IF(AC354=FALSE, LOOKUP(AC354,Catálogos!O:O),LOOKUP(AC354,Catálogos!O:O,Catálogos!R:R))","v":{"$error":"#N/A"}},"",null,null,null,{"$f":"IF(CD354=FALSE,\"COL. INCORRECTA\",LOOKUP(CONCATENATE(AE354,\" - \",AC354),Catálogos!T:T,Catálogos!Y:Y))","v":{"$error":"#N/A"}},{"$f":"IF(CD354=FALSE,\"COL. INCORRECTA\",LOOKUP(CONCATENATE(AE354,\" - \",AC354),Catálogos!T:T,Catálogos!X:X))","v":{"$error":"#N/A"}}," -SELECCIONAR-",""," -SELECCIONAR-",null,null," -SELECCIONAR-",null,null,null," -SELECCIONAR-",null,null," -SELECCIONAR-"," -SELECCIONAR-",null,null,null,null,null," -SELECCIONAR-",null,null,null,null,null,null," -SELECCIONAR-",null,null,null,null,null,null," -SELECCIONAR-",null,null,null,null,null,null," -SELECCIONAR-",null,null,{"$f":"LOOKUP(AB354,Catálogos!AP:AP,Catálogos!AO:AO)","v":"ERR"},{"$f":"CONCATENATE(LOOKUP(AC354,Catálogos!O:O,Catálogos!P:P),\".\",LOOKUP(AC354,Catálogos!O:O,Catálogos!Q:Q))","v":{"$error":"#N/A"}},{"$f":"IF(AC354=LOOKUP(CONCATENATE(AE354,\" - \",AC354),Catálogos!T:T,Catálogos!V:V),LOOKUP(CONCATENATE(AE354,\" - \",AC354),Catálogos!T:T,Catálogos!W:W),FALSE)","v":{"$error":"#N/A"}},{"$f":"LOOKUP(BD354,Catálogos!AM:AM,Catálogos!AL:AL)","v":"ERR"},{"$f":"LOOKUP(BK354,Catálogos!AM:AM,Catálogos!AL:AL)","v":"ERR"},{"$f":"LOOKUP(BR354,Catálogos!AM:AM,Catálogos!AL:AL)","v":"ERR"},{"$f":"LOOKUP(BY354,Catálogos!AM:AM,Catálogos!AL:AL)","v":"ERR"},0]
[null,null,null,null,null,null,null," -SELECCIONAR-"," -SELECCIONAR-"," -SELECCIONAR-",null," -SELECCIONAR-"," -SELECCIONAR-"," -SELECCIONAR-"," -SELECCIONAR-",null,null," -SELECCIONAR-",null,null,null," -SELECCIONAR-",null,null," -SELECCIONAR-",null," -SELECCIONAR-"," -SELECCIONAR-",null,{"$f":"IF(AC355=FALSE, LOOKUP(AC355,Catálogos!O:O),LOOKUP(AC355,Catálogos!O:O,Catálogos!R:R))","v":{"$error":"#N/A"}},"",null,null,null,{"$f":"IF(CD355=FALSE,\"COL. INCORRECTA\",LOOKUP(CONCATENATE(AE355,\" - \",AC355),Catálogos!T:T,Catálogos!Y:Y))","v":{"$error":"#N/A"}},{"$f":"IF(CD355=FALSE,\"COL. INCORRECTA\",LOOKUP(CONCATENATE(AE355,\" - \",AC355),Catálogos!T:T,Catálogos!X:X))","v":{"$error":"#N/A"}}," -SELECCIONAR-",""," -SELECCIONAR-",null,null," -SELECCIONAR-",null,null,null," -SELECCIONAR-",null,null," -SELECCIONAR-"," -SELECCIONAR-",null,null,null,null,null," -SELECCIONAR-",null,null,null,null,null,null," -SELECCIONAR-",null,null,null,null,null,null," -SELECCIONAR-",null,null,null,null,null,null," -SELECCIONAR-",null,null,{"$f":"LOOKUP(AB355,Catálogos!AP:AP,Catálogos!AO:AO)","v":"ERR"},{"$f":"CONCATENATE(LOOKUP(AC355,Catálogos!O:O,Catálogos!P:P),\".\",LOOKUP(AC355,Catálogos!O:O,Catálogos!Q:Q))","v":{"$error":"#N/A"}},{"$f":"IF(AC355=LOOKUP(CONCATENATE(AE355,\" - \",AC355),Catálogos!T:T,Catálogos!V:V),LOOKUP(CONCATENATE(AE355,\" - \",AC355),Catálogos!T:T,Catálogos!W:W),FALSE)","v":{"$error":"#N/A"}},{"$f":"LOOKUP(BD355,Catálogos!AM:AM,Catálogos!AL:AL)","v":"ERR"},{"$f":"LOOKUP(BK355,Catálogos!AM:AM,Catálogos!AL:AL)","v":"ERR"},{"$f":"LOOKUP(BR355,Catálogos!AM:AM,Catálogos!AL:AL)","v":"ERR"},{"$f":"LOOKUP(BY355,Catálogos!AM:AM,Catálogos!AL:AL)","v":"ERR"},0]
[null,null,null,null,null,null,null," -SELECCIONAR-"," -SELECCIONAR-"," -SELECCIONAR-",null," -SELECCIONAR-"," -SELECCIONAR-"," -SELECCIONAR-"," -SELECCIONAR-",null,null," -SELECCIONAR-",null,null,null," -SELECCIONAR-",null,null," -SELECCIONAR-",null," -SELECCIONAR-"," -SELECCIONAR-",null,{"$f":"IF(AC356=FALSE, LOOKUP(AC356,Catálogos!O:O),LOOKUP(AC356,Catálogos!O:O,Catálogos!R:R))","v":{"$error":"#N/A"}},"",null,null,null,{"$f":"IF(CD356=FALSE,\"COL. INCORRECTA\",LOOKUP(CONCATENATE(AE356,\" - \",AC356),Catálogos!T:T,Catálogos!Y:Y))","v":{"$error":"#N/A"}},{"$f":"IF(CD356=FALSE,\"COL. INCORRECTA\",LOOKUP(CONCATENATE(AE356,\" - \",AC356),Catálogos!T:T,Catálogos!X:X))","v":{"$error":"#N/A"}}," -SELECCIONAR-",""," -SELECCIONAR-",null,null," -SELECCIONAR-",null,null,null," -SELECCIONAR-",null,null," -SELECCIONAR-"," -SELECCIONAR-",null,null,null,null,null," -SELECCIONAR-",null,null,null,null,null,null," -SELECCIONAR-",null,null,null,null,null,null," -SELECCIONAR-",null,null,null,null,null,null," -SELECCIONAR-",null,null,{"$f":"LOOKUP(AB356,Catálogos!AP:AP,Catálogos!AO:AO)","v":"ERR"},{"$f":"CONCATENATE(LOOKUP(AC356,Catálogos!O:O,Catálogos!P:P),\".\",LOOKUP(AC356,Catálogos!O:O,Catálogos!Q:Q))","v":{"$error":"#N/A"}},{"$f":"IF(AC356=LOOKUP(CONCATENATE(AE356,\" - \",AC356),Catálogos!T:T,Catálogos!V:V),LOOKUP(CONCATENATE(AE356,\" - \",AC356),Catálogos!T:T,Catálogos!W:W),FALSE)","v":{"$error":"#N/A"}},{"$f":"LOOKUP(BD356,Catálogos!AM:AM,Catálogos!AL:AL)","v":"ERR"},{"$f":"LOOKUP(BK356,Catálogos!AM:AM,Catálogos!AL:AL)","v":"ERR"},{"$f":"LOOKUP(BR356,Catálogos!AM:AM,Catálogos!AL:AL)","v":"ERR"},{"$f":"LOOKUP(BY356,Catálogos!AM:AM,Catálogos!AL:AL)","v":"ERR"},0]
[null,null,null,null,null,null,null," -SELECCIONAR-"," -SELECCIONAR-"," -SELECCIONAR-",null," -SELECCIONAR-"," -SELECCIONAR-"," -SELECCIONAR-"," -SELECCIONAR-",null,null," -SELECCIONAR-",null,null,null," -SELECCIONAR-",null,null," -SELECCIONAR-",null," -SELECCIONAR-"," -SELECCIONAR-",null,{"$f":"IF(AC357=FALSE, LOOKUP(AC357,Catálogos!O:O),LOOKUP(AC357,Catálogos!O:O,Catálogos!R:R))","v":{"$error":"#N/A"}},"",null,null,null,{"$f":"IF(CD357=FALSE,\"COL. INCORRECTA\",LOOKUP(CONCATENATE(AE357,\" - \",AC357),Catálogos!T:T,Catálogos!Y:Y))","v":{"$error":"#N/A"}},{"$f":"IF(CD357=FALSE,\"COL. INCORRECTA\",LOOKUP(CONCATENATE(AE357,\" - \",AC357),Catálogos!T:T,Catálogos!X:X))","v":{"$error":"#N/A"}}," -SELECCIONAR-",""," -SELECCIONAR-",null,null," -SELECCIONAR-",null,null,null," -SELECCIONAR-",null,null," -SELECCIONAR-"," -SELECCIONAR-",null,null,null,null,null," -SELECCIONAR-",null,null,null,null,null,null," -SELECCIONAR-",null,null,null,null,null,null," -SELECCIONAR-",null,null,null,null,null,null," -SELECCIONAR-",null,null,{"$f":"LOOKUP(AB357,Catálogos!AP:AP,Catálogos!AO:AO)","v":"ERR"},{"$f":"CONCATENATE(LOOKUP(AC357,Catálogos!O:O,Catálogos!P:P),\".\",LOOKUP(AC357,Catálogos!O:O,Catálogos!Q:Q))","v":{"$error":"#N/A"}},{"$f":"IF(AC357=LOOKUP(CONCATENATE(AE357,\" - \",AC357),Catálogos!T:T,Catálogos!V:V),LOOKUP(CONCATENATE(AE357,\" - \",AC357),Catálogos!T:T,Catálogos!W:W),FALSE)","v":{"$error":"#N/A"}},{"$f":"LOOKUP(BD357,Catálogos!AM:AM,Catálogos!AL:AL)","v":"ERR"},{"$f":"LOOKUP(BK357,Catálogos!AM:AM,Catálogos!AL:AL)","v":"ERR"},{"$f":"LOOKUP(BR357,Catálogos!AM:AM,Catálogos!AL:AL)","v":"ERR"},{"$f":"LOOKUP(BY357,Catálogos!AM:AM,Catálogos!AL:AL)","v":"ERR"},0]
[null,null,null,null,null,null,null," -SELECCIONAR-"," -SELECCIONAR-"," -SELECCIONAR-",null," -SELECCIONAR-"," -SELECCIONAR-"," -SELECCIONAR-"," -SELECCIONAR-",null,null," -SELECCIONAR-",null,null,null," -SELECCIONAR-",null,null," -SELECCIONAR-",null," -SELECCIONAR-"," -SELECCIONAR-",null,{"$f":"IF(AC358=FALSE, LOOKUP(AC358,Catálogos!O:O),LOOKUP(AC358,Catálogos!O:O,Catálogos!R:R))","v":{"$error":"#N/A"}},"",null,null,null,{"$f":"IF(CD358=FALSE,\"COL. INCORRECTA\",LOOKUP(CONCATENATE(AE358,\" - \",AC358),Catálogos!T:T,Catálogos!Y:Y))","v":{"$error":"#N/A"}},{"$f":"IF(CD358=FALSE,\"COL. INCORRECTA\",LOOKUP(CONCATENATE(AE358,\" - \",AC358),Catálogos!T:T,Catálogos!X:X))","v":{"$error":"#N/A"}}," -SELECCIONAR-",""," -SELECCIONAR-",null,null," -SELECCIONAR-",null,null,null," -SELECCIONAR-",null,null," -SELECCIONAR-"," -SELECCIONAR-",null,null,null,null,null," -SELECCIONAR-",null,null,null,null,null,null," -SELECCIONAR-",null,null,null,null,null,null," -SELECCIONAR-",null,null,null,null,null,null," -SELECCIONAR-",null,null,{"$f":"LOOKUP(AB358,Catálogos!AP:AP,Catálogos!AO:AO)","v":"ERR"},{"$f":"CONCATENATE(LOOKUP(AC358,Catálogos!O:O,Catálogos!P:P),\".\",LOOKUP(AC358,Catálogos!O:O,Catálogos!Q:Q))","v":{"$error":"#N/A"}},{"$f":"IF(AC358=LOOKUP(CONCATENATE(AE358,\" - \",AC358),Catálogos!T:T,Catálogos!V:V),LOOKUP(CONCATENATE(AE358,\" - \",AC358),Catálogos!T:T,Catálogos!W:W),FALSE)","v":{"$error":"#N/A"}},{"$f":"LOOKUP(BD358,Catálogos!AM:AM,Catálogos!AL:AL)","v":"ERR"},{"$f":"LOOKUP(BK358,Catálogos!AM:AM,Catálogos!AL:AL)","v":"ERR"},{"$f":"LOOKUP(BR358,Catálogos!AM:AM,Catálogos!AL:AL)","v":"ERR"},{"$f":"LOOKUP(BY358,Catálogos!AM:AM,Catálogos!AL:AL)","v":"ERR"},0]
[null,null,null,null,null,null,null," -SELECCIONAR-"," -SELECCIONAR-"," -SELECCIONAR-",null," -SELECCIONAR-"," -SELECCIONAR-"," -SELECCIONAR-"," -SELECCIONAR-",null,null," -SELECCIONAR-",null,null,null," -SELECCIONAR-",null,null," -SELECCIONAR-",null," -SELECCIONAR-"," -SELECCIONAR-",null,{"$f":"IF(AC359=FALSE, LOOKUP(AC359,Catálogos!O:O),LOOKUP(AC359,Catálogos!O:O,Catálogos!R:R))","v":{"$error":"#N/A"}},"",null,null,null,{"$f":"IF(CD359=FALSE,\"COL. INCORRECTA\",LOOKUP(CONCATENATE(AE359,\" - \",AC359),Catálogos!T:T,Catálogos!Y:Y))","v":{"$error":"#N/A"}},{"$f":"IF(CD359=FALSE,\"COL. INCORRECTA\",LOOKUP(CONCATENATE(AE359,\" - \",AC359),Catálogos!T:T,Catálogos!X:X))","v":{"$error":"#N/A"}}," -SELECCIONAR-",""," -SELECCIONAR-",null,null," -SELECCIONAR-",null,null,null," -SELECCIONAR-",null,null," -SELECCIONAR-"," -SELECCIONAR-",null,null,null,null,null," -SELECCIONAR-",null,null,null,null,null,null," -SELECCIONAR-",null,null,null,null,null,null," -SELECCIONAR-",null,null,null,null,null,null," -SELECCIONAR-",null,null,{"$f":"LOOKUP(AB359,Catálogos!AP:AP,Catálogos!AO:AO)","v":"ERR"},{"$f":"CONCATENATE(LOOKUP(AC359,Catálogos!O:O,Catálogos!P:P),\".\",LOOKUP(AC359,Catálogos!O:O,Catálogos!Q:Q))","v":{"$error":"#N/A"}},{"$f":"IF(AC359=LOOKUP(CONCATENATE(AE359,\" - \",AC359),Catálogos!T:T,Catálogos!V:V),LOOKUP(CONCATENATE(AE359,\" - \",AC359),Catálogos!T:T,Catálogos!W:W),FALSE)","v":{"$error":"#N/A"}},{"$f":"LOOKUP(BD359,Catálogos!AM:AM,Catálogos!AL:AL)","v":"ERR"},{"$f":"LOOKUP(BK359,Catálogos!AM:AM,Catálogos!AL:AL)","v":"ERR"},{"$f":"LOOKUP(BR359,Catálogos!AM:AM,Catálogos!AL:AL)","v":"ERR"},{"$f":"LOOKUP(BY359,Catálogos!AM:AM,Catálogos!AL:AL)","v":"ERR"},0]
[null,null,null,null,null,null,null," -SELECCIONAR-"," -SELECCIONAR-"," -SELECCIONAR-",null," -SELECCIONAR-"," -SELECCIONAR-"," -SELECCIONAR-"," -SELECCIONAR-",null,null," -SELECCIONAR-",null,null,null," -SELECCIONAR-",null,null," -SELECCIONAR-",null," -SELECCIONAR-"," -SELECCIONAR-",null,{"$f":"IF(AC360=FALSE, LOOKUP(AC360,Catálogos!O:O),LOOKUP(AC360,Catálogos!O:O,Catálogos!R:R))","v":{"$error":"#N/A"}},"",null,null,null,{"$f":"IF(CD360=FALSE,\"COL. INCORRECTA\",LOOKUP(CONCATENATE(AE360,\" - \",AC360),Catálogos!T:T,Catálogos!Y:Y))","v":{"$error":"#N/A"}},{"$f":"IF(CD360=FALSE,\"COL. INCORRECTA\",LOOKUP(CONCATENATE(AE360,\" - \",AC360),Catálogos!T:T,Catálogos!X:X))","v":{"$error":"#N/A"}}," -SELECCIONAR-",""," -SELECCIONAR-",null,null," -SELECCIONAR-",null,null,null," -SELECCIONAR-",null,null," -SELECCIONAR-"," -SELECCIONAR-",null,null,null,null,null," -SELECCIONAR-",null,null,null,null,null,null," -SELECCIONAR-",null,null,null,null,null,null," -SELECCIONAR-",null,null,null,null,null,null," -SELECCIONAR-",null,null,{"$f":"LOOKUP(AB360,Catálogos!AP:AP,Catálogos!AO:AO)","v":"ERR"},{"$f":"CONCATENATE(LOOKUP(AC360,Catálogos!O:O,Catálogos!P:P),\".\",LOOKUP(AC360,Catálogos!O:O,Catálogos!Q:Q))","v":{"$error":"#N/A"}},{"$f":"IF(AC360=LOOKUP(CONCATENATE(AE360,\" - \",AC360),Catálogos!T:T,Catálogos!V:V),LOOKUP(CONCATENATE(AE360,\" - \",AC360),Catálogos!T:T,Catálogos!W:W),FALSE)","v":{"$error":"#N/A"}},{"$f":"LOOKUP(BD360,Catálogos!AM:AM,Catálogos!AL:AL)","v":"ERR"},{"$f":"LOOKUP(BK360,Catálogos!AM:AM,Catálogos!AL:AL)","v":"ERR"},{"$f":"LOOKUP(BR360,Catálogos!AM:AM,Catálogos!AL:AL)","v":"ERR"},{"$f":"LOOKUP(BY360,Catálogos!AM:AM,Catálogos!AL:AL)","v":"ERR"},0]
[null,null,null,null,null,null,null," -SELECCIONAR-"," -SELECCIONAR-"," -SELECCIONAR-",null," -SELECCIONAR-"," -SELECCIONAR-"," -SELECCIONAR-"," -SELECCIONAR-",null,null," -SELECCIONAR-",null,null,null," -SELECCIONAR-",null,null," -SELECCIONAR-",null," -SELECCIONAR-"," -SELECCIONAR-",null,{"$f":"IF(AC361=FALSE, LOOKUP(AC361,Catálogos!O:O),LOOKUP(AC361,Catálogos!O:O,Catálogos!R:R))","v":{"$error":"#N/A"}},"",null,null,null,{"$f":"IF(CD361=FALSE,\"COL. INCORRECTA\",LOOKUP(CONCATENATE(AE361,\" - \",AC361),Catálogos!T:T,Catálogos!Y:Y))","v":{"$error":"#N/A"}},{"$f":"IF(CD361=FALSE,\"COL. INCORRECTA\",LOOKUP(CONCATENATE(AE361,\" - \",AC361),Catálogos!T:T,Catálogos!X:X))","v":{"$error":"#N/A"}}," -SELECCIONAR-",""," -SELECCIONAR-",null,null," -SELECCIONAR-",null,null,null," -SELECCIONAR-",null,null," -SELECCIONAR-"," -SELECCIONAR-",null,null,null,null,null," -SELECCIONAR-",null,null,null,null,null,null," -SELECCIONAR-",null,null,null,null,null,null," -SELECCIONAR-",null,null,null,null,null,null," -SELECCIONAR-",null,null,{"$f":"LOOKUP(AB361,Catálogos!AP:AP,Catálogos!AO:AO)","v":"ERR"},{"$f":"CONCATENATE(LOOKUP(AC361,Catálogos!O:O,Catálogos!P:P),\".\",LOOKUP(AC361,Catálogos!O:O,Catálogos!Q:Q))","v":{"$error":"#N/A"}},{"$f":"IF(AC361=LOOKUP(CONCATENATE(AE361,\" - \",AC361),Catálogos!T:T,Catálogos!V:V),LOOKUP(CONCATENATE(AE361,\" - \",AC361),Catálogos!T:T,Catálogos!W:W),FALSE)","v":{"$error":"#N/A"}},{"$f":"LOOKUP(BD361,Catálogos!AM:AM,Catálogos!AL:AL)","v":"ERR"},{"$f":"LOOKUP(BK361,Catálogos!AM:AM,Catálogos!AL:AL)","v":"ERR"},{"$f":"LOOKUP(BR361,Catálogos!AM:AM,Catálogos!AL:AL)","v":"ERR"},{"$f":"LOOKUP(BY361,Catálogos!AM:AM,Catálogos!AL:AL)","v":"ERR"},0]
[null,null,null,null,null,null,null," -SELECCIONAR-"," -SELECCIONAR-"," -SELECCIONAR-",null," -SELECCIONAR-"," -SELECCIONAR-"," -SELECCIONAR-"," -SELECCIONAR-",null,null," -SELECCIONAR-",null,null,null," -SELECCIONAR-",null,null," -SELECCIONAR-",null," -SELECCIONAR-"," -SELECCIONAR-",null,{"$f":"IF(AC362=FALSE, LOOKUP(AC362,Catálogos!O:O),LOOKUP(AC362,Catálogos!O:O,Catálogos!R:R))","v":{"$error":"#N/A"}},"",null,null,null,{"$f":"IF(CD362=FALSE,\"COL. INCORRECTA\",LOOKUP(CONCATENATE(AE362,\" - \",AC362),Catálogos!T:T,Catálogos!Y:Y))","v":{"$error":"#N/A"}},{"$f":"IF(CD362=FALSE,\"COL. INCORRECTA\",LOOKUP(CONCATENATE(AE362,\" - \",AC362),Catálogos!T:T,Catálogos!X:X))","v":{"$error":"#N/A"}}," -SELECCIONAR-",""," -SELECCIONAR-",null,null," -SELECCIONAR-",null,null,null," -SELECCIONAR-",null,null," -SELECCIONAR-"," -SELECCIONAR-",null,null,null,null,null," -SELECCIONAR-",null,null,null,null,null,null," -SELECCIONAR-",null,null,null,null,null,null," -SELECCIONAR-",null,null,null,null,null,null," -SELECCIONAR-",null,null,{"$f":"LOOKUP(AB362,Catálogos!AP:AP,Catálogos!AO:AO)","v":"ERR"},{"$f":"CONCATENATE(LOOKUP(AC362,Catálogos!O:O,Catálogos!P:P),\".\",LOOKUP(AC362,Catálogos!O:O,Catálogos!Q:Q))","v":{"$error":"#N/A"}},{"$f":"IF(AC362=LOOKUP(CONCATENATE(AE362,\" - \",AC362),Catálogos!T:T,Catálogos!V:V),LOOKUP(CONCATENATE(AE362,\" - \",AC362),Catálogos!T:T,Catálogos!W:W),FALSE)","v":{"$error":"#N/A"}},{"$f":"LOOKUP(BD362,Catálogos!AM:AM,Catálogos!AL:AL)","v":"ERR"},{"$f":"LOOKUP(BK362,Catálogos!AM:AM,Catálogos!AL:AL)","v":"ERR"},{"$f":"LOOKUP(BR362,Catálogos!AM:AM,Catálogos!AL:AL)","v":"ERR"},{"$f":"LOOKUP(BY362,Catálogos!AM:AM,Catálogos!AL:AL)","v":"ERR"},0]
[null,null,null,null,null,null,null," -SELECCIONAR-"," -SELECCIONAR-"," -SELECCIONAR-",null," -SELECCIONAR-"," -SELECCIONAR-"," -SELECCIONAR-"," -SELECCIONAR-",null,null," -SELECCIONAR-",null,null,null," -SELECCIONAR-",null,null," -SELECCIONAR-",null," -SELECCIONAR-"," -SELECCIONAR-",null,{"$f":"IF(AC363=FALSE, LOOKUP(AC363,Catálogos!O:O),LOOKUP(AC363,Catálogos!O:O,Catálogos!R:R))","v":{"$error":"#N/A"}},"",null,null,null,{"$f":"IF(CD363=FALSE,\"COL. INCORRECTA\",LOOKUP(CONCATENATE(AE363,\" - \",AC363),Catálogos!T:T,Catálogos!Y:Y))","v":{"$error":"#N/A"}},{"$f":"IF(CD363=FALSE,\"COL. INCORRECTA\",LOOKUP(CONCATENATE(AE363,\" - \",AC363),Catálogos!T:T,Catálogos!X:X))","v":{"$error":"#N/A"}}," -SELECCIONAR-",""," -SELECCIONAR-",null,null," -SELECCIONAR-",null,null,null," -SELECCIONAR-",null,null," -SELECCIONAR-"," -SELECCIONAR-",null,null,null,null,null," -SELECCIONAR-",null,null,null,null,null,null," -SELECCIONAR-",null,null,null,null,null,null," -SELECCIONAR-",null,null,null,null,null,null," -SELECCIONAR-",null,null,{"$f":"LOOKUP(AB363,Catálogos!AP:AP,Catálogos!AO:AO)","v":"ERR"},{"$f":"CONCATENATE(LOOKUP(AC363,Catálogos!O:O,Catálogos!P:P),\".\",LOOKUP(AC363,Catálogos!O:O,Catálogos!Q:Q))","v":{"$error":"#N/A"}},{"$f":"IF(AC363=LOOKUP(CONCATENATE(AE363,\" - \",AC363),Catálogos!T:T,Catálogos!V:V),LOOKUP(CONCATENATE(AE363,\" - \",AC363),Catálogos!T:T,Catálogos!W:W),FALSE)","v":{"$error":"#N/A"}},{"$f":"LOOKUP(BD363,Catálogos!AM:AM,Catálogos!AL:AL)","v":"ERR"},{"$f":"LOOKUP(BK363,Catálogos!AM:AM,Catálogos!AL:AL)","v":"ERR"},{"$f":"LOOKUP(BR363,Catálogos!AM:AM,Catálogos!AL:AL)","v":"ERR"},{"$f":"LOOKUP(BY363,Catálogos!AM:AM,Catálogos!AL:AL)","v":"ERR"},0]
[null,null,null,null,null,null,null," -SELECCIONAR-"," -SELECCIONAR-"," -SELECCIONAR-",null," -SELECCIONAR-"," -SELECCIONAR-"," -SELECCIONAR-"," -SELECCIONAR-",null,null," -SELECCIONAR-",null,null,null," -SELECCIONAR-",null,null," -SELECCIONAR-",null," -SELECCIONAR-"," -SELECCIONAR-",null,{"$f":"IF(AC364=FALSE, LOOKUP(AC364,Catálogos!O:O),LOOKUP(AC364,Catálogos!O:O,Catálogos!R:R))","v":{"$error":"#N/A"}},"",null,null,null,{"$f":"IF(CD364=FALSE,\"COL. INCORRECTA\",LOOKUP(CONCATENATE(AE364,\" - \",AC364),Catálogos!T:T,Catálogos!Y:Y))","v":{"$error":"#N/A"}},{"$f":"IF(CD364=FALSE,\"COL. INCORRECTA\",LOOKUP(CONCATENATE(AE364,\" - \",AC364),Catálogos!T:T,Catálogos!X:X))","v":{"$error":"#N/A"}}," -SELECCIONAR-",""," -SELECCIONAR-",null,null," -SELECCIONAR-",null,null,null," -SELECCIONAR-",null,null," -SELECCIONAR-"," -SELECCIONAR-",null,null,null,null,null," -SELECCIONAR-",null,null,null,null,null,null," -SELECCIONAR-",null,null,null,null,null,null," -SELECCIONAR-",null,null,null,null,null,null," -SELECCIONAR-",null,null,{"$f":"LOOKUP(AB364,Catálogos!AP:AP,Catálogos!AO:AO)","v":"ERR"},{"$f":"CONCATENATE(LOOKUP(AC364,Catálogos!O:O,Catálogos!P:P),\".\",LOOKUP(AC364,Catálogos!O:O,Catálogos!Q:Q))","v":{"$error":"#N/A"}},{"$f":"IF(AC364=LOOKUP(CONCATENATE(AE364,\" - \",AC364),Catálogos!T:T,Catálogos!V:V),LOOKUP(CONCATENATE(AE364,\" - \",AC364),Catálogos!T:T,Catálogos!W:W),FALSE)","v":{"$error":"#N/A"}},{"$f":"LOOKUP(BD364,Catálogos!AM:AM,Catálogos!AL:AL)","v":"ERR"},{"$f":"LOOKUP(BK364,Catálogos!AM:AM,Catálogos!AL:AL)","v":"ERR"},{"$f":"LOOKUP(BR364,Catálogos!AM:AM,Catálogos!AL:AL)","v":"ERR"},{"$f":"LOOKUP(BY364,Catálogos!AM:AM,Catálogos!AL:AL)","v":"ERR"},0]
[null,null,null,null,null,null,null," -SELECCIONAR-"," -SELECCIONAR-"," -SELECCIONAR-",null," -SELECCIONAR-"," -SELECCIONAR-"," -SELECCIONAR-"," -SELECCIONAR-",null,null," -SELECCIONAR-",null,null,null," -SELECCIONAR-",null,null," -SELECCIONAR-",null," -SELECCIONAR-"," -SELECCIONAR-",null,{"$f":"IF(AC365=FALSE, LOOKUP(AC365,Catálogos!O:O),LOOKUP(AC365,Catálogos!O:O,Catálogos!R:R))","v":{"$error":"#N/A"}},"",null,null,null,{"$f":"IF(CD365=FALSE,\"COL. INCORRECTA\",LOOKUP(CONCATENATE(AE365,\" - \",AC365),Catálogos!T:T,Catálogos!Y:Y))","v":{"$error":"#N/A"}},{"$f":"IF(CD365=FALSE,\"COL. INCORRECTA\",LOOKUP(CONCATENATE(AE365,\" - \",AC365),Catálogos!T:T,Catálogos!X:X))","v":{"$error":"#N/A"}}," -SELECCIONAR-",""," -SELECCIONAR-",null,null," -SELECCIONAR-",null,null,null," -SELECCIONAR-",null,null," -SELECCIONAR-"," -SELECCIONAR-",null,null,null,null,null," -SELECCIONAR-",null,null,null,null,null,null," -SELECCIONAR-",null,null,null,null,null,null," -SELECCIONAR-",null,null,null,null,null,null," -SELECCIONAR-",null,null,{"$f":"LOOKUP(AB365,Catálogos!AP:AP,Catálogos!AO:AO)","v":"ERR"},{"$f":"CONCATENATE(LOOKUP(AC365,Catálogos!O:O,Catálogos!P:P),\".\",LOOKUP(AC365,Catálogos!O:O,Catálogos!Q:Q))","v":{"$error":"#N/A"}},{"$f":"IF(AC365=LOOKUP(CONCATENATE(AE365,\" - \",AC365),Catálogos!T:T,Catálogos!V:V),LOOKUP(CONCATENATE(AE365,\" - \",AC365),Catálogos!T:T,Catálogos!W:W),FALSE)","v":{"$error":"#N/A"}},{"$f":"LOOKUP(BD365,Catálogos!AM:AM,Catálogos!AL:AL)","v":"ERR"},{"$f":"LOOKUP(BK365,Catálogos!AM:AM,Catálogos!AL:AL)","v":"ERR"},{"$f":"LOOKUP(BR365,Catálogos!AM:AM,Catálogos!AL:AL)","v":"ERR"},{"$f":"LOOKUP(BY365,Catálogos!AM:AM,Catálogos!AL:AL)","v":"ERR"},0]
[null,null,null,null,null,null,null," -SELECCIONAR-"," -SELECCIONAR-"," -SELECCIONAR-",null," -SELECCIONAR-"," -SELECCIONAR-"," -SELECCIONAR-"," -SELECCIONAR-",null,null," -SELECCIONAR-",null,null,null," -SELECCIONAR-",null,null," -SELECCIONAR-",null," -SELECCIONAR-"," -SELECCIONAR-",null,{"$f":"IF(AC366=FALSE, LOOKUP(AC366,Catálogos!O:O),LOOKUP(AC366,Catálogos!O:O,Catálogos!R:R))","v":{"$error":"#N/A"}},"",null,null,null,{"$f":"IF(CD366=FALSE,\"COL. INCORRECTA\",LOOKUP(CONCATENATE(AE366,\" - \",AC366),Catálogos!T:T,Catálogos!Y:Y))","v":{"$error":"#N/A"}},{"$f":"IF(CD366=FALSE,\"COL. INCORRECTA\",LOOKUP(CONCATENATE(AE366,\" - \",AC366),Catálogos!T:T,Catálogos!X:X))","v":{"$error":"#N/A"}}," -SELECCIONAR-",""," -SELECCIONAR-",null,null," -SELECCIONAR-",null,null,null," -SELECCIONAR-",null,null," -SELECCIONAR-"," -SELECCIONAR-",null,null,null,null,null," -SELECCIONAR-",null,null,null,null,null,null," -SELECCIONAR-",null,null,null,null,null,null," -SELECCIONAR-",null,null,null,null,null,null," -SELECCIONAR-",null,null,{"$f":"LOOKUP(AB366,Catálogos!AP:AP,Catálogos!AO:AO)","v":"ERR"},{"$f":"CONCATENATE(LOOKUP(AC366,Catálogos!O:O,Catálogos!P:P),\".\",LOOKUP(AC366,Catálogos!O:O,Catálogos!Q:Q))","v":{"$error":"#N/A"}},{"$f":"IF(AC366=LOOKUP(CONCATENATE(AE366,\" - \",AC366),Catálogos!T:T,Catálogos!V:V),LOOKUP(CONCATENATE(AE366,\" - \",AC366),Catálogos!T:T,Catálogos!W:W),FALSE)","v":{"$error":"#N/A"}},{"$f":"LOOKUP(BD366,Catálogos!AM:AM,Catálogos!AL:AL)","v":"ERR"},{"$f":"LOOKUP(BK366,Catálogos!AM:AM,Catálogos!AL:AL)","v":"ERR"},{"$f":"LOOKUP(BR366,Catálogos!AM:AM,Catálogos!AL:AL)","v":"ERR"},{"$f":"LOOKUP(BY366,Catálogos!AM:AM,Catálogos!AL:AL)","v":"ERR"},0]
[null,null,null,null,null,null,null," -SELECCIONAR-"," -SELECCIONAR-"," -SELECCIONAR-",null," -SELECCIONAR-"," -SELECCIONAR-"," -SELECCIONAR-"," -SELECCIONAR-",null,null," -SELECCIONAR-",null,null,null," -SELECCIONAR-",null,null," -SELECCIONAR-",null," -SELECCIONAR-"," -SELECCIONAR-",null,{"$f":"IF(AC367=FALSE, LOOKUP(AC367,Catálogos!O:O),LOOKUP(AC367,Catálogos!O:O,Catálogos!R:R))","v":{"$error":"#N/A"}},"",null,null,null,{"$f":"IF(CD367=FALSE,\"COL. INCORRECTA\",LOOKUP(CONCATENATE(AE367,\" - \",AC367),Catálogos!T:T,Catálogos!Y:Y))","v":{"$error":"#N/A"}},{"$f":"IF(CD367=FALSE,\"COL. INCORRECTA\",LOOKUP(CONCATENATE(AE367,\" - \",AC367),Catálogos!T:T,Catálogos!X:X))","v":{"$error":"#N/A"}}," -SELECCIONAR-",""," -SELECCIONAR-",null,null," -SELECCIONAR-",null,null,null," -SELECCIONAR-",null,null," -SELECCIONAR-"," -SELECCIONAR-",null,null,null,null,null," -SELECCIONAR-",null,null,null,null,null,null," -SELECCIONAR-",null,null,null,null,null,null," -SELECCIONAR-",null,null,null,null,null,null," -SELECCIONAR-",null,null,{"$f":"LOOKUP(AB367,Catálogos!AP:AP,Catálogos!AO:AO)","v":"ERR"},{"$f":"CONCATENATE(LOOKUP(AC367,Catálogos!O:O,Catálogos!P:P),\".\",LOOKUP(AC367,Catálogos!O:O,Catálogos!Q:Q))","v":{"$error":"#N/A"}},{"$f":"IF(AC367=LOOKUP(CONCATENATE(AE367,\" - \",AC367),Catálogos!T:T,Catálogos!V:V),LOOKUP(CONCATENATE(AE367,\" - \",AC367),Catálogos!T:T,Catálogos!W:W),FALSE)","v":{"$error":"#N/A"}},{"$f":"LOOKUP(BD367,Catálogos!AM:AM,Catálogos!AL:AL)","v":"ERR"},{"$f":"LOOKUP(BK367,Catálogos!AM:AM,Catálogos!AL:AL)","v":"ERR"},{"$f":"LOOKUP(BR367,Catálogos!AM:AM,Catálogos!AL:AL)","v":"ERR"},{"$f":"LOOKUP(BY367,Catálogos!AM:AM,Catálogos!AL:AL)","v":"ERR"},0]
[null,null,null,null,null,null,null," -SELECCIONAR-"," -SELECCIONAR-"," -SELECCIONAR-",null," -SELECCIONAR-"," -SELECCIONAR-"," -SELECCIONAR-"," -SELECCIONAR-",null,null," -SELECCIONAR-",null,null,null," -SELECCIONAR-",null,null," -SELECCIONAR-",null," -SELECCIONAR-"," -SELECCIONAR-",null,{"$f":"IF(AC368=FALSE, LOOKUP(AC368,Catálogos!O:O),LOOKUP(AC368,Catálogos!O:O,Catálogos!R:R))","v":{"$error":"#N/A"}},"",null,null,null,{"$f":"IF(CD368=FALSE,\"COL. INCORRECTA\",LOOKUP(CONCATENATE(AE368,\" - \",AC368),Catálogos!T:T,Catálogos!Y:Y))","v":{"$error":"#N/A"}},{"$f":"IF(CD368=FALSE,\"COL. INCORRECTA\",LOOKUP(CONCATENATE(AE368,\" - \",AC368),Catálogos!T:T,Catálogos!X:X))","v":{"$error":"#N/A"}}," -SELECCIONAR-",""," -SELECCIONAR-",null,null," -SELECCIONAR-",null,null,null," -SELECCIONAR-",null,null," -SELECCIONAR-"," -SELECCIONAR-",null,null,null,null,null," -SELECCIONAR-",null,null,null,null,null,null," -SELECCIONAR-",null,null,null,null,null,null," -SELECCIONAR-",null,null,null,null,null,null," -SELECCIONAR-",null,null,{"$f":"LOOKUP(AB368,Catálogos!AP:AP,Catálogos!AO:AO)","v":"ERR"},{"$f":"CONCATENATE(LOOKUP(AC368,Catálogos!O:O,Catálogos!P:P),\".\",LOOKUP(AC368,Catálogos!O:O,Catálogos!Q:Q))","v":{"$error":"#N/A"}},{"$f":"IF(AC368=LOOKUP(CONCATENATE(AE368,\" - \",AC368),Catálogos!T:T,Catálogos!V:V),LOOKUP(CONCATENATE(AE368,\" - \",AC368),Catálogos!T:T,Catálogos!W:W),FALSE)","v":{"$error":"#N/A"}},{"$f":"LOOKUP(BD368,Catálogos!AM:AM,Catálogos!AL:AL)","v":"ERR"},{"$f":"LOOKUP(BK368,Catálogos!AM:AM,Catálogos!AL:AL)","v":"ERR"},{"$f":"LOOKUP(BR368,Catálogos!AM:AM,Catálogos!AL:AL)","v":"ERR"},{"$f":"LOOKUP(BY368,Catálogos!AM:AM,Catálogos!AL:AL)","v":"ERR"},0]
[null,null,null,null,null,null,null," -SELECCIONAR-"," -SELECCIONAR-"," -SELECCIONAR-",null," -SELECCIONAR-"," -SELECCIONAR-"," -SELECCIONAR-"," -SELECCIONAR-",null,null," -SELECCIONAR-",null,null,null," -SELECCIONAR-",null,null," -SELECCIONAR-",null," -SELECCIONAR-"," -SELECCIONAR-",null,{"$f":"IF(AC369=FALSE, LOOKUP(AC369,Catálogos!O:O),LOOKUP(AC369,Catálogos!O:O,Catálogos!R:R))","v":{"$error":"#N/A"}},"",null,null,null,{"$f":"IF(CD369=FALSE,\"COL. INCORRECTA\",LOOKUP(CONCATENATE(AE369,\" - \",AC369),Catálogos!T:T,Catálogos!Y:Y))","v":{"$error":"#N/A"}},{"$f":"IF(CD369=FALSE,\"COL. INCORRECTA\",LOOKUP(CONCATENATE(AE369,\" - \",AC369),Catálogos!T:T,Catálogos!X:X))","v":{"$error":"#N/A"}}," -SELECCIONAR-",""," -SELECCIONAR-",null,null," -SELECCIONAR-",null,null,null," -SELECCIONAR-",null,null," -SELECCIONAR-"," -SELECCIONAR-",null,null,null,null,null," -SELECCIONAR-",null,null,null,null,null,null," -SELECCIONAR-",null,null,null,null,null,null," -SELECCIONAR-",null,null,null,null,null,null," -SELECCIONAR-",null,null,{"$f":"LOOKUP(AB369,Catálogos!AP:AP,Catálogos!AO:AO)","v":"ERR"},{"$f":"CONCATENATE(LOOKUP(AC369,Catálogos!O:O,Catálogos!P:P),\".\",LOOKUP(AC369,Catálogos!O:O,Catálogos!Q:Q))","v":{"$error":"#N/A"}},{"$f":"IF(AC369=LOOKUP(CONCATENATE(AE369,\" - \",AC369),Catálogos!T:T,Catálogos!V:V),LOOKUP(CONCATENATE(AE369,\" - \",AC369),Catálogos!T:T,Catálogos!W:W),FALSE)","v":{"$error":"#N/A"}},{"$f":"LOOKUP(BD369,Catálogos!AM:AM,Catálogos!AL:AL)","v":"ERR"},{"$f":"LOOKUP(BK369,Catálogos!AM:AM,Catálogos!AL:AL)","v":"ERR"},{"$f":"LOOKUP(BR369,Catálogos!AM:AM,Catálogos!AL:AL)","v":"ERR"},{"$f":"LOOKUP(BY369,Catálogos!AM:AM,Catálogos!AL:AL)","v":"ERR"},0]
[null,null,null,null,null,null,null," -SELECCIONAR-"," -SELECCIONAR-"," -SELECCIONAR-",null," -SELECCIONAR-"," -SELECCIONAR-"," -SELECCIONAR-"," -SELECCIONAR-",null,null," -SELECCIONAR-",null,null,null," -SELECCIONAR-",null,null," -SELECCIONAR-",null," -SELECCIONAR-"," -SELECCIONAR-",null,{"$f":"IF(AC370=FALSE, LOOKUP(AC370,Catálogos!O:O),LOOKUP(AC370,Catálogos!O:O,Catálogos!R:R))","v":{"$error":"#N/A"}},"",null,null,null,{"$f":"IF(CD370=FALSE,\"COL. INCORRECTA\",LOOKUP(CONCATENATE(AE370,\" - \",AC370),Catálogos!T:T,Catálogos!Y:Y))","v":{"$error":"#N/A"}},{"$f":"IF(CD370=FALSE,\"COL. INCORRECTA\",LOOKUP(CONCATENATE(AE370,\" - \",AC370),Catálogos!T:T,Catálogos!X:X))","v":{"$error":"#N/A"}}," -SELECCIONAR-",""," -SELECCIONAR-",null,null," -SELECCIONAR-",null,null,null," -SELECCIONAR-",null,null," -SELECCIONAR-"," -SELECCIONAR-",null,null,null,null,null," -SELECCIONAR-",null,null,null,null,null,null," -SELECCIONAR-",null,null,null,null,null,null," -SELECCIONAR-",null,null,null,null,null,null," -SELECCIONAR-",null,null,{"$f":"LOOKUP(AB370,Catálogos!AP:AP,Catálogos!AO:AO)","v":"ERR"},{"$f":"CONCATENATE(LOOKUP(AC370,Catálogos!O:O,Catálogos!P:P),\".\",LOOKUP(AC370,Catálogos!O:O,Catálogos!Q:Q))","v":{"$error":"#N/A"}},{"$f":"IF(AC370=LOOKUP(CONCATENATE(AE370,\" - \",AC370),Catálogos!T:T,Catálogos!V:V),LOOKUP(CONCATENATE(AE370,\" - \",AC370),Catálogos!T:T,Catálogos!W:W),FALSE)","v":{"$error":"#N/A"}},{"$f":"LOOKUP(BD370,Catálogos!AM:AM,Catálogos!AL:AL)","v":"ERR"},{"$f":"LOOKUP(BK370,Catálogos!AM:AM,Catálogos!AL:AL)","v":"ERR"},{"$f":"LOOKUP(BR370,Catálogos!AM:AM,Catálogos!AL:AL)","v":"ERR"},{"$f":"LOOKUP(BY370,Catálogos!AM:AM,Catálogos!AL:AL)","v":"ERR"},0]
[null,null,null,null,null,null,null," -SELECCIONAR-"," -SELECCIONAR-"," -SELECCIONAR-",null," -SELECCIONAR-"," -SELECCIONAR-"," -SELECCIONAR-"," -SELECCIONAR-",null,null," -SELECCIONAR-",null,null,null," -SELECCIONAR-",null,null," -SELECCIONAR-",null," -SELECCIONAR-"," -SELECCIONAR-",null,{"$f":"IF(AC371=FALSE, LOOKUP(AC371,Catálogos!O:O),LOOKUP(AC371,Catálogos!O:O,Catálogos!R:R))","v":{"$error":"#N/A"}},"",null,null,null,{"$f":"IF(CD371=FALSE,\"COL. INCORRECTA\",LOOKUP(CONCATENATE(AE371,\" - \",AC371),Catálogos!T:T,Catálogos!Y:Y))","v":{"$error":"#N/A"}},{"$f":"IF(CD371=FALSE,\"COL. INCORRECTA\",LOOKUP(CONCATENATE(AE371,\" - \",AC371),Catálogos!T:T,Catálogos!X:X))","v":{"$error":"#N/A"}}," -SELECCIONAR-",""," -SELECCIONAR-",null,null," -SELECCIONAR-",null,null,null," -SELECCIONAR-",null,null," -SELECCIONAR-"," -SELECCIONAR-",null,null,null,null,null," -SELECCIONAR-",null,null,null,null,null,null," -SELECCIONAR-",null,null,null,null,null,null," -SELECCIONAR-",null,null,null,null,null,null," -SELECCIONAR-",null,null,{"$f":"LOOKUP(AB371,Catálogos!AP:AP,Catálogos!AO:AO)","v":"ERR"},{"$f":"CONCATENATE(LOOKUP(AC371,Catálogos!O:O,Catálogos!P:P),\".\",LOOKUP(AC371,Catálogos!O:O,Catálogos!Q:Q))","v":{"$error":"#N/A"}},{"$f":"IF(AC371=LOOKUP(CONCATENATE(AE371,\" - \",AC371),Catálogos!T:T,Catálogos!V:V),LOOKUP(CONCATENATE(AE371,\" - \",AC371),Catálogos!T:T,Catálogos!W:W),FALSE)","v":{"$error":"#N/A"}},{"$f":"LOOKUP(BD371,Catálogos!AM:AM,Catálogos!AL:AL)","v":"ERR"},{"$f":"LOOKUP(BK371,Catálogos!AM:AM,Catálogos!AL:AL)","v":"ERR"},{"$f":"LOOKUP(BR371,Catálogos!AM:AM,Catálogos!AL:AL)","v":"ERR"},{"$f":"LOOKUP(BY371,Catálogos!AM:AM,Catálogos!AL:AL)","v":"ERR"},0]
[null,null,null,null,null,null,null," -SELECCIONAR-"," -SELECCIONAR-"," -SELECCIONAR-",null," -SELECCIONAR-"," -SELECCIONAR-"," -SELECCIONAR-"," -SELECCIONAR-",null,null," -SELECCIONAR-",null,null,null," -SELECCIONAR-",null,null," -SELECCIONAR-",null," -SELECCIONAR-"," -SELECCIONAR-",null,{"$f":"IF(AC372=FALSE, LOOKUP(AC372,Catálogos!O:O),LOOKUP(AC372,Catálogos!O:O,Catálogos!R:R))","v":{"$error":"#N/A"}},"",null,null,null,{"$f":"IF(CD372=FALSE,\"COL. INCORRECTA\",LOOKUP(CONCATENATE(AE372,\" - \",AC372),Catálogos!T:T,Catálogos!Y:Y))","v":{"$error":"#N/A"}},{"$f":"IF(CD372=FALSE,\"COL. INCORRECTA\",LOOKUP(CONCATENATE(AE372,\" - \",AC372),Catálogos!T:T,Catálogos!X:X))","v":{"$error":"#N/A"}}," -SELECCIONAR-",""," -SELECCIONAR-",null,null," -SELECCIONAR-",null,null,null," -SELECCIONAR-",null,null," -SELECCIONAR-"," -SELECCIONAR-",null,null,null,null,null," -SELECCIONAR-",null,null,null,null,null,null," -SELECCIONAR-",null,null,null,null,null,null," -SELECCIONAR-",null,null,null,null,null,null," -SELECCIONAR-",null,null,{"$f":"LOOKUP(AB372,Catálogos!AP:AP,Catálogos!AO:AO)","v":"ERR"},{"$f":"CONCATENATE(LOOKUP(AC372,Catálogos!O:O,Catálogos!P:P),\".\",LOOKUP(AC372,Catálogos!O:O,Catálogos!Q:Q))","v":{"$error":"#N/A"}},{"$f":"IF(AC372=LOOKUP(CONCATENATE(AE372,\" - \",AC372),Catálogos!T:T,Catálogos!V:V),LOOKUP(CONCATENATE(AE372,\" - \",AC372),Catálogos!T:T,Catálogos!W:W),FALSE)","v":{"$error":"#N/A"}},{"$f":"LOOKUP(BD372,Catálogos!AM:AM,Catálogos!AL:AL)","v":"ERR"},{"$f":"LOOKUP(BK372,Catálogos!AM:AM,Catálogos!AL:AL)","v":"ERR"},{"$f":"LOOKUP(BR372,Catálogos!AM:AM,Catálogos!AL:AL)","v":"ERR"},{"$f":"LOOKUP(BY372,Catálogos!AM:AM,Catálogos!AL:AL)","v":"ERR"},0]
[null,null,null,null,null,null,null," -SELECCIONAR-"," -SELECCIONAR-"," -SELECCIONAR-",null," -SELECCIONAR-"," -SELECCIONAR-"," -SELECCIONAR-"," -SELECCIONAR-",null,null," -SELECCIONAR-",null,null,null," -SELECCIONAR-",null,null," -SELECCIONAR-",null," -SELECCIONAR-"," -SELECCIONAR-",null,{"$f":"IF(AC373=FALSE, LOOKUP(AC373,Catálogos!O:O),LOOKUP(AC373,Catálogos!O:O,Catálogos!R:R))","v":{"$error":"#N/A"}},"",null,null,null,{"$f":"IF(CD373=FALSE,\"COL. INCORRECTA\",LOOKUP(CONCATENATE(AE373,\" - \",AC373),Catálogos!T:T,Catálogos!Y:Y))","v":{"$error":"#N/A"}},{"$f":"IF(CD373=FALSE,\"COL. INCORRECTA\",LOOKUP(CONCATENATE(AE373,\" - \",AC373),Catálogos!T:T,Catálogos!X:X))","v":{"$error":"#N/A"}}," -SELECCIONAR-",""," -SELECCIONAR-",null,null," -SELECCIONAR-",null,null,null," -SELECCIONAR-",null,null," -SELECCIONAR-"," -SELECCIONAR-",null,null,null,null,null," -SELECCIONAR-",null,null,null,null,null,null," -SELECCIONAR-",null,null,null,null,null,null," -SELECCIONAR-",null,null,null,null,null,null," -SELECCIONAR-",null,null,{"$f":"LOOKUP(AB373,Catálogos!AP:AP,Catálogos!AO:AO)","v":"ERR"},{"$f":"CONCATENATE(LOOKUP(AC373,Catálogos!O:O,Catálogos!P:P),\".\",LOOKUP(AC373,Catálogos!O:O,Catálogos!Q:Q))","v":{"$error":"#N/A"}},{"$f":"IF(AC373=LOOKUP(CONCATENATE(AE373,\" - \",AC373),Catálogos!T:T,Catálogos!V:V),LOOKUP(CONCATENATE(AE373,\" - \",AC373),Catálogos!T:T,Catálogos!W:W),FALSE)","v":{"$error":"#N/A"}},{"$f":"LOOKUP(BD373,Catálogos!AM:AM,Catálogos!AL:AL)","v":"ERR"},{"$f":"LOOKUP(BK373,Catálogos!AM:AM,Catálogos!AL:AL)","v":"ERR"},{"$f":"LOOKUP(BR373,Catálogos!AM:AM,Catálogos!AL:AL)","v":"ERR"},{"$f":"LOOKUP(BY373,Catálogos!AM:AM,Catálogos!AL:AL)","v":"ERR"},0]
[null,null,null,null,null,null,null," -SELECCIONAR-"," -SELECCIONAR-"," -SELECCIONAR-",null," -SELECCIONAR-"," -SELECCIONAR-"," -SELECCIONAR-"," -SELECCIONAR-",null,null," -SELECCIONAR-",null,null,null," -SELECCIONAR-",null,null," -SELECCIONAR-",null," -SELECCIONAR-"," -SELECCIONAR-",null,{"$f":"IF(AC374=FALSE, LOOKUP(AC374,Catálogos!O:O),LOOKUP(AC374,Catálogos!O:O,Catálogos!R:R))","v":{"$error":"#N/A"}},"",null,null,null,{"$f":"IF(CD374=FALSE,\"COL. INCORRECTA\",LOOKUP(CONCATENATE(AE374,\" - \",AC374),Catálogos!T:T,Catálogos!Y:Y))","v":{"$error":"#N/A"}},{"$f":"IF(CD374=FALSE,\"COL. INCORRECTA\",LOOKUP(CONCATENATE(AE374,\" - \",AC374),Catálogos!T:T,Catálogos!X:X))","v":{"$error":"#N/A"}}," -SELECCIONAR-",""," -SELECCIONAR-",null,null," -SELECCIONAR-",null,null,null," -SELECCIONAR-",null,null," -SELECCIONAR-"," -SELECCIONAR-",null,null,null,null,null," -SELECCIONAR-",null,null,null,null,null,null," -SELECCIONAR-",null,null,null,null,null,null," -SELECCIONAR-",null,null,null,null,null,null," -SELECCIONAR-",null,null,{"$f":"LOOKUP(AB374,Catálogos!AP:AP,Catálogos!AO:AO)","v":"ERR"},{"$f":"CONCATENATE(LOOKUP(AC374,Catálogos!O:O,Catálogos!P:P),\".\",LOOKUP(AC374,Catálogos!O:O,Catálogos!Q:Q))","v":{"$error":"#N/A"}},{"$f":"IF(AC374=LOOKUP(CONCATENATE(AE374,\" - \",AC374),Catálogos!T:T,Catálogos!V:V),LOOKUP(CONCATENATE(AE374,\" - \",AC374),Catálogos!T:T,Catálogos!W:W),FALSE)","v":{"$error":"#N/A"}},{"$f":"LOOKUP(BD374,Catálogos!AM:AM,Catálogos!AL:AL)","v":"ERR"},{"$f":"LOOKUP(BK374,Catálogos!AM:AM,Catálogos!AL:AL)","v":"ERR"},{"$f":"LOOKUP(BR374,Catálogos!AM:AM,Catálogos!AL:AL)","v":"ERR"},{"$f":"LOOKUP(BY374,Catálogos!AM:AM,Catálogos!AL:AL)","v":"ERR"},0]
[null,null,null,null,null,null,null," -SELECCIONAR-"," -SELECCIONAR-"," -SELECCIONAR-",null," -SELECCIONAR-"," -SELECCIONAR-"," -SELECCIONAR-"," -SELECCIONAR-",null,null," -SELECCIONAR-",null,null,null," -SELECCIONAR-",null,null," -SELECCIONAR-",null," -SELECCIONAR-"," -SELECCIONAR-",null,{"$f":"IF(AC375=FALSE, LOOKUP(AC375,Catálogos!O:O),LOOKUP(AC375,Catálogos!O:O,Catálogos!R:R))","v":{"$error":"#N/A"}},"",null,null,null,{"$f":"IF(CD375=FALSE,\"COL. INCORRECTA\",LOOKUP(CONCATENATE(AE375,\" - \",AC375),Catálogos!T:T,Catálogos!Y:Y))","v":{"$error":"#N/A"}},{"$f":"IF(CD375=FALSE,\"COL. INCORRECTA\",LOOKUP(CONCATENATE(AE375,\" - \",AC375),Catálogos!T:T,Catálogos!X:X))","v":{"$error":"#N/A"}}," -SELECCIONAR-",""," -SELECCIONAR-",null,null," -SELECCIONAR-",null,null,null," -SELECCIONAR-",null,null," -SELECCIONAR-"," -SELECCIONAR-",null,null,null,null,null," -SELECCIONAR-",null,null,null,null,null,null," -SELECCIONAR-",null,null,null,null,null,null," -SELECCIONAR-",null,null,null,null,null,null," -SELECCIONAR-",null,null,{"$f":"LOOKUP(AB375,Catálogos!AP:AP,Catálogos!AO:AO)","v":"ERR"},{"$f":"CONCATENATE(LOOKUP(AC375,Catálogos!O:O,Catálogos!P:P),\".\",LOOKUP(AC375,Catálogos!O:O,Catálogos!Q:Q))","v":{"$error":"#N/A"}},{"$f":"IF(AC375=LOOKUP(CONCATENATE(AE375,\" - \",AC375),Catálogos!T:T,Catálogos!V:V),LOOKUP(CONCATENATE(AE375,\" - \",AC375),Catálogos!T:T,Catálogos!W:W),FALSE)","v":{"$error":"#N/A"}},{"$f":"LOOKUP(BD375,Catálogos!AM:AM,Catálogos!AL:AL)","v":"ERR"},{"$f":"LOOKUP(BK375,Catálogos!AM:AM,Catálogos!AL:AL)","v":"ERR"},{"$f":"LOOKUP(BR375,Catálogos!AM:AM,Catálogos!AL:AL)","v":"ERR"},{"$f":"LOOKUP(BY375,Catálogos!AM:AM,Catálogos!AL:AL)","v":"ERR"},0]
[null,null,null,null,null,null,null," -SELECCIONAR-"," -SELECCIONAR-"," -SELECCIONAR-",null," -SELECCIONAR-"," -SELECCIONAR-"," -SELECCIONAR-"," -SELECCIONAR-",null,null," -SELECCIONAR-",null,null,null," -SELECCIONAR-",null,null," -SELECCIONAR-",null," -SELECCIONAR-"," -SELECCIONAR-",null,{"$f":"IF(AC376=FALSE, LOOKUP(AC376,Catálogos!O:O),LOOKUP(AC376,Catálogos!O:O,Catálogos!R:R))","v":{"$error":"#N/A"}},"",null,null,null,{"$f":"IF(CD376=FALSE,\"COL. INCORRECTA\",LOOKUP(CONCATENATE(AE376,\" - \",AC376),Catálogos!T:T,Catálogos!Y:Y))","v":{"$error":"#N/A"}},{"$f":"IF(CD376=FALSE,\"COL. INCORRECTA\",LOOKUP(CONCATENATE(AE376,\" - \",AC376),Catálogos!T:T,Catálogos!X:X))","v":{"$error":"#N/A"}}," -SELECCIONAR-",""," -SELECCIONAR-",null,null," -SELECCIONAR-",null,null,null," -SELECCIONAR-",null,null," -SELECCIONAR-"," -SELECCIONAR-",null,null,null,null,null," -SELECCIONAR-",null,null,null,null,null,null," -SELECCIONAR-",null,null,null,null,null,null," -SELECCIONAR-",null,null,null,null,null,null," -SELECCIONAR-",null,null,{"$f":"LOOKUP(AB376,Catálogos!AP:AP,Catálogos!AO:AO)","v":"ERR"},{"$f":"CONCATENATE(LOOKUP(AC376,Catálogos!O:O,Catálogos!P:P),\".\",LOOKUP(AC376,Catálogos!O:O,Catálogos!Q:Q))","v":{"$error":"#N/A"}},{"$f":"IF(AC376=LOOKUP(CONCATENATE(AE376,\" - \",AC376),Catálogos!T:T,Catálogos!V:V),LOOKUP(CONCATENATE(AE376,\" - \",AC376),Catálogos!T:T,Catálogos!W:W),FALSE)","v":{"$error":"#N/A"}},{"$f":"LOOKUP(BD376,Catálogos!AM:AM,Catálogos!AL:AL)","v":"ERR"},{"$f":"LOOKUP(BK376,Catálogos!AM:AM,Catálogos!AL:AL)","v":"ERR"},{"$f":"LOOKUP(BR376,Catálogos!AM:AM,Catálogos!AL:AL)","v":"ERR"},{"$f":"LOOKUP(BY376,Catálogos!AM:AM,Catálogos!AL:AL)","v":"ERR"},0]
[null,null,null,null,null,null,null," -SELECCIONAR-"," -SELECCIONAR-"," -SELECCIONAR-",null," -SELECCIONAR-"," -SELECCIONAR-"," -SELECCIONAR-"," -SELECCIONAR-",null,null," -SELECCIONAR-",null,null,null," -SELECCIONAR-",null,null," -SELECCIONAR-",null," -SELECCIONAR-"," -SELECCIONAR-",null,{"$f":"IF(AC377=FALSE, LOOKUP(AC377,Catálogos!O:O),LOOKUP(AC377,Catálogos!O:O,Catálogos!R:R))","v":{"$error":"#N/A"}},"",null,null,null,{"$f":"IF(CD377=FALSE,\"COL. INCORRECTA\",LOOKUP(CONCATENATE(AE377,\" - \",AC377),Catálogos!T:T,Catálogos!Y:Y))","v":{"$error":"#N/A"}},{"$f":"IF(CD377=FALSE,\"COL. INCORRECTA\",LOOKUP(CONCATENATE(AE377,\" - \",AC377),Catálogos!T:T,Catálogos!X:X))","v":{"$error":"#N/A"}}," -SELECCIONAR-",""," -SELECCIONAR-",null,null," -SELECCIONAR-",null,null,null," -SELECCIONAR-",null,null," -SELECCIONAR-"," -SELECCIONAR-",null,null,null,null,null," -SELECCIONAR-",null,null,null,null,null,null," -SELECCIONAR-",null,null,null,null,null,null," -SELECCIONAR-",null,null,null,null,null,null," -SELECCIONAR-",null,null,{"$f":"LOOKUP(AB377,Catálogos!AP:AP,Catálogos!AO:AO)","v":"ERR"},{"$f":"CONCATENATE(LOOKUP(AC377,Catálogos!O:O,Catálogos!P:P),\".\",LOOKUP(AC377,Catálogos!O:O,Catálogos!Q:Q))","v":{"$error":"#N/A"}},{"$f":"IF(AC377=LOOKUP(CONCATENATE(AE377,\" - \",AC377),Catálogos!T:T,Catálogos!V:V),LOOKUP(CONCATENATE(AE377,\" - \",AC377),Catálogos!T:T,Catálogos!W:W),FALSE)","v":{"$error":"#N/A"}},{"$f":"LOOKUP(BD377,Catálogos!AM:AM,Catálogos!AL:AL)","v":"ERR"},{"$f":"LOOKUP(BK377,Catálogos!AM:AM,Catálogos!AL:AL)","v":"ERR"},{"$f":"LOOKUP(BR377,Catálogos!AM:AM,Catálogos!AL:AL)","v":"ERR"},{"$f":"LOOKUP(BY377,Catálogos!AM:AM,Catálogos!AL:AL)","v":"ERR"},0]
[null,null,null,null,null,null,null," -SELECCIONAR-"," -SELECCIONAR-"," -SELECCIONAR-",null," -SELECCIONAR-"," -SELECCIONAR-"," -SELECCIONAR-"," -SELECCIONAR-",null,null," -SELECCIONAR-",null,null,null," -SELECCIONAR-",null,null," -SELECCIONAR-",null," -SELECCIONAR-"," -SELECCIONAR-",null,{"$f":"IF(AC378=FALSE, LOOKUP(AC378,Catálogos!O:O),LOOKUP(AC378,Catálogos!O:O,Catálogos!R:R))","v":{"$error":"#N/A"}},"",null,null,null,{"$f":"IF(CD378=FALSE,\"COL. INCORRECTA\",LOOKUP(CONCATENATE(AE378,\" - \",AC378),Catálogos!T:T,Catálogos!Y:Y))","v":{"$error":"#N/A"}},{"$f":"IF(CD378=FALSE,\"COL. INCORRECTA\",LOOKUP(CONCATENATE(AE378,\" - \",AC378),Catálogos!T:T,Catálogos!X:X))","v":{"$error":"#N/A"}}," -SELECCIONAR-",""," -SELECCIONAR-",null,null," -SELECCIONAR-",null,null,null," -SELECCIONAR-",null,null," -SELECCIONAR-"," -SELECCIONAR-",null,null,null,null,null," -SELECCIONAR-",null,null,null,null,null,null," -SELECCIONAR-",null,null,null,null,null,null," -SELECCIONAR-",null,null,null,null,null,null," -SELECCIONAR-",null,null,{"$f":"LOOKUP(AB378,Catálogos!AP:AP,Catálogos!AO:AO)","v":"ERR"},{"$f":"CONCATENATE(LOOKUP(AC378,Catálogos!O:O,Catálogos!P:P),\".\",LOOKUP(AC378,Catálogos!O:O,Catálogos!Q:Q))","v":{"$error":"#N/A"}},{"$f":"IF(AC378=LOOKUP(CONCATENATE(AE378,\" - \",AC378),Catálogos!T:T,Catálogos!V:V),LOOKUP(CONCATENATE(AE378,\" - \",AC378),Catálogos!T:T,Catálogos!W:W),FALSE)","v":{"$error":"#N/A"}},{"$f":"LOOKUP(BD378,Catálogos!AM:AM,Catálogos!AL:AL)","v":"ERR"},{"$f":"LOOKUP(BK378,Catálogos!AM:AM,Catálogos!AL:AL)","v":"ERR"},{"$f":"LOOKUP(BR378,Catálogos!AM:AM,Catálogos!AL:AL)","v":"ERR"},{"$f":"LOOKUP(BY378,Catálogos!AM:AM,Catálogos!AL:AL)","v":"ERR"},0]
[null,null,null,null,null,null,null," -SELECCIONAR-"," -SELECCIONAR-"," -SELECCIONAR-",null," -SELECCIONAR-"," -SELECCIONAR-"," -SELECCIONAR-"," -SELECCIONAR-",null,null," -SELECCIONAR-",null,null,null," -SELECCIONAR-",null,null," -SELECCIONAR-",null," -SELECCIONAR-"," -SELECCIONAR-",null,{"$f":"IF(AC379=FALSE, LOOKUP(AC379,Catálogos!O:O),LOOKUP(AC379,Catálogos!O:O,Catálogos!R:R))","v":{"$error":"#N/A"}},"",null,null,null,{"$f":"IF(CD379=FALSE,\"COL. INCORRECTA\",LOOKUP(CONCATENATE(AE379,\" - \",AC379),Catálogos!T:T,Catálogos!Y:Y))","v":{"$error":"#N/A"}},{"$f":"IF(CD379=FALSE,\"COL. INCORRECTA\",LOOKUP(CONCATENATE(AE379,\" - \",AC379),Catálogos!T:T,Catálogos!X:X))","v":{"$error":"#N/A"}}," -SELECCIONAR-",""," -SELECCIONAR-",null,null," -SELECCIONAR-",null,null,null," -SELECCIONAR-",null,null," -SELECCIONAR-"," -SELECCIONAR-",null,null,null,null,null," -SELECCIONAR-",null,null,null,null,null,null," -SELECCIONAR-",null,null,null,null,null,null," -SELECCIONAR-",null,null,null,null,null,null," -SELECCIONAR-",null,null,{"$f":"LOOKUP(AB379,Catálogos!AP:AP,Catálogos!AO:AO)","v":"ERR"},{"$f":"CONCATENATE(LOOKUP(AC379,Catálogos!O:O,Catálogos!P:P),\".\",LOOKUP(AC379,Catálogos!O:O,Catálogos!Q:Q))","v":{"$error":"#N/A"}},{"$f":"IF(AC379=LOOKUP(CONCATENATE(AE379,\" - \",AC379),Catálogos!T:T,Catálogos!V:V),LOOKUP(CONCATENATE(AE379,\" - \",AC379),Catálogos!T:T,Catálogos!W:W),FALSE)","v":{"$error":"#N/A"}},{"$f":"LOOKUP(BD379,Catálogos!AM:AM,Catálogos!AL:AL)","v":"ERR"},{"$f":"LOOKUP(BK379,Catálogos!AM:AM,Catálogos!AL:AL)","v":"ERR"},{"$f":"LOOKUP(BR379,Catálogos!AM:AM,Catálogos!AL:AL)","v":"ERR"},{"$f":"LOOKUP(BY379,Catálogos!AM:AM,Catálogos!AL:AL)","v":"ERR"},0]
[null,null,null,null,null,null,null," -SELECCIONAR-"," -SELECCIONAR-"," -SELECCIONAR-",null," -SELECCIONAR-"," -SELECCIONAR-"," -SELECCIONAR-"," -SELECCIONAR-",null,null," -SELECCIONAR-",null,null,null," -SELECCIONAR-",null,null," -SELECCIONAR-",null," -SELECCIONAR-"," -SELECCIONAR-",null,{"$f":"IF(AC380=FALSE, LOOKUP(AC380,Catálogos!O:O),LOOKUP(AC380,Catálogos!O:O,Catálogos!R:R))","v":{"$error":"#N/A"}},"",null,null,null,{"$f":"IF(CD380=FALSE,\"COL. INCORRECTA\",LOOKUP(CONCATENATE(AE380,\" - \",AC380),Catálogos!T:T,Catálogos!Y:Y))","v":{"$error":"#N/A"}},{"$f":"IF(CD380=FALSE,\"COL. INCORRECTA\",LOOKUP(CONCATENATE(AE380,\" - \",AC380),Catálogos!T:T,Catálogos!X:X))","v":{"$error":"#N/A"}}," -SELECCIONAR-",""," -SELECCIONAR-",null,null," -SELECCIONAR-",null,null,null," -SELECCIONAR-",null,null," -SELECCIONAR-"," -SELECCIONAR-",null,null,null,null,null," -SELECCIONAR-",null,null,null,null,null,null," -SELECCIONAR-",null,null,null,null,null,null," -SELECCIONAR-",null,null,null,null,null,null," -SELECCIONAR-",null,null,{"$f":"LOOKUP(AB380,Catálogos!AP:AP,Catálogos!AO:AO)","v":"ERR"},{"$f":"CONCATENATE(LOOKUP(AC380,Catálogos!O:O,Catálogos!P:P),\".\",LOOKUP(AC380,Catálogos!O:O,Catálogos!Q:Q))","v":{"$error":"#N/A"}},{"$f":"IF(AC380=LOOKUP(CONCATENATE(AE380,\" - \",AC380),Catálogos!T:T,Catálogos!V:V),LOOKUP(CONCATENATE(AE380,\" - \",AC380),Catálogos!T:T,Catálogos!W:W),FALSE)","v":{"$error":"#N/A"}},{"$f":"LOOKUP(BD380,Catálogos!AM:AM,Catálogos!AL:AL)","v":"ERR"},{"$f":"LOOKUP(BK380,Catálogos!AM:AM,Catálogos!AL:AL)","v":"ERR"},{"$f":"LOOKUP(BR380,Catálogos!AM:AM,Catálogos!AL:AL)","v":"ERR"},{"$f":"LOOKUP(BY380,Catálogos!AM:AM,Catálogos!AL:AL)","v":"ERR"},0]
[null,null,null,null,null,null,null," -SELECCIONAR-"," -SELECCIONAR-"," -SELECCIONAR-",null," -SELECCIONAR-"," -SELECCIONAR-"," -SELECCIONAR-"," -SELECCIONAR-",null,null," -SELECCIONAR-",null,null,null," -SELECCIONAR-",null,null," -SELECCIONAR-",null," -SELECCIONAR-"," -SELECCIONAR-",null,{"$f":"IF(AC381=FALSE, LOOKUP(AC381,Catálogos!O:O),LOOKUP(AC381,Catálogos!O:O,Catálogos!R:R))","v":{"$error":"#N/A"}},"",null,null,null,{"$f":"IF(CD381=FALSE,\"COL. INCORRECTA\",LOOKUP(CONCATENATE(AE381,\" - \",AC381),Catálogos!T:T,Catálogos!Y:Y))","v":{"$error":"#N/A"}},{"$f":"IF(CD381=FALSE,\"COL. INCORRECTA\",LOOKUP(CONCATENATE(AE381,\" - \",AC381),Catálogos!T:T,Catálogos!X:X))","v":{"$error":"#N/A"}}," -SELECCIONAR-",""," -SELECCIONAR-",null,null," -SELECCIONAR-",null,null,null," -SELECCIONAR-",null,null," -SELECCIONAR-"," -SELECCIONAR-",null,null,null,null,null," -SELECCIONAR-",null,null,null,null,null,null," -SELECCIONAR-",null,null,null,null,null,null," -SELECCIONAR-",null,null,null,null,null,null," -SELECCIONAR-",null,null,{"$f":"LOOKUP(AB381,Catálogos!AP:AP,Catálogos!AO:AO)","v":"ERR"},{"$f":"CONCATENATE(LOOKUP(AC381,Catálogos!O:O,Catálogos!P:P),\".\",LOOKUP(AC381,Catálogos!O:O,Catálogos!Q:Q))","v":{"$error":"#N/A"}},{"$f":"IF(AC381=LOOKUP(CONCATENATE(AE381,\" - \",AC381),Catálogos!T:T,Catálogos!V:V),LOOKUP(CONCATENATE(AE381,\" - \",AC381),Catálogos!T:T,Catálogos!W:W),FALSE)","v":{"$error":"#N/A"}},{"$f":"LOOKUP(BD381,Catálogos!AM:AM,Catálogos!AL:AL)","v":"ERR"},{"$f":"LOOKUP(BK381,Catálogos!AM:AM,Catálogos!AL:AL)","v":"ERR"},{"$f":"LOOKUP(BR381,Catálogos!AM:AM,Catálogos!AL:AL)","v":"ERR"},{"$f":"LOOKUP(BY381,Catálogos!AM:AM,Catálogos!AL:AL)","v":"ERR"},0]
[null,null,null,null,null,null,null," -SELECCIONAR-"," -SELECCIONAR-"," -SELECCIONAR-",null," -SELECCIONAR-"," -SELECCIONAR-"," -SELECCIONAR-"," -SELECCIONAR-",null,null," -SELECCIONAR-",null,null,null," -SELECCIONAR-",null,null," -SELECCIONAR-",null," -SELECCIONAR-"," -SELECCIONAR-",null,{"$f":"IF(AC382=FALSE, LOOKUP(AC382,Catálogos!O:O),LOOKUP(AC382,Catálogos!O:O,Catálogos!R:R))","v":{"$error":"#N/A"}},"",null,null,null,{"$f":"IF(CD382=FALSE,\"COL. INCORRECTA\",LOOKUP(CONCATENATE(AE382,\" - \",AC382),Catálogos!T:T,Catálogos!Y:Y))","v":{"$error":"#N/A"}},{"$f":"IF(CD382=FALSE,\"COL. INCORRECTA\",LOOKUP(CONCATENATE(AE382,\" - \",AC382),Catálogos!T:T,Catálogos!X:X))","v":{"$error":"#N/A"}}," -SELECCIONAR-",""," -SELECCIONAR-",null,null," -SELECCIONAR-",null,null,null," -SELECCIONAR-",null,null," -SELECCIONAR-"," -SELECCIONAR-",null,null,null,null,null," -SELECCIONAR-",null,null,null,null,null,null," -SELECCIONAR-",null,null,null,null,null,null," -SELECCIONAR-",null,null,null,null,null,null," -SELECCIONAR-",null,null,{"$f":"LOOKUP(AB382,Catálogos!AP:AP,Catálogos!AO:AO)","v":"ERR"},{"$f":"CONCATENATE(LOOKUP(AC382,Catálogos!O:O,Catálogos!P:P),\".\",LOOKUP(AC382,Catálogos!O:O,Catálogos!Q:Q))","v":{"$error":"#N/A"}},{"$f":"IF(AC382=LOOKUP(CONCATENATE(AE382,\" - \",AC382),Catálogos!T:T,Catálogos!V:V),LOOKUP(CONCATENATE(AE382,\" - \",AC382),Catálogos!T:T,Catálogos!W:W),FALSE)","v":{"$error":"#N/A"}},{"$f":"LOOKUP(BD382,Catálogos!AM:AM,Catálogos!AL:AL)","v":"ERR"},{"$f":"LOOKUP(BK382,Catálogos!AM:AM,Catálogos!AL:AL)","v":"ERR"},{"$f":"LOOKUP(BR382,Catálogos!AM:AM,Catálogos!AL:AL)","v":"ERR"},{"$f":"LOOKUP(BY382,Catálogos!AM:AM,Catálogos!AL:AL)","v":"ERR"},0]
[null,null,null,null,null,null,null," -SELECCIONAR-"," -SELECCIONAR-"," -SELECCIONAR-",null," -SELECCIONAR-"," -SELECCIONAR-"," -SELECCIONAR-"," -SELECCIONAR-",null,null," -SELECCIONAR-",null,null,null," -SELECCIONAR-",null,null," -SELECCIONAR-",null," -SELECCIONAR-"," -SELECCIONAR-",null,{"$f":"IF(AC383=FALSE, LOOKUP(AC383,Catálogos!O:O),LOOKUP(AC383,Catálogos!O:O,Catálogos!R:R))","v":{"$error":"#N/A"}},"",null,null,null,{"$f":"IF(CD383=FALSE,\"COL. INCORRECTA\",LOOKUP(CONCATENATE(AE383,\" - \",AC383),Catálogos!T:T,Catálogos!Y:Y))","v":{"$error":"#N/A"}},{"$f":"IF(CD383=FALSE,\"COL. INCORRECTA\",LOOKUP(CONCATENATE(AE383,\" - \",AC383),Catálogos!T:T,Catálogos!X:X))","v":{"$error":"#N/A"}}," -SELECCIONAR-",""," -SELECCIONAR-",null,null," -SELECCIONAR-",null,null,null," -SELECCIONAR-",null,null," -SELECCIONAR-"," -SELECCIONAR-",null,null,null,null,null," -SELECCIONAR-",null,null,null,null,null,null," -SELECCIONAR-",null,null,null,null,null,null," -SELECCIONAR-",null,null,null,null,null,null," -SELECCIONAR-",null,null,{"$f":"LOOKUP(AB383,Catálogos!AP:AP,Catálogos!AO:AO)","v":"ERR"},{"$f":"CONCATENATE(LOOKUP(AC383,Catálogos!O:O,Catálogos!P:P),\".\",LOOKUP(AC383,Catálogos!O:O,Catálogos!Q:Q))","v":{"$error":"#N/A"}},{"$f":"IF(AC383=LOOKUP(CONCATENATE(AE383,\" - \",AC383),Catálogos!T:T,Catálogos!V:V),LOOKUP(CONCATENATE(AE383,\" - \",AC383),Catálogos!T:T,Catálogos!W:W),FALSE)","v":{"$error":"#N/A"}},{"$f":"LOOKUP(BD383,Catálogos!AM:AM,Catálogos!AL:AL)","v":"ERR"},{"$f":"LOOKUP(BK383,Catálogos!AM:AM,Catálogos!AL:AL)","v":"ERR"},{"$f":"LOOKUP(BR383,Catálogos!AM:AM,Catálogos!AL:AL)","v":"ERR"},{"$f":"LOOKUP(BY383,Catálogos!AM:AM,Catálogos!AL:AL)","v":"ERR"},0]
[null,null,null,null,null,null,null," -SELECCIONAR-"," -SELECCIONAR-"," -SELECCIONAR-",null," -SELECCIONAR-"," -SELECCIONAR-"," -SELECCIONAR-"," -SELECCIONAR-",null,null," -SELECCIONAR-",null,null,null," -SELECCIONAR-",null,null," -SELECCIONAR-",null," -SELECCIONAR-"," -SELECCIONAR-",null,{"$f":"IF(AC384=FALSE, LOOKUP(AC384,Catálogos!O:O),LOOKUP(AC384,Catálogos!O:O,Catálogos!R:R))","v":{"$error":"#N/A"}},"",null,null,null,{"$f":"IF(CD384=FALSE,\"COL. INCORRECTA\",LOOKUP(CONCATENATE(AE384,\" - \",AC384),Catálogos!T:T,Catálogos!Y:Y))","v":{"$error":"#N/A"}},{"$f":"IF(CD384=FALSE,\"COL. INCORRECTA\",LOOKUP(CONCATENATE(AE384,\" - \",AC384),Catálogos!T:T,Catálogos!X:X))","v":{"$error":"#N/A"}}," -SELECCIONAR-",""," -SELECCIONAR-",null,null," -SELECCIONAR-",null,null,null," -SELECCIONAR-",null,null," -SELECCIONAR-"," -SELECCIONAR-",null,null,null,null,null," -SELECCIONAR-",null,null,null,null,null,null," -SELECCIONAR-",null,null,null,null,null,null," -SELECCIONAR-",null,null,null,null,null,null," -SELECCIONAR-",null,null,{"$f":"LOOKUP(AB384,Catálogos!AP:AP,Catálogos!AO:AO)","v":"ERR"},{"$f":"CONCATENATE(LOOKUP(AC384,Catálogos!O:O,Catálogos!P:P),\".\",LOOKUP(AC384,Catálogos!O:O,Catálogos!Q:Q))","v":{"$error":"#N/A"}},{"$f":"IF(AC384=LOOKUP(CONCATENATE(AE384,\" - \",AC384),Catálogos!T:T,Catálogos!V:V),LOOKUP(CONCATENATE(AE384,\" - \",AC384),Catálogos!T:T,Catálogos!W:W),FALSE)","v":{"$error":"#N/A"}},{"$f":"LOOKUP(BD384,Catálogos!AM:AM,Catálogos!AL:AL)","v":"ERR"},{"$f":"LOOKUP(BK384,Catálogos!AM:AM,Catálogos!AL:AL)","v":"ERR"},{"$f":"LOOKUP(BR384,Catálogos!AM:AM,Catálogos!AL:AL)","v":"ERR"},{"$f":"LOOKUP(BY384,Catálogos!AM:AM,Catálogos!AL:AL)","v":"ERR"},0]
[null,null,null,null,null,null,null," -SELECCIONAR-"," -SELECCIONAR-"," -SELECCIONAR-",null," -SELECCIONAR-"," -SELECCIONAR-"," -SELECCIONAR-"," -SELECCIONAR-",null,null," -SELECCIONAR-",null,null,null," -SELECCIONAR-",null,null," -SELECCIONAR-",null," -SELECCIONAR-"," -SELECCIONAR-",null,{"$f":"IF(AC385=FALSE, LOOKUP(AC385,Catálogos!O:O),LOOKUP(AC385,Catálogos!O:O,Catálogos!R:R))","v":{"$error":"#N/A"}},"",null,null,null,{"$f":"IF(CD385=FALSE,\"COL. INCORRECTA\",LOOKUP(CONCATENATE(AE385,\" - \",AC385),Catálogos!T:T,Catálogos!Y:Y))","v":{"$error":"#N/A"}},{"$f":"IF(CD385=FALSE,\"COL. INCORRECTA\",LOOKUP(CONCATENATE(AE385,\" - \",AC385),Catálogos!T:T,Catálogos!X:X))","v":{"$error":"#N/A"}}," -SELECCIONAR-",""," -SELECCIONAR-",null,null," -SELECCIONAR-",null,null,null," -SELECCIONAR-",null,null," -SELECCIONAR-"," -SELECCIONAR-",null,null,null,null,null," -SELECCIONAR-",null,null,null,null,null,null," -SELECCIONAR-",null,null,null,null,null,null," -SELECCIONAR-",null,null,null,null,null,null," -SELECCIONAR-",null,null,{"$f":"LOOKUP(AB385,Catálogos!AP:AP,Catálogos!AO:AO)","v":"ERR"},{"$f":"CONCATENATE(LOOKUP(AC385,Catálogos!O:O,Catálogos!P:P),\".\",LOOKUP(AC385,Catálogos!O:O,Catálogos!Q:Q))","v":{"$error":"#N/A"}},{"$f":"IF(AC385=LOOKUP(CONCATENATE(AE385,\" - \",AC385),Catálogos!T:T,Catálogos!V:V),LOOKUP(CONCATENATE(AE385,\" - \",AC385),Catálogos!T:T,Catálogos!W:W),FALSE)","v":{"$error":"#N/A"}},{"$f":"LOOKUP(BD385,Catálogos!AM:AM,Catálogos!AL:AL)","v":"ERR"},{"$f":"LOOKUP(BK385,Catálogos!AM:AM,Catálogos!AL:AL)","v":"ERR"},{"$f":"LOOKUP(BR385,Catálogos!AM:AM,Catálogos!AL:AL)","v":"ERR"},{"$f":"LOOKUP(BY385,Catálogos!AM:AM,Catálogos!AL:AL)","v":"ERR"},0]
[null,null,null,null,null,null,null," -SELECCIONAR-"," -SELECCIONAR-"," -SELECCIONAR-",null," -SELECCIONAR-"," -SELECCIONAR-"," -SELECCIONAR-"," -SELECCIONAR-",null,null," -SELECCIONAR-",null,null,null," -SELECCIONAR-",null,null," -SELECCIONAR-",null," -SELECCIONAR-"," -SELECCIONAR-",null,{"$f":"IF(AC386=FALSE, LOOKUP(AC386,Catálogos!O:O),LOOKUP(AC386,Catálogos!O:O,Catálogos!R:R))","v":{"$error":"#N/A"}},"",null,null,null,{"$f":"IF(CD386=FALSE,\"COL. INCORRECTA\",LOOKUP(CONCATENATE(AE386,\" - \",AC386),Catálogos!T:T,Catálogos!Y:Y))","v":{"$error":"#N/A"}},{"$f":"IF(CD386=FALSE,\"COL. INCORRECTA\",LOOKUP(CONCATENATE(AE386,\" - \",AC386),Catálogos!T:T,Catálogos!X:X))","v":{"$error":"#N/A"}}," -SELECCIONAR-",""," -SELECCIONAR-",null,null," -SELECCIONAR-",null,null,null," -SELECCIONAR-",null,null," -SELECCIONAR-"," -SELECCIONAR-",null,null,null,null,null," -SELECCIONAR-",null,null,null,null,null,null," -SELECCIONAR-",null,null,null,null,null,null," -SELECCIONAR-",null,null,null,null,null,null," -SELECCIONAR-",null,null,{"$f":"LOOKUP(AB386,Catálogos!AP:AP,Catálogos!AO:AO)","v":"ERR"},{"$f":"CONCATENATE(LOOKUP(AC386,Catálogos!O:O,Catálogos!P:P),\".\",LOOKUP(AC386,Catálogos!O:O,Catálogos!Q:Q))","v":{"$error":"#N/A"}},{"$f":"IF(AC386=LOOKUP(CONCATENATE(AE386,\" - \",AC386),Catálogos!T:T,Catálogos!V:V),LOOKUP(CONCATENATE(AE386,\" - \",AC386),Catálogos!T:T,Catálogos!W:W),FALSE)","v":{"$error":"#N/A"}},{"$f":"LOOKUP(BD386,Catálogos!AM:AM,Catálogos!AL:AL)","v":"ERR"},{"$f":"LOOKUP(BK386,Catálogos!AM:AM,Catálogos!AL:AL)","v":"ERR"},{"$f":"LOOKUP(BR386,Catálogos!AM:AM,Catálogos!AL:AL)","v":"ERR"},{"$f":"LOOKUP(BY386,Catálogos!AM:AM,Catálogos!AL:AL)","v":"ERR"},0]
[null,null,null,null,null,null,null," -SELECCIONAR-"," -SELECCIONAR-"," -SELECCIONAR-",null," -SELECCIONAR-"," -SELECCIONAR-"," -SELECCIONAR-"," -SELECCIONAR-",null,null," -SELECCIONAR-",null,null,null," -SELECCIONAR-",null,null," -SELECCIONAR-",null," -SELECCIONAR-"," -SELECCIONAR-",null,{"$f":"IF(AC387=FALSE, LOOKUP(AC387,Catálogos!O:O),LOOKUP(AC387,Catálogos!O:O,Catálogos!R:R))","v":{"$error":"#N/A"}},"",null,null,null,{"$f":"IF(CD387=FALSE,\"COL. INCORRECTA\",LOOKUP(CONCATENATE(AE387,\" - \",AC387),Catálogos!T:T,Catálogos!Y:Y))","v":{"$error":"#N/A"}},{"$f":"IF(CD387=FALSE,\"COL. INCORRECTA\",LOOKUP(CONCATENATE(AE387,\" - \",AC387),Catálogos!T:T,Catálogos!X:X))","v":{"$error":"#N/A"}}," -SELECCIONAR-",""," -SELECCIONAR-",null,null," -SELECCIONAR-",null,null,null," -SELECCIONAR-",null,null," -SELECCIONAR-"," -SELECCIONAR-",null,null,null,null,null," -SELECCIONAR-",null,null,null,null,null,null," -SELECCIONAR-",null,null,null,null,null,null," -SELECCIONAR-",null,null,null,null,null,null," -SELECCIONAR-",null,null,{"$f":"LOOKUP(AB387,Catálogos!AP:AP,Catálogos!AO:AO)","v":"ERR"},{"$f":"CONCATENATE(LOOKUP(AC387,Catálogos!O:O,Catálogos!P:P),\".\",LOOKUP(AC387,Catálogos!O:O,Catálogos!Q:Q))","v":{"$error":"#N/A"}},{"$f":"IF(AC387=LOOKUP(CONCATENATE(AE387,\" - \",AC387),Catálogos!T:T,Catálogos!V:V),LOOKUP(CONCATENATE(AE387,\" - \",AC387),Catálogos!T:T,Catálogos!W:W),FALSE)","v":{"$error":"#N/A"}},{"$f":"LOOKUP(BD387,Catálogos!AM:AM,Catálogos!AL:AL)","v":"ERR"},{"$f":"LOOKUP(BK387,Catálogos!AM:AM,Catálogos!AL:AL)","v":"ERR"},{"$f":"LOOKUP(BR387,Catálogos!AM:AM,Catálogos!AL:AL)","v":"ERR"},{"$f":"LOOKUP(BY387,Catálogos!AM:AM,Catálogos!AL:AL)","v":"ERR"},0]
[null,null,null,null,null,null,null," -SELECCIONAR-"," -SELECCIONAR-"," -SELECCIONAR-",null," -SELECCIONAR-"," -SELECCIONAR-"," -SELECCIONAR-"," -SELECCIONAR-",null,null," -SELECCIONAR-",null,null,null," -SELECCIONAR-",null,null," -SELECCIONAR-",null," -SELECCIONAR-"," -SELECCIONAR-",null,{"$f":"IF(AC388=FALSE, LOOKUP(AC388,Catálogos!O:O),LOOKUP(AC388,Catálogos!O:O,Catálogos!R:R))","v":{"$error":"#N/A"}},"",null,null,null,{"$f":"IF(CD388=FALSE,\"COL. INCORRECTA\",LOOKUP(CONCATENATE(AE388,\" - \",AC388),Catálogos!T:T,Catálogos!Y:Y))","v":{"$error":"#N/A"}},{"$f":"IF(CD388=FALSE,\"COL. INCORRECTA\",LOOKUP(CONCATENATE(AE388,\" - \",AC388),Catálogos!T:T,Catálogos!X:X))","v":{"$error":"#N/A"}}," -SELECCIONAR-",""," -SELECCIONAR-",null,null," -SELECCIONAR-",null,null,null," -SELECCIONAR-",null,null," -SELECCIONAR-"," -SELECCIONAR-",null,null,null,null,null," -SELECCIONAR-",null,null,null,null,null,null," -SELECCIONAR-",null,null,null,null,null,null," -SELECCIONAR-",null,null,null,null,null,null," -SELECCIONAR-",null,null,{"$f":"LOOKUP(AB388,Catálogos!AP:AP,Catálogos!AO:AO)","v":"ERR"},{"$f":"CONCATENATE(LOOKUP(AC388,Catálogos!O:O,Catálogos!P:P),\".\",LOOKUP(AC388,Catálogos!O:O,Catálogos!Q:Q))","v":{"$error":"#N/A"}},{"$f":"IF(AC388=LOOKUP(CONCATENATE(AE388,\" - \",AC388),Catálogos!T:T,Catálogos!V:V),LOOKUP(CONCATENATE(AE388,\" - \",AC388),Catálogos!T:T,Catálogos!W:W),FALSE)","v":{"$error":"#N/A"}},{"$f":"LOOKUP(BD388,Catálogos!AM:AM,Catálogos!AL:AL)","v":"ERR"},{"$f":"LOOKUP(BK388,Catálogos!AM:AM,Catálogos!AL:AL)","v":"ERR"},{"$f":"LOOKUP(BR388,Catálogos!AM:AM,Catálogos!AL:AL)","v":"ERR"},{"$f":"LOOKUP(BY388,Catálogos!AM:AM,Catálogos!AL:AL)","v":"ERR"},0]
[null,null,null,null,null,null,null," -SELECCIONAR-"," -SELECCIONAR-"," -SELECCIONAR-",null," -SELECCIONAR-"," -SELECCIONAR-"," -SELECCIONAR-"," -SELECCIONAR-",null,null," -SELECCIONAR-",null,null,null," -SELECCIONAR-",null,null," -SELECCIONAR-",null," -SELECCIONAR-"," -SELECCIONAR-",null,{"$f":"IF(AC389=FALSE, LOOKUP(AC389,Catálogos!O:O),LOOKUP(AC389,Catálogos!O:O,Catálogos!R:R))","v":{"$error":"#N/A"}},"",null,null,null,{"$f":"IF(CD389=FALSE,\"COL. INCORRECTA\",LOOKUP(CONCATENATE(AE389,\" - \",AC389),Catálogos!T:T,Catálogos!Y:Y))","v":{"$error":"#N/A"}},{"$f":"IF(CD389=FALSE,\"COL. INCORRECTA\",LOOKUP(CONCATENATE(AE389,\" - \",AC389),Catálogos!T:T,Catálogos!X:X))","v":{"$error":"#N/A"}}," -SELECCIONAR-",""," -SELECCIONAR-",null,null," -SELECCIONAR-",null,null,null," -SELECCIONAR-",null,null," -SELECCIONAR-"," -SELECCIONAR-",null,null,null,null,null," -SELECCIONAR-",null,null,null,null,null,null," -SELECCIONAR-",null,null,null,null,null,null," -SELECCIONAR-",null,null,null,null,null,null," -SELECCIONAR-",null,null,{"$f":"LOOKUP(AB389,Catálogos!AP:AP,Catálogos!AO:AO)","v":"ERR"},{"$f":"CONCATENATE(LOOKUP(AC389,Catálogos!O:O,Catálogos!P:P),\".\",LOOKUP(AC389,Catálogos!O:O,Catálogos!Q:Q))","v":{"$error":"#N/A"}},{"$f":"IF(AC389=LOOKUP(CONCATENATE(AE389,\" - \",AC389),Catálogos!T:T,Catálogos!V:V),LOOKUP(CONCATENATE(AE389,\" - \",AC389),Catálogos!T:T,Catálogos!W:W),FALSE)","v":{"$error":"#N/A"}},{"$f":"LOOKUP(BD389,Catálogos!AM:AM,Catálogos!AL:AL)","v":"ERR"},{"$f":"LOOKUP(BK389,Catálogos!AM:AM,Catálogos!AL:AL)","v":"ERR"},{"$f":"LOOKUP(BR389,Catálogos!AM:AM,Catálogos!AL:AL)","v":"ERR"},{"$f":"LOOKUP(BY389,Catálogos!AM:AM,Catálogos!AL:AL)","v":"ERR"},{"$f":"SUM(BE389+BL389+BS389+BZ389)","v":0}]
[null,null,null,null,null,null,null," -SELECCIONAR-"," -SELECCIONAR-"," -SELECCIONAR-",null," -SELECCIONAR-"," -SELECCIONAR-"," -SELECCIONAR-"," -SELECCIONAR-",null,null," -SELECCIONAR-",null,null,null," -SELECCIONAR-",null,null," -SELECCIONAR-",null," -SELECCIONAR-"," -SELECCIONAR-",null,{"$f":"IF(AC390=FALSE, LOOKUP(AC390,Catálogos!O:O),LOOKUP(AC390,Catálogos!O:O,Catálogos!R:R))","v":{"$error":"#N/A"}},"",null,null,null,{"$f":"IF(CD390=FALSE,\"COL. INCORRECTA\",LOOKUP(CONCATENATE(AE390,\" - \",AC390),Catálogos!T:T,Catálogos!Y:Y))","v":{"$error":"#N/A"}},{"$f":"IF(CD390=FALSE,\"COL. INCORRECTA\",LOOKUP(CONCATENATE(AE390,\" - \",AC390),Catálogos!T:T,Catálogos!X:X))","v":{"$error":"#N/A"}}," -SELECCIONAR-",""," -SELECCIONAR-",null,null," -SELECCIONAR-",null,null,null," -SELECCIONAR-",null,null," -SELECCIONAR-"," -SELECCIONAR-",null,null,null,null,null," -SELECCIONAR-",null,null,null,null,null,null," -SELECCIONAR-",null,null,null,null,null,null," -SELECCIONAR-",null,null,null,null,null,null," -SELECCIONAR-",null,null,{"$f":"LOOKUP(AB390,Catálogos!AP:AP,Catálogos!AO:AO)","v":"ERR"},{"$f":"CONCATENATE(LOOKUP(AC390,Catálogos!O:O,Catálogos!P:P),\".\",LOOKUP(AC390,Catálogos!O:O,Catálogos!Q:Q))","v":{"$error":"#N/A"}},{"$f":"IF(AC390=LOOKUP(CONCATENATE(AE390,\" - \",AC390),Catálogos!T:T,Catálogos!V:V),LOOKUP(CONCATENATE(AE390,\" - \",AC390),Catálogos!T:T,Catálogos!W:W),FALSE)","v":{"$error":"#N/A"}},{"$f":"LOOKUP(BD390,Catálogos!AM:AM,Catálogos!AL:AL)","v":"ERR"},{"$f":"LOOKUP(BK390,Catálogos!AM:AM,Catálogos!AL:AL)","v":"ERR"},{"$f":"LOOKUP(BR390,Catálogos!AM:AM,Catálogos!AL:AL)","v":"ERR"},{"$f":"LOOKUP(BY390,Catálogos!AM:AM,Catálogos!AL:AL)","v":"ERR"},0]
[null,null,null,null,null,null,null," -SELECCIONAR-"," -SELECCIONAR-"," -SELECCIONAR-",null," -SELECCIONAR-"," -SELECCIONAR-"," -SELECCIONAR-"," -SELECCIONAR-",null,null," -SELECCIONAR-",null,null,null," -SELECCIONAR-",null,null," -SELECCIONAR-",null," -SELECCIONAR-"," -SELECCIONAR-",null,{"$f":"IF(AC391=FALSE, LOOKUP(AC391,Catálogos!O:O),LOOKUP(AC391,Catálogos!O:O,Catálogos!R:R))","v":{"$error":"#N/A"}},"",null,null,null,{"$f":"IF(CD391=FALSE,\"COL. INCORRECTA\",LOOKUP(CONCATENATE(AE391,\" - \",AC391),Catálogos!T:T,Catálogos!Y:Y))","v":{"$error":"#N/A"}},{"$f":"IF(CD391=FALSE,\"COL. INCORRECTA\",LOOKUP(CONCATENATE(AE391,\" - \",AC391),Catálogos!T:T,Catálogos!X:X))","v":{"$error":"#N/A"}}," -SELECCIONAR-",""," -SELECCIONAR-",null,null," -SELECCIONAR-",null,null,null," -SELECCIONAR-",null,null," -SELECCIONAR-"," -SELECCIONAR-",null,null,null,null,null," -SELECCIONAR-",null,null,null,null,null,null," -SELECCIONAR-",null,null,null,null,null,null," -SELECCIONAR-",null,null,null,null,null,null," -SELECCIONAR-",null,null,{"$f":"LOOKUP(AB391,Catálogos!AP:AP,Catálogos!AO:AO)","v":"ERR"},{"$f":"CONCATENATE(LOOKUP(AC391,Catálogos!O:O,Catálogos!P:P),\".\",LOOKUP(AC391,Catálogos!O:O,Catálogos!Q:Q))","v":{"$error":"#N/A"}},{"$f":"IF(AC391=LOOKUP(CONCATENATE(AE391,\" - \",AC391),Catálogos!T:T,Catálogos!V:V),LOOKUP(CONCATENATE(AE391,\" - \",AC391),Catálogos!T:T,Catálogos!W:W),FALSE)","v":{"$error":"#N/A"}},{"$f":"LOOKUP(BD391,Catálogos!AM:AM,Catálogos!AL:AL)","v":"ERR"},{"$f":"LOOKUP(BK391,Catálogos!AM:AM,Catálogos!AL:AL)","v":"ERR"},{"$f":"LOOKUP(BR391,Catálogos!AM:AM,Catálogos!AL:AL)","v":"ERR"},{"$f":"LOOKUP(BY391,Catálogos!AM:AM,Catálogos!AL:AL)","v":"ERR"},0]
[null,null,null,null,null,null,null," -SELECCIONAR-"," -SELECCIONAR-"," -SELECCIONAR-",null," -SELECCIONAR-"," -SELECCIONAR-"," -SELECCIONAR-"," -SELECCIONAR-",null,null," -SELECCIONAR-",null,null,null," -SELECCIONAR-",null,null," -SELECCIONAR-",null," -SELECCIONAR-"," -SELECCIONAR-",null,{"$f":"IF(AC392=FALSE, LOOKUP(AC392,Catálogos!O:O),LOOKUP(AC392,Catálogos!O:O,Catálogos!R:R))","v":{"$error":"#N/A"}},"",null,null,null,{"$f":"IF(CD392=FALSE,\"COL. INCORRECTA\",LOOKUP(CONCATENATE(AE392,\" - \",AC392),Catálogos!T:T,Catálogos!Y:Y))","v":{"$error":"#N/A"}},{"$f":"IF(CD392=FALSE,\"COL. INCORRECTA\",LOOKUP(CONCATENATE(AE392,\" - \",AC392),Catálogos!T:T,Catálogos!X:X))","v":{"$error":"#N/A"}}," -SELECCIONAR-",""," -SELECCIONAR-",null,null," -SELECCIONAR-",null,null,null," -SELECCIONAR-",null,null," -SELECCIONAR-"," -SELECCIONAR-",null,null,null,null,null," -SELECCIONAR-",null,null,null,null,null,null," -SELECCIONAR-",null,null,null,null,null,null," -SELECCIONAR-",null,null,null,null,null,null," -SELECCIONAR-",null,null,{"$f":"LOOKUP(AB392,Catálogos!AP:AP,Catálogos!AO:AO)","v":"ERR"},{"$f":"CONCATENATE(LOOKUP(AC392,Catálogos!O:O,Catálogos!P:P),\".\",LOOKUP(AC392,Catálogos!O:O,Catálogos!Q:Q))","v":{"$error":"#N/A"}},{"$f":"IF(AC392=LOOKUP(CONCATENATE(AE392,\" - \",AC392),Catálogos!T:T,Catálogos!V:V),LOOKUP(CONCATENATE(AE392,\" - \",AC392),Catálogos!T:T,Catálogos!W:W),FALSE)","v":{"$error":"#N/A"}},{"$f":"LOOKUP(BD392,Catálogos!AM:AM,Catálogos!AL:AL)","v":"ERR"},{"$f":"LOOKUP(BK392,Catálogos!AM:AM,Catálogos!AL:AL)","v":"ERR"},{"$f":"LOOKUP(BR392,Catálogos!AM:AM,Catálogos!AL:AL)","v":"ERR"},{"$f":"LOOKUP(BY392,Catálogos!AM:AM,Catálogos!AL:AL)","v":"ERR"},0]
[null,null,null,null,null,null,null," -SELECCIONAR-"," -SELECCIONAR-"," -SELECCIONAR-",null," -SELECCIONAR-"," -SELECCIONAR-"," -SELECCIONAR-"," -SELECCIONAR-",null,null," -SELECCIONAR-",null,null,null," -SELECCIONAR-",null,null," -SELECCIONAR-",null," -SELECCIONAR-"," -SELECCIONAR-",null,{"$f":"IF(AC393=FALSE, LOOKUP(AC393,Catálogos!O:O),LOOKUP(AC393,Catálogos!O:O,Catálogos!R:R))","v":{"$error":"#N/A"}},"",null,null,null,{"$f":"IF(CD393=FALSE,\"COL. INCORRECTA\",LOOKUP(CONCATENATE(AE393,\" - \",AC393),Catálogos!T:T,Catálogos!Y:Y))","v":{"$error":"#N/A"}},{"$f":"IF(CD393=FALSE,\"COL. INCORRECTA\",LOOKUP(CONCATENATE(AE393,\" - \",AC393),Catálogos!T:T,Catálogos!X:X))","v":{"$error":"#N/A"}}," -SELECCIONAR-",""," -SELECCIONAR-",null,null," -SELECCIONAR-",null,null,null," -SELECCIONAR-",null,null," -SELECCIONAR-"," -SELECCIONAR-",null,null,null,null,null," -SELECCIONAR-",null,null,null,null,null,null," -SELECCIONAR-",null,null,null,null,null,null," -SELECCIONAR-",null,null,null,null,null,null," -SELECCIONAR-",null,null,{"$f":"LOOKUP(AB393,Catálogos!AP:AP,Catálogos!AO:AO)","v":"ERR"},{"$f":"CONCATENATE(LOOKUP(AC393,Catálogos!O:O,Catálogos!P:P),\".\",LOOKUP(AC393,Catálogos!O:O,Catálogos!Q:Q))","v":{"$error":"#N/A"}},{"$f":"IF(AC393=LOOKUP(CONCATENATE(AE393,\" - \",AC393),Catálogos!T:T,Catálogos!V:V),LOOKUP(CONCATENATE(AE393,\" - \",AC393),Catálogos!T:T,Catálogos!W:W),FALSE)","v":{"$error":"#N/A"}},{"$f":"LOOKUP(BD393,Catálogos!AM:AM,Catálogos!AL:AL)","v":"ERR"},{"$f":"LOOKUP(BK393,Catálogos!AM:AM,Catálogos!AL:AL)","v":"ERR"},{"$f":"LOOKUP(BR393,Catálogos!AM:AM,Catálogos!AL:AL)","v":"ERR"},{"$f":"LOOKUP(BY393,Catálogos!AM:AM,Catálogos!AL:AL)","v":"ERR"},0]
[null,null,null,null,null,null,null," -SELECCIONAR-"," -SELECCIONAR-"," -SELECCIONAR-",null," -SELECCIONAR-"," -SELECCIONAR-"," -SELECCIONAR-"," -SELECCIONAR-",null,null," -SELECCIONAR-",null,null,null," -SELECCIONAR-",null,null," -SELECCIONAR-",null," -SELECCIONAR-"," -SELECCIONAR-",null,{"$f":"IF(AC394=FALSE, LOOKUP(AC394,Catálogos!O:O),LOOKUP(AC394,Catálogos!O:O,Catálogos!R:R))","v":{"$error":"#N/A"}},"",null,null,null,{"$f":"IF(CD394=FALSE,\"COL. INCORRECTA\",LOOKUP(CONCATENATE(AE394,\" - \",AC394),Catálogos!T:T,Catálogos!Y:Y))","v":{"$error":"#N/A"}},{"$f":"IF(CD394=FALSE,\"COL. INCORRECTA\",LOOKUP(CONCATENATE(AE394,\" - \",AC394),Catálogos!T:T,Catálogos!X:X))","v":{"$error":"#N/A"}}," -SELECCIONAR-",""," -SELECCIONAR-",null,null," -SELECCIONAR-",null,null,null," -SELECCIONAR-",null,null," -SELECCIONAR-"," -SELECCIONAR-",null,null,null,null,null," -SELECCIONAR-",null,null,null,null,null,null," -SELECCIONAR-",null,null,null,null,null,null," -SELECCIONAR-",null,null,null,null,null,null," -SELECCIONAR-",null,null,{"$f":"LOOKUP(AB394,Catálogos!AP:AP,Catálogos!AO:AO)","v":"ERR"},{"$f":"CONCATENATE(LOOKUP(AC394,Catálogos!O:O,Catálogos!P:P),\".\",LOOKUP(AC394,Catálogos!O:O,Catálogos!Q:Q))","v":{"$error":"#N/A"}},{"$f":"IF(AC394=LOOKUP(CONCATENATE(AE394,\" - \",AC394),Catálogos!T:T,Catálogos!V:V),LOOKUP(CONCATENATE(AE394,\" - \",AC394),Catálogos!T:T,Catálogos!W:W),FALSE)","v":{"$error":"#N/A"}},{"$f":"LOOKUP(BD394,Catálogos!AM:AM,Catálogos!AL:AL)","v":"ERR"},{"$f":"LOOKUP(BK394,Catálogos!AM:AM,Catálogos!AL:AL)","v":"ERR"},{"$f":"LOOKUP(BR394,Catálogos!AM:AM,Catálogos!AL:AL)","v":"ERR"},{"$f":"LOOKUP(BY394,Catálogos!AM:AM,Catálogos!AL:AL)","v":"ERR"},0]
[null,null,null,null,null,null,null," -SELECCIONAR-"," -SELECCIONAR-"," -SELECCIONAR-",null," -SELECCIONAR-"," -SELECCIONAR-"," -SELECCIONAR-"," -SELECCIONAR-",null,null," -SELECCIONAR-",null,null,null," -SELECCIONAR-",null,null," -SELECCIONAR-",null," -SELECCIONAR-"," -SELECCIONAR-",null,{"$f":"IF(AC395=FALSE, LOOKUP(AC395,Catálogos!O:O),LOOKUP(AC395,Catálogos!O:O,Catálogos!R:R))","v":{"$error":"#N/A"}},"",null,null,null,{"$f":"IF(CD395=FALSE,\"COL. INCORRECTA\",LOOKUP(CONCATENATE(AE395,\" - \",AC395),Catálogos!T:T,Catálogos!Y:Y))","v":{"$error":"#N/A"}},{"$f":"IF(CD395=FALSE,\"COL. INCORRECTA\",LOOKUP(CONCATENATE(AE395,\" - \",AC395),Catálogos!T:T,Catálogos!X:X))","v":{"$error":"#N/A"}}," -SELECCIONAR-",""," -SELECCIONAR-",null,null," -SELECCIONAR-",null,null,null," -SELECCIONAR-",null,null," -SELECCIONAR-"," -SELECCIONAR-",null,null,null,null,null," -SELECCIONAR-",null,null,null,null,null,null," -SELECCIONAR-",null,null,null,null,null,null," -SELECCIONAR-",null,null,null,null,null,null," -SELECCIONAR-",null,null,{"$f":"LOOKUP(AB395,Catálogos!AP:AP,Catálogos!AO:AO)","v":"ERR"},{"$f":"CONCATENATE(LOOKUP(AC395,Catálogos!O:O,Catálogos!P:P),\".\",LOOKUP(AC395,Catálogos!O:O,Catálogos!Q:Q))","v":{"$error":"#N/A"}},{"$f":"IF(AC395=LOOKUP(CONCATENATE(AE395,\" - \",AC395),Catálogos!T:T,Catálogos!V:V),LOOKUP(CONCATENATE(AE395,\" - \",AC395),Catálogos!T:T,Catálogos!W:W),FALSE)","v":{"$error":"#N/A"}},{"$f":"LOOKUP(BD395,Catálogos!AM:AM,Catálogos!AL:AL)","v":"ERR"},{"$f":"LOOKUP(BK395,Catálogos!AM:AM,Catálogos!AL:AL)","v":"ERR"},{"$f":"LOOKUP(BR395,Catálogos!AM:AM,Catálogos!AL:AL)","v":"ERR"},{"$f":"LOOKUP(BY395,Catálogos!AM:AM,Catálogos!AL:AL)","v":"ERR"},0]
[null,null,null,null,null,null,null," -SELECCIONAR-"," -SELECCIONAR-"," -SELECCIONAR-",null," -SELECCIONAR-"," -SELECCIONAR-"," -SELECCIONAR-"," -SELECCIONAR-",null,null," -SELECCIONAR-",null,null,null," -SELECCIONAR-",null,null," -SELECCIONAR-",null," -SELECCIONAR-"," -SELECCIONAR-",null,{"$f":"IF(AC396=FALSE, LOOKUP(AC396,Catálogos!O:O),LOOKUP(AC396,Catálogos!O:O,Catálogos!R:R))","v":{"$error":"#N/A"}},"",null,null,null,{"$f":"IF(CD396=FALSE,\"COL. INCORRECTA\",LOOKUP(CONCATENATE(AE396,\" - \",AC396),Catálogos!T:T,Catálogos!Y:Y))","v":{"$error":"#N/A"}},{"$f":"IF(CD396=FALSE,\"COL. INCORRECTA\",LOOKUP(CONCATENATE(AE396,\" - \",AC396),Catálogos!T:T,Catálogos!X:X))","v":{"$error":"#N/A"}}," -SELECCIONAR-",""," -SELECCIONAR-",null,null," -SELECCIONAR-",null,null,null," -SELECCIONAR-",null,null," -SELECCIONAR-"," -SELECCIONAR-",null,null,null,null,null," -SELECCIONAR-",null,null,null,null,null,null," -SELECCIONAR-",null,null,null,null,null,null," -SELECCIONAR-",null,null,null,null,null,null," -SELECCIONAR-",null,null,{"$f":"LOOKUP(AB396,Catálogos!AP:AP,Catálogos!AO:AO)","v":"ERR"},{"$f":"CONCATENATE(LOOKUP(AC396,Catálogos!O:O,Catálogos!P:P),\".\",LOOKUP(AC396,Catálogos!O:O,Catálogos!Q:Q))","v":{"$error":"#N/A"}},{"$f":"IF(AC396=LOOKUP(CONCATENATE(AE396,\" - \",AC396),Catálogos!T:T,Catálogos!V:V),LOOKUP(CONCATENATE(AE396,\" - \",AC396),Catálogos!T:T,Catálogos!W:W),FALSE)","v":{"$error":"#N/A"}},{"$f":"LOOKUP(BD396,Catálogos!AM:AM,Catálogos!AL:AL)","v":"ERR"},{"$f":"LOOKUP(BK396,Catálogos!AM:AM,Catálogos!AL:AL)","v":"ERR"},{"$f":"LOOKUP(BR396,Catálogos!AM:AM,Catálogos!AL:AL)","v":"ERR"},{"$f":"LOOKUP(BY396,Catálogos!AM:AM,Catálogos!AL:AL)","v":"ERR"},0]
[null,null,null,null,null,null,null," -SELECCIONAR-"," -SELECCIONAR-"," -SELECCIONAR-",null," -SELECCIONAR-"," -SELECCIONAR-"," -SELECCIONAR-"," -SELECCIONAR-",null,null," -SELECCIONAR-",null,null,null," -SELECCIONAR-",null,null," -SELECCIONAR-",null," -SELECCIONAR-"," -SELECCIONAR-",null,{"$f":"IF(AC397=FALSE, LOOKUP(AC397,Catálogos!O:O),LOOKUP(AC397,Catálogos!O:O,Catálogos!R:R))","v":{"$error":"#N/A"}},"",null,null,null,{"$f":"IF(CD397=FALSE,\"COL. INCORRECTA\",LOOKUP(CONCATENATE(AE397,\" - \",AC397),Catálogos!T:T,Catálogos!Y:Y))","v":{"$error":"#N/A"}},{"$f":"IF(CD397=FALSE,\"COL. INCORRECTA\",LOOKUP(CONCATENATE(AE397,\" - \",AC397),Catálogos!T:T,Catálogos!X:X))","v":{"$error":"#N/A"}}," -SELECCIONAR-",""," -SELECCIONAR-",null,null," -SELECCIONAR-",null,null,null," -SELECCIONAR-",null,null," -SELECCIONAR-"," -SELECCIONAR-",null,null,null,null,null," -SELECCIONAR-",null,null,null,null,null,null," -SELECCIONAR-",null,null,null,null,null,null," -SELECCIONAR-",null,null,null,null,null,null," -SELECCIONAR-",null,null,{"$f":"LOOKUP(AB397,Catálogos!AP:AP,Catálogos!AO:AO)","v":"ERR"},{"$f":"CONCATENATE(LOOKUP(AC397,Catálogos!O:O,Catálogos!P:P),\".\",LOOKUP(AC397,Catálogos!O:O,Catálogos!Q:Q))","v":{"$error":"#N/A"}},{"$f":"IF(AC397=LOOKUP(CONCATENATE(AE397,\" - \",AC397),Catálogos!T:T,Catálogos!V:V),LOOKUP(CONCATENATE(AE397,\" - \",AC397),Catálogos!T:T,Catálogos!W:W),FALSE)","v":{"$error":"#N/A"}},{"$f":"LOOKUP(BD397,Catálogos!AM:AM,Catálogos!AL:AL)","v":"ERR"},{"$f":"LOOKUP(BK397,Catálogos!AM:AM,Catálogos!AL:AL)","v":"ERR"},{"$f":"LOOKUP(BR397,Catálogos!AM:AM,Catálogos!AL:AL)","v":"ERR"},{"$f":"LOOKUP(BY397,Catálogos!AM:AM,Catálogos!AL:AL)","v":"ERR"},0]
[null,null,null,null,null,null,null," -SELECCIONAR-"," -SELECCIONAR-"," -SELECCIONAR-",null," -SELECCIONAR-"," -SELECCIONAR-"," -SELECCIONAR-"," -SELECCIONAR-",null,null," -SELECCIONAR-",null,null,null," -SELECCIONAR-",null,null," -SELECCIONAR-",null," -SELECCIONAR-"," -SELECCIONAR-",null,{"$f":"IF(AC398=FALSE, LOOKUP(AC398,Catálogos!O:O),LOOKUP(AC398,Catálogos!O:O,Catálogos!R:R))","v":{"$error":"#N/A"}},"",null,null,null,{"$f":"IF(CD398=FALSE,\"COL. INCORRECTA\",LOOKUP(CONCATENATE(AE398,\" - \",AC398),Catálogos!T:T,Catálogos!Y:Y))","v":{"$error":"#N/A"}},{"$f":"IF(CD398=FALSE,\"COL. INCORRECTA\",LOOKUP(CONCATENATE(AE398,\" - \",AC398),Catálogos!T:T,Catálogos!X:X))","v":{"$error":"#N/A"}}," -SELECCIONAR-",""," -SELECCIONAR-",null,null," -SELECCIONAR-",null,null,null," -SELECCIONAR-",null,null," -SELECCIONAR-"," -SELECCIONAR-",null,null,null,null,null," -SELECCIONAR-",null,null,null,null,null,null," -SELECCIONAR-",null,null,null,null,null,null," -SELECCIONAR-",null,null,null,null,null,null," -SELECCIONAR-",null,null,{"$f":"LOOKUP(AB398,Catálogos!AP:AP,Catálogos!AO:AO)","v":"ERR"},{"$f":"CONCATENATE(LOOKUP(AC398,Catálogos!O:O,Catálogos!P:P),\".\",LOOKUP(AC398,Catálogos!O:O,Catálogos!Q:Q))","v":{"$error":"#N/A"}},{"$f":"IF(AC398=LOOKUP(CONCATENATE(AE398,\" - \",AC398),Catálogos!T:T,Catálogos!V:V),LOOKUP(CONCATENATE(AE398,\" - \",AC398),Catálogos!T:T,Catálogos!W:W),FALSE)","v":{"$error":"#N/A"}},{"$f":"LOOKUP(BD398,Catálogos!AM:AM,Catálogos!AL:AL)","v":"ERR"},{"$f":"LOOKUP(BK398,Catálogos!AM:AM,Catálogos!AL:AL)","v":"ERR"},{"$f":"LOOKUP(BR398,Catálogos!AM:AM,Catálogos!AL:AL)","v":"ERR"},{"$f":"LOOKUP(BY398,Catálogos!AM:AM,Catálogos!AL:AL)","v":"ERR"},0]
[null,null,null,null,null,null,null," -SELECCIONAR-"," -SELECCIONAR-"," -SELECCIONAR-",null," -SELECCIONAR-"," -SELECCIONAR-"," -SELECCIONAR-"," -SELECCIONAR-",null,null," -SELECCIONAR-",null,null,null," -SELECCIONAR-",null,null," -SELECCIONAR-",null," -SELECCIONAR-"," -SELECCIONAR-",null,{"$f":"IF(AC399=FALSE, LOOKUP(AC399,Catálogos!O:O),LOOKUP(AC399,Catálogos!O:O,Catálogos!R:R))","v":{"$error":"#N/A"}},"",null,null,null,{"$f":"IF(CD399=FALSE,\"COL. INCORRECTA\",LOOKUP(CONCATENATE(AE399,\" - \",AC399),Catálogos!T:T,Catálogos!Y:Y))","v":{"$error":"#N/A"}},{"$f":"IF(CD399=FALSE,\"COL. INCORRECTA\",LOOKUP(CONCATENATE(AE399,\" - \",AC399),Catálogos!T:T,Catálogos!X:X))","v":{"$error":"#N/A"}}," -SELECCIONAR-",""," -SELECCIONAR-",null,null," -SELECCIONAR-",null,null,null," -SELECCIONAR-",null,null," -SELECCIONAR-"," -SELECCIONAR-",null,null,null,null,null," -SELECCIONAR-",null,null,null,null,null,null," -SELECCIONAR-",null,null,null,null,null,null," -SELECCIONAR-",null,null,null,null,null,null," -SELECCIONAR-",null,null,{"$f":"LOOKUP(AB399,Catálogos!AP:AP,Catálogos!AO:AO)","v":"ERR"},{"$f":"CONCATENATE(LOOKUP(AC399,Catálogos!O:O,Catálogos!P:P),\".\",LOOKUP(AC399,Catálogos!O:O,Catálogos!Q:Q))","v":{"$error":"#N/A"}},{"$f":"IF(AC399=LOOKUP(CONCATENATE(AE399,\" - \",AC399),Catálogos!T:T,Catálogos!V:V),LOOKUP(CONCATENATE(AE399,\" - \",AC399),Catálogos!T:T,Catálogos!W:W),FALSE)","v":{"$error":"#N/A"}},{"$f":"LOOKUP(BD399,Catálogos!AM:AM,Catálogos!AL:AL)","v":"ERR"},{"$f":"LOOKUP(BK399,Catálogos!AM:AM,Catálogos!AL:AL)","v":"ERR"},{"$f":"LOOKUP(BR399,Catálogos!AM:AM,Catálogos!AL:AL)","v":"ERR"},{"$f":"LOOKUP(BY399,Catálogos!AM:AM,Catálogos!AL:AL)","v":"ERR"},0]
[null,null,null,null,null,null,null," -SELECCIONAR-"," -SELECCIONAR-"," -SELECCIONAR-",null," -SELECCIONAR-"," -SELECCIONAR-"," -SELECCIONAR-"," -SELECCIONAR-",null,null," -SELECCIONAR-",null,null,null," -SELECCIONAR-",null,null," -SELECCIONAR-",null," -SELECCIONAR-"," -SELECCIONAR-",null,{"$f":"IF(AC400=FALSE, LOOKUP(AC400,Catálogos!O:O),LOOKUP(AC400,Catálogos!O:O,Catálogos!R:R))","v":{"$error":"#N/A"}},"",null,null,null,{"$f":"IF(CD400=FALSE,\"COL. INCORRECTA\",LOOKUP(CONCATENATE(AE400,\" - \",AC400),Catálogos!T:T,Catálogos!Y:Y))","v":{"$error":"#N/A"}},{"$f":"IF(CD400=FALSE,\"COL. INCORRECTA\",LOOKUP(CONCATENATE(AE400,\" - \",AC400),Catálogos!T:T,Catálogos!X:X))","v":{"$error":"#N/A"}}," -SELECCIONAR-",""," -SELECCIONAR-",null,null," -SELECCIONAR-",null,null,null," -SELECCIONAR-",null,null," -SELECCIONAR-"," -SELECCIONAR-",null,null,null,null,null," -SELECCIONAR-",null,null,null,null,null,null," -SELECCIONAR-",null,null,null,null,null,null," -SELECCIONAR-",null,null,null,null,null,null," -SELECCIONAR-",null,null,{"$f":"LOOKUP(AB400,Catálogos!AP:AP,Catálogos!AO:AO)","v":"ERR"},{"$f":"CONCATENATE(LOOKUP(AC400,Catálogos!O:O,Catálogos!P:P),\".\",LOOKUP(AC400,Catálogos!O:O,Catálogos!Q:Q))","v":{"$error":"#N/A"}},{"$f":"IF(AC400=LOOKUP(CONCATENATE(AE400,\" - \",AC400),Catálogos!T:T,Catálogos!V:V),LOOKUP(CONCATENATE(AE400,\" - \",AC400),Catálogos!T:T,Catálogos!W:W),FALSE)","v":{"$error":"#N/A"}},{"$f":"LOOKUP(BD400,Catálogos!AM:AM,Catálogos!AL:AL)","v":"ERR"},{"$f":"LOOKUP(BK400,Catálogos!AM:AM,Catálogos!AL:AL)","v":"ERR"},{"$f":"LOOKUP(BR400,Catálogos!AM:AM,Catálogos!AL:AL)","v":"ERR"},{"$f":"LOOKUP(BY400,Catálogos!AM:AM,Catálogos!AL:AL)","v":"ERR"},0]
[null,null,null,null,null,null,null," -SELECCIONAR-"," -SELECCIONAR-"," -SELECCIONAR-",null," -SELECCIONAR-"," -SELECCIONAR-"," -SELECCIONAR-"," -SELECCIONAR-",null,null," -SELECCIONAR-",null,null,null," -SELECCIONAR-",null,null," -SELECCIONAR-",null," -SELECCIONAR-"," -SELECCIONAR-",null,{"$f":"IF(AC401=FALSE, LOOKUP(AC401,Catálogos!O:O),LOOKUP(AC401,Catálogos!O:O,Catálogos!R:R))","v":{"$error":"#N/A"}},"",null,null,null,{"$f":"IF(CD401=FALSE,\"COL. INCORRECTA\",LOOKUP(CONCATENATE(AE401,\" - \",AC401),Catálogos!T:T,Catálogos!Y:Y))","v":{"$error":"#N/A"}},{"$f":"IF(CD401=FALSE,\"COL. INCORRECTA\",LOOKUP(CONCATENATE(AE401,\" - \",AC401),Catálogos!T:T,Catálogos!X:X))","v":{"$error":"#N/A"}}," -SELECCIONAR-",""," -SELECCIONAR-",null,null," -SELECCIONAR-",null,null,null," -SELECCIONAR-",null,null," -SELECCIONAR-"," -SELECCIONAR-",null,null,null,null,null," -SELECCIONAR-",null,null,null,null,null,null," -SELECCIONAR-",null,null,null,null,null,null," -SELECCIONAR-",null,null,null,null,null,null," -SELECCIONAR-",null,null,{"$f":"LOOKUP(AB401,Catálogos!AP:AP,Catálogos!AO:AO)","v":"ERR"},{"$f":"CONCATENATE(LOOKUP(AC401,Catálogos!O:O,Catálogos!P:P),\".\",LOOKUP(AC401,Catálogos!O:O,Catálogos!Q:Q))","v":{"$error":"#N/A"}},{"$f":"IF(AC401=LOOKUP(CONCATENATE(AE401,\" - \",AC401),Catálogos!T:T,Catálogos!V:V),LOOKUP(CONCATENATE(AE401,\" - \",AC401),Catálogos!T:T,Catálogos!W:W),FALSE)","v":{"$error":"#N/A"}},{"$f":"LOOKUP(BD401,Catálogos!AM:AM,Catálogos!AL:AL)","v":"ERR"},{"$f":"LOOKUP(BK401,Catálogos!AM:AM,Catálogos!AL:AL)","v":"ERR"},{"$f":"LOOKUP(BR401,Catálogos!AM:AM,Catálogos!AL:AL)","v":"ERR"},{"$f":"LOOKUP(BY401,Catálogos!AM:AM,Catálogos!AL:AL)","v":"ERR"},0]
[null,null,null,null,null,null,null," -SELECCIONAR-"," -SELECCIONAR-"," -SELECCIONAR-",null," -SELECCIONAR-"," -SELECCIONAR-"," -SELECCIONAR-"," -SELECCIONAR-",null,null," -SELECCIONAR-",null,null,null," -SELECCIONAR-",null,null," -SELECCIONAR-",null," -SELECCIONAR-"," -SELECCIONAR-",null,{"$f":"IF(AC402=FALSE, LOOKUP(AC402,Catálogos!O:O),LOOKUP(AC402,Catálogos!O:O,Catálogos!R:R))","v":{"$error":"#N/A"}},"",null,null,null,{"$f":"IF(CD402=FALSE,\"COL. INCORRECTA\",LOOKUP(CONCATENATE(AE402,\" - \",AC402),Catálogos!T:T,Catálogos!Y:Y))","v":{"$error":"#N/A"}},{"$f":"IF(CD402=FALSE,\"COL. INCORRECTA\",LOOKUP(CONCATENATE(AE402,\" - \",AC402),Catálogos!T:T,Catálogos!X:X))","v":{"$error":"#N/A"}}," -SELECCIONAR-",""," -SELECCIONAR-",null,null," -SELECCIONAR-",null,null,null," -SELECCIONAR-",null,null," -SELECCIONAR-"," -SELECCIONAR-",null,null,null,null,null," -SELECCIONAR-",null,null,null,null,null,null," -SELECCIONAR-",null,null,null,null,null,null," -SELECCIONAR-",null,null,null,null,null,null," -SELECCIONAR-",null,null,{"$f":"LOOKUP(AB402,Catálogos!AP:AP,Catálogos!AO:AO)","v":"ERR"},{"$f":"CONCATENATE(LOOKUP(AC402,Catálogos!O:O,Catálogos!P:P),\".\",LOOKUP(AC402,Catálogos!O:O,Catálogos!Q:Q))","v":{"$error":"#N/A"}},{"$f":"IF(AC402=LOOKUP(CONCATENATE(AE402,\" - \",AC402),Catálogos!T:T,Catálogos!V:V),LOOKUP(CONCATENATE(AE402,\" - \",AC402),Catálogos!T:T,Catálogos!W:W),FALSE)","v":{"$error":"#N/A"}},{"$f":"LOOKUP(BD402,Catálogos!AM:AM,Catálogos!AL:AL)","v":"ERR"},{"$f":"LOOKUP(BK402,Catálogos!AM:AM,Catálogos!AL:AL)","v":"ERR"},{"$f":"LOOKUP(BR402,Catálogos!AM:AM,Catálogos!AL:AL)","v":"ERR"},{"$f":"LOOKUP(BY402,Catálogos!AM:AM,Catálogos!AL:AL)","v":"ERR"},0]
[null,null,null,null,null,null,null," -SELECCIONAR-"," -SELECCIONAR-"," -SELECCIONAR-",null," -SELECCIONAR-"," -SELECCIONAR-"," -SELECCIONAR-"," -SELECCIONAR-",null,null," -SELECCIONAR-",null,null,null," -SELECCIONAR-",null,null," -SELECCIONAR-",null," -SELECCIONAR-"," -SELECCIONAR-",null,{"$f":"IF(AC403=FALSE, LOOKUP(AC403,Catálogos!O:O),LOOKUP(AC403,Catálogos!O:O,Catálogos!R:R))","v":{"$error":"#N/A"}},"",null,null,null,{"$f":"IF(CD403=FALSE,\"COL. INCORRECTA\",LOOKUP(CONCATENATE(AE403,\" - \",AC403),Catálogos!T:T,Catálogos!Y:Y))","v":{"$error":"#N/A"}},{"$f":"IF(CD403=FALSE,\"COL. INCORRECTA\",LOOKUP(CONCATENATE(AE403,\" - \",AC403),Catálogos!T:T,Catálogos!X:X))","v":{"$error":"#N/A"}}," -SELECCIONAR-",""," -SELECCIONAR-",null,null," -SELECCIONAR-",null,null,null," -SELECCIONAR-",null,null," -SELECCIONAR-"," -SELECCIONAR-",null,null,null,null,null," -SELECCIONAR-",null,null,null,null,null,null," -SELECCIONAR-",null,null,null,null,null,null," -SELECCIONAR-",null,null,null,null,null,null," -SELECCIONAR-",null,null,{"$f":"LOOKUP(AB403,Catálogos!AP:AP,Catálogos!AO:AO)","v":"ERR"},{"$f":"CONCATENATE(LOOKUP(AC403,Catálogos!O:O,Catálogos!P:P),\".\",LOOKUP(AC403,Catálogos!O:O,Catálogos!Q:Q))","v":{"$error":"#N/A"}},{"$f":"IF(AC403=LOOKUP(CONCATENATE(AE403,\" - \",AC403),Catálogos!T:T,Catálogos!V:V),LOOKUP(CONCATENATE(AE403,\" - \",AC403),Catálogos!T:T,Catálogos!W:W),FALSE)","v":{"$error":"#N/A"}},{"$f":"LOOKUP(BD403,Catálogos!AM:AM,Catálogos!AL:AL)","v":"ERR"},{"$f":"LOOKUP(BK403,Catálogos!AM:AM,Catálogos!AL:AL)","v":"ERR"},{"$f":"LOOKUP(BR403,Catálogos!AM:AM,Catálogos!AL:AL)","v":"ERR"},{"$f":"LOOKUP(BY403,Catálogos!AM:AM,Catálogos!AL:AL)","v":"ERR"},0]
[null,null,null,null,null,null,null," -SELECCIONAR-"," -SELECCIONAR-"," -SELECCIONAR-",null," -SELECCIONAR-"," -SELECCIONAR-"," -SELECCIONAR-"," -SELECCIONAR-",null,null," -SELECCIONAR-",null,null,null," -SELECCIONAR-",null,null," -SELECCIONAR-",null," -SELECCIONAR-"," -SELECCIONAR-",null,{"$f":"IF(AC404=FALSE, LOOKUP(AC404,Catálogos!O:O),LOOKUP(AC404,Catálogos!O:O,Catálogos!R:R))","v":{"$error":"#N/A"}},"",null,null,null,{"$f":"IF(CD404=FALSE,\"COL. INCORRECTA\",LOOKUP(CONCATENATE(AE404,\" - \",AC404),Catálogos!T:T,Catálogos!Y:Y))","v":{"$error":"#N/A"}},{"$f":"IF(CD404=FALSE,\"COL. INCORRECTA\",LOOKUP(CONCATENATE(AE404,\" - \",AC404),Catálogos!T:T,Catálogos!X:X))","v":{"$error":"#N/A"}}," -SELECCIONAR-",""," -SELECCIONAR-",null,null," -SELECCIONAR-",null,null,null," -SELECCIONAR-",null,null," -SELECCIONAR-"," -SELECCIONAR-",null,null,null,null,null," -SELECCIONAR-",null,null,null,null,null,null," -SELECCIONAR-",null,null,null,null,null,null," -SELECCIONAR-",null,null,null,null,null,null," -SELECCIONAR-",null,null,{"$f":"LOOKUP(AB404,Catálogos!AP:AP,Catálogos!AO:AO)","v":"ERR"},{"$f":"CONCATENATE(LOOKUP(AC404,Catálogos!O:O,Catálogos!P:P),\".\",LOOKUP(AC404,Catálogos!O:O,Catálogos!Q:Q))","v":{"$error":"#N/A"}},{"$f":"IF(AC404=LOOKUP(CONCATENATE(AE404,\" - \",AC404),Catálogos!T:T,Catálogos!V:V),LOOKUP(CONCATENATE(AE404,\" - \",AC404),Catálogos!T:T,Catálogos!W:W),FALSE)","v":{"$error":"#N/A"}},{"$f":"LOOKUP(BD404,Catálogos!AM:AM,Catálogos!AL:AL)","v":"ERR"},{"$f":"LOOKUP(BK404,Catálogos!AM:AM,Catálogos!AL:AL)","v":"ERR"},{"$f":"LOOKUP(BR404,Catálogos!AM:AM,Catálogos!AL:AL)","v":"ERR"},{"$f":"LOOKUP(BY404,Catálogos!AM:AM,Catálogos!AL:AL)","v":"ERR"},0]
[null,null,null,null,null,null,null," -SELECCIONAR-"," -SELECCIONAR-"," -SELECCIONAR-",null," -SELECCIONAR-"," -SELECCIONAR-"," -SELECCIONAR-"," -SELECCIONAR-",null,null," -SELECCIONAR-",null,null,null," -SELECCIONAR-",null,null," -SELECCIONAR-",null," -SELECCIONAR-"," -SELECCIONAR-",null,{"$f":"IF(AC405=FALSE, LOOKUP(AC405,Catálogos!O:O),LOOKUP(AC405,Catálogos!O:O,Catálogos!R:R))","v":{"$error":"#N/A"}},"",null,null,null,{"$f":"IF(CD405=FALSE,\"COL. INCORRECTA\",LOOKUP(CONCATENATE(AE405,\" - \",AC405),Catálogos!T:T,Catálogos!Y:Y))","v":{"$error":"#N/A"}},{"$f":"IF(CD405=FALSE,\"COL. INCORRECTA\",LOOKUP(CONCATENATE(AE405,\" - \",AC405),Catálogos!T:T,Catálogos!X:X))","v":{"$error":"#N/A"}}," -SELECCIONAR-",""," -SELECCIONAR-",null,null," -SELECCIONAR-",null,null,null," -SELECCIONAR-",null,null," -SELECCIONAR-"," -SELECCIONAR-",null,null,null,null,null," -SELECCIONAR-",null,null,null,null,null,null," -SELECCIONAR-",null,null,null,null,null,null," -SELECCIONAR-",null,null,null,null,null,null," -SELECCIONAR-",null,null,{"$f":"LOOKUP(AB405,Catálogos!AP:AP,Catálogos!AO:AO)","v":"ERR"},{"$f":"CONCATENATE(LOOKUP(AC405,Catálogos!O:O,Catálogos!P:P),\".\",LOOKUP(AC405,Catálogos!O:O,Catálogos!Q:Q))","v":{"$error":"#N/A"}},{"$f":"IF(AC405=LOOKUP(CONCATENATE(AE405,\" - \",AC405),Catálogos!T:T,Catálogos!V:V),LOOKUP(CONCATENATE(AE405,\" - \",AC405),Catálogos!T:T,Catálogos!W:W),FALSE)","v":{"$error":"#N/A"}},{"$f":"LOOKUP(BD405,Catálogos!AM:AM,Catálogos!AL:AL)","v":"ERR"},{"$f":"LOOKUP(BK405,Catálogos!AM:AM,Catálogos!AL:AL)","v":"ERR"},{"$f":"LOOKUP(BR405,Catálogos!AM:AM,Catálogos!AL:AL)","v":"ERR"},{"$f":"LOOKUP(BY405,Catálogos!AM:AM,Catálogos!AL:AL)","v":"ERR"},0]
[null,null,null,null,null,null,null," -SELECCIONAR-"," -SELECCIONAR-"," -SELECCIONAR-",null," -SELECCIONAR-"," -SELECCIONAR-"," -SELECCIONAR-"," -SELECCIONAR-",null,null," -SELECCIONAR-",null,null,null," -SELECCIONAR-",null,null," -SELECCIONAR-",null," -SELECCIONAR-"," -SELECCIONAR-",null,{"$f":"IF(AC406=FALSE, LOOKUP(AC406,Catálogos!O:O),LOOKUP(AC406,Catálogos!O:O,Catálogos!R:R))","v":{"$error":"#N/A"}},"",null,null,null,{"$f":"IF(CD406=FALSE,\"COL. INCORRECTA\",LOOKUP(CONCATENATE(AE406,\" - \",AC406),Catálogos!T:T,Catálogos!Y:Y))","v":{"$error":"#N/A"}},{"$f":"IF(CD406=FALSE,\"COL. INCORRECTA\",LOOKUP(CONCATENATE(AE406,\" - \",AC406),Catálogos!T:T,Catálogos!X:X))","v":{"$error":"#N/A"}}," -SELECCIONAR-",""," -SELECCIONAR-",null,null," -SELECCIONAR-",null,null,null," -SELECCIONAR-",null,null," -SELECCIONAR-"," -SELECCIONAR-",null,null,null,null,null," -SELECCIONAR-",null,null,null,null,null,null," -SELECCIONAR-",null,null,null,null,null,null," -SELECCIONAR-",null,null,null,null,null,null," -SELECCIONAR-",null,null,{"$f":"LOOKUP(AB406,Catálogos!AP:AP,Catálogos!AO:AO)","v":"ERR"},{"$f":"CONCATENATE(LOOKUP(AC406,Catálogos!O:O,Catálogos!P:P),\".\",LOOKUP(AC406,Catálogos!O:O,Catálogos!Q:Q))","v":{"$error":"#N/A"}},{"$f":"IF(AC406=LOOKUP(CONCATENATE(AE406,\" - \",AC406),Catálogos!T:T,Catálogos!V:V),LOOKUP(CONCATENATE(AE406,\" - \",AC406),Catálogos!T:T,Catálogos!W:W),FALSE)","v":{"$error":"#N/A"}},{"$f":"LOOKUP(BD406,Catálogos!AM:AM,Catálogos!AL:AL)","v":"ERR"},{"$f":"LOOKUP(BK406,Catálogos!AM:AM,Catálogos!AL:AL)","v":"ERR"},{"$f":"LOOKUP(BR406,Catálogos!AM:AM,Catálogos!AL:AL)","v":"ERR"},{"$f":"LOOKUP(BY406,Catálogos!AM:AM,Catálogos!AL:AL)","v":"ERR"},0]
[null,null,null,null,null,null,null," -SELECCIONAR-"," -SELECCIONAR-"," -SELECCIONAR-",null," -SELECCIONAR-"," -SELECCIONAR-"," -SELECCIONAR-"," -SELECCIONAR-",null,null," -SELECCIONAR-",null,null,null," -SELECCIONAR-",null,null," -SELECCIONAR-",null," -SELECCIONAR-"," -SELECCIONAR-",null,{"$f":"IF(AC407=FALSE, LOOKUP(AC407,Catálogos!O:O),LOOKUP(AC407,Catálogos!O:O,Catálogos!R:R))","v":{"$error":"#N/A"}},"",null,null,null,{"$f":"IF(CD407=FALSE,\"COL. INCORRECTA\",LOOKUP(CONCATENATE(AE407,\" - \",AC407),Catálogos!T:T,Catálogos!Y:Y))","v":{"$error":"#N/A"}},{"$f":"IF(CD407=FALSE,\"COL. INCORRECTA\",LOOKUP(CONCATENATE(AE407,\" - \",AC407),Catálogos!T:T,Catálogos!X:X))","v":{"$error":"#N/A"}}," -SELECCIONAR-",""," -SELECCIONAR-",null,null," -SELECCIONAR-",null,null,null," -SELECCIONAR-",null,null," -SELECCIONAR-"," -SELECCIONAR-",null,null,null,null,null," -SELECCIONAR-",null,null,null,null,null,null," -SELECCIONAR-",null,null,null,null,null,null," -SELECCIONAR-",null,null,null,null,null,null," -SELECCIONAR-",null,null,{"$f":"LOOKUP(AB407,Catálogos!AP:AP,Catálogos!AO:AO)","v":"ERR"},{"$f":"CONCATENATE(LOOKUP(AC407,Catálogos!O:O,Catálogos!P:P),\".\",LOOKUP(AC407,Catálogos!O:O,Catálogos!Q:Q))","v":{"$error":"#N/A"}},{"$f":"IF(AC407=LOOKUP(CONCATENATE(AE407,\" - \",AC407),Catálogos!T:T,Catálogos!V:V),LOOKUP(CONCATENATE(AE407,\" - \",AC407),Catálogos!T:T,Catálogos!W:W),FALSE)","v":{"$error":"#N/A"}},{"$f":"LOOKUP(BD407,Catálogos!AM:AM,Catálogos!AL:AL)","v":"ERR"},{"$f":"LOOKUP(BK407,Catálogos!AM:AM,Catálogos!AL:AL)","v":"ERR"},{"$f":"LOOKUP(BR407,Catálogos!AM:AM,Catálogos!AL:AL)","v":"ERR"},{"$f":"LOOKUP(BY407,Catálogos!AM:AM,Catálogos!AL:AL)","v":"ERR"},0]
[null,null,null,null,null,null,null," -SELECCIONAR-"," -SELECCIONAR-"," -SELECCIONAR-",null," -SELECCIONAR-"," -SELECCIONAR-"," -SELECCIONAR-"," -SELECCIONAR-",null,null," -SELECCIONAR-",null,null,null," -SELECCIONAR-",null,null," -SELECCIONAR-",null," -SELECCIONAR-"," -SELECCIONAR-",null,{"$f":"IF(AC408=FALSE, LOOKUP(AC408,Catálogos!O:O),LOOKUP(AC408,Catálogos!O:O,Catálogos!R:R))","v":{"$error":"#N/A"}},"",null,null,null,{"$f":"IF(CD408=FALSE,\"COL. INCORRECTA\",LOOKUP(CONCATENATE(AE408,\" - \",AC408),Catálogos!T:T,Catálogos!Y:Y))","v":{"$error":"#N/A"}},{"$f":"IF(CD408=FALSE,\"COL. INCORRECTA\",LOOKUP(CONCATENATE(AE408,\" - \",AC408),Catálogos!T:T,Catálogos!X:X))","v":{"$error":"#N/A"}}," -SELECCIONAR-",""," -SELECCIONAR-",null,null," -SELECCIONAR-",null,null,null," -SELECCIONAR-",null,null," -SELECCIONAR-"," -SELECCIONAR-",null,null,null,null,null," -SELECCIONAR-",null,null,null,null,null,null," -SELECCIONAR-",null,null,null,null,null,null," -SELECCIONAR-",null,null,null,null,null,null," -SELECCIONAR-",null,null,{"$f":"LOOKUP(AB408,Catálogos!AP:AP,Catálogos!AO:AO)","v":"ERR"},{"$f":"CONCATENATE(LOOKUP(AC408,Catálogos!O:O,Catálogos!P:P),\".\",LOOKUP(AC408,Catálogos!O:O,Catálogos!Q:Q))","v":{"$error":"#N/A"}},{"$f":"IF(AC408=LOOKUP(CONCATENATE(AE408,\" - \",AC408),Catálogos!T:T,Catálogos!V:V),LOOKUP(CONCATENATE(AE408,\" - \",AC408),Catálogos!T:T,Catálogos!W:W),FALSE)","v":{"$error":"#N/A"}},{"$f":"LOOKUP(BD408,Catálogos!AM:AM,Catálogos!AL:AL)","v":"ERR"},{"$f":"LOOKUP(BK408,Catálogos!AM:AM,Catálogos!AL:AL)","v":"ERR"},{"$f":"LOOKUP(BR408,Catálogos!AM:AM,Catálogos!AL:AL)","v":"ERR"},{"$f":"LOOKUP(BY408,Catálogos!AM:AM,Catálogos!AL:AL)","v":"ERR"},0]
[null,null,null,null,null,null,null," -SELECCIONAR-"," -SELECCIONAR-"," -SELECCIONAR-",null," -SELECCIONAR-"," -SELECCIONAR-"," -SELECCIONAR-"," -SELECCIONAR-",null,null," -SELECCIONAR-",null,null,null," -SELECCIONAR-",null,null," -SELECCIONAR-",null," -SELECCIONAR-"," -SELECCIONAR-",null,{"$f":"IF(AC409=FALSE, LOOKUP(AC409,Catálogos!O:O),LOOKUP(AC409,Catálogos!O:O,Catálogos!R:R))","v":{"$error":"#N/A"}},"",null,null,null,{"$f":"IF(CD409=FALSE,\"COL. INCORRECTA\",LOOKUP(CONCATENATE(AE409,\" - \",AC409),Catálogos!T:T,Catálogos!Y:Y))","v":{"$error":"#N/A"}},{"$f":"IF(CD409=FALSE,\"COL. INCORRECTA\",LOOKUP(CONCATENATE(AE409,\" - \",AC409),Catálogos!T:T,Catálogos!X:X))","v":{"$error":"#N/A"}}," -SELECCIONAR-",""," -SELECCIONAR-",null,null," -SELECCIONAR-",null,null,null," -SELECCIONAR-",null,null," -SELECCIONAR-"," -SELECCIONAR-",null,null,null,null,null," -SELECCIONAR-",null,null,null,null,null,null," -SELECCIONAR-",null,null,null,null,null,null," -SELECCIONAR-",null,null,null,null,null,null," -SELECCIONAR-",null,null,{"$f":"LOOKUP(AB409,Catálogos!AP:AP,Catálogos!AO:AO)","v":"ERR"},{"$f":"CONCATENATE(LOOKUP(AC409,Catálogos!O:O,Catálogos!P:P),\".\",LOOKUP(AC409,Catálogos!O:O,Catálogos!Q:Q))","v":{"$error":"#N/A"}},{"$f":"IF(AC409=LOOKUP(CONCATENATE(AE409,\" - \",AC409),Catálogos!T:T,Catálogos!V:V),LOOKUP(CONCATENATE(AE409,\" - \",AC409),Catálogos!T:T,Catálogos!W:W),FALSE)","v":{"$error":"#N/A"}},{"$f":"LOOKUP(BD409,Catálogos!AM:AM,Catálogos!AL:AL)","v":"ERR"},{"$f":"LOOKUP(BK409,Catálogos!AM:AM,Catálogos!AL:AL)","v":"ERR"},{"$f":"LOOKUP(BR409,Catálogos!AM:AM,Catálogos!AL:AL)","v":"ERR"},{"$f":"LOOKUP(BY409,Catálogos!AM:AM,Catálogos!AL:AL)","v":"ERR"},0]
[null,null,null,null,null,null,null," -SELECCIONAR-"," -SELECCIONAR-"," -SELECCIONAR-",null," -SELECCIONAR-"," -SELECCIONAR-"," -SELECCIONAR-"," -SELECCIONAR-",null,null," -SELECCIONAR-",null,null,null," -SELECCIONAR-",null,null," -SELECCIONAR-",null," -SELECCIONAR-"," -SELECCIONAR-",null,{"$f":"IF(AC410=FALSE, LOOKUP(AC410,Catálogos!O:O),LOOKUP(AC410,Catálogos!O:O,Catálogos!R:R))","v":{"$error":"#N/A"}},"",null,null,null,{"$f":"IF(CD410=FALSE,\"COL. INCORRECTA\",LOOKUP(CONCATENATE(AE410,\" - \",AC410),Catálogos!T:T,Catálogos!Y:Y))","v":{"$error":"#N/A"}},{"$f":"IF(CD410=FALSE,\"COL. INCORRECTA\",LOOKUP(CONCATENATE(AE410,\" - \",AC410),Catálogos!T:T,Catálogos!X:X))","v":{"$error":"#N/A"}}," -SELECCIONAR-",""," -SELECCIONAR-",null,null," -SELECCIONAR-",null,null,null," -SELECCIONAR-",null,null," -SELECCIONAR-"," -SELECCIONAR-",null,null,null,null,null," -SELECCIONAR-",null,null,null,null,null,null," -SELECCIONAR-",null,null,null,null,null,null," -SELECCIONAR-",null,null,null,null,null,null," -SELECCIONAR-",null,null,{"$f":"LOOKUP(AB410,Catálogos!AP:AP,Catálogos!AO:AO)","v":"ERR"},{"$f":"CONCATENATE(LOOKUP(AC410,Catálogos!O:O,Catálogos!P:P),\".\",LOOKUP(AC410,Catálogos!O:O,Catálogos!Q:Q))","v":{"$error":"#N/A"}},{"$f":"IF(AC410=LOOKUP(CONCATENATE(AE410,\" - \",AC410),Catálogos!T:T,Catálogos!V:V),LOOKUP(CONCATENATE(AE410,\" - \",AC410),Catálogos!T:T,Catálogos!W:W),FALSE)","v":{"$error":"#N/A"}},{"$f":"LOOKUP(BD410,Catálogos!AM:AM,Catálogos!AL:AL)","v":"ERR"},{"$f":"LOOKUP(BK410,Catálogos!AM:AM,Catálogos!AL:AL)","v":"ERR"},{"$f":"LOOKUP(BR410,Catálogos!AM:AM,Catálogos!AL:AL)","v":"ERR"},{"$f":"LOOKUP(BY410,Catálogos!AM:AM,Catálogos!AL:AL)","v":"ERR"},0]
[null,null,null,null,null,null,null," -SELECCIONAR-"," -SELECCIONAR-"," -SELECCIONAR-",null," -SELECCIONAR-"," -SELECCIONAR-"," -SELECCIONAR-"," -SELECCIONAR-",null,null," -SELECCIONAR-",null,null,null," -SELECCIONAR-",null,null," -SELECCIONAR-",null," -SELECCIONAR-"," -SELECCIONAR-",null,{"$f":"IF(AC411=FALSE, LOOKUP(AC411,Catálogos!O:O),LOOKUP(AC411,Catálogos!O:O,Catálogos!R:R))","v":{"$error":"#N/A"}},"",null,null,null,{"$f":"IF(CD411=FALSE,\"COL. INCORRECTA\",LOOKUP(CONCATENATE(AE411,\" - \",AC411),Catálogos!T:T,Catálogos!Y:Y))","v":{"$error":"#N/A"}},{"$f":"IF(CD411=FALSE,\"COL. INCORRECTA\",LOOKUP(CONCATENATE(AE411,\" - \",AC411),Catálogos!T:T,Catálogos!X:X))","v":{"$error":"#N/A"}}," -SELECCIONAR-",""," -SELECCIONAR-",null,null," -SELECCIONAR-",null,null,null," -SELECCIONAR-",null,null," -SELECCIONAR-"," -SELECCIONAR-",null,null,null,null,null," -SELECCIONAR-",null,null,null,null,null,null," -SELECCIONAR-",null,null,null,null,null,null," -SELECCIONAR-",null,null,null,null,null,null," -SELECCIONAR-",null,null,{"$f":"LOOKUP(AB411,Catálogos!AP:AP,Catálogos!AO:AO)","v":"ERR"},{"$f":"CONCATENATE(LOOKUP(AC411,Catálogos!O:O,Catálogos!P:P),\".\",LOOKUP(AC411,Catálogos!O:O,Catálogos!Q:Q))","v":{"$error":"#N/A"}},{"$f":"IF(AC411=LOOKUP(CONCATENATE(AE411,\" - \",AC411),Catálogos!T:T,Catálogos!V:V),LOOKUP(CONCATENATE(AE411,\" - \",AC411),Catálogos!T:T,Catálogos!W:W),FALSE)","v":{"$error":"#N/A"}},{"$f":"LOOKUP(BD411,Catálogos!AM:AM,Catálogos!AL:AL)","v":"ERR"},{"$f":"LOOKUP(BK411,Catálogos!AM:AM,Catálogos!AL:AL)","v":"ERR"},{"$f":"LOOKUP(BR411,Catálogos!AM:AM,Catálogos!AL:AL)","v":"ERR"},{"$f":"LOOKUP(BY411,Catálogos!AM:AM,Catálogos!AL:AL)","v":"ERR"},0]
[null,null,null,null,null,null,null," -SELECCIONAR-"," -SELECCIONAR-"," -SELECCIONAR-",null," -SELECCIONAR-"," -SELECCIONAR-"," -SELECCIONAR-"," -SELECCIONAR-",null,null," -SELECCIONAR-",null,null,null," -SELECCIONAR-",null,null," -SELECCIONAR-",null," -SELECCIONAR-"," -SELECCIONAR-",null,{"$f":"IF(AC412=FALSE, LOOKUP(AC412,Catálogos!O:O),LOOKUP(AC412,Catálogos!O:O,Catálogos!R:R))","v":{"$error":"#N/A"}},"",null,null,null,{"$f":"IF(CD412=FALSE,\"COL. INCORRECTA\",LOOKUP(CONCATENATE(AE412,\" - \",AC412),Catálogos!T:T,Catálogos!Y:Y))","v":{"$error":"#N/A"}},{"$f":"IF(CD412=FALSE,\"COL. INCORRECTA\",LOOKUP(CONCATENATE(AE412,\" - \",AC412),Catálogos!T:T,Catálogos!X:X))","v":{"$error":"#N/A"}}," -SELECCIONAR-",""," -SELECCIONAR-",null,null," -SELECCIONAR-",null,null,null," -SELECCIONAR-",null,null," -SELECCIONAR-"," -SELECCIONAR-",null,null,null,null,null," -SELECCIONAR-",null,null,null,null,null,null," -SELECCIONAR-",null,null,null,null,null,null," -SELECCIONAR-",null,null,null,null,null,null," -SELECCIONAR-",null,null,{"$f":"LOOKUP(AB412,Catálogos!AP:AP,Catálogos!AO:AO)","v":"ERR"},{"$f":"CONCATENATE(LOOKUP(AC412,Catálogos!O:O,Catálogos!P:P),\".\",LOOKUP(AC412,Catálogos!O:O,Catálogos!Q:Q))","v":{"$error":"#N/A"}},{"$f":"IF(AC412=LOOKUP(CONCATENATE(AE412,\" - \",AC412),Catálogos!T:T,Catálogos!V:V),LOOKUP(CONCATENATE(AE412,\" - \",AC412),Catálogos!T:T,Catálogos!W:W),FALSE)","v":{"$error":"#N/A"}},{"$f":"LOOKUP(BD412,Catálogos!AM:AM,Catálogos!AL:AL)","v":"ERR"},{"$f":"LOOKUP(BK412,Catálogos!AM:AM,Catálogos!AL:AL)","v":"ERR"},{"$f":"LOOKUP(BR412,Catálogos!AM:AM,Catálogos!AL:AL)","v":"ERR"},{"$f":"LOOKUP(BY412,Catálogos!AM:AM,Catálogos!AL:AL)","v":"ERR"},0]
[null,null,null,null,null,null,null," -SELECCIONAR-"," -SELECCIONAR-"," -SELECCIONAR-",null," -SELECCIONAR-"," -SELECCIONAR-"," -SELECCIONAR-"," -SELECCIONAR-",null,null," -SELECCIONAR-",null,null,null," -SELECCIONAR-",null,null," -SELECCIONAR-",null," -SELECCIONAR-"," -SELECCIONAR-",null,{"$f":"IF(AC413=FALSE, LOOKUP(AC413,Catálogos!O:O),LOOKUP(AC413,Catálogos!O:O,Catálogos!R:R))","v":{"$error":"#N/A"}},"",null,null,null,{"$f":"IF(CD413=FALSE,\"COL. INCORRECTA\",LOOKUP(CONCATENATE(AE413,\" - \",AC413),Catálogos!T:T,Catálogos!Y:Y))","v":{"$error":"#N/A"}},{"$f":"IF(CD413=FALSE,\"COL. INCORRECTA\",LOOKUP(CONCATENATE(AE413,\" - \",AC413),Catálogos!T:T,Catálogos!X:X))","v":{"$error":"#N/A"}}," -SELECCIONAR-",""," -SELECCIONAR-",null,null," -SELECCIONAR-",null,null,null," -SELECCIONAR-",null,null," -SELECCIONAR-"," -SELECCIONAR-",null,null,null,null,null," -SELECCIONAR-",null,null,null,null,null,null," -SELECCIONAR-",null,null,null,null,null,null," -SELECCIONAR-",null,null,null,null,null,null," -SELECCIONAR-",null,null,{"$f":"LOOKUP(AB413,Catálogos!AP:AP,Catálogos!AO:AO)","v":"ERR"},{"$f":"CONCATENATE(LOOKUP(AC413,Catálogos!O:O,Catálogos!P:P),\".\",LOOKUP(AC413,Catálogos!O:O,Catálogos!Q:Q))","v":{"$error":"#N/A"}},{"$f":"IF(AC413=LOOKUP(CONCATENATE(AE413,\" - \",AC413),Catálogos!T:T,Catálogos!V:V),LOOKUP(CONCATENATE(AE413,\" - \",AC413),Catálogos!T:T,Catálogos!W:W),FALSE)","v":{"$error":"#N/A"}},{"$f":"LOOKUP(BD413,Catálogos!AM:AM,Catálogos!AL:AL)","v":"ERR"},{"$f":"LOOKUP(BK413,Catálogos!AM:AM,Catálogos!AL:AL)","v":"ERR"},{"$f":"LOOKUP(BR413,Catálogos!AM:AM,Catálogos!AL:AL)","v":"ERR"},{"$f":"LOOKUP(BY413,Catálogos!AM:AM,Catálogos!AL:AL)","v":"ERR"},0]
[null,null,null,null,null,null,null," -SELECCIONAR-"," -SELECCIONAR-"," -SELECCIONAR-",null," -SELECCIONAR-"," -SELECCIONAR-"," -SELECCIONAR-"," -SELECCIONAR-",null,null," -SELECCIONAR-",null,null,null," -SELECCIONAR-",null,null," -SELECCIONAR-",null," -SELECCIONAR-"," -SELECCIONAR-",null,{"$f":"IF(AC414=FALSE, LOOKUP(AC414,Catálogos!O:O),LOOKUP(AC414,Catálogos!O:O,Catálogos!R:R))","v":{"$error":"#N/A"}},"",null,null,null,{"$f":"IF(CD414=FALSE,\"COL. INCORRECTA\",LOOKUP(CONCATENATE(AE414,\" - \",AC414),Catálogos!T:T,Catálogos!Y:Y))","v":{"$error":"#N/A"}},{"$f":"IF(CD414=FALSE,\"COL. INCORRECTA\",LOOKUP(CONCATENATE(AE414,\" - \",AC414),Catálogos!T:T,Catálogos!X:X))","v":{"$error":"#N/A"}}," -SELECCIONAR-",""," -SELECCIONAR-",null,null," -SELECCIONAR-",null,null,null," -SELECCIONAR-",null,null," -SELECCIONAR-"," -SELECCIONAR-",null,null,null,null,null," -SELECCIONAR-",null,null,null,null,null,null," -SELECCIONAR-",null,null,null,null,null,null," -SELECCIONAR-",null,null,null,null,null,null," -SELECCIONAR-",null,null,{"$f":"LOOKUP(AB414,Catálogos!AP:AP,Catálogos!AO:AO)","v":"ERR"},{"$f":"CONCATENATE(LOOKUP(AC414,Catálogos!O:O,Catálogos!P:P),\".\",LOOKUP(AC414,Catálogos!O:O,Catálogos!Q:Q))","v":{"$error":"#N/A"}},{"$f":"IF(AC414=LOOKUP(CONCATENATE(AE414,\" - \",AC414),Catálogos!T:T,Catálogos!V:V),LOOKUP(CONCATENATE(AE414,\" - \",AC414),Catálogos!T:T,Catálogos!W:W),FALSE)","v":{"$error":"#N/A"}},{"$f":"LOOKUP(BD414,Catálogos!AM:AM,Catálogos!AL:AL)","v":"ERR"},{"$f":"LOOKUP(BK414,Catálogos!AM:AM,Catálogos!AL:AL)","v":"ERR"},{"$f":"LOOKUP(BR414,Catálogos!AM:AM,Catálogos!AL:AL)","v":"ERR"},{"$f":"LOOKUP(BY414,Catálogos!AM:AM,Catálogos!AL:AL)","v":"ERR"},0]
[null,null,null,null,null,null,null," -SELECCIONAR-"," -SELECCIONAR-"," -SELECCIONAR-",null," -SELECCIONAR-"," -SELECCIONAR-"," -SELECCIONAR-"," -SELECCIONAR-",null,null," -SELECCIONAR-",null,null,null," -SELECCIONAR-",null,null," -SELECCIONAR-",null," -SELECCIONAR-"," -SELECCIONAR-",null,{"$f":"IF(AC415=FALSE, LOOKUP(AC415,Catálogos!O:O),LOOKUP(AC415,Catálogos!O:O,Catálogos!R:R))","v":{"$error":"#N/A"}},"",null,null,null,{"$f":"IF(CD415=FALSE,\"COL. INCORRECTA\",LOOKUP(CONCATENATE(AE415,\" - \",AC415),Catálogos!T:T,Catálogos!Y:Y))","v":{"$error":"#N/A"}},{"$f":"IF(CD415=FALSE,\"COL. INCORRECTA\",LOOKUP(CONCATENATE(AE415,\" - \",AC415),Catálogos!T:T,Catálogos!X:X))","v":{"$error":"#N/A"}}," -SELECCIONAR-",""," -SELECCIONAR-",null,null," -SELECCIONAR-",null,null,null," -SELECCIONAR-",null,null," -SELECCIONAR-"," -SELECCIONAR-",null,null,null,null,null," -SELECCIONAR-",null,null,null,null,null,null," -SELECCIONAR-",null,null,null,null,null,null," -SELECCIONAR-",null,null,null,null,null,null," -SELECCIONAR-",null,null,{"$f":"LOOKUP(AB415,Catálogos!AP:AP,Catálogos!AO:AO)","v":"ERR"},{"$f":"CONCATENATE(LOOKUP(AC415,Catálogos!O:O,Catálogos!P:P),\".\",LOOKUP(AC415,Catálogos!O:O,Catálogos!Q:Q))","v":{"$error":"#N/A"}},{"$f":"IF(AC415=LOOKUP(CONCATENATE(AE415,\" - \",AC415),Catálogos!T:T,Catálogos!V:V),LOOKUP(CONCATENATE(AE415,\" - \",AC415),Catálogos!T:T,Catálogos!W:W),FALSE)","v":{"$error":"#N/A"}},{"$f":"LOOKUP(BD415,Catálogos!AM:AM,Catálogos!AL:AL)","v":"ERR"},{"$f":"LOOKUP(BK415,Catálogos!AM:AM,Catálogos!AL:AL)","v":"ERR"},{"$f":"LOOKUP(BR415,Catálogos!AM:AM,Catálogos!AL:AL)","v":"ERR"},{"$f":"LOOKUP(BY415,Catálogos!AM:AM,Catálogos!AL:AL)","v":"ERR"},0]
[null,null,null,null,null,null,null," -SELECCIONAR-"," -SELECCIONAR-"," -SELECCIONAR-",null," -SELECCIONAR-"," -SELECCIONAR-"," -SELECCIONAR-"," -SELECCIONAR-",null,null," -SELECCIONAR-",null,null,null," -SELECCIONAR-",null,null," -SELECCIONAR-",null," -SELECCIONAR-"," -SELECCIONAR-",null,{"$f":"IF(AC416=FALSE, LOOKUP(AC416,Catálogos!O:O),LOOKUP(AC416,Catálogos!O:O,Catálogos!R:R))","v":{"$error":"#N/A"}},"",null,null,null,{"$f":"IF(CD416=FALSE,\"COL. INCORRECTA\",LOOKUP(CONCATENATE(AE416,\" - \",AC416),Catálogos!T:T,Catálogos!Y:Y))","v":{"$error":"#N/A"}},{"$f":"IF(CD416=FALSE,\"COL. INCORRECTA\",LOOKUP(CONCATENATE(AE416,\" - \",AC416),Catálogos!T:T,Catálogos!X:X))","v":{"$error":"#N/A"}}," -SELECCIONAR-",""," -SELECCIONAR-",null,null," -SELECCIONAR-",null,null,null," -SELECCIONAR-",null,null," -SELECCIONAR-"," -SELECCIONAR-",null,null,null,null,null," -SELECCIONAR-",null,null,null,null,null,null," -SELECCIONAR-",null,null,null,null,null,null," -SELECCIONAR-",null,null,null,null,null,null," -SELECCIONAR-",null,null,{"$f":"LOOKUP(AB416,Catálogos!AP:AP,Catálogos!AO:AO)","v":"ERR"},{"$f":"CONCATENATE(LOOKUP(AC416,Catálogos!O:O,Catálogos!P:P),\".\",LOOKUP(AC416,Catálogos!O:O,Catálogos!Q:Q))","v":{"$error":"#N/A"}},{"$f":"IF(AC416=LOOKUP(CONCATENATE(AE416,\" - \",AC416),Catálogos!T:T,Catálogos!V:V),LOOKUP(CONCATENATE(AE416,\" - \",AC416),Catálogos!T:T,Catálogos!W:W),FALSE)","v":{"$error":"#N/A"}},{"$f":"LOOKUP(BD416,Catálogos!AM:AM,Catálogos!AL:AL)","v":"ERR"},{"$f":"LOOKUP(BK416,Catálogos!AM:AM,Catálogos!AL:AL)","v":"ERR"},{"$f":"LOOKUP(BR416,Catálogos!AM:AM,Catálogos!AL:AL)","v":"ERR"},{"$f":"LOOKUP(BY416,Catálogos!AM:AM,Catálogos!AL:AL)","v":"ERR"},0]
[null,null,null,null,null,null,null," -SELECCIONAR-"," -SELECCIONAR-"," -SELECCIONAR-",null," -SELECCIONAR-"," -SELECCIONAR-"," -SELECCIONAR-"," -SELECCIONAR-",null,null," -SELECCIONAR-",null,null,null," -SELECCIONAR-",null,null," -SELECCIONAR-",null," -SELECCIONAR-"," -SELECCIONAR-",null,{"$f":"IF(AC417=FALSE, LOOKUP(AC417,Catálogos!O:O),LOOKUP(AC417,Catálogos!O:O,Catálogos!R:R))","v":{"$error":"#N/A"}},"",null,null,null,{"$f":"IF(CD417=FALSE,\"COL. INCORRECTA\",LOOKUP(CONCATENATE(AE417,\" - \",AC417),Catálogos!T:T,Catálogos!Y:Y))","v":{"$error":"#N/A"}},{"$f":"IF(CD417=FALSE,\"COL. INCORRECTA\",LOOKUP(CONCATENATE(AE417,\" - \",AC417),Catálogos!T:T,Catálogos!X:X))","v":{"$error":"#N/A"}}," -SELECCIONAR-",""," -SELECCIONAR-",null,null," -SELECCIONAR-",null,null,null," -SELECCIONAR-",null,null," -SELECCIONAR-"," -SELECCIONAR-",null,null,null,null,null," -SELECCIONAR-",null,null,null,null,null,null," -SELECCIONAR-",null,null,null,null,null,null," -SELECCIONAR-",null,null,null,null,null,null," -SELECCIONAR-",null,null,{"$f":"LOOKUP(AB417,Catálogos!AP:AP,Catálogos!AO:AO)","v":"ERR"},{"$f":"CONCATENATE(LOOKUP(AC417,Catálogos!O:O,Catálogos!P:P),\".\",LOOKUP(AC417,Catálogos!O:O,Catálogos!Q:Q))","v":{"$error":"#N/A"}},{"$f":"IF(AC417=LOOKUP(CONCATENATE(AE417,\" - \",AC417),Catálogos!T:T,Catálogos!V:V),LOOKUP(CONCATENATE(AE417,\" - \",AC417),Catálogos!T:T,Catálogos!W:W),FALSE)","v":{"$error":"#N/A"}},{"$f":"LOOKUP(BD417,Catálogos!AM:AM,Catálogos!AL:AL)","v":"ERR"},{"$f":"LOOKUP(BK417,Catálogos!AM:AM,Catálogos!AL:AL)","v":"ERR"},{"$f":"LOOKUP(BR417,Catálogos!AM:AM,Catálogos!AL:AL)","v":"ERR"},{"$f":"LOOKUP(BY417,Catálogos!AM:AM,Catálogos!AL:AL)","v":"ERR"},0]
[null,null,null,null,null,null,null," -SELECCIONAR-"," -SELECCIONAR-"," -SELECCIONAR-",null," -SELECCIONAR-"," -SELECCIONAR-"," -SELECCIONAR-"," -SELECCIONAR-",null,null," -SELECCIONAR-",null,null,null," -SELECCIONAR-",null,null," -SELECCIONAR-",null," -SELECCIONAR-"," -SELECCIONAR-",null,{"$f":"IF(AC418=FALSE, LOOKUP(AC418,Catálogos!O:O),LOOKUP(AC418,Catálogos!O:O,Catálogos!R:R))","v":{"$error":"#N/A"}},"",null,null,null,{"$f":"IF(CD418=FALSE,\"COL. INCORRECTA\",LOOKUP(CONCATENATE(AE418,\" - \",AC418),Catálogos!T:T,Catálogos!Y:Y))","v":{"$error":"#N/A"}},{"$f":"IF(CD418=FALSE,\"COL. INCORRECTA\",LOOKUP(CONCATENATE(AE418,\" - \",AC418),Catálogos!T:T,Catálogos!X:X))","v":{"$error":"#N/A"}}," -SELECCIONAR-",""," -SELECCIONAR-",null,null," -SELECCIONAR-",null,null,null," -SELECCIONAR-",null,null," -SELECCIONAR-"," -SELECCIONAR-",null,null,null,null,null," -SELECCIONAR-",null,null,null,null,null,null," -SELECCIONAR-",null,null,null,null,null,null," -SELECCIONAR-",null,null,null,null,null,null," -SELECCIONAR-",null,null,{"$f":"LOOKUP(AB418,Catálogos!AP:AP,Catálogos!AO:AO)","v":"ERR"},{"$f":"CONCATENATE(LOOKUP(AC418,Catálogos!O:O,Catálogos!P:P),\".\",LOOKUP(AC418,Catálogos!O:O,Catálogos!Q:Q))","v":{"$error":"#N/A"}},{"$f":"IF(AC418=LOOKUP(CONCATENATE(AE418,\" - \",AC418),Catálogos!T:T,Catálogos!V:V),LOOKUP(CONCATENATE(AE418,\" - \",AC418),Catálogos!T:T,Catálogos!W:W),FALSE)","v":{"$error":"#N/A"}},{"$f":"LOOKUP(BD418,Catálogos!AM:AM,Catálogos!AL:AL)","v":"ERR"},{"$f":"LOOKUP(BK418,Catálogos!AM:AM,Catálogos!AL:AL)","v":"ERR"},{"$f":"LOOKUP(BR418,Catálogos!AM:AM,Catálogos!AL:AL)","v":"ERR"},{"$f":"LOOKUP(BY418,Catálogos!AM:AM,Catálogos!AL:AL)","v":"ERR"},0]
[null,null,null,null,null,null,null," -SELECCIONAR-"," -SELECCIONAR-"," -SELECCIONAR-",null," -SELECCIONAR-"," -SELECCIONAR-"," -SELECCIONAR-"," -SELECCIONAR-",null,null," -SELECCIONAR-",null,null,null," -SELECCIONAR-",null,null," -SELECCIONAR-",null," -SELECCIONAR-"," -SELECCIONAR-",null,{"$f":"IF(AC419=FALSE, LOOKUP(AC419,Catálogos!O:O),LOOKUP(AC419,Catálogos!O:O,Catálogos!R:R))","v":{"$error":"#N/A"}},"",null,null,null,{"$f":"IF(CD419=FALSE,\"COL. INCORRECTA\",LOOKUP(CONCATENATE(AE419,\" - \",AC419),Catálogos!T:T,Catálogos!Y:Y))","v":{"$error":"#N/A"}},{"$f":"IF(CD419=FALSE,\"COL. INCORRECTA\",LOOKUP(CONCATENATE(AE419,\" - \",AC419),Catálogos!T:T,Catálogos!X:X))","v":{"$error":"#N/A"}}," -SELECCIONAR-",""," -SELECCIONAR-",null,null," -SELECCIONAR-",null,null,null," -SELECCIONAR-",null,null," -SELECCIONAR-"," -SELECCIONAR-",null,null,null,null,null," -SELECCIONAR-",null,null,null,null,null,null," -SELECCIONAR-",null,null,null,null,null,null," -SELECCIONAR-",null,null,null,null,null,null," -SELECCIONAR-",null,null,{"$f":"LOOKUP(AB419,Catálogos!AP:AP,Catálogos!AO:AO)","v":"ERR"},{"$f":"CONCATENATE(LOOKUP(AC419,Catálogos!O:O,Catálogos!P:P),\".\",LOOKUP(AC419,Catálogos!O:O,Catálogos!Q:Q))","v":{"$error":"#N/A"}},{"$f":"IF(AC419=LOOKUP(CONCATENATE(AE419,\" - \",AC419),Catálogos!T:T,Catálogos!V:V),LOOKUP(CONCATENATE(AE419,\" - \",AC419),Catálogos!T:T,Catálogos!W:W),FALSE)","v":{"$error":"#N/A"}},{"$f":"LOOKUP(BD419,Catálogos!AM:AM,Catálogos!AL:AL)","v":"ERR"},{"$f":"LOOKUP(BK419,Catálogos!AM:AM,Catálogos!AL:AL)","v":"ERR"},{"$f":"LOOKUP(BR419,Catálogos!AM:AM,Catálogos!AL:AL)","v":"ERR"},{"$f":"LOOKUP(BY419,Catálogos!AM:AM,Catálogos!AL:AL)","v":"ERR"},0]
[null,null,null,null,null,null,null," -SELECCIONAR-"," -SELECCIONAR-"," -SELECCIONAR-",null," -SELECCIONAR-"," -SELECCIONAR-"," -SELECCIONAR-"," -SELECCIONAR-",null,null," -SELECCIONAR-",null,null,null," -SELECCIONAR-",null,null," -SELECCIONAR-",null," -SELECCIONAR-"," -SELECCIONAR-",null,{"$f":"IF(AC420=FALSE, LOOKUP(AC420,Catálogos!O:O),LOOKUP(AC420,Catálogos!O:O,Catálogos!R:R))","v":{"$error":"#N/A"}},"",null,null,null,{"$f":"IF(CD420=FALSE,\"COL. INCORRECTA\",LOOKUP(CONCATENATE(AE420,\" - \",AC420),Catálogos!T:T,Catálogos!Y:Y))","v":{"$error":"#N/A"}},{"$f":"IF(CD420=FALSE,\"COL. INCORRECTA\",LOOKUP(CONCATENATE(AE420,\" - \",AC420),Catálogos!T:T,Catálogos!X:X))","v":{"$error":"#N/A"}}," -SELECCIONAR-",""," -SELECCIONAR-",null,null," -SELECCIONAR-",null,null,null," -SELECCIONAR-",null,null," -SELECCIONAR-"," -SELECCIONAR-",null,null,null,null,null," -SELECCIONAR-",null,null,null,null,null,null," -SELECCIONAR-",null,null,null,null,null,null," -SELECCIONAR-",null,null,null,null,null,null," -SELECCIONAR-",null,null,{"$f":"LOOKUP(AB420,Catálogos!AP:AP,Catálogos!AO:AO)","v":"ERR"},{"$f":"CONCATENATE(LOOKUP(AC420,Catálogos!O:O,Catálogos!P:P),\".\",LOOKUP(AC420,Catálogos!O:O,Catálogos!Q:Q))","v":{"$error":"#N/A"}},{"$f":"IF(AC420=LOOKUP(CONCATENATE(AE420,\" - \",AC420),Catálogos!T:T,Catálogos!V:V),LOOKUP(CONCATENATE(AE420,\" - \",AC420),Catálogos!T:T,Catálogos!W:W),FALSE)","v":{"$error":"#N/A"}},{"$f":"LOOKUP(BD420,Catálogos!AM:AM,Catálogos!AL:AL)","v":"ERR"},{"$f":"LOOKUP(BK420,Catálogos!AM:AM,Catálogos!AL:AL)","v":"ERR"},{"$f":"LOOKUP(BR420,Catálogos!AM:AM,Catálogos!AL:AL)","v":"ERR"},{"$f":"LOOKUP(BY420,Catálogos!AM:AM,Catálogos!AL:AL)","v":"ERR"},0]
[null,null,null,null,null,null,null," -SELECCIONAR-"," -SELECCIONAR-"," -SELECCIONAR-",null," -SELECCIONAR-"," -SELECCIONAR-"," -SELECCIONAR-"," -SELECCIONAR-",null,null," -SELECCIONAR-",null,null,null," -SELECCIONAR-",null,null," -SELECCIONAR-",null," -SELECCIONAR-"," -SELECCIONAR-",null,{"$f":"IF(AC421=FALSE, LOOKUP(AC421,Catálogos!O:O),LOOKUP(AC421,Catálogos!O:O,Catálogos!R:R))","v":{"$error":"#N/A"}},"",null,null,null,{"$f":"IF(CD421=FALSE,\"COL. INCORRECTA\",LOOKUP(CONCATENATE(AE421,\" - \",AC421),Catálogos!T:T,Catálogos!Y:Y))","v":{"$error":"#N/A"}},{"$f":"IF(CD421=FALSE,\"COL. INCORRECTA\",LOOKUP(CONCATENATE(AE421,\" - \",AC421),Catálogos!T:T,Catálogos!X:X))","v":{"$error":"#N/A"}}," -SELECCIONAR-",""," -SELECCIONAR-",null,null," -SELECCIONAR-",null,null,null," -SELECCIONAR-",null,null," -SELECCIONAR-"," -SELECCIONAR-",null,null,null,null,null," -SELECCIONAR-",null,null,null,null,null,null," -SELECCIONAR-",null,null,null,null,null,null," -SELECCIONAR-",null,null,null,null,null,null," -SELECCIONAR-",null,null,{"$f":"LOOKUP(AB421,Catálogos!AP:AP,Catálogos!AO:AO)","v":"ERR"},{"$f":"CONCATENATE(LOOKUP(AC421,Catálogos!O:O,Catálogos!P:P),\".\",LOOKUP(AC421,Catálogos!O:O,Catálogos!Q:Q))","v":{"$error":"#N/A"}},{"$f":"IF(AC421=LOOKUP(CONCATENATE(AE421,\" - \",AC421),Catálogos!T:T,Catálogos!V:V),LOOKUP(CONCATENATE(AE421,\" - \",AC421),Catálogos!T:T,Catálogos!W:W),FALSE)","v":{"$error":"#N/A"}},{"$f":"LOOKUP(BD421,Catálogos!AM:AM,Catálogos!AL:AL)","v":"ERR"},{"$f":"LOOKUP(BK421,Catálogos!AM:AM,Catálogos!AL:AL)","v":"ERR"},{"$f":"LOOKUP(BR421,Catálogos!AM:AM,Catálogos!AL:AL)","v":"ERR"},{"$f":"LOOKUP(BY421,Catálogos!AM:AM,Catálogos!AL:AL)","v":"ERR"},0]
[null,null,null,null,null,null,null," -SELECCIONAR-"," -SELECCIONAR-"," -SELECCIONAR-",null," -SELECCIONAR-"," -SELECCIONAR-"," -SELECCIONAR-"," -SELECCIONAR-",null,null," -SELECCIONAR-",null,null,null," -SELECCIONAR-",null,null," -SELECCIONAR-",null," -SELECCIONAR-"," -SELECCIONAR-",null,{"$f":"IF(AC422=FALSE, LOOKUP(AC422,Catálogos!O:O),LOOKUP(AC422,Catálogos!O:O,Catálogos!R:R))","v":{"$error":"#N/A"}},"",null,null,null,{"$f":"IF(CD422=FALSE,\"COL. INCORRECTA\",LOOKUP(CONCATENATE(AE422,\" - \",AC422),Catálogos!T:T,Catálogos!Y:Y))","v":{"$error":"#N/A"}},{"$f":"IF(CD422=FALSE,\"COL. INCORRECTA\",LOOKUP(CONCATENATE(AE422,\" - \",AC422),Catálogos!T:T,Catálogos!X:X))","v":{"$error":"#N/A"}}," -SELECCIONAR-",""," -SELECCIONAR-",null,null," -SELECCIONAR-",null,null,null," -SELECCIONAR-",null,null," -SELECCIONAR-"," -SELECCIONAR-",null,null,null,null,null," -SELECCIONAR-",null,null,null,null,null,null," -SELECCIONAR-",null,null,null,null,null,null," -SELECCIONAR-",null,null,null,null,null,null," -SELECCIONAR-",null,null,{"$f":"LOOKUP(AB422,Catálogos!AP:AP,Catálogos!AO:AO)","v":"ERR"},{"$f":"CONCATENATE(LOOKUP(AC422,Catálogos!O:O,Catálogos!P:P),\".\",LOOKUP(AC422,Catálogos!O:O,Catálogos!Q:Q))","v":{"$error":"#N/A"}},{"$f":"IF(AC422=LOOKUP(CONCATENATE(AE422,\" - \",AC422),Catálogos!T:T,Catálogos!V:V),LOOKUP(CONCATENATE(AE422,\" - \",AC422),Catálogos!T:T,Catálogos!W:W),FALSE)","v":{"$error":"#N/A"}},{"$f":"LOOKUP(BD422,Catálogos!AM:AM,Catálogos!AL:AL)","v":"ERR"},{"$f":"LOOKUP(BK422,Catálogos!AM:AM,Catálogos!AL:AL)","v":"ERR"},{"$f":"LOOKUP(BR422,Catálogos!AM:AM,Catálogos!AL:AL)","v":"ERR"},{"$f":"LOOKUP(BY422,Catálogos!AM:AM,Catálogos!AL:AL)","v":"ERR"},0]
[null,null,null,null,null,null,null," -SELECCIONAR-"," -SELECCIONAR-"," -SELECCIONAR-",null," -SELECCIONAR-"," -SELECCIONAR-"," -SELECCIONAR-"," -SELECCIONAR-",null,null," -SELECCIONAR-",null,null,null," -SELECCIONAR-",null,null," -SELECCIONAR-",null," -SELECCIONAR-"," -SELECCIONAR-",null,{"$f":"IF(AC423=FALSE, LOOKUP(AC423,Catálogos!O:O),LOOKUP(AC423,Catálogos!O:O,Catálogos!R:R))","v":{"$error":"#N/A"}},"",null,null,null,{"$f":"IF(CD423=FALSE,\"COL. INCORRECTA\",LOOKUP(CONCATENATE(AE423,\" - \",AC423),Catálogos!T:T,Catálogos!Y:Y))","v":{"$error":"#N/A"}},{"$f":"IF(CD423=FALSE,\"COL. INCORRECTA\",LOOKUP(CONCATENATE(AE423,\" - \",AC423),Catálogos!T:T,Catálogos!X:X))","v":{"$error":"#N/A"}}," -SELECCIONAR-",""," -SELECCIONAR-",null,null," -SELECCIONAR-",null,null,null," -SELECCIONAR-",null,null," -SELECCIONAR-"," -SELECCIONAR-",null,null,null,null,null," -SELECCIONAR-",null,null,null,null,null,null," -SELECCIONAR-",null,null,null,null,null,null," -SELECCIONAR-",null,null,null,null,null,null," -SELECCIONAR-",null,null,{"$f":"LOOKUP(AB423,Catálogos!AP:AP,Catálogos!AO:AO)","v":"ERR"},{"$f":"CONCATENATE(LOOKUP(AC423,Catálogos!O:O,Catálogos!P:P),\".\",LOOKUP(AC423,Catálogos!O:O,Catálogos!Q:Q))","v":{"$error":"#N/A"}},{"$f":"IF(AC423=LOOKUP(CONCATENATE(AE423,\" - \",AC423),Catálogos!T:T,Catálogos!V:V),LOOKUP(CONCATENATE(AE423,\" - \",AC423),Catálogos!T:T,Catálogos!W:W),FALSE)","v":{"$error":"#N/A"}},{"$f":"LOOKUP(BD423,Catálogos!AM:AM,Catálogos!AL:AL)","v":"ERR"},{"$f":"LOOKUP(BK423,Catálogos!AM:AM,Catálogos!AL:AL)","v":"ERR"},{"$f":"LOOKUP(BR423,Catálogos!AM:AM,Catálogos!AL:AL)","v":"ERR"},{"$f":"LOOKUP(BY423,Catálogos!AM:AM,Catálogos!AL:AL)","v":"ERR"},0]
[null,null,null,null,null,null,null," -SELECCIONAR-"," -SELECCIONAR-"," -SELECCIONAR-",null," -SELECCIONAR-"," -SELECCIONAR-"," -SELECCIONAR-"," -SELECCIONAR-",null,null," -SELECCIONAR-",null,null,null," -SELECCIONAR-",null,null," -SELECCIONAR-",null," -SELECCIONAR-"," -SELECCIONAR-",null,{"$f":"IF(AC424=FALSE, LOOKUP(AC424,Catálogos!O:O),LOOKUP(AC424,Catálogos!O:O,Catálogos!R:R))","v":{"$error":"#N/A"}},"",null,null,null,{"$f":"IF(CD424=FALSE,\"COL. INCORRECTA\",LOOKUP(CONCATENATE(AE424,\" - \",AC424),Catálogos!T:T,Catálogos!Y:Y))","v":{"$error":"#N/A"}},{"$f":"IF(CD424=FALSE,\"COL. INCORRECTA\",LOOKUP(CONCATENATE(AE424,\" - \",AC424),Catálogos!T:T,Catálogos!X:X))","v":{"$error":"#N/A"}}," -SELECCIONAR-",""," -SELECCIONAR-",null,null," -SELECCIONAR-",null,null,null," -SELECCIONAR-",null,null," -SELECCIONAR-"," -SELECCIONAR-",null,null,null,null,null," -SELECCIONAR-",null,null,null,null,null,null," -SELECCIONAR-",null,null,null,null,null,null," -SELECCIONAR-",null,null,null,null,null,null," -SELECCIONAR-",null,null,{"$f":"LOOKUP(AB424,Catálogos!AP:AP,Catálogos!AO:AO)","v":"ERR"},{"$f":"CONCATENATE(LOOKUP(AC424,Catálogos!O:O,Catálogos!P:P),\".\",LOOKUP(AC424,Catálogos!O:O,Catálogos!Q:Q))","v":{"$error":"#N/A"}},{"$f":"IF(AC424=LOOKUP(CONCATENATE(AE424,\" - \",AC424),Catálogos!T:T,Catálogos!V:V),LOOKUP(CONCATENATE(AE424,\" - \",AC424),Catálogos!T:T,Catálogos!W:W),FALSE)","v":{"$error":"#N/A"}},{"$f":"LOOKUP(BD424,Catálogos!AM:AM,Catálogos!AL:AL)","v":"ERR"},{"$f":"LOOKUP(BK424,Catálogos!AM:AM,Catálogos!AL:AL)","v":"ERR"},{"$f":"LOOKUP(BR424,Catálogos!AM:AM,Catálogos!AL:AL)","v":"ERR"},{"$f":"LOOKUP(BY424,Catálogos!AM:AM,Catálogos!AL:AL)","v":"ERR"},0]
[null,null,null,null,null,null,null," -SELECCIONAR-"," -SELECCIONAR-"," -SELECCIONAR-",null," -SELECCIONAR-"," -SELECCIONAR-"," -SELECCIONAR-"," -SELECCIONAR-",null,null," -SELECCIONAR-",null,null,null," -SELECCIONAR-",null,null," -SELECCIONAR-",null," -SELECCIONAR-"," -SELECCIONAR-",null,{"$f":"IF(AC425=FALSE, LOOKUP(AC425,Catálogos!O:O),LOOKUP(AC425,Catálogos!O:O,Catálogos!R:R))","v":{"$error":"#N/A"}},"",null,null,null,{"$f":"IF(CD425=FALSE,\"COL. INCORRECTA\",LOOKUP(CONCATENATE(AE425,\" - \",AC425),Catálogos!T:T,Catálogos!Y:Y))","v":{"$error":"#N/A"}},{"$f":"IF(CD425=FALSE,\"COL. INCORRECTA\",LOOKUP(CONCATENATE(AE425,\" - \",AC425),Catálogos!T:T,Catálogos!X:X))","v":{"$error":"#N/A"}}," -SELECCIONAR-",""," -SELECCIONAR-",null,null," -SELECCIONAR-",null,null,null," -SELECCIONAR-",null,null," -SELECCIONAR-"," -SELECCIONAR-",null,null,null,null,null," -SELECCIONAR-",null,null,null,null,null,null," -SELECCIONAR-",null,null,null,null,null,null," -SELECCIONAR-",null,null,null,null,null,null," -SELECCIONAR-",null,null,{"$f":"LOOKUP(AB425,Catálogos!AP:AP,Catálogos!AO:AO)","v":"ERR"},{"$f":"CONCATENATE(LOOKUP(AC425,Catálogos!O:O,Catálogos!P:P),\".\",LOOKUP(AC425,Catálogos!O:O,Catálogos!Q:Q))","v":{"$error":"#N/A"}},{"$f":"IF(AC425=LOOKUP(CONCATENATE(AE425,\" - \",AC425),Catálogos!T:T,Catálogos!V:V),LOOKUP(CONCATENATE(AE425,\" - \",AC425),Catálogos!T:T,Catálogos!W:W),FALSE)","v":{"$error":"#N/A"}},{"$f":"LOOKUP(BD425,Catálogos!AM:AM,Catálogos!AL:AL)","v":"ERR"},{"$f":"LOOKUP(BK425,Catálogos!AM:AM,Catálogos!AL:AL)","v":"ERR"},{"$f":"LOOKUP(BR425,Catálogos!AM:AM,Catálogos!AL:AL)","v":"ERR"},{"$f":"LOOKUP(BY425,Catálogos!AM:AM,Catálogos!AL:AL)","v":"ERR"},0]
[null,null,null,null,null,null,null," -SELECCIONAR-"," -SELECCIONAR-"," -SELECCIONAR-",null," -SELECCIONAR-"," -SELECCIONAR-"," -SELECCIONAR-"," -SELECCIONAR-",null,null," -SELECCIONAR-",null,null,null," -SELECCIONAR-",null,null," -SELECCIONAR-",null," -SELECCIONAR-"," -SELECCIONAR-",null,{"$f":"IF(AC426=FALSE, LOOKUP(AC426,Catálogos!O:O),LOOKUP(AC426,Catálogos!O:O,Catálogos!R:R))","v":{"$error":"#N/A"}},"",null,null,null,{"$f":"IF(CD426=FALSE,\"COL. INCORRECTA\",LOOKUP(CONCATENATE(AE426,\" - \",AC426),Catálogos!T:T,Catálogos!Y:Y))","v":{"$error":"#N/A"}},{"$f":"IF(CD426=FALSE,\"COL. INCORRECTA\",LOOKUP(CONCATENATE(AE426,\" - \",AC426),Catálogos!T:T,Catálogos!X:X))","v":{"$error":"#N/A"}}," -SELECCIONAR-",""," -SELECCIONAR-",null,null," -SELECCIONAR-",null,null,null," -SELECCIONAR-",null,null," -SELECCIONAR-"," -SELECCIONAR-",null,null,null,null,null," -SELECCIONAR-",null,null,null,null,null,null," -SELECCIONAR-",null,null,null,null,null,null," -SELECCIONAR-",null,null,null,null,null,null," -SELECCIONAR-",null,null,{"$f":"LOOKUP(AB426,Catálogos!AP:AP,Catálogos!AO:AO)","v":"ERR"},{"$f":"CONCATENATE(LOOKUP(AC426,Catálogos!O:O,Catálogos!P:P),\".\",LOOKUP(AC426,Catálogos!O:O,Catálogos!Q:Q))","v":{"$error":"#N/A"}},{"$f":"IF(AC426=LOOKUP(CONCATENATE(AE426,\" - \",AC426),Catálogos!T:T,Catálogos!V:V),LOOKUP(CONCATENATE(AE426,\" - \",AC426),Catálogos!T:T,Catálogos!W:W),FALSE)","v":{"$error":"#N/A"}},{"$f":"LOOKUP(BD426,Catálogos!AM:AM,Catálogos!AL:AL)","v":"ERR"},{"$f":"LOOKUP(BK426,Catálogos!AM:AM,Catálogos!AL:AL)","v":"ERR"},{"$f":"LOOKUP(BR426,Catálogos!AM:AM,Catálogos!AL:AL)","v":"ERR"},{"$f":"LOOKUP(BY426,Catálogos!AM:AM,Catálogos!AL:AL)","v":"ERR"},0]
[null,null,null,null,null,null,null," -SELECCIONAR-"," -SELECCIONAR-"," -SELECCIONAR-",null," -SELECCIONAR-"," -SELECCIONAR-"," -SELECCIONAR-"," -SELECCIONAR-",null,null," -SELECCIONAR-",null,null,null," -SELECCIONAR-",null,null," -SELECCIONAR-",null," -SELECCIONAR-"," -SELECCIONAR-",null,{"$f":"IF(AC427=FALSE, LOOKUP(AC427,Catálogos!O:O),LOOKUP(AC427,Catálogos!O:O,Catálogos!R:R))","v":{"$error":"#N/A"}},"",null,null,null,{"$f":"IF(CD427=FALSE,\"COL. INCORRECTA\",LOOKUP(CONCATENATE(AE427,\" - \",AC427),Catálogos!T:T,Catálogos!Y:Y))","v":{"$error":"#N/A"}},{"$f":"IF(CD427=FALSE,\"COL. INCORRECTA\",LOOKUP(CONCATENATE(AE427,\" - \",AC427),Catálogos!T:T,Catálogos!X:X))","v":{"$error":"#N/A"}}," -SELECCIONAR-",""," -SELECCIONAR-",null,null," -SELECCIONAR-",null,null,null," -SELECCIONAR-",null,null," -SELECCIONAR-"," -SELECCIONAR-",null,null,null,null,null," -SELECCIONAR-",null,null,null,null,null,null," -SELECCIONAR-",null,null,null,null,null,null," -SELECCIONAR-",null,null,null,null,null,null," -SELECCIONAR-",null,null,{"$f":"LOOKUP(AB427,Catálogos!AP:AP,Catálogos!AO:AO)","v":"ERR"},{"$f":"CONCATENATE(LOOKUP(AC427,Catálogos!O:O,Catálogos!P:P),\".\",LOOKUP(AC427,Catálogos!O:O,Catálogos!Q:Q))","v":{"$error":"#N/A"}},{"$f":"IF(AC427=LOOKUP(CONCATENATE(AE427,\" - \",AC427),Catálogos!T:T,Catálogos!V:V),LOOKUP(CONCATENATE(AE427,\" - \",AC427),Catálogos!T:T,Catálogos!W:W),FALSE)","v":{"$error":"#N/A"}},{"$f":"LOOKUP(BD427,Catálogos!AM:AM,Catálogos!AL:AL)","v":"ERR"},{"$f":"LOOKUP(BK427,Catálogos!AM:AM,Catálogos!AL:AL)","v":"ERR"},{"$f":"LOOKUP(BR427,Catálogos!AM:AM,Catálogos!AL:AL)","v":"ERR"},{"$f":"LOOKUP(BY427,Catálogos!AM:AM,Catálogos!AL:AL)","v":"ERR"},0]
[null,null,null,null,null,null,null," -SELECCIONAR-"," -SELECCIONAR-"," -SELECCIONAR-",null," -SELECCIONAR-"," -SELECCIONAR-"," -SELECCIONAR-"," -SELECCIONAR-",null,null," -SELECCIONAR-",null,null,null," -SELECCIONAR-",null,null," -SELECCIONAR-",null," -SELECCIONAR-"," -SELECCIONAR-",null,{"$f":"IF(AC428=FALSE, LOOKUP(AC428,Catálogos!O:O),LOOKUP(AC428,Catálogos!O:O,Catálogos!R:R))","v":{"$error":"#N/A"}},"",null,null,null,{"$f":"IF(CD428=FALSE,\"COL. INCORRECTA\",LOOKUP(CONCATENATE(AE428,\" - \",AC428),Catálogos!T:T,Catálogos!Y:Y))","v":{"$error":"#N/A"}},{"$f":"IF(CD428=FALSE,\"COL. INCORRECTA\",LOOKUP(CONCATENATE(AE428,\" - \",AC428),Catálogos!T:T,Catálogos!X:X))","v":{"$error":"#N/A"}}," -SELECCIONAR-",""," -SELECCIONAR-",null,null," -SELECCIONAR-",null,null,null," -SELECCIONAR-",null,null," -SELECCIONAR-"," -SELECCIONAR-",null,null,null,null,null," -SELECCIONAR-",null,null,null,null,null,null," -SELECCIONAR-",null,null,null,null,null,null," -SELECCIONAR-",null,null,null,null,null,null," -SELECCIONAR-",null,null,{"$f":"LOOKUP(AB428,Catálogos!AP:AP,Catálogos!AO:AO)","v":"ERR"},{"$f":"CONCATENATE(LOOKUP(AC428,Catálogos!O:O,Catálogos!P:P),\".\",LOOKUP(AC428,Catálogos!O:O,Catálogos!Q:Q))","v":{"$error":"#N/A"}},{"$f":"IF(AC428=LOOKUP(CONCATENATE(AE428,\" - \",AC428),Catálogos!T:T,Catálogos!V:V),LOOKUP(CONCATENATE(AE428,\" - \",AC428),Catálogos!T:T,Catálogos!W:W),FALSE)","v":{"$error":"#N/A"}},{"$f":"LOOKUP(BD428,Catálogos!AM:AM,Catálogos!AL:AL)","v":"ERR"},{"$f":"LOOKUP(BK428,Catálogos!AM:AM,Catálogos!AL:AL)","v":"ERR"},{"$f":"LOOKUP(BR428,Catálogos!AM:AM,Catálogos!AL:AL)","v":"ERR"},{"$f":"LOOKUP(BY428,Catálogos!AM:AM,Catálogos!AL:AL)","v":"ERR"},0]
[null,null,null,null,null,null,null," -SELECCIONAR-"," -SELECCIONAR-"," -SELECCIONAR-",null," -SELECCIONAR-"," -SELECCIONAR-"," -SELECCIONAR-"," -SELECCIONAR-",null,null," -SELECCIONAR-",null,null,null," -SELECCIONAR-",null,null," -SELECCIONAR-",null," -SELECCIONAR-"," -SELECCIONAR-",null,{"$f":"IF(AC429=FALSE, LOOKUP(AC429,Catálogos!O:O),LOOKUP(AC429,Catálogos!O:O,Catálogos!R:R))","v":{"$error":"#N/A"}},"",null,null,null,{"$f":"IF(CD429=FALSE,\"COL. INCORRECTA\",LOOKUP(CONCATENATE(AE429,\" - \",AC429),Catálogos!T:T,Catálogos!Y:Y))","v":{"$error":"#N/A"}},{"$f":"IF(CD429=FALSE,\"COL. INCORRECTA\",LOOKUP(CONCATENATE(AE429,\" - \",AC429),Catálogos!T:T,Catálogos!X:X))","v":{"$error":"#N/A"}}," -SELECCIONAR-",""," -SELECCIONAR-",null,null," -SELECCIONAR-",null,null,null," -SELECCIONAR-",null,null," -SELECCIONAR-"," -SELECCIONAR-",null,null,null,null,null," -SELECCIONAR-",null,null,null,null,null,null," -SELECCIONAR-",null,null,null,null,null,null," -SELECCIONAR-",null,null,null,null,null,null," -SELECCIONAR-",null,null,{"$f":"LOOKUP(AB429,Catálogos!AP:AP,Catálogos!AO:AO)","v":"ERR"},{"$f":"CONCATENATE(LOOKUP(AC429,Catálogos!O:O,Catálogos!P:P),\".\",LOOKUP(AC429,Catálogos!O:O,Catálogos!Q:Q))","v":{"$error":"#N/A"}},{"$f":"IF(AC429=LOOKUP(CONCATENATE(AE429,\" - \",AC429),Catálogos!T:T,Catálogos!V:V),LOOKUP(CONCATENATE(AE429,\" - \",AC429),Catálogos!T:T,Catálogos!W:W),FALSE)","v":{"$error":"#N/A"}},{"$f":"LOOKUP(BD429,Catálogos!AM:AM,Catálogos!AL:AL)","v":"ERR"},{"$f":"LOOKUP(BK429,Catálogos!AM:AM,Catálogos!AL:AL)","v":"ERR"},{"$f":"LOOKUP(BR429,Catálogos!AM:AM,Catálogos!AL:AL)","v":"ERR"},{"$f":"LOOKUP(BY429,Catálogos!AM:AM,Catálogos!AL:AL)","v":"ERR"},0]
[null,null,null,null,null,null,null," -SELECCIONAR-"," -SELECCIONAR-"," -SELECCIONAR-",null," -SELECCIONAR-"," -SELECCIONAR-"," -SELECCIONAR-"," -SELECCIONAR-",null,null," -SELECCIONAR-",null,null,null," -SELECCIONAR-",null,null," -SELECCIONAR-",null," -SELECCIONAR-"," -SELECCIONAR-",null,{"$f":"IF(AC430=FALSE, LOOKUP(AC430,Catálogos!O:O),LOOKUP(AC430,Catálogos!O:O,Catálogos!R:R))","v":{"$error":"#N/A"}},"",null,null,null,{"$f":"IF(CD430=FALSE,\"COL. INCORRECTA\",LOOKUP(CONCATENATE(AE430,\" - \",AC430),Catálogos!T:T,Catálogos!Y:Y))","v":{"$error":"#N/A"}},{"$f":"IF(CD430=FALSE,\"COL. INCORRECTA\",LOOKUP(CONCATENATE(AE430,\" - \",AC430),Catálogos!T:T,Catálogos!X:X))","v":{"$error":"#N/A"}}," -SELECCIONAR-",""," -SELECCIONAR-",null,null," -SELECCIONAR-",null,null,null," -SELECCIONAR-",null,null," -SELECCIONAR-"," -SELECCIONAR-",null,null,null,null,null," -SELECCIONAR-",null,null,null,null,null,null," -SELECCIONAR-",null,null,null,null,null,null," -SELECCIONAR-",null,null,null,null,null,null," -SELECCIONAR-",null,null,{"$f":"LOOKUP(AB430,Catálogos!AP:AP,Catálogos!AO:AO)","v":"ERR"},{"$f":"CONCATENATE(LOOKUP(AC430,Catálogos!O:O,Catálogos!P:P),\".\",LOOKUP(AC430,Catálogos!O:O,Catálogos!Q:Q))","v":{"$error":"#N/A"}},{"$f":"IF(AC430=LOOKUP(CONCATENATE(AE430,\" - \",AC430),Catálogos!T:T,Catálogos!V:V),LOOKUP(CONCATENATE(AE430,\" - \",AC430),Catálogos!T:T,Catálogos!W:W),FALSE)","v":{"$error":"#N/A"}},{"$f":"LOOKUP(BD430,Catálogos!AM:AM,Catálogos!AL:AL)","v":"ERR"},{"$f":"LOOKUP(BK430,Catálogos!AM:AM,Catálogos!AL:AL)","v":"ERR"},{"$f":"LOOKUP(BR430,Catálogos!AM:AM,Catálogos!AL:AL)","v":"ERR"},{"$f":"LOOKUP(BY430,Catálogos!AM:AM,Catálogos!AL:AL)","v":"ERR"},0]
[null,null,null,null,null,null,null," -SELECCIONAR-"," -SELECCIONAR-"," -SELECCIONAR-",null," -SELECCIONAR-"," -SELECCIONAR-"," -SELECCIONAR-"," -SELECCIONAR-",null,null," -SELECCIONAR-",null,null,null," -SELECCIONAR-",null,null," -SELECCIONAR-",null," -SELECCIONAR-"," -SELECCIONAR-",null,{"$f":"IF(AC431=FALSE, LOOKUP(AC431,Catálogos!O:O),LOOKUP(AC431,Catálogos!O:O,Catálogos!R:R))","v":{"$error":"#N/A"}},"",null,null,null,{"$f":"IF(CD431=FALSE,\"COL. INCORRECTA\",LOOKUP(CONCATENATE(AE431,\" - \",AC431),Catálogos!T:T,Catálogos!Y:Y))","v":{"$error":"#N/A"}},{"$f":"IF(CD431=FALSE,\"COL. INCORRECTA\",LOOKUP(CONCATENATE(AE431,\" - \",AC431),Catálogos!T:T,Catálogos!X:X))","v":{"$error":"#N/A"}}," -SELECCIONAR-",""," -SELECCIONAR-",null,null," -SELECCIONAR-",null,null,null," -SELECCIONAR-",null,null," -SELECCIONAR-"," -SELECCIONAR-",null,null,null,null,null," -SELECCIONAR-",null,null,null,null,null,null," -SELECCIONAR-",null,null,null,null,null,null," -SELECCIONAR-",null,null,null,null,null,null," -SELECCIONAR-",null,null,{"$f":"LOOKUP(AB431,Catálogos!AP:AP,Catálogos!AO:AO)","v":"ERR"},{"$f":"CONCATENATE(LOOKUP(AC431,Catálogos!O:O,Catálogos!P:P),\".\",LOOKUP(AC431,Catálogos!O:O,Catálogos!Q:Q))","v":{"$error":"#N/A"}},{"$f":"IF(AC431=LOOKUP(CONCATENATE(AE431,\" - \",AC431),Catálogos!T:T,Catálogos!V:V),LOOKUP(CONCATENATE(AE431,\" - \",AC431),Catálogos!T:T,Catálogos!W:W),FALSE)","v":{"$error":"#N/A"}},{"$f":"LOOKUP(BD431,Catálogos!AM:AM,Catálogos!AL:AL)","v":"ERR"},{"$f":"LOOKUP(BK431,Catálogos!AM:AM,Catálogos!AL:AL)","v":"ERR"},{"$f":"LOOKUP(BR431,Catálogos!AM:AM,Catálogos!AL:AL)","v":"ERR"},{"$f":"LOOKUP(BY431,Catálogos!AM:AM,Catálogos!AL:AL)","v":"ERR"},0]
[null,null,null,null,null,null,null," -SELECCIONAR-"," -SELECCIONAR-"," -SELECCIONAR-",null," -SELECCIONAR-"," -SELECCIONAR-"," -SELECCIONAR-"," -SELECCIONAR-",null,null," -SELECCIONAR-",null,null,null," -SELECCIONAR-",null,null," -SELECCIONAR-",null," -SELECCIONAR-"," -SELECCIONAR-",null,{"$f":"IF(AC432=FALSE, LOOKUP(AC432,Catálogos!O:O),LOOKUP(AC432,Catálogos!O:O,Catálogos!R:R))","v":{"$error":"#N/A"}},"",null,null,null,{"$f":"IF(CD432=FALSE,\"COL. INCORRECTA\",LOOKUP(CONCATENATE(AE432,\" - \",AC432),Catálogos!T:T,Catálogos!Y:Y))","v":{"$error":"#N/A"}},{"$f":"IF(CD432=FALSE,\"COL. INCORRECTA\",LOOKUP(CONCATENATE(AE432,\" - \",AC432),Catálogos!T:T,Catálogos!X:X))","v":{"$error":"#N/A"}}," -SELECCIONAR-",""," -SELECCIONAR-",null,null," -SELECCIONAR-",null,null,null," -SELECCIONAR-",null,null," -SELECCIONAR-"," -SELECCIONAR-",null,null,null,null,null," -SELECCIONAR-",null,null,null,null,null,null," -SELECCIONAR-",null,null,null,null,null,null," -SELECCIONAR-",null,null,null,null,null,null," -SELECCIONAR-",null,null,{"$f":"LOOKUP(AB432,Catálogos!AP:AP,Catálogos!AO:AO)","v":"ERR"},{"$f":"CONCATENATE(LOOKUP(AC432,Catálogos!O:O,Catálogos!P:P),\".\",LOOKUP(AC432,Catálogos!O:O,Catálogos!Q:Q))","v":{"$error":"#N/A"}},{"$f":"IF(AC432=LOOKUP(CONCATENATE(AE432,\" - \",AC432),Catálogos!T:T,Catálogos!V:V),LOOKUP(CONCATENATE(AE432,\" - \",AC432),Catálogos!T:T,Catálogos!W:W),FALSE)","v":{"$error":"#N/A"}},{"$f":"LOOKUP(BD432,Catálogos!AM:AM,Catálogos!AL:AL)","v":"ERR"},{"$f":"LOOKUP(BK432,Catálogos!AM:AM,Catálogos!AL:AL)","v":"ERR"},{"$f":"LOOKUP(BR432,Catálogos!AM:AM,Catálogos!AL:AL)","v":"ERR"},{"$f":"LOOKUP(BY432,Catálogos!AM:AM,Catálogos!AL:AL)","v":"ERR"},0]
[null,null,null,null,null,null,null," -SELECCIONAR-"," -SELECCIONAR-"," -SELECCIONAR-",null," -SELECCIONAR-"," -SELECCIONAR-"," -SELECCIONAR-"," -SELECCIONAR-",null,null," -SELECCIONAR-",null,null,null," -SELECCIONAR-",null,null," -SELECCIONAR-",null," -SELECCIONAR-"," -SELECCIONAR-",null,{"$f":"IF(AC433=FALSE, LOOKUP(AC433,Catálogos!O:O),LOOKUP(AC433,Catálogos!O:O,Catálogos!R:R))","v":{"$error":"#N/A"}},"",null,null,null,{"$f":"IF(CD433=FALSE,\"COL. INCORRECTA\",LOOKUP(CONCATENATE(AE433,\" - \",AC433),Catálogos!T:T,Catálogos!Y:Y))","v":{"$error":"#N/A"}},{"$f":"IF(CD433=FALSE,\"COL. INCORRECTA\",LOOKUP(CONCATENATE(AE433,\" - \",AC433),Catálogos!T:T,Catálogos!X:X))","v":{"$error":"#N/A"}}," -SELECCIONAR-",""," -SELECCIONAR-",null,null," -SELECCIONAR-",null,null,null," -SELECCIONAR-",null,null," -SELECCIONAR-"," -SELECCIONAR-",null,null,null,null,null," -SELECCIONAR-",null,null,null,null,null,null," -SELECCIONAR-",null,null,null,null,null,null," -SELECCIONAR-",null,null,null,null,null,null," -SELECCIONAR-",null,null,{"$f":"LOOKUP(AB433,Catálogos!AP:AP,Catálogos!AO:AO)","v":"ERR"},{"$f":"CONCATENATE(LOOKUP(AC433,Catálogos!O:O,Catálogos!P:P),\".\",LOOKUP(AC433,Catálogos!O:O,Catálogos!Q:Q))","v":{"$error":"#N/A"}},{"$f":"IF(AC433=LOOKUP(CONCATENATE(AE433,\" - \",AC433),Catálogos!T:T,Catálogos!V:V),LOOKUP(CONCATENATE(AE433,\" - \",AC433),Catálogos!T:T,Catálogos!W:W),FALSE)","v":{"$error":"#N/A"}},{"$f":"LOOKUP(BD433,Catálogos!AM:AM,Catálogos!AL:AL)","v":"ERR"},{"$f":"LOOKUP(BK433,Catálogos!AM:AM,Catálogos!AL:AL)","v":"ERR"},{"$f":"LOOKUP(BR433,Catálogos!AM:AM,Catálogos!AL:AL)","v":"ERR"},{"$f":"LOOKUP(BY433,Catálogos!AM:AM,Catálogos!AL:AL)","v":"ERR"},0]
[null,null,null,null,null,null,null," -SELECCIONAR-"," -SELECCIONAR-"," -SELECCIONAR-",null," -SELECCIONAR-"," -SELECCIONAR-"," -SELECCIONAR-"," -SELECCIONAR-",null,null," -SELECCIONAR-",null,null,null," -SELECCIONAR-",null,null," -SELECCIONAR-",null," -SELECCIONAR-"," -SELECCIONAR-",null,{"$f":"IF(AC434=FALSE, LOOKUP(AC434,Catálogos!O:O),LOOKUP(AC434,Catálogos!O:O,Catálogos!R:R))","v":{"$error":"#N/A"}},"",null,null,null,{"$f":"IF(CD434=FALSE,\"COL. INCORRECTA\",LOOKUP(CONCATENATE(AE434,\" - \",AC434),Catálogos!T:T,Catálogos!Y:Y))","v":{"$error":"#N/A"}},{"$f":"IF(CD434=FALSE,\"COL. INCORRECTA\",LOOKUP(CONCATENATE(AE434,\" - \",AC434),Catálogos!T:T,Catálogos!X:X))","v":{"$error":"#N/A"}}," -SELECCIONAR-",""," -SELECCIONAR-",null,null," -SELECCIONAR-",null,null,null," -SELECCIONAR-",null,null," -SELECCIONAR-"," -SELECCIONAR-",null,null,null,null,null," -SELECCIONAR-",null,null,null,null,null,null," -SELECCIONAR-",null,null,null,null,null,null," -SELECCIONAR-",null,null,null,null,null,null," -SELECCIONAR-",null,null,{"$f":"LOOKUP(AB434,Catálogos!AP:AP,Catálogos!AO:AO)","v":"ERR"},{"$f":"CONCATENATE(LOOKUP(AC434,Catálogos!O:O,Catálogos!P:P),\".\",LOOKUP(AC434,Catálogos!O:O,Catálogos!Q:Q))","v":{"$error":"#N/A"}},{"$f":"IF(AC434=LOOKUP(CONCATENATE(AE434,\" - \",AC434),Catálogos!T:T,Catálogos!V:V),LOOKUP(CONCATENATE(AE434,\" - \",AC434),Catálogos!T:T,Catálogos!W:W),FALSE)","v":{"$error":"#N/A"}},{"$f":"LOOKUP(BD434,Catálogos!AM:AM,Catálogos!AL:AL)","v":"ERR"},{"$f":"LOOKUP(BK434,Catálogos!AM:AM,Catálogos!AL:AL)","v":"ERR"},{"$f":"LOOKUP(BR434,Catálogos!AM:AM,Catálogos!AL:AL)","v":"ERR"},{"$f":"LOOKUP(BY434,Catálogos!AM:AM,Catálogos!AL:AL)","v":"ERR"},0]
[null,null,null,null,null,null,null," -SELECCIONAR-"," -SELECCIONAR-"," -SELECCIONAR-",null," -SELECCIONAR-"," -SELECCIONAR-"," -SELECCIONAR-"," -SELECCIONAR-",null,null," -SELECCIONAR-",null,null,null," -SELECCIONAR-",null,null," -SELECCIONAR-",null," -SELECCIONAR-"," -SELECCIONAR-",null,{"$f":"IF(AC435=FALSE, LOOKUP(AC435,Catálogos!O:O),LOOKUP(AC435,Catálogos!O:O,Catálogos!R:R))","v":{"$error":"#N/A"}},"",null,null,null,{"$f":"IF(CD435=FALSE,\"COL. INCORRECTA\",LOOKUP(CONCATENATE(AE435,\" - \",AC435),Catálogos!T:T,Catálogos!Y:Y))","v":{"$error":"#N/A"}},{"$f":"IF(CD435=FALSE,\"COL. INCORRECTA\",LOOKUP(CONCATENATE(AE435,\" - \",AC435),Catálogos!T:T,Catálogos!X:X))","v":{"$error":"#N/A"}}," -SELECCIONAR-",""," -SELECCIONAR-",null,null," -SELECCIONAR-",null,null,null," -SELECCIONAR-",null,null," -SELECCIONAR-"," -SELECCIONAR-",null,null,null,null,null," -SELECCIONAR-",null,null,null,null,null,null," -SELECCIONAR-",null,null,null,null,null,null," -SELECCIONAR-",null,null,null,null,null,null," -SELECCIONAR-",null,null,{"$f":"LOOKUP(AB435,Catálogos!AP:AP,Catálogos!AO:AO)","v":"ERR"},{"$f":"CONCATENATE(LOOKUP(AC435,Catálogos!O:O,Catálogos!P:P),\".\",LOOKUP(AC435,Catálogos!O:O,Catálogos!Q:Q))","v":{"$error":"#N/A"}},{"$f":"IF(AC435=LOOKUP(CONCATENATE(AE435,\" - \",AC435),Catálogos!T:T,Catálogos!V:V),LOOKUP(CONCATENATE(AE435,\" - \",AC435),Catálogos!T:T,Catálogos!W:W),FALSE)","v":{"$error":"#N/A"}},{"$f":"LOOKUP(BD435,Catálogos!AM:AM,Catálogos!AL:AL)","v":"ERR"},{"$f":"LOOKUP(BK435,Catálogos!AM:AM,Catálogos!AL:AL)","v":"ERR"},{"$f":"LOOKUP(BR435,Catálogos!AM:AM,Catálogos!AL:AL)","v":"ERR"},{"$f":"LOOKUP(BY435,Catálogos!AM:AM,Catálogos!AL:AL)","v":"ERR"},0]
[null,null,null,null,null,null,null," -SELECCIONAR-"," -SELECCIONAR-"," -SELECCIONAR-",null," -SELECCIONAR-"," -SELECCIONAR-"," -SELECCIONAR-"," -SELECCIONAR-",null,null," -SELECCIONAR-",null,null,null," -SELECCIONAR-",null,null," -SELECCIONAR-",null," -SELECCIONAR-"," -SELECCIONAR-",null,{"$f":"IF(AC436=FALSE, LOOKUP(AC436,Catálogos!O:O),LOOKUP(AC436,Catálogos!O:O,Catálogos!R:R))","v":{"$error":"#N/A"}},"",null,null,null,{"$f":"IF(CD436=FALSE,\"COL. INCORRECTA\",LOOKUP(CONCATENATE(AE436,\" - \",AC436),Catálogos!T:T,Catálogos!Y:Y))","v":{"$error":"#N/A"}},{"$f":"IF(CD436=FALSE,\"COL. INCORRECTA\",LOOKUP(CONCATENATE(AE436,\" - \",AC436),Catálogos!T:T,Catálogos!X:X))","v":{"$error":"#N/A"}}," -SELECCIONAR-",""," -SELECCIONAR-",null,null," -SELECCIONAR-",null,null,null," -SELECCIONAR-",null,null," -SELECCIONAR-"," -SELECCIONAR-",null,null,null,null,null," -SELECCIONAR-",null,null,null,null,null,null," -SELECCIONAR-",null,null,null,null,null,null," -SELECCIONAR-",null,null,null,null,null,null," -SELECCIONAR-",null,null,{"$f":"LOOKUP(AB436,Catálogos!AP:AP,Catálogos!AO:AO)","v":"ERR"},{"$f":"CONCATENATE(LOOKUP(AC436,Catálogos!O:O,Catálogos!P:P),\".\",LOOKUP(AC436,Catálogos!O:O,Catálogos!Q:Q))","v":{"$error":"#N/A"}},{"$f":"IF(AC436=LOOKUP(CONCATENATE(AE436,\" - \",AC436),Catálogos!T:T,Catálogos!V:V),LOOKUP(CONCATENATE(AE436,\" - \",AC436),Catálogos!T:T,Catálogos!W:W),FALSE)","v":{"$error":"#N/A"}},{"$f":"LOOKUP(BD436,Catálogos!AM:AM,Catálogos!AL:AL)","v":"ERR"},{"$f":"LOOKUP(BK436,Catálogos!AM:AM,Catálogos!AL:AL)","v":"ERR"},{"$f":"LOOKUP(BR436,Catálogos!AM:AM,Catálogos!AL:AL)","v":"ERR"},{"$f":"LOOKUP(BY436,Catálogos!AM:AM,Catálogos!AL:AL)","v":"ERR"},0]
[null,null,null,null,null,null,null," -SELECCIONAR-"," -SELECCIONAR-"," -SELECCIONAR-",null," -SELECCIONAR-"," -SELECCIONAR-"," -SELECCIONAR-"," -SELECCIONAR-",null,null," -SELECCIONAR-",null,null,null," -SELECCIONAR-",null,null," -SELECCIONAR-",null," -SELECCIONAR-"," -SELECCIONAR-",null,{"$f":"IF(AC437=FALSE, LOOKUP(AC437,Catálogos!O:O),LOOKUP(AC437,Catálogos!O:O,Catálogos!R:R))","v":{"$error":"#N/A"}},"",null,null,null,{"$f":"IF(CD437=FALSE,\"COL. INCORRECTA\",LOOKUP(CONCATENATE(AE437,\" - \",AC437),Catálogos!T:T,Catálogos!Y:Y))","v":{"$error":"#N/A"}},{"$f":"IF(CD437=FALSE,\"COL. INCORRECTA\",LOOKUP(CONCATENATE(AE437,\" - \",AC437),Catálogos!T:T,Catálogos!X:X))","v":{"$error":"#N/A"}}," -SELECCIONAR-",""," -SELECCIONAR-",null,null," -SELECCIONAR-",null,null,null," -SELECCIONAR-",null,null," -SELECCIONAR-"," -SELECCIONAR-",null,null,null,null,null," -SELECCIONAR-",null,null,null,null,null,null," -SELECCIONAR-",null,null,null,null,null,null," -SELECCIONAR-",null,null,null,null,null,null," -SELECCIONAR-",null,null,{"$f":"LOOKUP(AB437,Catálogos!AP:AP,Catálogos!AO:AO)","v":"ERR"},{"$f":"CONCATENATE(LOOKUP(AC437,Catálogos!O:O,Catálogos!P:P),\".\",LOOKUP(AC437,Catálogos!O:O,Catálogos!Q:Q))","v":{"$error":"#N/A"}},{"$f":"IF(AC437=LOOKUP(CONCATENATE(AE437,\" - \",AC437),Catálogos!T:T,Catálogos!V:V),LOOKUP(CONCATENATE(AE437,\" - \",AC437),Catálogos!T:T,Catálogos!W:W),FALSE)","v":{"$error":"#N/A"}},{"$f":"LOOKUP(BD437,Catálogos!AM:AM,Catálogos!AL:AL)","v":"ERR"},{"$f":"LOOKUP(BK437,Catálogos!AM:AM,Catálogos!AL:AL)","v":"ERR"},{"$f":"LOOKUP(BR437,Catálogos!AM:AM,Catálogos!AL:AL)","v":"ERR"},{"$f":"LOOKUP(BY437,Catálogos!AM:AM,Catálogos!AL:AL)","v":"ERR"},0]
[null,null,null,null,null,null,null," -SELECCIONAR-"," -SELECCIONAR-"," -SELECCIONAR-",null," -SELECCIONAR-"," -SELECCIONAR-"," -SELECCIONAR-"," -SELECCIONAR-",null,null," -SELECCIONAR-",null,null,null," -SELECCIONAR-",null,null," -SELECCIONAR-",null," -SELECCIONAR-"," -SELECCIONAR-",null,{"$f":"IF(AC438=FALSE, LOOKUP(AC438,Catálogos!O:O),LOOKUP(AC438,Catálogos!O:O,Catálogos!R:R))","v":{"$error":"#N/A"}},"",null,null,null,{"$f":"IF(CD438=FALSE,\"COL. INCORRECTA\",LOOKUP(CONCATENATE(AE438,\" - \",AC438),Catálogos!T:T,Catálogos!Y:Y))","v":{"$error":"#N/A"}},{"$f":"IF(CD438=FALSE,\"COL. INCORRECTA\",LOOKUP(CONCATENATE(AE438,\" - \",AC438),Catálogos!T:T,Catálogos!X:X))","v":{"$error":"#N/A"}}," -SELECCIONAR-",""," -SELECCIONAR-",null,null," -SELECCIONAR-",null,null,null," -SELECCIONAR-",null,null," -SELECCIONAR-"," -SELECCIONAR-",null,null,null,null,null," -SELECCIONAR-",null,null,null,null,null,null," -SELECCIONAR-",null,null,null,null,null,null," -SELECCIONAR-",null,null,null,null,null,null," -SELECCIONAR-",null,null,{"$f":"LOOKUP(AB438,Catálogos!AP:AP,Catálogos!AO:AO)","v":"ERR"},{"$f":"CONCATENATE(LOOKUP(AC438,Catálogos!O:O,Catálogos!P:P),\".\",LOOKUP(AC438,Catálogos!O:O,Catálogos!Q:Q))","v":{"$error":"#N/A"}},{"$f":"IF(AC438=LOOKUP(CONCATENATE(AE438,\" - \",AC438),Catálogos!T:T,Catálogos!V:V),LOOKUP(CONCATENATE(AE438,\" - \",AC438),Catálogos!T:T,Catálogos!W:W),FALSE)","v":{"$error":"#N/A"}},{"$f":"LOOKUP(BD438,Catálogos!AM:AM,Catálogos!AL:AL)","v":"ERR"},{"$f":"LOOKUP(BK438,Catálogos!AM:AM,Catálogos!AL:AL)","v":"ERR"},{"$f":"LOOKUP(BR438,Catálogos!AM:AM,Catálogos!AL:AL)","v":"ERR"},{"$f":"LOOKUP(BY438,Catálogos!AM:AM,Catálogos!AL:AL)","v":"ERR"},0]
[null,null,null,null,null,null,null," -SELECCIONAR-"," -SELECCIONAR-"," -SELECCIONAR-",null," -SELECCIONAR-"," -SELECCIONAR-"," -SELECCIONAR-"," -SELECCIONAR-",null,null," -SELECCIONAR-",null,null,null," -SELECCIONAR-",null,null," -SELECCIONAR-",null," -SELECCIONAR-"," -SELECCIONAR-",null,{"$f":"IF(AC439=FALSE, LOOKUP(AC439,Catálogos!O:O),LOOKUP(AC439,Catálogos!O:O,Catálogos!R:R))","v":{"$error":"#N/A"}},"",null,null,null,{"$f":"IF(CD439=FALSE,\"COL. INCORRECTA\",LOOKUP(CONCATENATE(AE439,\" - \",AC439),Catálogos!T:T,Catálogos!Y:Y))","v":{"$error":"#N/A"}},{"$f":"IF(CD439=FALSE,\"COL. INCORRECTA\",LOOKUP(CONCATENATE(AE439,\" - \",AC439),Catálogos!T:T,Catálogos!X:X))","v":{"$error":"#N/A"}}," -SELECCIONAR-",""," -SELECCIONAR-",null,null," -SELECCIONAR-",null,null,null," -SELECCIONAR-",null,null," -SELECCIONAR-"," -SELECCIONAR-",null,null,null,null,null," -SELECCIONAR-",null,null,null,null,null,null," -SELECCIONAR-",null,null,null,null,null,null," -SELECCIONAR-",null,null,null,null,null,null," -SELECCIONAR-",null,null,{"$f":"LOOKUP(AB439,Catálogos!AP:AP,Catálogos!AO:AO)","v":"ERR"},{"$f":"CONCATENATE(LOOKUP(AC439,Catálogos!O:O,Catálogos!P:P),\".\",LOOKUP(AC439,Catálogos!O:O,Catálogos!Q:Q))","v":{"$error":"#N/A"}},{"$f":"IF(AC439=LOOKUP(CONCATENATE(AE439,\" - \",AC439),Catálogos!T:T,Catálogos!V:V),LOOKUP(CONCATENATE(AE439,\" - \",AC439),Catálogos!T:T,Catálogos!W:W),FALSE)","v":{"$error":"#N/A"}},{"$f":"LOOKUP(BD439,Catálogos!AM:AM,Catálogos!AL:AL)","v":"ERR"},{"$f":"LOOKUP(BK439,Catálogos!AM:AM,Catálogos!AL:AL)","v":"ERR"},{"$f":"LOOKUP(BR439,Catálogos!AM:AM,Catálogos!AL:AL)","v":"ERR"},{"$f":"LOOKUP(BY439,Catálogos!AM:AM,Catálogos!AL:AL)","v":"ERR"},0]
[null,null,null,null,null,null,null," -SELECCIONAR-"," -SELECCIONAR-"," -SELECCIONAR-",null," -SELECCIONAR-"," -SELECCIONAR-"," -SELECCIONAR-"," -SELECCIONAR-",null,null," -SELECCIONAR-",null,null,null," -SELECCIONAR-",null,null," -SELECCIONAR-",null," -SELECCIONAR-"," -SELECCIONAR-",null,{"$f":"IF(AC440=FALSE, LOOKUP(AC440,Catálogos!O:O),LOOKUP(AC440,Catálogos!O:O,Catálogos!R:R))","v":{"$error":"#N/A"}},"",null,null,null,{"$f":"IF(CD440=FALSE,\"COL. INCORRECTA\",LOOKUP(CONCATENATE(AE440,\" - \",AC440),Catálogos!T:T,Catálogos!Y:Y))","v":{"$error":"#N/A"}},{"$f":"IF(CD440=FALSE,\"COL. INCORRECTA\",LOOKUP(CONCATENATE(AE440,\" - \",AC440),Catálogos!T:T,Catálogos!X:X))","v":{"$error":"#N/A"}}," -SELECCIONAR-",""," -SELECCIONAR-",null,null," -SELECCIONAR-",null,null,null," -SELECCIONAR-",null,null," -SELECCIONAR-"," -SELECCIONAR-",null,null,null,null,null," -SELECCIONAR-",null,null,null,null,null,null," -SELECCIONAR-",null,null,null,null,null,null," -SELECCIONAR-",null,null,null,null,null,null," -SELECCIONAR-",null,null,{"$f":"LOOKUP(AB440,Catálogos!AP:AP,Catálogos!AO:AO)","v":"ERR"},{"$f":"CONCATENATE(LOOKUP(AC440,Catálogos!O:O,Catálogos!P:P),\".\",LOOKUP(AC440,Catálogos!O:O,Catálogos!Q:Q))","v":{"$error":"#N/A"}},{"$f":"IF(AC440=LOOKUP(CONCATENATE(AE440,\" - \",AC440),Catálogos!T:T,Catálogos!V:V),LOOKUP(CONCATENATE(AE440,\" - \",AC440),Catálogos!T:T,Catálogos!W:W),FALSE)","v":{"$error":"#N/A"}},{"$f":"LOOKUP(BD440,Catálogos!AM:AM,Catálogos!AL:AL)","v":"ERR"},{"$f":"LOOKUP(BK440,Catálogos!AM:AM,Catálogos!AL:AL)","v":"ERR"},{"$f":"LOOKUP(BR440,Catálogos!AM:AM,Catálogos!AL:AL)","v":"ERR"},{"$f":"LOOKUP(BY440,Catálogos!AM:AM,Catálogos!AL:AL)","v":"ERR"},0]
[null,null,null,null,null,null,null," -SELECCIONAR-"," -SELECCIONAR-"," -SELECCIONAR-",null," -SELECCIONAR-"," -SELECCIONAR-"," -SELECCIONAR-"," -SELECCIONAR-",null,null," -SELECCIONAR-",null,null,null," -SELECCIONAR-",null,null," -SELECCIONAR-",null," -SELECCIONAR-"," -SELECCIONAR-",null,{"$f":"IF(AC441=FALSE, LOOKUP(AC441,Catálogos!O:O),LOOKUP(AC441,Catálogos!O:O,Catálogos!R:R))","v":{"$error":"#N/A"}},"",null,null,null,{"$f":"IF(CD441=FALSE,\"COL. INCORRECTA\",LOOKUP(CONCATENATE(AE441,\" - \",AC441),Catálogos!T:T,Catálogos!Y:Y))","v":{"$error":"#N/A"}},{"$f":"IF(CD441=FALSE,\"COL. INCORRECTA\",LOOKUP(CONCATENATE(AE441,\" - \",AC441),Catálogos!T:T,Catálogos!X:X))","v":{"$error":"#N/A"}}," -SELECCIONAR-",""," -SELECCIONAR-",null,null," -SELECCIONAR-",null,null,null," -SELECCIONAR-",null,null," -SELECCIONAR-"," -SELECCIONAR-",null,null,null,null,null," -SELECCIONAR-",null,null,null,null,null,null," -SELECCIONAR-",null,null,null,null,null,null," -SELECCIONAR-",null,null,null,null,null,null," -SELECCIONAR-",null,null,{"$f":"LOOKUP(AB441,Catálogos!AP:AP,Catálogos!AO:AO)","v":"ERR"},{"$f":"CONCATENATE(LOOKUP(AC441,Catálogos!O:O,Catálogos!P:P),\".\",LOOKUP(AC441,Catálogos!O:O,Catálogos!Q:Q))","v":{"$error":"#N/A"}},{"$f":"IF(AC441=LOOKUP(CONCATENATE(AE441,\" - \",AC441),Catálogos!T:T,Catálogos!V:V),LOOKUP(CONCATENATE(AE441,\" - \",AC441),Catálogos!T:T,Catálogos!W:W),FALSE)","v":{"$error":"#N/A"}},{"$f":"LOOKUP(BD441,Catálogos!AM:AM,Catálogos!AL:AL)","v":"ERR"},{"$f":"LOOKUP(BK441,Catálogos!AM:AM,Catálogos!AL:AL)","v":"ERR"},{"$f":"LOOKUP(BR441,Catálogos!AM:AM,Catálogos!AL:AL)","v":"ERR"},{"$f":"LOOKUP(BY441,Catálogos!AM:AM,Catálogos!AL:AL)","v":"ERR"},0]
[null,null,null,null,null,null,null," -SELECCIONAR-"," -SELECCIONAR-"," -SELECCIONAR-",null," -SELECCIONAR-"," -SELECCIONAR-"," -SELECCIONAR-"," -SELECCIONAR-",null,null," -SELECCIONAR-",null,null,null," -SELECCIONAR-",null,null," -SELECCIONAR-",null," -SELECCIONAR-"," -SELECCIONAR-",null,{"$f":"IF(AC442=FALSE, LOOKUP(AC442,Catálogos!O:O),LOOKUP(AC442,Catálogos!O:O,Catálogos!R:R))","v":{"$error":"#N/A"}},"",null,null,null,{"$f":"IF(CD442=FALSE,\"COL. INCORRECTA\",LOOKUP(CONCATENATE(AE442,\" - \",AC442),Catálogos!T:T,Catálogos!Y:Y))","v":{"$error":"#N/A"}},{"$f":"IF(CD442=FALSE,\"COL. INCORRECTA\",LOOKUP(CONCATENATE(AE442,\" - \",AC442),Catálogos!T:T,Catálogos!X:X))","v":{"$error":"#N/A"}}," -SELECCIONAR-",""," -SELECCIONAR-",null,null," -SELECCIONAR-",null,null,null," -SELECCIONAR-",null,null," -SELECCIONAR-"," -SELECCIONAR-",null,null,null,null,null," -SELECCIONAR-",null,null,null,null,null,null," -SELECCIONAR-",null,null,null,null,null,null," -SELECCIONAR-",null,null,null,null,null,null," -SELECCIONAR-",null,null,{"$f":"LOOKUP(AB442,Catálogos!AP:AP,Catálogos!AO:AO)","v":"ERR"},{"$f":"CONCATENATE(LOOKUP(AC442,Catálogos!O:O,Catálogos!P:P),\".\",LOOKUP(AC442,Catálogos!O:O,Catálogos!Q:Q))","v":{"$error":"#N/A"}},{"$f":"IF(AC442=LOOKUP(CONCATENATE(AE442,\" - \",AC442),Catálogos!T:T,Catálogos!V:V),LOOKUP(CONCATENATE(AE442,\" - \",AC442),Catálogos!T:T,Catálogos!W:W),FALSE)","v":{"$error":"#N/A"}},{"$f":"LOOKUP(BD442,Catálogos!AM:AM,Catálogos!AL:AL)","v":"ERR"},{"$f":"LOOKUP(BK442,Catálogos!AM:AM,Catálogos!AL:AL)","v":"ERR"},{"$f":"LOOKUP(BR442,Catálogos!AM:AM,Catálogos!AL:AL)","v":"ERR"},{"$f":"LOOKUP(BY442,Catálogos!AM:AM,Catálogos!AL:AL)","v":"ERR"},0]
[null,null,null,null,null,null,null," -SELECCIONAR-"," -SELECCIONAR-"," -SELECCIONAR-",null," -SELECCIONAR-"," -SELECCIONAR-"," -SELECCIONAR-"," -SELECCIONAR-",null,null," -SELECCIONAR-",null,null,null," -SELECCIONAR-",null,null," -SELECCIONAR-",null," -SELECCIONAR-"," -SELECCIONAR-",null,{"$f":"IF(AC443=FALSE, LOOKUP(AC443,Catálogos!O:O),LOOKUP(AC443,Catálogos!O:O,Catálogos!R:R))","v":{"$error":"#N/A"}},"",null,null,null,{"$f":"IF(CD443=FALSE,\"COL. INCORRECTA\",LOOKUP(CONCATENATE(AE443,\" - \",AC443),Catálogos!T:T,Catálogos!Y:Y))","v":{"$error":"#N/A"}},{"$f":"IF(CD443=FALSE,\"COL. INCORRECTA\",LOOKUP(CONCATENATE(AE443,\" - \",AC443),Catálogos!T:T,Catálogos!X:X))","v":{"$error":"#N/A"}}," -SELECCIONAR-",""," -SELECCIONAR-",null,null," -SELECCIONAR-",null,null,null," -SELECCIONAR-",null,null," -SELECCIONAR-"," -SELECCIONAR-",null,null,null,null,null," -SELECCIONAR-",null,null,null,null,null,null," -SELECCIONAR-",null,null,null,null,null,null," -SELECCIONAR-",null,null,null,null,null,null," -SELECCIONAR-",null,null,{"$f":"LOOKUP(AB443,Catálogos!AP:AP,Catálogos!AO:AO)","v":"ERR"},{"$f":"CONCATENATE(LOOKUP(AC443,Catálogos!O:O,Catálogos!P:P),\".\",LOOKUP(AC443,Catálogos!O:O,Catálogos!Q:Q))","v":{"$error":"#N/A"}},{"$f":"IF(AC443=LOOKUP(CONCATENATE(AE443,\" - \",AC443),Catálogos!T:T,Catálogos!V:V),LOOKUP(CONCATENATE(AE443,\" - \",AC443),Catálogos!T:T,Catálogos!W:W),FALSE)","v":{"$error":"#N/A"}},{"$f":"LOOKUP(BD443,Catálogos!AM:AM,Catálogos!AL:AL)","v":"ERR"},{"$f":"LOOKUP(BK443,Catálogos!AM:AM,Catálogos!AL:AL)","v":"ERR"},{"$f":"LOOKUP(BR443,Catálogos!AM:AM,Catálogos!AL:AL)","v":"ERR"},{"$f":"LOOKUP(BY443,Catálogos!AM:AM,Catálogos!AL:AL)","v":"ERR"},0]
[null,null,null,null,null,null,null," -SELECCIONAR-"," -SELECCIONAR-"," -SELECCIONAR-",null," -SELECCIONAR-"," -SELECCIONAR-"," -SELECCIONAR-"," -SELECCIONAR-",null,null," -SELECCIONAR-",null,null,null," -SELECCIONAR-",null,null," -SELECCIONAR-",null," -SELECCIONAR-"," -SELECCIONAR-",null,{"$f":"IF(AC444=FALSE, LOOKUP(AC444,Catálogos!O:O),LOOKUP(AC444,Catálogos!O:O,Catálogos!R:R))","v":{"$error":"#N/A"}},"",null,null,null,{"$f":"IF(CD444=FALSE,\"COL. INCORRECTA\",LOOKUP(CONCATENATE(AE444,\" - \",AC444),Catálogos!T:T,Catálogos!Y:Y))","v":{"$error":"#N/A"}},{"$f":"IF(CD444=FALSE,\"COL. INCORRECTA\",LOOKUP(CONCATENATE(AE444,\" - \",AC444),Catálogos!T:T,Catálogos!X:X))","v":{"$error":"#N/A"}}," -SELECCIONAR-",""," -SELECCIONAR-",null,null," -SELECCIONAR-",null,null,null," -SELECCIONAR-",null,null," -SELECCIONAR-"," -SELECCIONAR-",null,null,null,null,null," -SELECCIONAR-",null,null,null,null,null,null," -SELECCIONAR-",null,null,null,null,null,null," -SELECCIONAR-",null,null,null,null,null,null," -SELECCIONAR-",null,null,{"$f":"LOOKUP(AB444,Catálogos!AP:AP,Catálogos!AO:AO)","v":"ERR"},{"$f":"CONCATENATE(LOOKUP(AC444,Catálogos!O:O,Catálogos!P:P),\".\",LOOKUP(AC444,Catálogos!O:O,Catálogos!Q:Q))","v":{"$error":"#N/A"}},{"$f":"IF(AC444=LOOKUP(CONCATENATE(AE444,\" - \",AC444),Catálogos!T:T,Catálogos!V:V),LOOKUP(CONCATENATE(AE444,\" - \",AC444),Catálogos!T:T,Catálogos!W:W),FALSE)","v":{"$error":"#N/A"}},{"$f":"LOOKUP(BD444,Catálogos!AM:AM,Catálogos!AL:AL)","v":"ERR"},{"$f":"LOOKUP(BK444,Catálogos!AM:AM,Catálogos!AL:AL)","v":"ERR"},{"$f":"LOOKUP(BR444,Catálogos!AM:AM,Catálogos!AL:AL)","v":"ERR"},{"$f":"LOOKUP(BY444,Catálogos!AM:AM,Catálogos!AL:AL)","v":"ERR"},0]
[null,null,null,null,null,null,null," -SELECCIONAR-"," -SELECCIONAR-"," -SELECCIONAR-",null," -SELECCIONAR-"," -SELECCIONAR-"," -SELECCIONAR-"," -SELECCIONAR-",null,null," -SELECCIONAR-",null,null,null," -SELECCIONAR-",null,null," -SELECCIONAR-",null," -SELECCIONAR-"," -SELECCIONAR-",null,{"$f":"IF(AC445=FALSE, LOOKUP(AC445,Catálogos!O:O),LOOKUP(AC445,Catálogos!O:O,Catálogos!R:R))","v":{"$error":"#N/A"}},"",null,null,null,{"$f":"IF(CD445=FALSE,\"COL. INCORRECTA\",LOOKUP(CONCATENATE(AE445,\" - \",AC445),Catálogos!T:T,Catálogos!Y:Y))","v":{"$error":"#N/A"}},{"$f":"IF(CD445=FALSE,\"COL. INCORRECTA\",LOOKUP(CONCATENATE(AE445,\" - \",AC445),Catálogos!T:T,Catálogos!X:X))","v":{"$error":"#N/A"}}," -SELECCIONAR-",""," -SELECCIONAR-",null,null," -SELECCIONAR-",null,null,null," -SELECCIONAR-",null,null," -SELECCIONAR-"," -SELECCIONAR-",null,null,null,null,null," -SELECCIONAR-",null,null,null,null,null,null," -SELECCIONAR-",null,null,null,null,null,null," -SELECCIONAR-",null,null,null,null,null,null," -SELECCIONAR-",null,null,{"$f":"LOOKUP(AB445,Catálogos!AP:AP,Catálogos!AO:AO)","v":"ERR"},{"$f":"CONCATENATE(LOOKUP(AC445,Catálogos!O:O,Catálogos!P:P),\".\",LOOKUP(AC445,Catálogos!O:O,Catálogos!Q:Q))","v":{"$error":"#N/A"}},{"$f":"IF(AC445=LOOKUP(CONCATENATE(AE445,\" - \",AC445),Catálogos!T:T,Catálogos!V:V),LOOKUP(CONCATENATE(AE445,\" - \",AC445),Catálogos!T:T,Catálogos!W:W),FALSE)","v":{"$error":"#N/A"}},{"$f":"LOOKUP(BD445,Catálogos!AM:AM,Catálogos!AL:AL)","v":"ERR"},{"$f":"LOOKUP(BK445,Catálogos!AM:AM,Catálogos!AL:AL)","v":"ERR"},{"$f":"LOOKUP(BR445,Catálogos!AM:AM,Catálogos!AL:AL)","v":"ERR"},{"$f":"LOOKUP(BY445,Catálogos!AM:AM,Catálogos!AL:AL)","v":"ERR"},0]
[null,null,null,null,null,null,null," -SELECCIONAR-"," -SELECCIONAR-"," -SELECCIONAR-",null," -SELECCIONAR-"," -SELECCIONAR-"," -SELECCIONAR-"," -SELECCIONAR-",null,null," -SELECCIONAR-",null,null,null," -SELECCIONAR-",null,null," -SELECCIONAR-",null," -SELECCIONAR-"," -SELECCIONAR-",null,{"$f":"IF(AC446=FALSE, LOOKUP(AC446,Catálogos!O:O),LOOKUP(AC446,Catálogos!O:O,Catálogos!R:R))","v":{"$error":"#N/A"}},"",null,null,null,{"$f":"IF(CD446=FALSE,\"COL. INCORRECTA\",LOOKUP(CONCATENATE(AE446,\" - \",AC446),Catálogos!T:T,Catálogos!Y:Y))","v":{"$error":"#N/A"}},{"$f":"IF(CD446=FALSE,\"COL. INCORRECTA\",LOOKUP(CONCATENATE(AE446,\" - \",AC446),Catálogos!T:T,Catálogos!X:X))","v":{"$error":"#N/A"}}," -SELECCIONAR-",""," -SELECCIONAR-",null,null," -SELECCIONAR-",null,null,null," -SELECCIONAR-",null,null," -SELECCIONAR-"," -SELECCIONAR-",null,null,null,null,null," -SELECCIONAR-",null,null,null,null,null,null," -SELECCIONAR-",null,null,null,null,null,null," -SELECCIONAR-",null,null,null,null,null,null," -SELECCIONAR-",null,null,{"$f":"LOOKUP(AB446,Catálogos!AP:AP,Catálogos!AO:AO)","v":"ERR"},{"$f":"CONCATENATE(LOOKUP(AC446,Catálogos!O:O,Catálogos!P:P),\".\",LOOKUP(AC446,Catálogos!O:O,Catálogos!Q:Q))","v":{"$error":"#N/A"}},{"$f":"IF(AC446=LOOKUP(CONCATENATE(AE446,\" - \",AC446),Catálogos!T:T,Catálogos!V:V),LOOKUP(CONCATENATE(AE446,\" - \",AC446),Catálogos!T:T,Catálogos!W:W),FALSE)","v":{"$error":"#N/A"}},{"$f":"LOOKUP(BD446,Catálogos!AM:AM,Catálogos!AL:AL)","v":"ERR"},{"$f":"LOOKUP(BK446,Catálogos!AM:AM,Catálogos!AL:AL)","v":"ERR"},{"$f":"LOOKUP(BR446,Catálogos!AM:AM,Catálogos!AL:AL)","v":"ERR"},{"$f":"LOOKUP(BY446,Catálogos!AM:AM,Catálogos!AL:AL)","v":"ERR"},0]
[null,null,null,null,null,null,null," -SELECCIONAR-"," -SELECCIONAR-"," -SELECCIONAR-",null," -SELECCIONAR-"," -SELECCIONAR-"," -SELECCIONAR-"," -SELECCIONAR-",null,null," -SELECCIONAR-",null,null,null," -SELECCIONAR-",null,null," -SELECCIONAR-",null," -SELECCIONAR-"," -SELECCIONAR-",null,{"$f":"IF(AC447=FALSE, LOOKUP(AC447,Catálogos!O:O),LOOKUP(AC447,Catálogos!O:O,Catálogos!R:R))","v":{"$error":"#N/A"}},"",null,null,null,{"$f":"IF(CD447=FALSE,\"COL. INCORRECTA\",LOOKUP(CONCATENATE(AE447,\" - \",AC447),Catálogos!T:T,Catálogos!Y:Y))","v":{"$error":"#N/A"}},{"$f":"IF(CD447=FALSE,\"COL. INCORRECTA\",LOOKUP(CONCATENATE(AE447,\" - \",AC447),Catálogos!T:T,Catálogos!X:X))","v":{"$error":"#N/A"}}," -SELECCIONAR-",""," -SELECCIONAR-",null,null," -SELECCIONAR-",null,null,null," -SELECCIONAR-",null,null," -SELECCIONAR-"," -SELECCIONAR-",null,null,null,null,null," -SELECCIONAR-",null,null,null,null,null,null," -SELECCIONAR-",null,null,null,null,null,null," -SELECCIONAR-",null,null,null,null,null,null," -SELECCIONAR-",null,null,{"$f":"LOOKUP(AB447,Catálogos!AP:AP,Catálogos!AO:AO)","v":"ERR"},{"$f":"CONCATENATE(LOOKUP(AC447,Catálogos!O:O,Catálogos!P:P),\".\",LOOKUP(AC447,Catálogos!O:O,Catálogos!Q:Q))","v":{"$error":"#N/A"}},{"$f":"IF(AC447=LOOKUP(CONCATENATE(AE447,\" - \",AC447),Catálogos!T:T,Catálogos!V:V),LOOKUP(CONCATENATE(AE447,\" - \",AC447),Catálogos!T:T,Catálogos!W:W),FALSE)","v":{"$error":"#N/A"}},{"$f":"LOOKUP(BD447,Catálogos!AM:AM,Catálogos!AL:AL)","v":"ERR"},{"$f":"LOOKUP(BK447,Catálogos!AM:AM,Catálogos!AL:AL)","v":"ERR"},{"$f":"LOOKUP(BR447,Catálogos!AM:AM,Catálogos!AL:AL)","v":"ERR"},{"$f":"LOOKUP(BY447,Catálogos!AM:AM,Catálogos!AL:AL)","v":"ERR"},0]
[null,null,null,null,null,null,null," -SELECCIONAR-"," -SELECCIONAR-"," -SELECCIONAR-",null," -SELECCIONAR-"," -SELECCIONAR-"," -SELECCIONAR-"," -SELECCIONAR-",null,null," -SELECCIONAR-",null,null,null," -SELECCIONAR-",null,null," -SELECCIONAR-",null," -SELECCIONAR-"," -SELECCIONAR-",null,{"$f":"IF(AC448=FALSE, LOOKUP(AC448,Catálogos!O:O),LOOKUP(AC448,Catálogos!O:O,Catálogos!R:R))","v":{"$error":"#N/A"}},"",null,null,null,{"$f":"IF(CD448=FALSE,\"COL. INCORRECTA\",LOOKUP(CONCATENATE(AE448,\" - \",AC448),Catálogos!T:T,Catálogos!Y:Y))","v":{"$error":"#N/A"}},{"$f":"IF(CD448=FALSE,\"COL. INCORRECTA\",LOOKUP(CONCATENATE(AE448,\" - \",AC448),Catálogos!T:T,Catálogos!X:X))","v":{"$error":"#N/A"}}," -SELECCIONAR-",""," -SELECCIONAR-",null,null," -SELECCIONAR-",null,null,null," -SELECCIONAR-",null,null," -SELECCIONAR-"," -SELECCIONAR-",null,null,null,null,null," -SELECCIONAR-",null,null,null,null,null,null," -SELECCIONAR-",null,null,null,null,null,null," -SELECCIONAR-",null,null,null,null,null,null," -SELECCIONAR-",null,null,{"$f":"LOOKUP(AB448,Catálogos!AP:AP,Catálogos!AO:AO)","v":"ERR"},{"$f":"CONCATENATE(LOOKUP(AC448,Catálogos!O:O,Catálogos!P:P),\".\",LOOKUP(AC448,Catálogos!O:O,Catálogos!Q:Q))","v":{"$error":"#N/A"}},{"$f":"IF(AC448=LOOKUP(CONCATENATE(AE448,\" - \",AC448),Catálogos!T:T,Catálogos!V:V),LOOKUP(CONCATENATE(AE448,\" - \",AC448),Catálogos!T:T,Catálogos!W:W),FALSE)","v":{"$error":"#N/A"}},{"$f":"LOOKUP(BD448,Catálogos!AM:AM,Catálogos!AL:AL)","v":"ERR"},{"$f":"LOOKUP(BK448,Catálogos!AM:AM,Catálogos!AL:AL)","v":"ERR"},{"$f":"LOOKUP(BR448,Catálogos!AM:AM,Catálogos!AL:AL)","v":"ERR"},{"$f":"LOOKUP(BY448,Catálogos!AM:AM,Catálogos!AL:AL)","v":"ERR"},0]
[null,null,null,null,null,null,null," -SELECCIONAR-"," -SELECCIONAR-"," -SELECCIONAR-",null," -SELECCIONAR-"," -SELECCIONAR-"," -SELECCIONAR-"," -SELECCIONAR-",null,null," -SELECCIONAR-",null,null,null," -SELECCIONAR-",null,null," -SELECCIONAR-",null," -SELECCIONAR-"," -SELECCIONAR-",null,{"$f":"IF(AC449=FALSE, LOOKUP(AC449,Catálogos!O:O),LOOKUP(AC449,Catálogos!O:O,Catálogos!R:R))","v":{"$error":"#N/A"}},"",null,null,null,{"$f":"IF(CD449=FALSE,\"COL. INCORRECTA\",LOOKUP(CONCATENATE(AE449,\" - \",AC449),Catálogos!T:T,Catálogos!Y:Y))","v":{"$error":"#N/A"}},{"$f":"IF(CD449=FALSE,\"COL. INCORRECTA\",LOOKUP(CONCATENATE(AE449,\" - \",AC449),Catálogos!T:T,Catálogos!X:X))","v":{"$error":"#N/A"}}," -SELECCIONAR-",""," -SELECCIONAR-",null,null," -SELECCIONAR-",null,null,null," -SELECCIONAR-",null,null," -SELECCIONAR-"," -SELECCIONAR-",null,null,null,null,null," -SELECCIONAR-",null,null,null,null,null,null," -SELECCIONAR-",null,null,null,null,null,null," -SELECCIONAR-",null,null,null,null,null,null," -SELECCIONAR-",null,null,{"$f":"LOOKUP(AB449,Catálogos!AP:AP,Catálogos!AO:AO)","v":"ERR"},{"$f":"CONCATENATE(LOOKUP(AC449,Catálogos!O:O,Catálogos!P:P),\".\",LOOKUP(AC449,Catálogos!O:O,Catálogos!Q:Q))","v":{"$error":"#N/A"}},{"$f":"IF(AC449=LOOKUP(CONCATENATE(AE449,\" - \",AC449),Catálogos!T:T,Catálogos!V:V),LOOKUP(CONCATENATE(AE449,\" - \",AC449),Catálogos!T:T,Catálogos!W:W),FALSE)","v":{"$error":"#N/A"}},{"$f":"LOOKUP(BD449,Catálogos!AM:AM,Catálogos!AL:AL)","v":"ERR"},{"$f":"LOOKUP(BK449,Catálogos!AM:AM,Catálogos!AL:AL)","v":"ERR"},{"$f":"LOOKUP(BR449,Catálogos!AM:AM,Catálogos!AL:AL)","v":"ERR"},{"$f":"LOOKUP(BY449,Catálogos!AM:AM,Catálogos!AL:AL)","v":"ERR"},0]
[null,null,null,null,null,null,null," -SELECCIONAR-"," -SELECCIONAR-"," -SELECCIONAR-",null," -SELECCIONAR-"," -SELECCIONAR-"," -SELECCIONAR-"," -SELECCIONAR-",null,null," -SELECCIONAR-",null,null,null," -SELECCIONAR-",null,null," -SELECCIONAR-",null," -SELECCIONAR-"," -SELECCIONAR-",null,{"$f":"IF(AC450=FALSE, LOOKUP(AC450,Catálogos!O:O),LOOKUP(AC450,Catálogos!O:O,Catálogos!R:R))","v":{"$error":"#N/A"}},"",null,null,null,{"$f":"IF(CD450=FALSE,\"COL. INCORRECTA\",LOOKUP(CONCATENATE(AE450,\" - \",AC450),Catálogos!T:T,Catálogos!Y:Y))","v":{"$error":"#N/A"}},{"$f":"IF(CD450=FALSE,\"COL. INCORRECTA\",LOOKUP(CONCATENATE(AE450,\" - \",AC450),Catálogos!T:T,Catálogos!X:X))","v":{"$error":"#N/A"}}," -SELECCIONAR-",""," -SELECCIONAR-",null,null," -SELECCIONAR-",null,null,null," -SELECCIONAR-",null,null," -SELECCIONAR-"," -SELECCIONAR-",null,null,null,null,null," -SELECCIONAR-",null,null,null,null,null,null," -SELECCIONAR-",null,null,null,null,null,null," -SELECCIONAR-",null,null,null,null,null,null," -SELECCIONAR-",null,null,{"$f":"LOOKUP(AB450,Catálogos!AP:AP,Catálogos!AO:AO)","v":"ERR"},{"$f":"CONCATENATE(LOOKUP(AC450,Catálogos!O:O,Catálogos!P:P),\".\",LOOKUP(AC450,Catálogos!O:O,Catálogos!Q:Q))","v":{"$error":"#N/A"}},{"$f":"IF(AC450=LOOKUP(CONCATENATE(AE450,\" - \",AC450),Catálogos!T:T,Catálogos!V:V),LOOKUP(CONCATENATE(AE450,\" - \",AC450),Catálogos!T:T,Catálogos!W:W),FALSE)","v":{"$error":"#N/A"}},{"$f":"LOOKUP(BD450,Catálogos!AM:AM,Catálogos!AL:AL)","v":"ERR"},{"$f":"LOOKUP(BK450,Catálogos!AM:AM,Catálogos!AL:AL)","v":"ERR"},{"$f":"LOOKUP(BR450,Catálogos!AM:AM,Catálogos!AL:AL)","v":"ERR"},{"$f":"LOOKUP(BY450,Catálogos!AM:AM,Catálogos!AL:AL)","v":"ERR"},0]
[null,null,null,null,null,null,null," -SELECCIONAR-"," -SELECCIONAR-"," -SELECCIONAR-",null," -SELECCIONAR-"," -SELECCIONAR-"," -SELECCIONAR-"," -SELECCIONAR-",null,null," -SELECCIONAR-",null,null,null," -SELECCIONAR-",null,null," -SELECCIONAR-",null," -SELECCIONAR-"," -SELECCIONAR-",null,{"$f":"IF(AC451=FALSE, LOOKUP(AC451,Catálogos!O:O),LOOKUP(AC451,Catálogos!O:O,Catálogos!R:R))","v":{"$error":"#N/A"}},"",null,null,null,{"$f":"IF(CD451=FALSE,\"COL. INCORRECTA\",LOOKUP(CONCATENATE(AE451,\" - \",AC451),Catálogos!T:T,Catálogos!Y:Y))","v":{"$error":"#N/A"}},{"$f":"IF(CD451=FALSE,\"COL. INCORRECTA\",LOOKUP(CONCATENATE(AE451,\" - \",AC451),Catálogos!T:T,Catálogos!X:X))","v":{"$error":"#N/A"}}," -SELECCIONAR-",""," -SELECCIONAR-",null,null," -SELECCIONAR-",null,null,null," -SELECCIONAR-",null,null," -SELECCIONAR-"," -SELECCIONAR-",null,null,null,null,null," -SELECCIONAR-",null,null,null,null,null,null," -SELECCIONAR-",null,null,null,null,null,null," -SELECCIONAR-",null,null,null,null,null,null," -SELECCIONAR-",null,null,{"$f":"LOOKUP(AB451,Catálogos!AP:AP,Catálogos!AO:AO)","v":"ERR"},{"$f":"CONCATENATE(LOOKUP(AC451,Catálogos!O:O,Catálogos!P:P),\".\",LOOKUP(AC451,Catálogos!O:O,Catálogos!Q:Q))","v":{"$error":"#N/A"}},{"$f":"IF(AC451=LOOKUP(CONCATENATE(AE451,\" - \",AC451),Catálogos!T:T,Catálogos!V:V),LOOKUP(CONCATENATE(AE451,\" - \",AC451),Catálogos!T:T,Catálogos!W:W),FALSE)","v":{"$error":"#N/A"}},{"$f":"LOOKUP(BD451,Catálogos!AM:AM,Catálogos!AL:AL)","v":"ERR"},{"$f":"LOOKUP(BK451,Catálogos!AM:AM,Catálogos!AL:AL)","v":"ERR"},{"$f":"LOOKUP(BR451,Catálogos!AM:AM,Catálogos!AL:AL)","v":"ERR"},{"$f":"LOOKUP(BY451,Catálogos!AM:AM,Catálogos!AL:AL)","v":"ERR"},0]
[null,null,null,null,null,null,null," -SELECCIONAR-"," -SELECCIONAR-"," -SELECCIONAR-",null," -SELECCIONAR-"," -SELECCIONAR-"," -SELECCIONAR-"," -SELECCIONAR-",null,null," -SELECCIONAR-",null,null,null," -SELECCIONAR-",null,null," -SELECCIONAR-",null," -SELECCIONAR-"," -SELECCIONAR-",null,{"$f":"IF(AC452=FALSE, LOOKUP(AC452,Catálogos!O:O),LOOKUP(AC452,Catálogos!O:O,Catálogos!R:R))","v":{"$error":"#N/A"}},"",null,null,null,{"$f":"IF(CD452=FALSE,\"COL. INCORRECTA\",LOOKUP(CONCATENATE(AE452,\" - \",AC452),Catálogos!T:T,Catálogos!Y:Y))","v":{"$error":"#N/A"}},{"$f":"IF(CD452=FALSE,\"COL. INCORRECTA\",LOOKUP(CONCATENATE(AE452,\" - \",AC452),Catálogos!T:T,Catálogos!X:X))","v":{"$error":"#N/A"}}," -SELECCIONAR-",""," -SELECCIONAR-",null,null," -SELECCIONAR-",null,null,null," -SELECCIONAR-",null,null," -SELECCIONAR-"," -SELECCIONAR-",null,null,null,null,null," -SELECCIONAR-",null,null,null,null,null,null," -SELECCIONAR-",null,null,null,null,null,null," -SELECCIONAR-",null,null,null,null,null,null," -SELECCIONAR-",null,null,{"$f":"LOOKUP(AB452,Catálogos!AP:AP,Catálogos!AO:AO)","v":"ERR"},{"$f":"CONCATENATE(LOOKUP(AC452,Catálogos!O:O,Catálogos!P:P),\".\",LOOKUP(AC452,Catálogos!O:O,Catálogos!Q:Q))","v":{"$error":"#N/A"}},{"$f":"IF(AC452=LOOKUP(CONCATENATE(AE452,\" - \",AC452),Catálogos!T:T,Catálogos!V:V),LOOKUP(CONCATENATE(AE452,\" - \",AC452),Catálogos!T:T,Catálogos!W:W),FALSE)","v":{"$error":"#N/A"}},{"$f":"LOOKUP(BD452,Catálogos!AM:AM,Catálogos!AL:AL)","v":"ERR"},{"$f":"LOOKUP(BK452,Catálogos!AM:AM,Catálogos!AL:AL)","v":"ERR"},{"$f":"LOOKUP(BR452,Catálogos!AM:AM,Catálogos!AL:AL)","v":"ERR"},{"$f":"LOOKUP(BY452,Catálogos!AM:AM,Catálogos!AL:AL)","v":"ERR"},0]
[null,null,null,null,null,null,null," -SELECCIONAR-"," -SELECCIONAR-"," -SELECCIONAR-",null," -SELECCIONAR-"," -SELECCIONAR-"," -SELECCIONAR-"," -SELECCIONAR-",null,null," -SELECCIONAR-",null,null,null," -SELECCIONAR-",null,null," -SELECCIONAR-",null," -SELECCIONAR-"," -SELECCIONAR-",null,{"$f":"IF(AC453=FALSE, LOOKUP(AC453,Catálogos!O:O),LOOKUP(AC453,Catálogos!O:O,Catálogos!R:R))","v":{"$error":"#N/A"}},"",null,null,null,{"$f":"IF(CD453=FALSE,\"COL. INCORRECTA\",LOOKUP(CONCATENATE(AE453,\" - \",AC453),Catálogos!T:T,Catálogos!Y:Y))","v":{"$error":"#N/A"}},{"$f":"IF(CD453=FALSE,\"COL. INCORRECTA\",LOOKUP(CONCATENATE(AE453,\" - \",AC453),Catálogos!T:T,Catálogos!X:X))","v":{"$error":"#N/A"}}," -SELECCIONAR-",""," -SELECCIONAR-",null,null," -SELECCIONAR-",null,null,null," -SELECCIONAR-",null,null," -SELECCIONAR-"," -SELECCIONAR-",null,null,null,null,null," -SELECCIONAR-",null,null,null,null,null,null," -SELECCIONAR-",null,null,null,null,null,null," -SELECCIONAR-",null,null,null,null,null,null," -SELECCIONAR-",null,null,{"$f":"LOOKUP(AB453,Catálogos!AP:AP,Catálogos!AO:AO)","v":"ERR"},{"$f":"CONCATENATE(LOOKUP(AC453,Catálogos!O:O,Catálogos!P:P),\".\",LOOKUP(AC453,Catálogos!O:O,Catálogos!Q:Q))","v":{"$error":"#N/A"}},{"$f":"IF(AC453=LOOKUP(CONCATENATE(AE453,\" - \",AC453),Catálogos!T:T,Catálogos!V:V),LOOKUP(CONCATENATE(AE453,\" - \",AC453),Catálogos!T:T,Catálogos!W:W),FALSE)","v":{"$error":"#N/A"}},{"$f":"LOOKUP(BD453,Catálogos!AM:AM,Catálogos!AL:AL)","v":"ERR"},{"$f":"LOOKUP(BK453,Catálogos!AM:AM,Catálogos!AL:AL)","v":"ERR"},{"$f":"LOOKUP(BR453,Catálogos!AM:AM,Catálogos!AL:AL)","v":"ERR"},{"$f":"LOOKUP(BY453,Catálogos!AM:AM,Catálogos!AL:AL)","v":"ERR"},{"$f":"SUM(BE453+BL453+BS453+BZ453)","v":0}]
[null,null,null,null,null,null,null," -SELECCIONAR-"," -SELECCIONAR-"," -SELECCIONAR-",null," -SELECCIONAR-"," -SELECCIONAR-"," -SELECCIONAR-"," -SELECCIONAR-",null,null," -SELECCIONAR-",null,null,null," -SELECCIONAR-",null,null," -SELECCIONAR-",null," -SELECCIONAR-"," -SELECCIONAR-",null,{"$f":"IF(AC454=FALSE, LOOKUP(AC454,Catálogos!O:O),LOOKUP(AC454,Catálogos!O:O,Catálogos!R:R))","v":{"$error":"#N/A"}},"",null,null,null,{"$f":"IF(CD454=FALSE,\"COL. INCORRECTA\",LOOKUP(CONCATENATE(AE454,\" - \",AC454),Catálogos!T:T,Catálogos!Y:Y))","v":{"$error":"#N/A"}},{"$f":"IF(CD454=FALSE,\"COL. INCORRECTA\",LOOKUP(CONCATENATE(AE454,\" - \",AC454),Catálogos!T:T,Catálogos!X:X))","v":{"$error":"#N/A"}}," -SELECCIONAR-",""," -SELECCIONAR-",null,null," -SELECCIONAR-",null,null,null," -SELECCIONAR-",null,null," -SELECCIONAR-"," -SELECCIONAR-",null,null,null,null,null," -SELECCIONAR-",null,null,null,null,null,null," -SELECCIONAR-",null,null,null,null,null,null," -SELECCIONAR-",null,null,null,null,null,null," -SELECCIONAR-",null,null,{"$f":"LOOKUP(AB454,Catálogos!AP:AP,Catálogos!AO:AO)","v":"ERR"},{"$f":"CONCATENATE(LOOKUP(AC454,Catálogos!O:O,Catálogos!P:P),\".\",LOOKUP(AC454,Catálogos!O:O,Catálogos!Q:Q))","v":{"$error":"#N/A"}},{"$f":"IF(AC454=LOOKUP(CONCATENATE(AE454,\" - \",AC454),Catálogos!T:T,Catálogos!V:V),LOOKUP(CONCATENATE(AE454,\" - \",AC454),Catálogos!T:T,Catálogos!W:W),FALSE)","v":{"$error":"#N/A"}},{"$f":"LOOKUP(BD454,Catálogos!AM:AM,Catálogos!AL:AL)","v":"ERR"},{"$f":"LOOKUP(BK454,Catálogos!AM:AM,Catálogos!AL:AL)","v":"ERR"},{"$f":"LOOKUP(BR454,Catálogos!AM:AM,Catálogos!AL:AL)","v":"ERR"},{"$f":"LOOKUP(BY454,Catálogos!AM:AM,Catálogos!AL:AL)","v":"ERR"},0]
[null,null,null,null,null,null,null," -SELECCIONAR-"," -SELECCIONAR-"," -SELECCIONAR-",null," -SELECCIONAR-"," -SELECCIONAR-"," -SELECCIONAR-"," -SELECCIONAR-",null,null," -SELECCIONAR-",null,null,null," -SELECCIONAR-",null,null," -SELECCIONAR-",null," -SELECCIONAR-"," -SELECCIONAR-",null,{"$f":"IF(AC455=FALSE, LOOKUP(AC455,Catálogos!O:O),LOOKUP(AC455,Catálogos!O:O,Catálogos!R:R))","v":{"$error":"#N/A"}},"",null,null,null,{"$f":"IF(CD455=FALSE,\"COL. INCORRECTA\",LOOKUP(CONCATENATE(AE455,\" - \",AC455),Catálogos!T:T,Catálogos!Y:Y))","v":{"$error":"#N/A"}},{"$f":"IF(CD455=FALSE,\"COL. INCORRECTA\",LOOKUP(CONCATENATE(AE455,\" - \",AC455),Catálogos!T:T,Catálogos!X:X))","v":{"$error":"#N/A"}}," -SELECCIONAR-",""," -SELECCIONAR-",null,null," -SELECCIONAR-",null,null,null," -SELECCIONAR-",null,null," -SELECCIONAR-"," -SELECCIONAR-",null,null,null,null,null," -SELECCIONAR-",null,null,null,null,null,null," -SELECCIONAR-",null,null,null,null,null,null," -SELECCIONAR-",null,null,null,null,null,null," -SELECCIONAR-",null,null,{"$f":"LOOKUP(AB455,Catálogos!AP:AP,Catálogos!AO:AO)","v":"ERR"},{"$f":"CONCATENATE(LOOKUP(AC455,Catálogos!O:O,Catálogos!P:P),\".\",LOOKUP(AC455,Catálogos!O:O,Catálogos!Q:Q))","v":{"$error":"#N/A"}},{"$f":"IF(AC455=LOOKUP(CONCATENATE(AE455,\" - \",AC455),Catálogos!T:T,Catálogos!V:V),LOOKUP(CONCATENATE(AE455,\" - \",AC455),Catálogos!T:T,Catálogos!W:W),FALSE)","v":{"$error":"#N/A"}},{"$f":"LOOKUP(BD455,Catálogos!AM:AM,Catálogos!AL:AL)","v":"ERR"},{"$f":"LOOKUP(BK455,Catálogos!AM:AM,Catálogos!AL:AL)","v":"ERR"},{"$f":"LOOKUP(BR455,Catálogos!AM:AM,Catálogos!AL:AL)","v":"ERR"},{"$f":"LOOKUP(BY455,Catálogos!AM:AM,Catálogos!AL:AL)","v":"ERR"},0]
[null,null,null,null,null,null,null," -SELECCIONAR-"," -SELECCIONAR-"," -SELECCIONAR-",null," -SELECCIONAR-"," -SELECCIONAR-"," -SELECCIONAR-"," -SELECCIONAR-",null,null," -SELECCIONAR-",null,null,null," -SELECCIONAR-",null,null," -SELECCIONAR-",null," -SELECCIONAR-"," -SELECCIONAR-",null,{"$f":"IF(AC456=FALSE, LOOKUP(AC456,Catálogos!O:O),LOOKUP(AC456,Catálogos!O:O,Catálogos!R:R))","v":{"$error":"#N/A"}},"",null,null,null,{"$f":"IF(CD456=FALSE,\"COL. INCORRECTA\",LOOKUP(CONCATENATE(AE456,\" - \",AC456),Catálogos!T:T,Catálogos!Y:Y))","v":{"$error":"#N/A"}},{"$f":"IF(CD456=FALSE,\"COL. INCORRECTA\",LOOKUP(CONCATENATE(AE456,\" - \",AC456),Catálogos!T:T,Catálogos!X:X))","v":{"$error":"#N/A"}}," -SELECCIONAR-",""," -SELECCIONAR-",null,null," -SELECCIONAR-",null,null,null," -SELECCIONAR-",null,null," -SELECCIONAR-"," -SELECCIONAR-",null,null,null,null,null," -SELECCIONAR-",null,null,null,null,null,null," -SELECCIONAR-",null,null,null,null,null,null," -SELECCIONAR-",null,null,null,null,null,null," -SELECCIONAR-",null,null,{"$f":"LOOKUP(AB456,Catálogos!AP:AP,Catálogos!AO:AO)","v":"ERR"},{"$f":"CONCATENATE(LOOKUP(AC456,Catálogos!O:O,Catálogos!P:P),\".\",LOOKUP(AC456,Catálogos!O:O,Catálogos!Q:Q))","v":{"$error":"#N/A"}},{"$f":"IF(AC456=LOOKUP(CONCATENATE(AE456,\" - \",AC456),Catálogos!T:T,Catálogos!V:V),LOOKUP(CONCATENATE(AE456,\" - \",AC456),Catálogos!T:T,Catálogos!W:W),FALSE)","v":{"$error":"#N/A"}},{"$f":"LOOKUP(BD456,Catálogos!AM:AM,Catálogos!AL:AL)","v":"ERR"},{"$f":"LOOKUP(BK456,Catálogos!AM:AM,Catálogos!AL:AL)","v":"ERR"},{"$f":"LOOKUP(BR456,Catálogos!AM:AM,Catálogos!AL:AL)","v":"ERR"},{"$f":"LOOKUP(BY456,Catálogos!AM:AM,Catálogos!AL:AL)","v":"ERR"},0]
[null,null,null,null,null,null,null," -SELECCIONAR-"," -SELECCIONAR-"," -SELECCIONAR-",null," -SELECCIONAR-"," -SELECCIONAR-"," -SELECCIONAR-"," -SELECCIONAR-",null,null," -SELECCIONAR-",null,null,null," -SELECCIONAR-",null,null," -SELECCIONAR-",null," -SELECCIONAR-"," -SELECCIONAR-",null,{"$f":"IF(AC457=FALSE, LOOKUP(AC457,Catálogos!O:O),LOOKUP(AC457,Catálogos!O:O,Catálogos!R:R))","v":{"$error":"#N/A"}},"",null,null,null,{"$f":"IF(CD457=FALSE,\"COL. INCORRECTA\",LOOKUP(CONCATENATE(AE457,\" - \",AC457),Catálogos!T:T,Catálogos!Y:Y))","v":{"$error":"#N/A"}},{"$f":"IF(CD457=FALSE,\"COL. INCORRECTA\",LOOKUP(CONCATENATE(AE457,\" - \",AC457),Catálogos!T:T,Catálogos!X:X))","v":{"$error":"#N/A"}}," -SELECCIONAR-",""," -SELECCIONAR-",null,null," -SELECCIONAR-",null,null,null," -SELECCIONAR-",null,null," -SELECCIONAR-"," -SELECCIONAR-",null,null,null,null,null," -SELECCIONAR-",null,null,null,null,null,null," -SELECCIONAR-",null,null,null,null,null,null," -SELECCIONAR-",null,null,null,null,null,null," -SELECCIONAR-",null,null,{"$f":"LOOKUP(AB457,Catálogos!AP:AP,Catálogos!AO:AO)","v":"ERR"},{"$f":"CONCATENATE(LOOKUP(AC457,Catálogos!O:O,Catálogos!P:P),\".\",LOOKUP(AC457,Catálogos!O:O,Catálogos!Q:Q))","v":{"$error":"#N/A"}},{"$f":"IF(AC457=LOOKUP(CONCATENATE(AE457,\" - \",AC457),Catálogos!T:T,Catálogos!V:V),LOOKUP(CONCATENATE(AE457,\" - \",AC457),Catálogos!T:T,Catálogos!W:W),FALSE)","v":{"$error":"#N/A"}},{"$f":"LOOKUP(BD457,Catálogos!AM:AM,Catálogos!AL:AL)","v":"ERR"},{"$f":"LOOKUP(BK457,Catálogos!AM:AM,Catálogos!AL:AL)","v":"ERR"},{"$f":"LOOKUP(BR457,Catálogos!AM:AM,Catálogos!AL:AL)","v":"ERR"},{"$f":"LOOKUP(BY457,Catálogos!AM:AM,Catálogos!AL:AL)","v":"ERR"},0]
[null,null,null,null,null,null,null," -SELECCIONAR-"," -SELECCIONAR-"," -SELECCIONAR-",null," -SELECCIONAR-"," -SELECCIONAR-"," -SELECCIONAR-"," -SELECCIONAR-",null,null," -SELECCIONAR-",null,null,null," -SELECCIONAR-",null,null," -SELECCIONAR-",null," -SELECCIONAR-"," -SELECCIONAR-",null,{"$f":"IF(AC458=FALSE, LOOKUP(AC458,Catálogos!O:O),LOOKUP(AC458,Catálogos!O:O,Catálogos!R:R))","v":{"$error":"#N/A"}},"",null,null,null,{"$f":"IF(CD458=FALSE,\"COL. INCORRECTA\",LOOKUP(CONCATENATE(AE458,\" - \",AC458),Catálogos!T:T,Catálogos!Y:Y))","v":{"$error":"#N/A"}},{"$f":"IF(CD458=FALSE,\"COL. INCORRECTA\",LOOKUP(CONCATENATE(AE458,\" - \",AC458),Catálogos!T:T,Catálogos!X:X))","v":{"$error":"#N/A"}}," -SELECCIONAR-",""," -SELECCIONAR-",null,null," -SELECCIONAR-",null,null,null," -SELECCIONAR-",null,null," -SELECCIONAR-"," -SELECCIONAR-",null,null,null,null,null," -SELECCIONAR-",null,null,null,null,null,null," -SELECCIONAR-",null,null,null,null,null,null," -SELECCIONAR-",null,null,null,null,null,null," -SELECCIONAR-",null,null,{"$f":"LOOKUP(AB458,Catálogos!AP:AP,Catálogos!AO:AO)","v":"ERR"},{"$f":"CONCATENATE(LOOKUP(AC458,Catálogos!O:O,Catálogos!P:P),\".\",LOOKUP(AC458,Catálogos!O:O,Catálogos!Q:Q))","v":{"$error":"#N/A"}},{"$f":"IF(AC458=LOOKUP(CONCATENATE(AE458,\" - \",AC458),Catálogos!T:T,Catálogos!V:V),LOOKUP(CONCATENATE(AE458,\" - \",AC458),Catálogos!T:T,Catálogos!W:W),FALSE)","v":{"$error":"#N/A"}},{"$f":"LOOKUP(BD458,Catálogos!AM:AM,Catálogos!AL:AL)","v":"ERR"},{"$f":"LOOKUP(BK458,Catálogos!AM:AM,Catálogos!AL:AL)","v":"ERR"},{"$f":"LOOKUP(BR458,Catálogos!AM:AM,Catálogos!AL:AL)","v":"ERR"},{"$f":"LOOKUP(BY458,Catálogos!AM:AM,Catálogos!AL:AL)","v":"ERR"},0]
[null,null,null,null,null,null,null," -SELECCIONAR-"," -SELECCIONAR-"," -SELECCIONAR-",null," -SELECCIONAR-"," -SELECCIONAR-"," -SELECCIONAR-"," -SELECCIONAR-",null,null," -SELECCIONAR-",null,null,null," -SELECCIONAR-",null,null," -SELECCIONAR-",null," -SELECCIONAR-"," -SELECCIONAR-",null,{"$f":"IF(AC459=FALSE, LOOKUP(AC459,Catálogos!O:O),LOOKUP(AC459,Catálogos!O:O,Catálogos!R:R))","v":{"$error":"#N/A"}},"",null,null,null,{"$f":"IF(CD459=FALSE,\"COL. INCORRECTA\",LOOKUP(CONCATENATE(AE459,\" - \",AC459),Catálogos!T:T,Catálogos!Y:Y))","v":{"$error":"#N/A"}},{"$f":"IF(CD459=FALSE,\"COL. INCORRECTA\",LOOKUP(CONCATENATE(AE459,\" - \",AC459),Catálogos!T:T,Catálogos!X:X))","v":{"$error":"#N/A"}}," -SELECCIONAR-",""," -SELECCIONAR-",null,null," -SELECCIONAR-",null,null,null," -SELECCIONAR-",null,null," -SELECCIONAR-"," -SELECCIONAR-",null,null,null,null,null," -SELECCIONAR-",null,null,null,null,null,null," -SELECCIONAR-",null,null,null,null,null,null," -SELECCIONAR-",null,null,null,null,null,null," -SELECCIONAR-",null,null,{"$f":"LOOKUP(AB459,Catálogos!AP:AP,Catálogos!AO:AO)","v":"ERR"},{"$f":"CONCATENATE(LOOKUP(AC459,Catálogos!O:O,Catálogos!P:P),\".\",LOOKUP(AC459,Catálogos!O:O,Catálogos!Q:Q))","v":{"$error":"#N/A"}},{"$f":"IF(AC459=LOOKUP(CONCATENATE(AE459,\" - \",AC459),Catálogos!T:T,Catálogos!V:V),LOOKUP(CONCATENATE(AE459,\" - \",AC459),Catálogos!T:T,Catálogos!W:W),FALSE)","v":{"$error":"#N/A"}},{"$f":"LOOKUP(BD459,Catálogos!AM:AM,Catálogos!AL:AL)","v":"ERR"},{"$f":"LOOKUP(BK459,Catálogos!AM:AM,Catálogos!AL:AL)","v":"ERR"},{"$f":"LOOKUP(BR459,Catálogos!AM:AM,Catálogos!AL:AL)","v":"ERR"},{"$f":"LOOKUP(BY459,Catálogos!AM:AM,Catálogos!AL:AL)","v":"ERR"},0]
[null,null,null,null,null,null,null," -SELECCIONAR-"," -SELECCIONAR-"," -SELECCIONAR-",null," -SELECCIONAR-"," -SELECCIONAR-"," -SELECCIONAR-"," -SELECCIONAR-",null,null," -SELECCIONAR-",null,null,null," -SELECCIONAR-",null,null," -SELECCIONAR-",null," -SELECCIONAR-"," -SELECCIONAR-",null,{"$f":"IF(AC460=FALSE, LOOKUP(AC460,Catálogos!O:O),LOOKUP(AC460,Catálogos!O:O,Catálogos!R:R))","v":{"$error":"#N/A"}},"",null,null,null,{"$f":"IF(CD460=FALSE,\"COL. INCORRECTA\",LOOKUP(CONCATENATE(AE460,\" - \",AC460),Catálogos!T:T,Catálogos!Y:Y))","v":{"$error":"#N/A"}},{"$f":"IF(CD460=FALSE,\"COL. INCORRECTA\",LOOKUP(CONCATENATE(AE460,\" - \",AC460),Catálogos!T:T,Catálogos!X:X))","v":{"$error":"#N/A"}}," -SELECCIONAR-",""," -SELECCIONAR-",null,null," -SELECCIONAR-",null,null,null," -SELECCIONAR-",null,null," -SELECCIONAR-"," -SELECCIONAR-",null,null,null,null,null," -SELECCIONAR-",null,null,null,null,null,null," -SELECCIONAR-",null,null,null,null,null,null," -SELECCIONAR-",null,null,null,null,null,null," -SELECCIONAR-",null,null,{"$f":"LOOKUP(AB460,Catálogos!AP:AP,Catálogos!AO:AO)","v":"ERR"},{"$f":"CONCATENATE(LOOKUP(AC460,Catálogos!O:O,Catálogos!P:P),\".\",LOOKUP(AC460,Catálogos!O:O,Catálogos!Q:Q))","v":{"$error":"#N/A"}},{"$f":"IF(AC460=LOOKUP(CONCATENATE(AE460,\" - \",AC460),Catálogos!T:T,Catálogos!V:V),LOOKUP(CONCATENATE(AE460,\" - \",AC460),Catálogos!T:T,Catálogos!W:W),FALSE)","v":{"$error":"#N/A"}},{"$f":"LOOKUP(BD460,Catálogos!AM:AM,Catálogos!AL:AL)","v":"ERR"},{"$f":"LOOKUP(BK460,Catálogos!AM:AM,Catálogos!AL:AL)","v":"ERR"},{"$f":"LOOKUP(BR460,Catálogos!AM:AM,Catálogos!AL:AL)","v":"ERR"},{"$f":"LOOKUP(BY460,Catálogos!AM:AM,Catálogos!AL:AL)","v":"ERR"},0]
[null,null,null,null,null,null,null," -SELECCIONAR-"," -SELECCIONAR-"," -SELECCIONAR-",null," -SELECCIONAR-"," -SELECCIONAR-"," -SELECCIONAR-"," -SELECCIONAR-",null,null," -SELECCIONAR-",null,null,null," -SELECCIONAR-",null,null," -SELECCIONAR-",null," -SELECCIONAR-"," -SELECCIONAR-",null,{"$f":"IF(AC461=FALSE, LOOKUP(AC461,Catálogos!O:O),LOOKUP(AC461,Catálogos!O:O,Catálogos!R:R))","v":{"$error":"#N/A"}},"",null,null,null,{"$f":"IF(CD461=FALSE,\"COL. INCORRECTA\",LOOKUP(CONCATENATE(AE461,\" - \",AC461),Catálogos!T:T,Catálogos!Y:Y))","v":{"$error":"#N/A"}},{"$f":"IF(CD461=FALSE,\"COL. INCORRECTA\",LOOKUP(CONCATENATE(AE461,\" - \",AC461),Catálogos!T:T,Catálogos!X:X))","v":{"$error":"#N/A"}}," -SELECCIONAR-",""," -SELECCIONAR-",null,null," -SELECCIONAR-",null,null,null," -SELECCIONAR-",null,null," -SELECCIONAR-"," -SELECCIONAR-",null,null,null,null,null," -SELECCIONAR-",null,null,null,null,null,null," -SELECCIONAR-",null,null,null,null,null,null," -SELECCIONAR-",null,null,null,null,null,null," -SELECCIONAR-",null,null,{"$f":"LOOKUP(AB461,Catálogos!AP:AP,Catálogos!AO:AO)","v":"ERR"},{"$f":"CONCATENATE(LOOKUP(AC461,Catálogos!O:O,Catálogos!P:P),\".\",LOOKUP(AC461,Catálogos!O:O,Catálogos!Q:Q))","v":{"$error":"#N/A"}},{"$f":"IF(AC461=LOOKUP(CONCATENATE(AE461,\" - \",AC461),Catálogos!T:T,Catálogos!V:V),LOOKUP(CONCATENATE(AE461,\" - \",AC461),Catálogos!T:T,Catálogos!W:W),FALSE)","v":{"$error":"#N/A"}},{"$f":"LOOKUP(BD461,Catálogos!AM:AM,Catálogos!AL:AL)","v":"ERR"},{"$f":"LOOKUP(BK461,Catálogos!AM:AM,Catálogos!AL:AL)","v":"ERR"},{"$f":"LOOKUP(BR461,Catálogos!AM:AM,Catálogos!AL:AL)","v":"ERR"},{"$f":"LOOKUP(BY461,Catálogos!AM:AM,Catálogos!AL:AL)","v":"ERR"},0]
[null,null,null,null,null,null,null," -SELECCIONAR-"," -SELECCIONAR-"," -SELECCIONAR-",null," -SELECCIONAR-"," -SELECCIONAR-"," -SELECCIONAR-"," -SELECCIONAR-",null,null," -SELECCIONAR-",null,null,null," -SELECCIONAR-",null,null," -SELECCIONAR-",null," -SELECCIONAR-"," -SELECCIONAR-",null,{"$f":"IF(AC462=FALSE, LOOKUP(AC462,Catálogos!O:O),LOOKUP(AC462,Catálogos!O:O,Catálogos!R:R))","v":{"$error":"#N/A"}},"",null,null,null,{"$f":"IF(CD462=FALSE,\"COL. INCORRECTA\",LOOKUP(CONCATENATE(AE462,\" - \",AC462),Catálogos!T:T,Catálogos!Y:Y))","v":{"$error":"#N/A"}},{"$f":"IF(CD462=FALSE,\"COL. INCORRECTA\",LOOKUP(CONCATENATE(AE462,\" - \",AC462),Catálogos!T:T,Catálogos!X:X))","v":{"$error":"#N/A"}}," -SELECCIONAR-",""," -SELECCIONAR-",null,null," -SELECCIONAR-",null,null,null," -SELECCIONAR-",null,null," -SELECCIONAR-"," -SELECCIONAR-",null,null,null,null,null," -SELECCIONAR-",null,null,null,null,null,null," -SELECCIONAR-",null,null,null,null,null,null," -SELECCIONAR-",null,null,null,null,null,null," -SELECCIONAR-",null,null,{"$f":"LOOKUP(AB462,Catálogos!AP:AP,Catálogos!AO:AO)","v":"ERR"},{"$f":"CONCATENATE(LOOKUP(AC462,Catálogos!O:O,Catálogos!P:P),\".\",LOOKUP(AC462,Catálogos!O:O,Catálogos!Q:Q))","v":{"$error":"#N/A"}},{"$f":"IF(AC462=LOOKUP(CONCATENATE(AE462,\" - \",AC462),Catálogos!T:T,Catálogos!V:V),LOOKUP(CONCATENATE(AE462,\" - \",AC462),Catálogos!T:T,Catálogos!W:W),FALSE)","v":{"$error":"#N/A"}},{"$f":"LOOKUP(BD462,Catálogos!AM:AM,Catálogos!AL:AL)","v":"ERR"},{"$f":"LOOKUP(BK462,Catálogos!AM:AM,Catálogos!AL:AL)","v":"ERR"},{"$f":"LOOKUP(BR462,Catálogos!AM:AM,Catálogos!AL:AL)","v":"ERR"},{"$f":"LOOKUP(BY462,Catálogos!AM:AM,Catálogos!AL:AL)","v":"ERR"},0]
[null,null,null,null,null,null,null," -SELECCIONAR-"," -SELECCIONAR-"," -SELECCIONAR-",null," -SELECCIONAR-"," -SELECCIONAR-"," -SELECCIONAR-"," -SELECCIONAR-",null,null," -SELECCIONAR-",null,null,null," -SELECCIONAR-",null,null," -SELECCIONAR-",null," -SELECCIONAR-"," -SELECCIONAR-",null,{"$f":"IF(AC463=FALSE, LOOKUP(AC463,Catálogos!O:O),LOOKUP(AC463,Catálogos!O:O,Catálogos!R:R))","v":{"$error":"#N/A"}},"",null,null,null,{"$f":"IF(CD463=FALSE,\"COL. INCORRECTA\",LOOKUP(CONCATENATE(AE463,\" - \",AC463),Catálogos!T:T,Catálogos!Y:Y))","v":{"$error":"#N/A"}},{"$f":"IF(CD463=FALSE,\"COL. INCORRECTA\",LOOKUP(CONCATENATE(AE463,\" - \",AC463),Catálogos!T:T,Catálogos!X:X))","v":{"$error":"#N/A"}}," -SELECCIONAR-",""," -SELECCIONAR-",null,null," -SELECCIONAR-",null,null,null," -SELECCIONAR-",null,null," -SELECCIONAR-"," -SELECCIONAR-",null,null,null,null,null," -SELECCIONAR-",null,null,null,null,null,null," -SELECCIONAR-",null,null,null,null,null,null," -SELECCIONAR-",null,null,null,null,null,null," -SELECCIONAR-",null,null,{"$f":"LOOKUP(AB463,Catálogos!AP:AP,Catálogos!AO:AO)","v":"ERR"},{"$f":"CONCATENATE(LOOKUP(AC463,Catálogos!O:O,Catálogos!P:P),\".\",LOOKUP(AC463,Catálogos!O:O,Catálogos!Q:Q))","v":{"$error":"#N/A"}},{"$f":"IF(AC463=LOOKUP(CONCATENATE(AE463,\" - \",AC463),Catálogos!T:T,Catálogos!V:V),LOOKUP(CONCATENATE(AE463,\" - \",AC463),Catálogos!T:T,Catálogos!W:W),FALSE)","v":{"$error":"#N/A"}},{"$f":"LOOKUP(BD463,Catálogos!AM:AM,Catálogos!AL:AL)","v":"ERR"},{"$f":"LOOKUP(BK463,Catálogos!AM:AM,Catálogos!AL:AL)","v":"ERR"},{"$f":"LOOKUP(BR463,Catálogos!AM:AM,Catálogos!AL:AL)","v":"ERR"},{"$f":"LOOKUP(BY463,Catálogos!AM:AM,Catálogos!AL:AL)","v":"ERR"},0]
[null,null,null,null,null,null,null," -SELECCIONAR-"," -SELECCIONAR-"," -SELECCIONAR-",null," -SELECCIONAR-"," -SELECCIONAR-"," -SELECCIONAR-"," -SELECCIONAR-",null,null," -SELECCIONAR-",null,null,null," -SELECCIONAR-",null,null," -SELECCIONAR-",null," -SELECCIONAR-"," -SELECCIONAR-",null,{"$f":"IF(AC464=FALSE, LOOKUP(AC464,Catálogos!O:O),LOOKUP(AC464,Catálogos!O:O,Catálogos!R:R))","v":{"$error":"#N/A"}},"",null,null,null,{"$f":"IF(CD464=FALSE,\"COL. INCORRECTA\",LOOKUP(CONCATENATE(AE464,\" - \",AC464),Catálogos!T:T,Catálogos!Y:Y))","v":{"$error":"#N/A"}},{"$f":"IF(CD464=FALSE,\"COL. INCORRECTA\",LOOKUP(CONCATENATE(AE464,\" - \",AC464),Catálogos!T:T,Catálogos!X:X))","v":{"$error":"#N/A"}}," -SELECCIONAR-",""," -SELECCIONAR-",null,null," -SELECCIONAR-",null,null,null," -SELECCIONAR-",null,null," -SELECCIONAR-"," -SELECCIONAR-",null,null,null,null,null," -SELECCIONAR-",null,null,null,null,null,null," -SELECCIONAR-",null,null,null,null,null,null," -SELECCIONAR-",null,null,null,null,null,null," -SELECCIONAR-",null,null,{"$f":"LOOKUP(AB464,Catálogos!AP:AP,Catálogos!AO:AO)","v":"ERR"},{"$f":"CONCATENATE(LOOKUP(AC464,Catálogos!O:O,Catálogos!P:P),\".\",LOOKUP(AC464,Catálogos!O:O,Catálogos!Q:Q))","v":{"$error":"#N/A"}},{"$f":"IF(AC464=LOOKUP(CONCATENATE(AE464,\" - \",AC464),Catálogos!T:T,Catálogos!V:V),LOOKUP(CONCATENATE(AE464,\" - \",AC464),Catálogos!T:T,Catálogos!W:W),FALSE)","v":{"$error":"#N/A"}},{"$f":"LOOKUP(BD464,Catálogos!AM:AM,Catálogos!AL:AL)","v":"ERR"},{"$f":"LOOKUP(BK464,Catálogos!AM:AM,Catálogos!AL:AL)","v":"ERR"},{"$f":"LOOKUP(BR464,Catálogos!AM:AM,Catálogos!AL:AL)","v":"ERR"},{"$f":"LOOKUP(BY464,Catálogos!AM:AM,Catálogos!AL:AL)","v":"ERR"},0]
[null,null,null,null,null,null,null," -SELECCIONAR-"," -SELECCIONAR-"," -SELECCIONAR-",null," -SELECCIONAR-"," -SELECCIONAR-"," -SELECCIONAR-"," -SELECCIONAR-",null,null," -SELECCIONAR-",null,null,null," -SELECCIONAR-",null,null," -SELECCIONAR-",null," -SELECCIONAR-"," -SELECCIONAR-",null,{"$f":"IF(AC465=FALSE, LOOKUP(AC465,Catálogos!O:O),LOOKUP(AC465,Catálogos!O:O,Catálogos!R:R))","v":{"$error":"#N/A"}},"",null,null,null,{"$f":"IF(CD465=FALSE,\"COL. INCORRECTA\",LOOKUP(CONCATENATE(AE465,\" - \",AC465),Catálogos!T:T,Catálogos!Y:Y))","v":{"$error":"#N/A"}},{"$f":"IF(CD465=FALSE,\"COL. INCORRECTA\",LOOKUP(CONCATENATE(AE465,\" - \",AC465),Catálogos!T:T,Catálogos!X:X))","v":{"$error":"#N/A"}}," -SELECCIONAR-",""," -SELECCIONAR-",null,null," -SELECCIONAR-",null,null,null," -SELECCIONAR-",null,null," -SELECCIONAR-"," -SELECCIONAR-",null,null,null,null,null," -SELECCIONAR-",null,null,null,null,null,null," -SELECCIONAR-",null,null,null,null,null,null," -SELECCIONAR-",null,null,null,null,null,null," -SELECCIONAR-",null,null,{"$f":"LOOKUP(AB465,Catálogos!AP:AP,Catálogos!AO:AO)","v":"ERR"},{"$f":"CONCATENATE(LOOKUP(AC465,Catálogos!O:O,Catálogos!P:P),\".\",LOOKUP(AC465,Catálogos!O:O,Catálogos!Q:Q))","v":{"$error":"#N/A"}},{"$f":"IF(AC465=LOOKUP(CONCATENATE(AE465,\" - \",AC465),Catálogos!T:T,Catálogos!V:V),LOOKUP(CONCATENATE(AE465,\" - \",AC465),Catálogos!T:T,Catálogos!W:W),FALSE)","v":{"$error":"#N/A"}},{"$f":"LOOKUP(BD465,Catálogos!AM:AM,Catálogos!AL:AL)","v":"ERR"},{"$f":"LOOKUP(BK465,Catálogos!AM:AM,Catálogos!AL:AL)","v":"ERR"},{"$f":"LOOKUP(BR465,Catálogos!AM:AM,Catálogos!AL:AL)","v":"ERR"},{"$f":"LOOKUP(BY465,Catálogos!AM:AM,Catálogos!AL:AL)","v":"ERR"},0]
[null,null,null,null,null,null,null," -SELECCIONAR-"," -SELECCIONAR-"," -SELECCIONAR-",null," -SELECCIONAR-"," -SELECCIONAR-"," -SELECCIONAR-"," -SELECCIONAR-",null,null," -SELECCIONAR-",null,null,null," -SELECCIONAR-",null,null," -SELECCIONAR-",null," -SELECCIONAR-"," -SELECCIONAR-",null,{"$f":"IF(AC466=FALSE, LOOKUP(AC466,Catálogos!O:O),LOOKUP(AC466,Catálogos!O:O,Catálogos!R:R))","v":{"$error":"#N/A"}},"",null,null,null,{"$f":"IF(CD466=FALSE,\"COL. INCORRECTA\",LOOKUP(CONCATENATE(AE466,\" - \",AC466),Catálogos!T:T,Catálogos!Y:Y))","v":{"$error":"#N/A"}},{"$f":"IF(CD466=FALSE,\"COL. INCORRECTA\",LOOKUP(CONCATENATE(AE466,\" - \",AC466),Catálogos!T:T,Catálogos!X:X))","v":{"$error":"#N/A"}}," -SELECCIONAR-",""," -SELECCIONAR-",null,null," -SELECCIONAR-",null,null,null," -SELECCIONAR-",null,null," -SELECCIONAR-"," -SELECCIONAR-",null,null,null,null,null," -SELECCIONAR-",null,null,null,null,null,null," -SELECCIONAR-",null,null,null,null,null,null," -SELECCIONAR-",null,null,null,null,null,null," -SELECCIONAR-",null,null,{"$f":"LOOKUP(AB466,Catálogos!AP:AP,Catálogos!AO:AO)","v":"ERR"},{"$f":"CONCATENATE(LOOKUP(AC466,Catálogos!O:O,Catálogos!P:P),\".\",LOOKUP(AC466,Catálogos!O:O,Catálogos!Q:Q))","v":{"$error":"#N/A"}},{"$f":"IF(AC466=LOOKUP(CONCATENATE(AE466,\" - \",AC466),Catálogos!T:T,Catálogos!V:V),LOOKUP(CONCATENATE(AE466,\" - \",AC466),Catálogos!T:T,Catálogos!W:W),FALSE)","v":{"$error":"#N/A"}},{"$f":"LOOKUP(BD466,Catálogos!AM:AM,Catálogos!AL:AL)","v":"ERR"},{"$f":"LOOKUP(BK466,Catálogos!AM:AM,Catálogos!AL:AL)","v":"ERR"},{"$f":"LOOKUP(BR466,Catálogos!AM:AM,Catálogos!AL:AL)","v":"ERR"},{"$f":"LOOKUP(BY466,Catálogos!AM:AM,Catálogos!AL:AL)","v":"ERR"},0]
[null,null,null,null,null,null,null," -SELECCIONAR-"," -SELECCIONAR-"," -SELECCIONAR-",null," -SELECCIONAR-"," -SELECCIONAR-"," -SELECCIONAR-"," -SELECCIONAR-",null,null," -SELECCIONAR-",null,null,null," -SELECCIONAR-",null,null," -SELECCIONAR-",null," -SELECCIONAR-"," -SELECCIONAR-",null,{"$f":"IF(AC467=FALSE, LOOKUP(AC467,Catálogos!O:O),LOOKUP(AC467,Catálogos!O:O,Catálogos!R:R))","v":{"$error":"#N/A"}},"",null,null,null,{"$f":"IF(CD467=FALSE,\"COL. INCORRECTA\",LOOKUP(CONCATENATE(AE467,\" - \",AC467),Catálogos!T:T,Catálogos!Y:Y))","v":{"$error":"#N/A"}},{"$f":"IF(CD467=FALSE,\"COL. INCORRECTA\",LOOKUP(CONCATENATE(AE467,\" - \",AC467),Catálogos!T:T,Catálogos!X:X))","v":{"$error":"#N/A"}}," -SELECCIONAR-",""," -SELECCIONAR-",null,null," -SELECCIONAR-",null,null,null," -SELECCIONAR-",null,null," -SELECCIONAR-"," -SELECCIONAR-",null,null,null,null,null," -SELECCIONAR-",null,null,null,null,null,null," -SELECCIONAR-",null,null,null,null,null,null," -SELECCIONAR-",null,null,null,null,null,null," -SELECCIONAR-",null,null,{"$f":"LOOKUP(AB467,Catálogos!AP:AP,Catálogos!AO:AO)","v":"ERR"},{"$f":"CONCATENATE(LOOKUP(AC467,Catálogos!O:O,Catálogos!P:P),\".\",LOOKUP(AC467,Catálogos!O:O,Catálogos!Q:Q))","v":{"$error":"#N/A"}},{"$f":"IF(AC467=LOOKUP(CONCATENATE(AE467,\" - \",AC467),Catálogos!T:T,Catálogos!V:V),LOOKUP(CONCATENATE(AE467,\" - \",AC467),Catálogos!T:T,Catálogos!W:W),FALSE)","v":{"$error":"#N/A"}},{"$f":"LOOKUP(BD467,Catálogos!AM:AM,Catálogos!AL:AL)","v":"ERR"},{"$f":"LOOKUP(BK467,Catálogos!AM:AM,Catálogos!AL:AL)","v":"ERR"},{"$f":"LOOKUP(BR467,Catálogos!AM:AM,Catálogos!AL:AL)","v":"ERR"},{"$f":"LOOKUP(BY467,Catálogos!AM:AM,Catálogos!AL:AL)","v":"ERR"},0]
[null,null,null,null,null,null,null," -SELECCIONAR-"," -SELECCIONAR-"," -SELECCIONAR-",null," -SELECCIONAR-"," -SELECCIONAR-"," -SELECCIONAR-"," -SELECCIONAR-",null,null," -SELECCIONAR-",null,null,null," -SELECCIONAR-",null,null," -SELECCIONAR-",null," -SELECCIONAR-"," -SELECCIONAR-",null,{"$f":"IF(AC468=FALSE, LOOKUP(AC468,Catálogos!O:O),LOOKUP(AC468,Catálogos!O:O,Catálogos!R:R))","v":{"$error":"#N/A"}},"",null,null,null,{"$f":"IF(CD468=FALSE,\"COL. INCORRECTA\",LOOKUP(CONCATENATE(AE468,\" - \",AC468),Catálogos!T:T,Catálogos!Y:Y))","v":{"$error":"#N/A"}},{"$f":"IF(CD468=FALSE,\"COL. INCORRECTA\",LOOKUP(CONCATENATE(AE468,\" - \",AC468),Catálogos!T:T,Catálogos!X:X))","v":{"$error":"#N/A"}}," -SELECCIONAR-",""," -SELECCIONAR-",null,null," -SELECCIONAR-",null,null,null," -SELECCIONAR-",null,null," -SELECCIONAR-"," -SELECCIONAR-",null,null,null,null,null," -SELECCIONAR-",null,null,null,null,null,null," -SELECCIONAR-",null,null,null,null,null,null," -SELECCIONAR-",null,null,null,null,null,null," -SELECCIONAR-",null,null,{"$f":"LOOKUP(AB468,Catálogos!AP:AP,Catálogos!AO:AO)","v":"ERR"},{"$f":"CONCATENATE(LOOKUP(AC468,Catálogos!O:O,Catálogos!P:P),\".\",LOOKUP(AC468,Catálogos!O:O,Catálogos!Q:Q))","v":{"$error":"#N/A"}},{"$f":"IF(AC468=LOOKUP(CONCATENATE(AE468,\" - \",AC468),Catálogos!T:T,Catálogos!V:V),LOOKUP(CONCATENATE(AE468,\" - \",AC468),Catálogos!T:T,Catálogos!W:W),FALSE)","v":{"$error":"#N/A"}},{"$f":"LOOKUP(BD468,Catálogos!AM:AM,Catálogos!AL:AL)","v":"ERR"},{"$f":"LOOKUP(BK468,Catálogos!AM:AM,Catálogos!AL:AL)","v":"ERR"},{"$f":"LOOKUP(BR468,Catálogos!AM:AM,Catálogos!AL:AL)","v":"ERR"},{"$f":"LOOKUP(BY468,Catálogos!AM:AM,Catálogos!AL:AL)","v":"ERR"},0]
[null,null,null,null,null,null,null," -SELECCIONAR-"," -SELECCIONAR-"," -SELECCIONAR-",null," -SELECCIONAR-"," -SELECCIONAR-"," -SELECCIONAR-"," -SELECCIONAR-",null,null," -SELECCIONAR-",null,null,null," -SELECCIONAR-",null,null," -SELECCIONAR-",null," -SELECCIONAR-"," -SELECCIONAR-",null,{"$f":"IF(AC469=FALSE, LOOKUP(AC469,Catálogos!O:O),LOOKUP(AC469,Catálogos!O:O,Catálogos!R:R))","v":{"$error":"#N/A"}},"",null,null,null,{"$f":"IF(CD469=FALSE,\"COL. INCORRECTA\",LOOKUP(CONCATENATE(AE469,\" - \",AC469),Catálogos!T:T,Catálogos!Y:Y))","v":{"$error":"#N/A"}},{"$f":"IF(CD469=FALSE,\"COL. INCORRECTA\",LOOKUP(CONCATENATE(AE469,\" - \",AC469),Catálogos!T:T,Catálogos!X:X))","v":{"$error":"#N/A"}}," -SELECCIONAR-",""," -SELECCIONAR-",null,null," -SELECCIONAR-",null,null,null," -SELECCIONAR-",null,null," -SELECCIONAR-"," -SELECCIONAR-",null,null,null,null,null," -SELECCIONAR-",null,null,null,null,null,null," -SELECCIONAR-",null,null,null,null,null,null," -SELECCIONAR-",null,null,null,null,null,null," -SELECCIONAR-",null,null,{"$f":"LOOKUP(AB469,Catálogos!AP:AP,Catálogos!AO:AO)","v":"ERR"},{"$f":"CONCATENATE(LOOKUP(AC469,Catálogos!O:O,Catálogos!P:P),\".\",LOOKUP(AC469,Catálogos!O:O,Catálogos!Q:Q))","v":{"$error":"#N/A"}},{"$f":"IF(AC469=LOOKUP(CONCATENATE(AE469,\" - \",AC469),Catálogos!T:T,Catálogos!V:V),LOOKUP(CONCATENATE(AE469,\" - \",AC469),Catálogos!T:T,Catálogos!W:W),FALSE)","v":{"$error":"#N/A"}},{"$f":"LOOKUP(BD469,Catálogos!AM:AM,Catálogos!AL:AL)","v":"ERR"},{"$f":"LOOKUP(BK469,Catálogos!AM:AM,Catálogos!AL:AL)","v":"ERR"},{"$f":"LOOKUP(BR469,Catálogos!AM:AM,Catálogos!AL:AL)","v":"ERR"},{"$f":"LOOKUP(BY469,Catálogos!AM:AM,Catálogos!AL:AL)","v":"ERR"},0]
[null,null,null,null,null,null,null," -SELECCIONAR-"," -SELECCIONAR-"," -SELECCIONAR-",null," -SELECCIONAR-"," -SELECCIONAR-"," -SELECCIONAR-"," -SELECCIONAR-",null,null," -SELECCIONAR-",null,null,null," -SELECCIONAR-",null,null," -SELECCIONAR-",null," -SELECCIONAR-"," -SELECCIONAR-",null,{"$f":"IF(AC470=FALSE, LOOKUP(AC470,Catálogos!O:O),LOOKUP(AC470,Catálogos!O:O,Catálogos!R:R))","v":{"$error":"#N/A"}},"",null,null,null,{"$f":"IF(CD470=FALSE,\"COL. INCORRECTA\",LOOKUP(CONCATENATE(AE470,\" - \",AC470),Catálogos!T:T,Catálogos!Y:Y))","v":{"$error":"#N/A"}},{"$f":"IF(CD470=FALSE,\"COL. INCORRECTA\",LOOKUP(CONCATENATE(AE470,\" - \",AC470),Catálogos!T:T,Catálogos!X:X))","v":{"$error":"#N/A"}}," -SELECCIONAR-",""," -SELECCIONAR-",null,null," -SELECCIONAR-",null,null,null," -SELECCIONAR-",null,null," -SELECCIONAR-"," -SELECCIONAR-",null,null,null,null,null," -SELECCIONAR-",null,null,null,null,null,null," -SELECCIONAR-",null,null,null,null,null,null," -SELECCIONAR-",null,null,null,null,null,null," -SELECCIONAR-",null,null,{"$f":"LOOKUP(AB470,Catálogos!AP:AP,Catálogos!AO:AO)","v":"ERR"},{"$f":"CONCATENATE(LOOKUP(AC470,Catálogos!O:O,Catálogos!P:P),\".\",LOOKUP(AC470,Catálogos!O:O,Catálogos!Q:Q))","v":{"$error":"#N/A"}},{"$f":"IF(AC470=LOOKUP(CONCATENATE(AE470,\" - \",AC470),Catálogos!T:T,Catálogos!V:V),LOOKUP(CONCATENATE(AE470,\" - \",AC470),Catálogos!T:T,Catálogos!W:W),FALSE)","v":{"$error":"#N/A"}},{"$f":"LOOKUP(BD470,Catálogos!AM:AM,Catálogos!AL:AL)","v":"ERR"},{"$f":"LOOKUP(BK470,Catálogos!AM:AM,Catálogos!AL:AL)","v":"ERR"},{"$f":"LOOKUP(BR470,Catálogos!AM:AM,Catálogos!AL:AL)","v":"ERR"},{"$f":"LOOKUP(BY470,Catálogos!AM:AM,Catálogos!AL:AL)","v":"ERR"},0]
[null,null,null,null,null,null,null," -SELECCIONAR-"," -SELECCIONAR-"," -SELECCIONAR-",null," -SELECCIONAR-"," -SELECCIONAR-"," -SELECCIONAR-"," -SELECCIONAR-",null,null," -SELECCIONAR-",null,null,null," -SELECCIONAR-",null,null," -SELECCIONAR-",null," -SELECCIONAR-"," -SELECCIONAR-",null,{"$f":"IF(AC471=FALSE, LOOKUP(AC471,Catálogos!O:O),LOOKUP(AC471,Catálogos!O:O,Catálogos!R:R))","v":{"$error":"#N/A"}},"",null,null,null,{"$f":"IF(CD471=FALSE,\"COL. INCORRECTA\",LOOKUP(CONCATENATE(AE471,\" - \",AC471),Catálogos!T:T,Catálogos!Y:Y))","v":{"$error":"#N/A"}},{"$f":"IF(CD471=FALSE,\"COL. INCORRECTA\",LOOKUP(CONCATENATE(AE471,\" - \",AC471),Catálogos!T:T,Catálogos!X:X))","v":{"$error":"#N/A"}}," -SELECCIONAR-",""," -SELECCIONAR-",null,null," -SELECCIONAR-",null,null,null," -SELECCIONAR-",null,null," -SELECCIONAR-"," -SELECCIONAR-",null,null,null,null,null," -SELECCIONAR-",null,null,null,null,null,null," -SELECCIONAR-",null,null,null,null,null,null," -SELECCIONAR-",null,null,null,null,null,null," -SELECCIONAR-",null,null,{"$f":"LOOKUP(AB471,Catálogos!AP:AP,Catálogos!AO:AO)","v":"ERR"},{"$f":"CONCATENATE(LOOKUP(AC471,Catálogos!O:O,Catálogos!P:P),\".\",LOOKUP(AC471,Catálogos!O:O,Catálogos!Q:Q))","v":{"$error":"#N/A"}},{"$f":"IF(AC471=LOOKUP(CONCATENATE(AE471,\" - \",AC471),Catálogos!T:T,Catálogos!V:V),LOOKUP(CONCATENATE(AE471,\" - \",AC471),Catálogos!T:T,Catálogos!W:W),FALSE)","v":{"$error":"#N/A"}},{"$f":"LOOKUP(BD471,Catálogos!AM:AM,Catálogos!AL:AL)","v":"ERR"},{"$f":"LOOKUP(BK471,Catálogos!AM:AM,Catálogos!AL:AL)","v":"ERR"},{"$f":"LOOKUP(BR471,Catálogos!AM:AM,Catálogos!AL:AL)","v":"ERR"},{"$f":"LOOKUP(BY471,Catálogos!AM:AM,Catálogos!AL:AL)","v":"ERR"},0]
[null,null,null,null,null,null,null," -SELECCIONAR-"," -SELECCIONAR-"," -SELECCIONAR-",null," -SELECCIONAR-"," -SELECCIONAR-"," -SELECCIONAR-"," -SELECCIONAR-",null,null," -SELECCIONAR-",null,null,null," -SELECCIONAR-",null,null," -SELECCIONAR-",null," -SELECCIONAR-"," -SELECCIONAR-",null,{"$f":"IF(AC472=FALSE, LOOKUP(AC472,Catálogos!O:O),LOOKUP(AC472,Catálogos!O:O,Catálogos!R:R))","v":{"$error":"#N/A"}},"",null,null,null,{"$f":"IF(CD472=FALSE,\"COL. INCORRECTA\",LOOKUP(CONCATENATE(AE472,\" - \",AC472),Catálogos!T:T,Catálogos!Y:Y))","v":{"$error":"#N/A"}},{"$f":"IF(CD472=FALSE,\"COL. INCORRECTA\",LOOKUP(CONCATENATE(AE472,\" - \",AC472),Catálogos!T:T,Catálogos!X:X))","v":{"$error":"#N/A"}}," -SELECCIONAR-",""," -SELECCIONAR-",null,null," -SELECCIONAR-",null,null,null," -SELECCIONAR-",null,null," -SELECCIONAR-"," -SELECCIONAR-",null,null,null,null,null," -SELECCIONAR-",null,null,null,null,null,null," -SELECCIONAR-",null,null,null,null,null,null," -SELECCIONAR-",null,null,null,null,null,null," -SELECCIONAR-",null,null,{"$f":"LOOKUP(AB472,Catálogos!AP:AP,Catálogos!AO:AO)","v":"ERR"},{"$f":"CONCATENATE(LOOKUP(AC472,Catálogos!O:O,Catálogos!P:P),\".\",LOOKUP(AC472,Catálogos!O:O,Catálogos!Q:Q))","v":{"$error":"#N/A"}},{"$f":"IF(AC472=LOOKUP(CONCATENATE(AE472,\" - \",AC472),Catálogos!T:T,Catálogos!V:V),LOOKUP(CONCATENATE(AE472,\" - \",AC472),Catálogos!T:T,Catálogos!W:W),FALSE)","v":{"$error":"#N/A"}},{"$f":"LOOKUP(BD472,Catálogos!AM:AM,Catálogos!AL:AL)","v":"ERR"},{"$f":"LOOKUP(BK472,Catálogos!AM:AM,Catálogos!AL:AL)","v":"ERR"},{"$f":"LOOKUP(BR472,Catálogos!AM:AM,Catálogos!AL:AL)","v":"ERR"},{"$f":"LOOKUP(BY472,Catálogos!AM:AM,Catálogos!AL:AL)","v":"ERR"},0]
[null,null,null,null,null,null,null," -SELECCIONAR-"," -SELECCIONAR-"," -SELECCIONAR-",null," -SELECCIONAR-"," -SELECCIONAR-"," -SELECCIONAR-"," -SELECCIONAR-",null,null," -SELECCIONAR-",null,null,null," -SELECCIONAR-",null,null," -SELECCIONAR-",null," -SELECCIONAR-"," -SELECCIONAR-",null,{"$f":"IF(AC473=FALSE, LOOKUP(AC473,Catálogos!O:O),LOOKUP(AC473,Catálogos!O:O,Catálogos!R:R))","v":{"$error":"#N/A"}},"",null,null,null,{"$f":"IF(CD473=FALSE,\"COL. INCORRECTA\",LOOKUP(CONCATENATE(AE473,\" - \",AC473),Catálogos!T:T,Catálogos!Y:Y))","v":{"$error":"#N/A"}},{"$f":"IF(CD473=FALSE,\"COL. INCORRECTA\",LOOKUP(CONCATENATE(AE473,\" - \",AC473),Catálogos!T:T,Catálogos!X:X))","v":{"$error":"#N/A"}}," -SELECCIONAR-",""," -SELECCIONAR-",null,null," -SELECCIONAR-",null,null,null," -SELECCIONAR-",null,null," -SELECCIONAR-"," -SELECCIONAR-",null,null,null,null,null," -SELECCIONAR-",null,null,null,null,null,null," -SELECCIONAR-",null,null,null,null,null,null," -SELECCIONAR-",null,null,null,null,null,null," -SELECCIONAR-",null,null,{"$f":"LOOKUP(AB473,Catálogos!AP:AP,Catálogos!AO:AO)","v":"ERR"},{"$f":"CONCATENATE(LOOKUP(AC473,Catálogos!O:O,Catálogos!P:P),\".\",LOOKUP(AC473,Catálogos!O:O,Catálogos!Q:Q))","v":{"$error":"#N/A"}},{"$f":"IF(AC473=LOOKUP(CONCATENATE(AE473,\" - \",AC473),Catálogos!T:T,Catálogos!V:V),LOOKUP(CONCATENATE(AE473,\" - \",AC473),Catálogos!T:T,Catálogos!W:W),FALSE)","v":{"$error":"#N/A"}},{"$f":"LOOKUP(BD473,Catálogos!AM:AM,Catálogos!AL:AL)","v":"ERR"},{"$f":"LOOKUP(BK473,Catálogos!AM:AM,Catálogos!AL:AL)","v":"ERR"},{"$f":"LOOKUP(BR473,Catálogos!AM:AM,Catálogos!AL:AL)","v":"ERR"},{"$f":"LOOKUP(BY473,Catálogos!AM:AM,Catálogos!AL:AL)","v":"ERR"},0]
[null,null,null,null,null,null,null," -SELECCIONAR-"," -SELECCIONAR-"," -SELECCIONAR-",null," -SELECCIONAR-"," -SELECCIONAR-"," -SELECCIONAR-"," -SELECCIONAR-",null,null," -SELECCIONAR-",null,null,null," -SELECCIONAR-",null,null," -SELECCIONAR-",null," -SELECCIONAR-"," -SELECCIONAR-",null,{"$f":"IF(AC474=FALSE, LOOKUP(AC474,Catálogos!O:O),LOOKUP(AC474,Catálogos!O:O,Catálogos!R:R))","v":{"$error":"#N/A"}},"",null,null,null,{"$f":"IF(CD474=FALSE,\"COL. INCORRECTA\",LOOKUP(CONCATENATE(AE474,\" - \",AC474),Catálogos!T:T,Catálogos!Y:Y))","v":{"$error":"#N/A"}},{"$f":"IF(CD474=FALSE,\"COL. INCORRECTA\",LOOKUP(CONCATENATE(AE474,\" - \",AC474),Catálogos!T:T,Catálogos!X:X))","v":{"$error":"#N/A"}}," -SELECCIONAR-",""," -SELECCIONAR-",null,null," -SELECCIONAR-",null,null,null," -SELECCIONAR-",null,null," -SELECCIONAR-"," -SELECCIONAR-",null,null,null,null,null," -SELECCIONAR-",null,null,null,null,null,null," -SELECCIONAR-",null,null,null,null,null,null," -SELECCIONAR-",null,null,null,null,null,null," -SELECCIONAR-",null,null,{"$f":"LOOKUP(AB474,Catálogos!AP:AP,Catálogos!AO:AO)","v":"ERR"},{"$f":"CONCATENATE(LOOKUP(AC474,Catálogos!O:O,Catálogos!P:P),\".\",LOOKUP(AC474,Catálogos!O:O,Catálogos!Q:Q))","v":{"$error":"#N/A"}},{"$f":"IF(AC474=LOOKUP(CONCATENATE(AE474,\" - \",AC474),Catálogos!T:T,Catálogos!V:V),LOOKUP(CONCATENATE(AE474,\" - \",AC474),Catálogos!T:T,Catálogos!W:W),FALSE)","v":{"$error":"#N/A"}},{"$f":"LOOKUP(BD474,Catálogos!AM:AM,Catálogos!AL:AL)","v":"ERR"},{"$f":"LOOKUP(BK474,Catálogos!AM:AM,Catálogos!AL:AL)","v":"ERR"},{"$f":"LOOKUP(BR474,Catálogos!AM:AM,Catálogos!AL:AL)","v":"ERR"},{"$f":"LOOKUP(BY474,Catálogos!AM:AM,Catálogos!AL:AL)","v":"ERR"},0]
[null,null,null,null,null,null,null," -SELECCIONAR-"," -SELECCIONAR-"," -SELECCIONAR-",null," -SELECCIONAR-"," -SELECCIONAR-"," -SELECCIONAR-"," -SELECCIONAR-",null,null," -SELECCIONAR-",null,null,null," -SELECCIONAR-",null,null," -SELECCIONAR-",null," -SELECCIONAR-"," -SELECCIONAR-",null,{"$f":"IF(AC475=FALSE, LOOKUP(AC475,Catálogos!O:O),LOOKUP(AC475,Catálogos!O:O,Catálogos!R:R))","v":{"$error":"#N/A"}},"",null,null,null,{"$f":"IF(CD475=FALSE,\"COL. INCORRECTA\",LOOKUP(CONCATENATE(AE475,\" - \",AC475),Catálogos!T:T,Catálogos!Y:Y))","v":{"$error":"#N/A"}},{"$f":"IF(CD475=FALSE,\"COL. INCORRECTA\",LOOKUP(CONCATENATE(AE475,\" - \",AC475),Catálogos!T:T,Catálogos!X:X))","v":{"$error":"#N/A"}}," -SELECCIONAR-",""," -SELECCIONAR-",null,null," -SELECCIONAR-",null,null,null," -SELECCIONAR-",null,null," -SELECCIONAR-"," -SELECCIONAR-",null,null,null,null,null," -SELECCIONAR-",null,null,null,null,null,null," -SELECCIONAR-",null,null,null,null,null,null," -SELECCIONAR-",null,null,null,null,null,null," -SELECCIONAR-",null,null,{"$f":"LOOKUP(AB475,Catálogos!AP:AP,Catálogos!AO:AO)","v":"ERR"},{"$f":"CONCATENATE(LOOKUP(AC475,Catálogos!O:O,Catálogos!P:P),\".\",LOOKUP(AC475,Catálogos!O:O,Catálogos!Q:Q))","v":{"$error":"#N/A"}},{"$f":"IF(AC475=LOOKUP(CONCATENATE(AE475,\" - \",AC475),Catálogos!T:T,Catálogos!V:V),LOOKUP(CONCATENATE(AE475,\" - \",AC475),Catálogos!T:T,Catálogos!W:W),FALSE)","v":{"$error":"#N/A"}},{"$f":"LOOKUP(BD475,Catálogos!AM:AM,Catálogos!AL:AL)","v":"ERR"},{"$f":"LOOKUP(BK475,Catálogos!AM:AM,Catálogos!AL:AL)","v":"ERR"},{"$f":"LOOKUP(BR475,Catálogos!AM:AM,Catálogos!AL:AL)","v":"ERR"},{"$f":"LOOKUP(BY475,Catálogos!AM:AM,Catálogos!AL:AL)","v":"ERR"},0]
[null,null,null,null,null,null,null," -SELECCIONAR-"," -SELECCIONAR-"," -SELECCIONAR-",null," -SELECCIONAR-"," -SELECCIONAR-"," -SELECCIONAR-"," -SELECCIONAR-",null,null," -SELECCIONAR-",null,null,null," -SELECCIONAR-",null,null," -SELECCIONAR-",null," -SELECCIONAR-"," -SELECCIONAR-",null,{"$f":"IF(AC476=FALSE, LOOKUP(AC476,Catálogos!O:O),LOOKUP(AC476,Catálogos!O:O,Catálogos!R:R))","v":{"$error":"#N/A"}},"",null,null,null,{"$f":"IF(CD476=FALSE,\"COL. INCORRECTA\",LOOKUP(CONCATENATE(AE476,\" - \",AC476),Catálogos!T:T,Catálogos!Y:Y))","v":{"$error":"#N/A"}},{"$f":"IF(CD476=FALSE,\"COL. INCORRECTA\",LOOKUP(CONCATENATE(AE476,\" - \",AC476),Catálogos!T:T,Catálogos!X:X))","v":{"$error":"#N/A"}}," -SELECCIONAR-",""," -SELECCIONAR-",null,null," -SELECCIONAR-",null,null,null," -SELECCIONAR-",null,null," -SELECCIONAR-"," -SELECCIONAR-",null,null,null,null,null," -SELECCIONAR-",null,null,null,null,null,null," -SELECCIONAR-",null,null,null,null,null,null," -SELECCIONAR-",null,null,null,null,null,null," -SELECCIONAR-",null,null,{"$f":"LOOKUP(AB476,Catálogos!AP:AP,Catálogos!AO:AO)","v":"ERR"},{"$f":"CONCATENATE(LOOKUP(AC476,Catálogos!O:O,Catálogos!P:P),\".\",LOOKUP(AC476,Catálogos!O:O,Catálogos!Q:Q))","v":{"$error":"#N/A"}},{"$f":"IF(AC476=LOOKUP(CONCATENATE(AE476,\" - \",AC476),Catálogos!T:T,Catálogos!V:V),LOOKUP(CONCATENATE(AE476,\" - \",AC476),Catálogos!T:T,Catálogos!W:W),FALSE)","v":{"$error":"#N/A"}},{"$f":"LOOKUP(BD476,Catálogos!AM:AM,Catálogos!AL:AL)","v":"ERR"},{"$f":"LOOKUP(BK476,Catálogos!AM:AM,Catálogos!AL:AL)","v":"ERR"},{"$f":"LOOKUP(BR476,Catálogos!AM:AM,Catálogos!AL:AL)","v":"ERR"},{"$f":"LOOKUP(BY476,Catálogos!AM:AM,Catálogos!AL:AL)","v":"ERR"},0]
[null,null,null,null,null,null,null," -SELECCIONAR-"," -SELECCIONAR-"," -SELECCIONAR-",null," -SELECCIONAR-"," -SELECCIONAR-"," -SELECCIONAR-"," -SELECCIONAR-",null,null," -SELECCIONAR-",null,null,null," -SELECCIONAR-",null,null," -SELECCIONAR-",null," -SELECCIONAR-"," -SELECCIONAR-",null,{"$f":"IF(AC477=FALSE, LOOKUP(AC477,Catálogos!O:O),LOOKUP(AC477,Catálogos!O:O,Catálogos!R:R))","v":{"$error":"#N/A"}},"",null,null,null,{"$f":"IF(CD477=FALSE,\"COL. INCORRECTA\",LOOKUP(CONCATENATE(AE477,\" - \",AC477),Catálogos!T:T,Catálogos!Y:Y))","v":{"$error":"#N/A"}},{"$f":"IF(CD477=FALSE,\"COL. INCORRECTA\",LOOKUP(CONCATENATE(AE477,\" - \",AC477),Catálogos!T:T,Catálogos!X:X))","v":{"$error":"#N/A"}}," -SELECCIONAR-",""," -SELECCIONAR-",null,null," -SELECCIONAR-",null,null,null," -SELECCIONAR-",null,null," -SELECCIONAR-"," -SELECCIONAR-",null,null,null,null,null," -SELECCIONAR-",null,null,null,null,null,null," -SELECCIONAR-",null,null,null,null,null,null," -SELECCIONAR-",null,null,null,null,null,null," -SELECCIONAR-",null,null,{"$f":"LOOKUP(AB477,Catálogos!AP:AP,Catálogos!AO:AO)","v":"ERR"},{"$f":"CONCATENATE(LOOKUP(AC477,Catálogos!O:O,Catálogos!P:P),\".\",LOOKUP(AC477,Catálogos!O:O,Catálogos!Q:Q))","v":{"$error":"#N/A"}},{"$f":"IF(AC477=LOOKUP(CONCATENATE(AE477,\" - \",AC477),Catálogos!T:T,Catálogos!V:V),LOOKUP(CONCATENATE(AE477,\" - \",AC477),Catálogos!T:T,Catálogos!W:W),FALSE)","v":{"$error":"#N/A"}},{"$f":"LOOKUP(BD477,Catálogos!AM:AM,Catálogos!AL:AL)","v":"ERR"},{"$f":"LOOKUP(BK477,Catálogos!AM:AM,Catálogos!AL:AL)","v":"ERR"},{"$f":"LOOKUP(BR477,Catálogos!AM:AM,Catálogos!AL:AL)","v":"ERR"},{"$f":"LOOKUP(BY477,Catálogos!AM:AM,Catálogos!AL:AL)","v":"ERR"},0]
[null,null,null,null,null,null,null," -SELECCIONAR-"," -SELECCIONAR-"," -SELECCIONAR-",null," -SELECCIONAR-"," -SELECCIONAR-"," -SELECCIONAR-"," -SELECCIONAR-",null,null," -SELECCIONAR-",null,null,null," -SELECCIONAR-",null,null," -SELECCIONAR-",null," -SELECCIONAR-"," -SELECCIONAR-",null,{"$f":"IF(AC478=FALSE, LOOKUP(AC478,Catálogos!O:O),LOOKUP(AC478,Catálogos!O:O,Catálogos!R:R))","v":{"$error":"#N/A"}},"",null,null,null,{"$f":"IF(CD478=FALSE,\"COL. INCORRECTA\",LOOKUP(CONCATENATE(AE478,\" - \",AC478),Catálogos!T:T,Catálogos!Y:Y))","v":{"$error":"#N/A"}},{"$f":"IF(CD478=FALSE,\"COL. INCORRECTA\",LOOKUP(CONCATENATE(AE478,\" - \",AC478),Catálogos!T:T,Catálogos!X:X))","v":{"$error":"#N/A"}}," -SELECCIONAR-",""," -SELECCIONAR-",null,null," -SELECCIONAR-",null,null,null," -SELECCIONAR-",null,null," -SELECCIONAR-"," -SELECCIONAR-",null,null,null,null,null," -SELECCIONAR-",null,null,null,null,null,null," -SELECCIONAR-",null,null,null,null,null,null," -SELECCIONAR-",null,null,null,null,null,null," -SELECCIONAR-",null,null,{"$f":"LOOKUP(AB478,Catálogos!AP:AP,Catálogos!AO:AO)","v":"ERR"},{"$f":"CONCATENATE(LOOKUP(AC478,Catálogos!O:O,Catálogos!P:P),\".\",LOOKUP(AC478,Catálogos!O:O,Catálogos!Q:Q))","v":{"$error":"#N/A"}},{"$f":"IF(AC478=LOOKUP(CONCATENATE(AE478,\" - \",AC478),Catálogos!T:T,Catálogos!V:V),LOOKUP(CONCATENATE(AE478,\" - \",AC478),Catálogos!T:T,Catálogos!W:W),FALSE)","v":{"$error":"#N/A"}},{"$f":"LOOKUP(BD478,Catálogos!AM:AM,Catálogos!AL:AL)","v":"ERR"},{"$f":"LOOKUP(BK478,Catálogos!AM:AM,Catálogos!AL:AL)","v":"ERR"},{"$f":"LOOKUP(BR478,Catálogos!AM:AM,Catálogos!AL:AL)","v":"ERR"},{"$f":"LOOKUP(BY478,Catálogos!AM:AM,Catálogos!AL:AL)","v":"ERR"},0]
[null,null,null,null,null,null,null," -SELECCIONAR-"," -SELECCIONAR-"," -SELECCIONAR-",null," -SELECCIONAR-"," -SELECCIONAR-"," -SELECCIONAR-"," -SELECCIONAR-",null,null," -SELECCIONAR-",null,null,null," -SELECCIONAR-",null,null," -SELECCIONAR-",null," -SELECCIONAR-"," -SELECCIONAR-",null,{"$f":"IF(AC479=FALSE, LOOKUP(AC479,Catálogos!O:O),LOOKUP(AC479,Catálogos!O:O,Catálogos!R:R))","v":{"$error":"#N/A"}},"",null,null,null,{"$f":"IF(CD479=FALSE,\"COL. INCORRECTA\",LOOKUP(CONCATENATE(AE479,\" - \",AC479),Catálogos!T:T,Catálogos!Y:Y))","v":{"$error":"#N/A"}},{"$f":"IF(CD479=FALSE,\"COL. INCORRECTA\",LOOKUP(CONCATENATE(AE479,\" - \",AC479),Catálogos!T:T,Catálogos!X:X))","v":{"$error":"#N/A"}}," -SELECCIONAR-",""," -SELECCIONAR-",null,null," -SELECCIONAR-",null,null,null," -SELECCIONAR-",null,null," -SELECCIONAR-"," -SELECCIONAR-",null,null,null,null,null," -SELECCIONAR-",null,null,null,null,null,null," -SELECCIONAR-",null,null,null,null,null,null," -SELECCIONAR-",null,null,null,null,null,null," -SELECCIONAR-",null,null,{"$f":"LOOKUP(AB479,Catálogos!AP:AP,Catálogos!AO:AO)","v":"ERR"},{"$f":"CONCATENATE(LOOKUP(AC479,Catálogos!O:O,Catálogos!P:P),\".\",LOOKUP(AC479,Catálogos!O:O,Catálogos!Q:Q))","v":{"$error":"#N/A"}},{"$f":"IF(AC479=LOOKUP(CONCATENATE(AE479,\" - \",AC479),Catálogos!T:T,Catálogos!V:V),LOOKUP(CONCATENATE(AE479,\" - \",AC479),Catálogos!T:T,Catálogos!W:W),FALSE)","v":{"$error":"#N/A"}},{"$f":"LOOKUP(BD479,Catálogos!AM:AM,Catálogos!AL:AL)","v":"ERR"},{"$f":"LOOKUP(BK479,Catálogos!AM:AM,Catálogos!AL:AL)","v":"ERR"},{"$f":"LOOKUP(BR479,Catálogos!AM:AM,Catálogos!AL:AL)","v":"ERR"},{"$f":"LOOKUP(BY479,Catálogos!AM:AM,Catálogos!AL:AL)","v":"ERR"},0]
[null,null,null,null,null,null,null," -SELECCIONAR-"," -SELECCIONAR-"," -SELECCIONAR-",null," -SELECCIONAR-"," -SELECCIONAR-"," -SELECCIONAR-"," -SELECCIONAR-",null,null," -SELECCIONAR-",null,null,null," -SELECCIONAR-",null,null," -SELECCIONAR-",null," -SELECCIONAR-"," -SELECCIONAR-",null,{"$f":"IF(AC480=FALSE, LOOKUP(AC480,Catálogos!O:O),LOOKUP(AC480,Catálogos!O:O,Catálogos!R:R))","v":{"$error":"#N/A"}},"",null,null,null,{"$f":"IF(CD480=FALSE,\"COL. INCORRECTA\",LOOKUP(CONCATENATE(AE480,\" - \",AC480),Catálogos!T:T,Catálogos!Y:Y))","v":{"$error":"#N/A"}},{"$f":"IF(CD480=FALSE,\"COL. INCORRECTA\",LOOKUP(CONCATENATE(AE480,\" - \",AC480),Catálogos!T:T,Catálogos!X:X))","v":{"$error":"#N/A"}}," -SELECCIONAR-",""," -SELECCIONAR-",null,null," -SELECCIONAR-",null,null,null," -SELECCIONAR-",null,null," -SELECCIONAR-"," -SELECCIONAR-",null,null,null,null,null," -SELECCIONAR-",null,null,null,null,null,null," -SELECCIONAR-",null,null,null,null,null,null," -SELECCIONAR-",null,null,null,null,null,null," -SELECCIONAR-",null,null,{"$f":"LOOKUP(AB480,Catálogos!AP:AP,Catálogos!AO:AO)","v":"ERR"},{"$f":"CONCATENATE(LOOKUP(AC480,Catálogos!O:O,Catálogos!P:P),\".\",LOOKUP(AC480,Catálogos!O:O,Catálogos!Q:Q))","v":{"$error":"#N/A"}},{"$f":"IF(AC480=LOOKUP(CONCATENATE(AE480,\" - \",AC480),Catálogos!T:T,Catálogos!V:V),LOOKUP(CONCATENATE(AE480,\" - \",AC480),Catálogos!T:T,Catálogos!W:W),FALSE)","v":{"$error":"#N/A"}},{"$f":"LOOKUP(BD480,Catálogos!AM:AM,Catálogos!AL:AL)","v":"ERR"},{"$f":"LOOKUP(BK480,Catálogos!AM:AM,Catálogos!AL:AL)","v":"ERR"},{"$f":"LOOKUP(BR480,Catálogos!AM:AM,Catálogos!AL:AL)","v":"ERR"},{"$f":"LOOKUP(BY480,Catálogos!AM:AM,Catálogos!AL:AL)","v":"ERR"},0]
[null,null,null,null,null,null,null," -SELECCIONAR-"," -SELECCIONAR-"," -SELECCIONAR-",null," -SELECCIONAR-"," -SELECCIONAR-"," -SELECCIONAR-"," -SELECCIONAR-",null,null," -SELECCIONAR-",null,null,null," -SELECCIONAR-",null,null," -SELECCIONAR-",null," -SELECCIONAR-"," -SELECCIONAR-",null,{"$f":"IF(AC481=FALSE, LOOKUP(AC481,Catálogos!O:O),LOOKUP(AC481,Catálogos!O:O,Catálogos!R:R))","v":{"$error":"#N/A"}},"",null,null,null,{"$f":"IF(CD481=FALSE,\"COL. INCORRECTA\",LOOKUP(CONCATENATE(AE481,\" - \",AC481),Catálogos!T:T,Catálogos!Y:Y))","v":{"$error":"#N/A"}},{"$f":"IF(CD481=FALSE,\"COL. INCORRECTA\",LOOKUP(CONCATENATE(AE481,\" - \",AC481),Catálogos!T:T,Catálogos!X:X))","v":{"$error":"#N/A"}}," -SELECCIONAR-",""," -SELECCIONAR-",null,null," -SELECCIONAR-",null,null,null," -SELECCIONAR-",null,null," -SELECCIONAR-"," -SELECCIONAR-",null,null,null,null,null," -SELECCIONAR-",null,null,null,null,null,null," -SELECCIONAR-",null,null,null,null,null,null," -SELECCIONAR-",null,null,null,null,null,null," -SELECCIONAR-",null,null,{"$f":"LOOKUP(AB481,Catálogos!AP:AP,Catálogos!AO:AO)","v":"ERR"},{"$f":"CONCATENATE(LOOKUP(AC481,Catálogos!O:O,Catálogos!P:P),\".\",LOOKUP(AC481,Catálogos!O:O,Catálogos!Q:Q))","v":{"$error":"#N/A"}},{"$f":"IF(AC481=LOOKUP(CONCATENATE(AE481,\" - \",AC481),Catálogos!T:T,Catálogos!V:V),LOOKUP(CONCATENATE(AE481,\" - \",AC481),Catálogos!T:T,Catálogos!W:W),FALSE)","v":{"$error":"#N/A"}},{"$f":"LOOKUP(BD481,Catálogos!AM:AM,Catálogos!AL:AL)","v":"ERR"},{"$f":"LOOKUP(BK481,Catálogos!AM:AM,Catálogos!AL:AL)","v":"ERR"},{"$f":"LOOKUP(BR481,Catálogos!AM:AM,Catálogos!AL:AL)","v":"ERR"},{"$f":"LOOKUP(BY481,Catálogos!AM:AM,Catálogos!AL:AL)","v":"ERR"},0]
[null,null,null,null,null,null,null," -SELECCIONAR-"," -SELECCIONAR-"," -SELECCIONAR-",null," -SELECCIONAR-"," -SELECCIONAR-"," -SELECCIONAR-"," -SELECCIONAR-",null,null," -SELECCIONAR-",null,null,null," -SELECCIONAR-",null,null," -SELECCIONAR-",null," -SELECCIONAR-"," -SELECCIONAR-",null,{"$f":"IF(AC482=FALSE, LOOKUP(AC482,Catálogos!O:O),LOOKUP(AC482,Catálogos!O:O,Catálogos!R:R))","v":{"$error":"#N/A"}},"",null,null,null,{"$f":"IF(CD482=FALSE,\"COL. INCORRECTA\",LOOKUP(CONCATENATE(AE482,\" - \",AC482),Catálogos!T:T,Catálogos!Y:Y))","v":{"$error":"#N/A"}},{"$f":"IF(CD482=FALSE,\"COL. INCORRECTA\",LOOKUP(CONCATENATE(AE482,\" - \",AC482),Catálogos!T:T,Catálogos!X:X))","v":{"$error":"#N/A"}}," -SELECCIONAR-",""," -SELECCIONAR-",null,null," -SELECCIONAR-",null,null,null," -SELECCIONAR-",null,null," -SELECCIONAR-"," -SELECCIONAR-",null,null,null,null,null," -SELECCIONAR-",null,null,null,null,null,null," -SELECCIONAR-",null,null,null,null,null,null," -SELECCIONAR-",null,null,null,null,null,null," -SELECCIONAR-",null,null,{"$f":"LOOKUP(AB482,Catálogos!AP:AP,Catálogos!AO:AO)","v":"ERR"},{"$f":"CONCATENATE(LOOKUP(AC482,Catálogos!O:O,Catálogos!P:P),\".\",LOOKUP(AC482,Catálogos!O:O,Catálogos!Q:Q))","v":{"$error":"#N/A"}},{"$f":"IF(AC482=LOOKUP(CONCATENATE(AE482,\" - \",AC482),Catálogos!T:T,Catálogos!V:V),LOOKUP(CONCATENATE(AE482,\" - \",AC482),Catálogos!T:T,Catálogos!W:W),FALSE)","v":{"$error":"#N/A"}},{"$f":"LOOKUP(BD482,Catálogos!AM:AM,Catálogos!AL:AL)","v":"ERR"},{"$f":"LOOKUP(BK482,Catálogos!AM:AM,Catálogos!AL:AL)","v":"ERR"},{"$f":"LOOKUP(BR482,Catálogos!AM:AM,Catálogos!AL:AL)","v":"ERR"},{"$f":"LOOKUP(BY482,Catálogos!AM:AM,Catálogos!AL:AL)","v":"ERR"},0]
[null,null,null,null,null,null,null," -SELECCIONAR-"," -SELECCIONAR-"," -SELECCIONAR-",null," -SELECCIONAR-"," -SELECCIONAR-"," -SELECCIONAR-"," -SELECCIONAR-",null,null," -SELECCIONAR-",null,null,null," -SELECCIONAR-",null,null," -SELECCIONAR-",null," -SELECCIONAR-"," -SELECCIONAR-",null,{"$f":"IF(AC483=FALSE, LOOKUP(AC483,Catálogos!O:O),LOOKUP(AC483,Catálogos!O:O,Catálogos!R:R))","v":{"$error":"#N/A"}},"",null,null,null,{"$f":"IF(CD483=FALSE,\"COL. INCORRECTA\",LOOKUP(CONCATENATE(AE483,\" - \",AC483),Catálogos!T:T,Catálogos!Y:Y))","v":{"$error":"#N/A"}},{"$f":"IF(CD483=FALSE,\"COL. INCORRECTA\",LOOKUP(CONCATENATE(AE483,\" - \",AC483),Catálogos!T:T,Catálogos!X:X))","v":{"$error":"#N/A"}}," -SELECCIONAR-",""," -SELECCIONAR-",null,null," -SELECCIONAR-",null,null,null," -SELECCIONAR-",null,null," -SELECCIONAR-"," -SELECCIONAR-",null,null,null,null,null," -SELECCIONAR-",null,null,null,null,null,null," -SELECCIONAR-",null,null,null,null,null,null," -SELECCIONAR-",null,null,null,null,null,null," -SELECCIONAR-",null,null,{"$f":"LOOKUP(AB483,Catálogos!AP:AP,Catálogos!AO:AO)","v":"ERR"},{"$f":"CONCATENATE(LOOKUP(AC483,Catálogos!O:O,Catálogos!P:P),\".\",LOOKUP(AC483,Catálogos!O:O,Catálogos!Q:Q))","v":{"$error":"#N/A"}},{"$f":"IF(AC483=LOOKUP(CONCATENATE(AE483,\" - \",AC483),Catálogos!T:T,Catálogos!V:V),LOOKUP(CONCATENATE(AE483,\" - \",AC483),Catálogos!T:T,Catálogos!W:W),FALSE)","v":{"$error":"#N/A"}},{"$f":"LOOKUP(BD483,Catálogos!AM:AM,Catálogos!AL:AL)","v":"ERR"},{"$f":"LOOKUP(BK483,Catálogos!AM:AM,Catálogos!AL:AL)","v":"ERR"},{"$f":"LOOKUP(BR483,Catálogos!AM:AM,Catálogos!AL:AL)","v":"ERR"},{"$f":"LOOKUP(BY483,Catálogos!AM:AM,Catálogos!AL:AL)","v":"ERR"},0]
[null,null,null,null,null,null,null," -SELECCIONAR-"," -SELECCIONAR-"," -SELECCIONAR-",null," -SELECCIONAR-"," -SELECCIONAR-"," -SELECCIONAR-"," -SELECCIONAR-",null,null," -SELECCIONAR-",null,null,null," -SELECCIONAR-",null,null," -SELECCIONAR-",null," -SELECCIONAR-"," -SELECCIONAR-",null,{"$f":"IF(AC484=FALSE, LOOKUP(AC484,Catálogos!O:O),LOOKUP(AC484,Catálogos!O:O,Catálogos!R:R))","v":{"$error":"#N/A"}},"",null,null,null,{"$f":"IF(CD484=FALSE,\"COL. INCORRECTA\",LOOKUP(CONCATENATE(AE484,\" - \",AC484),Catálogos!T:T,Catálogos!Y:Y))","v":{"$error":"#N/A"}},{"$f":"IF(CD484=FALSE,\"COL. INCORRECTA\",LOOKUP(CONCATENATE(AE484,\" - \",AC484),Catálogos!T:T,Catálogos!X:X))","v":{"$error":"#N/A"}}," -SELECCIONAR-",""," -SELECCIONAR-",null,null," -SELECCIONAR-",null,null,null," -SELECCIONAR-",null,null," -SELECCIONAR-"," -SELECCIONAR-",null,null,null,null,null," -SELECCIONAR-",null,null,null,null,null,null," -SELECCIONAR-",null,null,null,null,null,null," -SELECCIONAR-",null,null,null,null,null,null," -SELECCIONAR-",null,null,{"$f":"LOOKUP(AB484,Catálogos!AP:AP,Catálogos!AO:AO)","v":"ERR"},{"$f":"CONCATENATE(LOOKUP(AC484,Catálogos!O:O,Catálogos!P:P),\".\",LOOKUP(AC484,Catálogos!O:O,Catálogos!Q:Q))","v":{"$error":"#N/A"}},{"$f":"IF(AC484=LOOKUP(CONCATENATE(AE484,\" - \",AC484),Catálogos!T:T,Catálogos!V:V),LOOKUP(CONCATENATE(AE484,\" - \",AC484),Catálogos!T:T,Catálogos!W:W),FALSE)","v":{"$error":"#N/A"}},{"$f":"LOOKUP(BD484,Catálogos!AM:AM,Catálogos!AL:AL)","v":"ERR"},{"$f":"LOOKUP(BK484,Catálogos!AM:AM,Catálogos!AL:AL)","v":"ERR"},{"$f":"LOOKUP(BR484,Catálogos!AM:AM,Catálogos!AL:AL)","v":"ERR"},{"$f":"LOOKUP(BY484,Catálogos!AM:AM,Catálogos!AL:AL)","v":"ERR"},0]
[null,null,null,null,null,null,null," -SELECCIONAR-"," -SELECCIONAR-"," -SELECCIONAR-",null," -SELECCIONAR-"," -SELECCIONAR-"," -SELECCIONAR-"," -SELECCIONAR-",null,null," -SELECCIONAR-",null,null,null," -SELECCIONAR-",null,null," -SELECCIONAR-",null," -SELECCIONAR-"," -SELECCIONAR-",null,{"$f":"IF(AC485=FALSE, LOOKUP(AC485,Catálogos!O:O),LOOKUP(AC485,Catálogos!O:O,Catálogos!R:R))","v":{"$error":"#N/A"}},"",null,null,null,{"$f":"IF(CD485=FALSE,\"COL. INCORRECTA\",LOOKUP(CONCATENATE(AE485,\" - \",AC485),Catálogos!T:T,Catálogos!Y:Y))","v":{"$error":"#N/A"}},{"$f":"IF(CD485=FALSE,\"COL. INCORRECTA\",LOOKUP(CONCATENATE(AE485,\" - \",AC485),Catálogos!T:T,Catálogos!X:X))","v":{"$error":"#N/A"}}," -SELECCIONAR-",""," -SELECCIONAR-",null,null," -SELECCIONAR-",null,null,null," -SELECCIONAR-",null,null," -SELECCIONAR-"," -SELECCIONAR-",null,null,null,null,null," -SELECCIONAR-",null,null,null,null,null,null," -SELECCIONAR-",null,null,null,null,null,null," -SELECCIONAR-",null,null,null,null,null,null," -SELECCIONAR-",null,null,{"$f":"LOOKUP(AB485,Catálogos!AP:AP,Catálogos!AO:AO)","v":"ERR"},{"$f":"CONCATENATE(LOOKUP(AC485,Catálogos!O:O,Catálogos!P:P),\".\",LOOKUP(AC485,Catálogos!O:O,Catálogos!Q:Q))","v":{"$error":"#N/A"}},{"$f":"IF(AC485=LOOKUP(CONCATENATE(AE485,\" - \",AC485),Catálogos!T:T,Catálogos!V:V),LOOKUP(CONCATENATE(AE485,\" - \",AC485),Catálogos!T:T,Catálogos!W:W),FALSE)","v":{"$error":"#N/A"}},{"$f":"LOOKUP(BD485,Catálogos!AM:AM,Catálogos!AL:AL)","v":"ERR"},{"$f":"LOOKUP(BK485,Catálogos!AM:AM,Catálogos!AL:AL)","v":"ERR"},{"$f":"LOOKUP(BR485,Catálogos!AM:AM,Catálogos!AL:AL)","v":"ERR"},{"$f":"LOOKUP(BY485,Catálogos!AM:AM,Catálogos!AL:AL)","v":"ERR"},0]
[null,null,null,null,null,null,null," -SELECCIONAR-"," -SELECCIONAR-"," -SELECCIONAR-",null," -SELECCIONAR-"," -SELECCIONAR-"," -SELECCIONAR-"," -SELECCIONAR-",null,null," -SELECCIONAR-",null,null,null," -SELECCIONAR-",null,null," -SELECCIONAR-",null," -SELECCIONAR-"," -SELECCIONAR-",null,{"$f":"IF(AC486=FALSE, LOOKUP(AC486,Catálogos!O:O),LOOKUP(AC486,Catálogos!O:O,Catálogos!R:R))","v":{"$error":"#N/A"}},"",null,null,null,{"$f":"IF(CD486=FALSE,\"COL. INCORRECTA\",LOOKUP(CONCATENATE(AE486,\" - \",AC486),Catálogos!T:T,Catálogos!Y:Y))","v":{"$error":"#N/A"}},{"$f":"IF(CD486=FALSE,\"COL. INCORRECTA\",LOOKUP(CONCATENATE(AE486,\" - \",AC486),Catálogos!T:T,Catálogos!X:X))","v":{"$error":"#N/A"}}," -SELECCIONAR-",""," -SELECCIONAR-",null,null," -SELECCIONAR-",null,null,null," -SELECCIONAR-",null,null," -SELECCIONAR-"," -SELECCIONAR-",null,null,null,null,null," -SELECCIONAR-",null,null,null,null,null,null," -SELECCIONAR-",null,null,null,null,null,null," -SELECCIONAR-",null,null,null,null,null,null," -SELECCIONAR-",null,null,{"$f":"LOOKUP(AB486,Catálogos!AP:AP,Catálogos!AO:AO)","v":"ERR"},{"$f":"CONCATENATE(LOOKUP(AC486,Catálogos!O:O,Catálogos!P:P),\".\",LOOKUP(AC486,Catálogos!O:O,Catálogos!Q:Q))","v":{"$error":"#N/A"}},{"$f":"IF(AC486=LOOKUP(CONCATENATE(AE486,\" - \",AC486),Catálogos!T:T,Catálogos!V:V),LOOKUP(CONCATENATE(AE486,\" - \",AC486),Catálogos!T:T,Catálogos!W:W),FALSE)","v":{"$error":"#N/A"}},{"$f":"LOOKUP(BD486,Catálogos!AM:AM,Catálogos!AL:AL)","v":"ERR"},{"$f":"LOOKUP(BK486,Catálogos!AM:AM,Catálogos!AL:AL)","v":"ERR"},{"$f":"LOOKUP(BR486,Catálogos!AM:AM,Catálogos!AL:AL)","v":"ERR"},{"$f":"LOOKUP(BY486,Catálogos!AM:AM,Catálogos!AL:AL)","v":"ERR"},0]
[null,null,null,null,null,null,null," -SELECCIONAR-"," -SELECCIONAR-"," -SELECCIONAR-",null," -SELECCIONAR-"," -SELECCIONAR-"," -SELECCIONAR-"," -SELECCIONAR-",null,null," -SELECCIONAR-",null,null,null," -SELECCIONAR-",null,null," -SELECCIONAR-",null," -SELECCIONAR-"," -SELECCIONAR-",null,{"$f":"IF(AC487=FALSE, LOOKUP(AC487,Catálogos!O:O),LOOKUP(AC487,Catálogos!O:O,Catálogos!R:R))","v":{"$error":"#N/A"}},"",null,null,null,{"$f":"IF(CD487=FALSE,\"COL. INCORRECTA\",LOOKUP(CONCATENATE(AE487,\" - \",AC487),Catálogos!T:T,Catálogos!Y:Y))","v":{"$error":"#N/A"}},{"$f":"IF(CD487=FALSE,\"COL. INCORRECTA\",LOOKUP(CONCATENATE(AE487,\" - \",AC487),Catálogos!T:T,Catálogos!X:X))","v":{"$error":"#N/A"}}," -SELECCIONAR-",""," -SELECCIONAR-",null,null," -SELECCIONAR-",null,null,null," -SELECCIONAR-",null,null," -SELECCIONAR-"," -SELECCIONAR-",null,null,null,null,null," -SELECCIONAR-",null,null,null,null,null,null," -SELECCIONAR-",null,null,null,null,null,null," -SELECCIONAR-",null,null,null,null,null,null," -SELECCIONAR-",null,null,{"$f":"LOOKUP(AB487,Catálogos!AP:AP,Catálogos!AO:AO)","v":"ERR"},{"$f":"CONCATENATE(LOOKUP(AC487,Catálogos!O:O,Catálogos!P:P),\".\",LOOKUP(AC487,Catálogos!O:O,Catálogos!Q:Q))","v":{"$error":"#N/A"}},{"$f":"IF(AC487=LOOKUP(CONCATENATE(AE487,\" - \",AC487),Catálogos!T:T,Catálogos!V:V),LOOKUP(CONCATENATE(AE487,\" - \",AC487),Catálogos!T:T,Catálogos!W:W),FALSE)","v":{"$error":"#N/A"}},{"$f":"LOOKUP(BD487,Catálogos!AM:AM,Catálogos!AL:AL)","v":"ERR"},{"$f":"LOOKUP(BK487,Catálogos!AM:AM,Catálogos!AL:AL)","v":"ERR"},{"$f":"LOOKUP(BR487,Catálogos!AM:AM,Catálogos!AL:AL)","v":"ERR"},{"$f":"LOOKUP(BY487,Catálogos!AM:AM,Catálogos!AL:AL)","v":"ERR"},0]
[null,null,null,null,null,null,null," -SELECCIONAR-"," -SELECCIONAR-"," -SELECCIONAR-",null," -SELECCIONAR-"," -SELECCIONAR-"," -SELECCIONAR-"," -SELECCIONAR-",null,null," -SELECCIONAR-",null,null,null," -SELECCIONAR-",null,null," -SELECCIONAR-",null," -SELECCIONAR-"," -SELECCIONAR-",null,{"$f":"IF(AC488=FALSE, LOOKUP(AC488,Catálogos!O:O),LOOKUP(AC488,Catálogos!O:O,Catálogos!R:R))","v":{"$error":"#N/A"}},"",null,null,null,{"$f":"IF(CD488=FALSE,\"COL. INCORRECTA\",LOOKUP(CONCATENATE(AE488,\" - \",AC488),Catálogos!T:T,Catálogos!Y:Y))","v":{"$error":"#N/A"}},{"$f":"IF(CD488=FALSE,\"COL. INCORRECTA\",LOOKUP(CONCATENATE(AE488,\" - \",AC488),Catálogos!T:T,Catálogos!X:X))","v":{"$error":"#N/A"}}," -SELECCIONAR-",""," -SELECCIONAR-",null,null," -SELECCIONAR-",null,null,null," -SELECCIONAR-",null,null," -SELECCIONAR-"," -SELECCIONAR-",null,null,null,null,null," -SELECCIONAR-",null,null,null,null,null,null," -SELECCIONAR-",null,null,null,null,null,null," -SELECCIONAR-",null,null,null,null,null,null," -SELECCIONAR-",null,null,{"$f":"LOOKUP(AB488,Catálogos!AP:AP,Catálogos!AO:AO)","v":"ERR"},{"$f":"CONCATENATE(LOOKUP(AC488,Catálogos!O:O,Catálogos!P:P),\".\",LOOKUP(AC488,Catálogos!O:O,Catálogos!Q:Q))","v":{"$error":"#N/A"}},{"$f":"IF(AC488=LOOKUP(CONCATENATE(AE488,\" - \",AC488),Catálogos!T:T,Catálogos!V:V),LOOKUP(CONCATENATE(AE488,\" - \",AC488),Catálogos!T:T,Catálogos!W:W),FALSE)","v":{"$error":"#N/A"}},{"$f":"LOOKUP(BD488,Catálogos!AM:AM,Catálogos!AL:AL)","v":"ERR"},{"$f":"LOOKUP(BK488,Catálogos!AM:AM,Catálogos!AL:AL)","v":"ERR"},{"$f":"LOOKUP(BR488,Catálogos!AM:AM,Catálogos!AL:AL)","v":"ERR"},{"$f":"LOOKUP(BY488,Catálogos!AM:AM,Catálogos!AL:AL)","v":"ERR"},0]
[null,null,null,null,null,null,null," -SELECCIONAR-"," -SELECCIONAR-"," -SELECCIONAR-",null," -SELECCIONAR-"," -SELECCIONAR-"," -SELECCIONAR-"," -SELECCIONAR-",null,null," -SELECCIONAR-",null,null,null," -SELECCIONAR-",null,null," -SELECCIONAR-",null," -SELECCIONAR-"," -SELECCIONAR-",null,{"$f":"IF(AC489=FALSE, LOOKUP(AC489,Catálogos!O:O),LOOKUP(AC489,Catálogos!O:O,Catálogos!R:R))","v":{"$error":"#N/A"}},"",null,null,null,{"$f":"IF(CD489=FALSE,\"COL. INCORRECTA\",LOOKUP(CONCATENATE(AE489,\" - \",AC489),Catálogos!T:T,Catálogos!Y:Y))","v":{"$error":"#N/A"}},{"$f":"IF(CD489=FALSE,\"COL. INCORRECTA\",LOOKUP(CONCATENATE(AE489,\" - \",AC489),Catálogos!T:T,Catálogos!X:X))","v":{"$error":"#N/A"}}," -SELECCIONAR-",""," -SELECCIONAR-",null,null," -SELECCIONAR-",null,null,null," -SELECCIONAR-",null,null," -SELECCIONAR-"," -SELECCIONAR-",null,null,null,null,null," -SELECCIONAR-",null,null,null,null,null,null," -SELECCIONAR-",null,null,null,null,null,null," -SELECCIONAR-",null,null,null,null,null,null," -SELECCIONAR-",null,null,{"$f":"LOOKUP(AB489,Catálogos!AP:AP,Catálogos!AO:AO)","v":"ERR"},{"$f":"CONCATENATE(LOOKUP(AC489,Catálogos!O:O,Catálogos!P:P),\".\",LOOKUP(AC489,Catálogos!O:O,Catálogos!Q:Q))","v":{"$error":"#N/A"}},{"$f":"IF(AC489=LOOKUP(CONCATENATE(AE489,\" - \",AC489),Catálogos!T:T,Catálogos!V:V),LOOKUP(CONCATENATE(AE489,\" - \",AC489),Catálogos!T:T,Catálogos!W:W),FALSE)","v":{"$error":"#N/A"}},{"$f":"LOOKUP(BD489,Catálogos!AM:AM,Catálogos!AL:AL)","v":"ERR"},{"$f":"LOOKUP(BK489,Catálogos!AM:AM,Catálogos!AL:AL)","v":"ERR"},{"$f":"LOOKUP(BR489,Catálogos!AM:AM,Catálogos!AL:AL)","v":"ERR"},{"$f":"LOOKUP(BY489,Catálogos!AM:AM,Catálogos!AL:AL)","v":"ERR"},0]
[null,null,null,null,null,null,null," -SELECCIONAR-"," -SELECCIONAR-"," -SELECCIONAR-",null," -SELECCIONAR-"," -SELECCIONAR-"," -SELECCIONAR-"," -SELECCIONAR-",null,null," -SELECCIONAR-",null,null,null," -SELECCIONAR-",null,null," -SELECCIONAR-",null," -SELECCIONAR-"," -SELECCIONAR-",null,{"$f":"IF(AC490=FALSE, LOOKUP(AC490,Catálogos!O:O),LOOKUP(AC490,Catálogos!O:O,Catálogos!R:R))","v":{"$error":"#N/A"}},"",null,null,null,{"$f":"IF(CD490=FALSE,\"COL. INCORRECTA\",LOOKUP(CONCATENATE(AE490,\" - \",AC490),Catálogos!T:T,Catálogos!Y:Y))","v":{"$error":"#N/A"}},{"$f":"IF(CD490=FALSE,\"COL. INCORRECTA\",LOOKUP(CONCATENATE(AE490,\" - \",AC490),Catálogos!T:T,Catálogos!X:X))","v":{"$error":"#N/A"}}," -SELECCIONAR-",""," -SELECCIONAR-",null,null," -SELECCIONAR-",null,null,null," -SELECCIONAR-",null,null," -SELECCIONAR-"," -SELECCIONAR-",null,null,null,null,null," -SELECCIONAR-",null,null,null,null,null,null," -SELECCIONAR-",null,null,null,null,null,null," -SELECCIONAR-",null,null,null,null,null,null," -SELECCIONAR-",null,null,{"$f":"LOOKUP(AB490,Catálogos!AP:AP,Catálogos!AO:AO)","v":"ERR"},{"$f":"CONCATENATE(LOOKUP(AC490,Catálogos!O:O,Catálogos!P:P),\".\",LOOKUP(AC490,Catálogos!O:O,Catálogos!Q:Q))","v":{"$error":"#N/A"}},{"$f":"IF(AC490=LOOKUP(CONCATENATE(AE490,\" - \",AC490),Catálogos!T:T,Catálogos!V:V),LOOKUP(CONCATENATE(AE490,\" - \",AC490),Catálogos!T:T,Catálogos!W:W),FALSE)","v":{"$error":"#N/A"}},{"$f":"LOOKUP(BD490,Catálogos!AM:AM,Catálogos!AL:AL)","v":"ERR"},{"$f":"LOOKUP(BK490,Catálogos!AM:AM,Catálogos!AL:AL)","v":"ERR"},{"$f":"LOOKUP(BR490,Catálogos!AM:AM,Catálogos!AL:AL)","v":"ERR"},{"$f":"LOOKUP(BY490,Catálogos!AM:AM,Catálogos!AL:AL)","v":"ERR"},0]
[null,null,null,null,null,null,null," -SELECCIONAR-"," -SELECCIONAR-"," -SELECCIONAR-",null," -SELECCIONAR-"," -SELECCIONAR-"," -SELECCIONAR-"," -SELECCIONAR-",null,null," -SELECCIONAR-",null,null,null," -SELECCIONAR-",null,null," -SELECCIONAR-",null," -SELECCIONAR-"," -SELECCIONAR-",null,{"$f":"IF(AC491=FALSE, LOOKUP(AC491,Catálogos!O:O),LOOKUP(AC491,Catálogos!O:O,Catálogos!R:R))","v":{"$error":"#N/A"}},"",null,null,null,{"$f":"IF(CD491=FALSE,\"COL. INCORRECTA\",LOOKUP(CONCATENATE(AE491,\" - \",AC491),Catálogos!T:T,Catálogos!Y:Y))","v":{"$error":"#N/A"}},{"$f":"IF(CD491=FALSE,\"COL. INCORRECTA\",LOOKUP(CONCATENATE(AE491,\" - \",AC491),Catálogos!T:T,Catálogos!X:X))","v":{"$error":"#N/A"}}," -SELECCIONAR-",""," -SELECCIONAR-",null,null," -SELECCIONAR-",null,null,null," -SELECCIONAR-",null,null," -SELECCIONAR-"," -SELECCIONAR-",null,null,null,null,null," -SELECCIONAR-",null,null,null,null,null,null," -SELECCIONAR-",null,null,null,null,null,null," -SELECCIONAR-",null,null,null,null,null,null," -SELECCIONAR-",null,null,{"$f":"LOOKUP(AB491,Catálogos!AP:AP,Catálogos!AO:AO)","v":"ERR"},{"$f":"CONCATENATE(LOOKUP(AC491,Catálogos!O:O,Catálogos!P:P),\".\",LOOKUP(AC491,Catálogos!O:O,Catálogos!Q:Q))","v":{"$error":"#N/A"}},{"$f":"IF(AC491=LOOKUP(CONCATENATE(AE491,\" - \",AC491),Catálogos!T:T,Catálogos!V:V),LOOKUP(CONCATENATE(AE491,\" - \",AC491),Catálogos!T:T,Catálogos!W:W),FALSE)","v":{"$error":"#N/A"}},{"$f":"LOOKUP(BD491,Catálogos!AM:AM,Catálogos!AL:AL)","v":"ERR"},{"$f":"LOOKUP(BK491,Catálogos!AM:AM,Catálogos!AL:AL)","v":"ERR"},{"$f":"LOOKUP(BR491,Catálogos!AM:AM,Catálogos!AL:AL)","v":"ERR"},{"$f":"LOOKUP(BY491,Catálogos!AM:AM,Catálogos!AL:AL)","v":"ERR"},0]
[null,null,null,null,null,null,null," -SELECCIONAR-"," -SELECCIONAR-"," -SELECCIONAR-",null," -SELECCIONAR-"," -SELECCIONAR-"," -SELECCIONAR-"," -SELECCIONAR-",null,null," -SELECCIONAR-",null,null,null," -SELECCIONAR-",null,null," -SELECCIONAR-",null," -SELECCIONAR-"," -SELECCIONAR-",null,{"$f":"IF(AC492=FALSE, LOOKUP(AC492,Catálogos!O:O),LOOKUP(AC492,Catálogos!O:O,Catálogos!R:R))","v":{"$error":"#N/A"}},"",null,null,null,{"$f":"IF(CD492=FALSE,\"COL. INCORRECTA\",LOOKUP(CONCATENATE(AE492,\" - \",AC492),Catálogos!T:T,Catálogos!Y:Y))","v":{"$error":"#N/A"}},{"$f":"IF(CD492=FALSE,\"COL. INCORRECTA\",LOOKUP(CONCATENATE(AE492,\" - \",AC492),Catálogos!T:T,Catálogos!X:X))","v":{"$error":"#N/A"}}," -SELECCIONAR-",""," -SELECCIONAR-",null,null," -SELECCIONAR-",null,null,null," -SELECCIONAR-",null,null," -SELECCIONAR-"," -SELECCIONAR-",null,null,null,null,null," -SELECCIONAR-",null,null,null,null,null,null," -SELECCIONAR-",null,null,null,null,null,null," -SELECCIONAR-",null,null,null,null,null,null," -SELECCIONAR-",null,null,{"$f":"LOOKUP(AB492,Catálogos!AP:AP,Catálogos!AO:AO)","v":"ERR"},{"$f":"CONCATENATE(LOOKUP(AC492,Catálogos!O:O,Catálogos!P:P),\".\",LOOKUP(AC492,Catálogos!O:O,Catálogos!Q:Q))","v":{"$error":"#N/A"}},{"$f":"IF(AC492=LOOKUP(CONCATENATE(AE492,\" - \",AC492),Catálogos!T:T,Catálogos!V:V),LOOKUP(CONCATENATE(AE492,\" - \",AC492),Catálogos!T:T,Catálogos!W:W),FALSE)","v":{"$error":"#N/A"}},{"$f":"LOOKUP(BD492,Catálogos!AM:AM,Catálogos!AL:AL)","v":"ERR"},{"$f":"LOOKUP(BK492,Catálogos!AM:AM,Catálogos!AL:AL)","v":"ERR"},{"$f":"LOOKUP(BR492,Catálogos!AM:AM,Catálogos!AL:AL)","v":"ERR"},{"$f":"LOOKUP(BY492,Catálogos!AM:AM,Catálogos!AL:AL)","v":"ERR"},0]
[null,null,null,null,null,null,null," -SELECCIONAR-"," -SELECCIONAR-"," -SELECCIONAR-",null," -SELECCIONAR-"," -SELECCIONAR-"," -SELECCIONAR-"," -SELECCIONAR-",null,null," -SELECCIONAR-",null,null,null," -SELECCIONAR-",null,null," -SELECCIONAR-",null," -SELECCIONAR-"," -SELECCIONAR-",null,{"$f":"IF(AC493=FALSE, LOOKUP(AC493,Catálogos!O:O),LOOKUP(AC493,Catálogos!O:O,Catálogos!R:R))","v":{"$error":"#N/A"}},"",null,null,null,{"$f":"IF(CD493=FALSE,\"COL. INCORRECTA\",LOOKUP(CONCATENATE(AE493,\" - \",AC493),Catálogos!T:T,Catálogos!Y:Y))","v":{"$error":"#N/A"}},{"$f":"IF(CD493=FALSE,\"COL. INCORRECTA\",LOOKUP(CONCATENATE(AE493,\" - \",AC493),Catálogos!T:T,Catálogos!X:X))","v":{"$error":"#N/A"}}," -SELECCIONAR-",""," -SELECCIONAR-",null,null," -SELECCIONAR-",null,null,null," -SELECCIONAR-",null,null," -SELECCIONAR-"," -SELECCIONAR-",null,null,null,null,null," -SELECCIONAR-",null,null,null,null,null,null," -SELECCIONAR-",null,null,null,null,null,null," -SELECCIONAR-",null,null,null,null,null,null," -SELECCIONAR-",null,null,{"$f":"LOOKUP(AB493,Catálogos!AP:AP,Catálogos!AO:AO)","v":"ERR"},{"$f":"CONCATENATE(LOOKUP(AC493,Catálogos!O:O,Catálogos!P:P),\".\",LOOKUP(AC493,Catálogos!O:O,Catálogos!Q:Q))","v":{"$error":"#N/A"}},{"$f":"IF(AC493=LOOKUP(CONCATENATE(AE493,\" - \",AC493),Catálogos!T:T,Catálogos!V:V),LOOKUP(CONCATENATE(AE493,\" - \",AC493),Catálogos!T:T,Catálogos!W:W),FALSE)","v":{"$error":"#N/A"}},{"$f":"LOOKUP(BD493,Catálogos!AM:AM,Catálogos!AL:AL)","v":"ERR"},{"$f":"LOOKUP(BK493,Catálogos!AM:AM,Catálogos!AL:AL)","v":"ERR"},{"$f":"LOOKUP(BR493,Catálogos!AM:AM,Catálogos!AL:AL)","v":"ERR"},{"$f":"LOOKUP(BY493,Catálogos!AM:AM,Catálogos!AL:AL)","v":"ERR"},0]
[null,null,null,null,null,null,null," -SELECCIONAR-"," -SELECCIONAR-"," -SELECCIONAR-",null," -SELECCIONAR-"," -SELECCIONAR-"," -SELECCIONAR-"," -SELECCIONAR-",null,null," -SELECCIONAR-",null,null,null," -SELECCIONAR-",null,null," -SELECCIONAR-",null," -SELECCIONAR-"," -SELECCIONAR-",null,{"$f":"IF(AC494=FALSE, LOOKUP(AC494,Catálogos!O:O),LOOKUP(AC494,Catálogos!O:O,Catálogos!R:R))","v":{"$error":"#N/A"}},"",null,null,null,{"$f":"IF(CD494=FALSE,\"COL. INCORRECTA\",LOOKUP(CONCATENATE(AE494,\" - \",AC494),Catálogos!T:T,Catálogos!Y:Y))","v":{"$error":"#N/A"}},{"$f":"IF(CD494=FALSE,\"COL. INCORRECTA\",LOOKUP(CONCATENATE(AE494,\" - \",AC494),Catálogos!T:T,Catálogos!X:X))","v":{"$error":"#N/A"}}," -SELECCIONAR-",""," -SELECCIONAR-",null,null," -SELECCIONAR-",null,null,null," -SELECCIONAR-",null,null," -SELECCIONAR-"," -SELECCIONAR-",null,null,null,null,null," -SELECCIONAR-",null,null,null,null,null,null," -SELECCIONAR-",null,null,null,null,null,null," -SELECCIONAR-",null,null,null,null,null,null," -SELECCIONAR-",null,null,{"$f":"LOOKUP(AB494,Catálogos!AP:AP,Catálogos!AO:AO)","v":"ERR"},{"$f":"CONCATENATE(LOOKUP(AC494,Catálogos!O:O,Catálogos!P:P),\".\",LOOKUP(AC494,Catálogos!O:O,Catálogos!Q:Q))","v":{"$error":"#N/A"}},{"$f":"IF(AC494=LOOKUP(CONCATENATE(AE494,\" - \",AC494),Catálogos!T:T,Catálogos!V:V),LOOKUP(CONCATENATE(AE494,\" - \",AC494),Catálogos!T:T,Catálogos!W:W),FALSE)","v":{"$error":"#N/A"}},{"$f":"LOOKUP(BD494,Catálogos!AM:AM,Catálogos!AL:AL)","v":"ERR"},{"$f":"LOOKUP(BK494,Catálogos!AM:AM,Catálogos!AL:AL)","v":"ERR"},{"$f":"LOOKUP(BR494,Catálogos!AM:AM,Catálogos!AL:AL)","v":"ERR"},{"$f":"LOOKUP(BY494,Catálogos!AM:AM,Catálogos!AL:AL)","v":"ERR"},0]
[null,null,null,null,null,null,null," -SELECCIONAR-"," -SELECCIONAR-"," -SELECCIONAR-",null," -SELECCIONAR-"," -SELECCIONAR-"," -SELECCIONAR-"," -SELECCIONAR-",null,null," -SELECCIONAR-",null,null,null," -SELECCIONAR-",null,null," -SELECCIONAR-",null," -SELECCIONAR-"," -SELECCIONAR-",null,{"$f":"IF(AC495=FALSE, LOOKUP(AC495,Catálogos!O:O),LOOKUP(AC495,Catálogos!O:O,Catálogos!R:R))","v":{"$error":"#N/A"}},"",null,null,null,{"$f":"IF(CD495=FALSE,\"COL. INCORRECTA\",LOOKUP(CONCATENATE(AE495,\" - \",AC495),Catálogos!T:T,Catálogos!Y:Y))","v":{"$error":"#N/A"}},{"$f":"IF(CD495=FALSE,\"COL. INCORRECTA\",LOOKUP(CONCATENATE(AE495,\" - \",AC495),Catálogos!T:T,Catálogos!X:X))","v":{"$error":"#N/A"}}," -SELECCIONAR-",""," -SELECCIONAR-",null,null," -SELECCIONAR-",null,null,null," -SELECCIONAR-",null,null," -SELECCIONAR-"," -SELECCIONAR-",null,null,null,null,null," -SELECCIONAR-",null,null,null,null,null,null," -SELECCIONAR-",null,null,null,null,null,null," -SELECCIONAR-",null,null,null,null,null,null," -SELECCIONAR-",null,null,{"$f":"LOOKUP(AB495,Catálogos!AP:AP,Catálogos!AO:AO)","v":"ERR"},{"$f":"CONCATENATE(LOOKUP(AC495,Catálogos!O:O,Catálogos!P:P),\".\",LOOKUP(AC495,Catálogos!O:O,Catálogos!Q:Q))","v":{"$error":"#N/A"}},{"$f":"IF(AC495=LOOKUP(CONCATENATE(AE495,\" - \",AC495),Catálogos!T:T,Catálogos!V:V),LOOKUP(CONCATENATE(AE495,\" - \",AC495),Catálogos!T:T,Catálogos!W:W),FALSE)","v":{"$error":"#N/A"}},{"$f":"LOOKUP(BD495,Catálogos!AM:AM,Catálogos!AL:AL)","v":"ERR"},{"$f":"LOOKUP(BK495,Catálogos!AM:AM,Catálogos!AL:AL)","v":"ERR"},{"$f":"LOOKUP(BR495,Catálogos!AM:AM,Catálogos!AL:AL)","v":"ERR"},{"$f":"LOOKUP(BY495,Catálogos!AM:AM,Catálogos!AL:AL)","v":"ERR"},0]
[null,null,null,null,null,null,null," -SELECCIONAR-"," -SELECCIONAR-"," -SELECCIONAR-",null," -SELECCIONAR-"," -SELECCIONAR-"," -SELECCIONAR-"," -SELECCIONAR-",null,null," -SELECCIONAR-",null,null,null," -SELECCIONAR-",null,null," -SELECCIONAR-",null," -SELECCIONAR-"," -SELECCIONAR-",null,{"$f":"IF(AC496=FALSE, LOOKUP(AC496,Catálogos!O:O),LOOKUP(AC496,Catálogos!O:O,Catálogos!R:R))","v":{"$error":"#N/A"}},"",null,null,null,{"$f":"IF(CD496=FALSE,\"COL. INCORRECTA\",LOOKUP(CONCATENATE(AE496,\" - \",AC496),Catálogos!T:T,Catálogos!Y:Y))","v":{"$error":"#N/A"}},{"$f":"IF(CD496=FALSE,\"COL. INCORRECTA\",LOOKUP(CONCATENATE(AE496,\" - \",AC496),Catálogos!T:T,Catálogos!X:X))","v":{"$error":"#N/A"}}," -SELECCIONAR-",""," -SELECCIONAR-",null,null," -SELECCIONAR-",null,null,null," -SELECCIONAR-",null,null," -SELECCIONAR-"," -SELECCIONAR-",null,null,null,null,null," -SELECCIONAR-",null,null,null,null,null,null," -SELECCIONAR-",null,null,null,null,null,null," -SELECCIONAR-",null,null,null,null,null,null," -SELECCIONAR-",null,null,{"$f":"LOOKUP(AB496,Catálogos!AP:AP,Catálogos!AO:AO)","v":"ERR"},{"$f":"CONCATENATE(LOOKUP(AC496,Catálogos!O:O,Catálogos!P:P),\".\",LOOKUP(AC496,Catálogos!O:O,Catálogos!Q:Q))","v":{"$error":"#N/A"}},{"$f":"IF(AC496=LOOKUP(CONCATENATE(AE496,\" - \",AC496),Catálogos!T:T,Catálogos!V:V),LOOKUP(CONCATENATE(AE496,\" - \",AC496),Catálogos!T:T,Catálogos!W:W),FALSE)","v":{"$error":"#N/A"}},{"$f":"LOOKUP(BD496,Catálogos!AM:AM,Catálogos!AL:AL)","v":"ERR"},{"$f":"LOOKUP(BK496,Catálogos!AM:AM,Catálogos!AL:AL)","v":"ERR"},{"$f":"LOOKUP(BR496,Catálogos!AM:AM,Catálogos!AL:AL)","v":"ERR"},{"$f":"LOOKUP(BY496,Catálogos!AM:AM,Catálogos!AL:AL)","v":"ERR"},0]
[null,null,null,null,null,null,null," -SELECCIONAR-"," -SELECCIONAR-"," -SELECCIONAR-",null," -SELECCIONAR-"," -SELECCIONAR-"," -SELECCIONAR-"," -SELECCIONAR-",null,null," -SELECCIONAR-",null,null,null," -SELECCIONAR-",null,null," -SELECCIONAR-",null," -SELECCIONAR-"," -SELECCIONAR-",null,{"$f":"IF(AC497=FALSE, LOOKUP(AC497,Catálogos!O:O),LOOKUP(AC497,Catálogos!O:O,Catálogos!R:R))","v":{"$error":"#N/A"}},"",null,null,null,{"$f":"IF(CD497=FALSE,\"COL. INCORRECTA\",LOOKUP(CONCATENATE(AE497,\" - \",AC497),Catálogos!T:T,Catálogos!Y:Y))","v":{"$error":"#N/A"}},{"$f":"IF(CD497=FALSE,\"COL. INCORRECTA\",LOOKUP(CONCATENATE(AE497,\" - \",AC497),Catálogos!T:T,Catálogos!X:X))","v":{"$error":"#N/A"}}," -SELECCIONAR-",""," -SELECCIONAR-",null,null," -SELECCIONAR-",null,null,null," -SELECCIONAR-",null,null," -SELECCIONAR-"," -SELECCIONAR-",null,null,null,null,null," -SELECCIONAR-",null,null,null,null,null,null," -SELECCIONAR-",null,null,null,null,null,null," -SELECCIONAR-",null,null,null,null,null,null," -SELECCIONAR-",null,null,{"$f":"LOOKUP(AB497,Catálogos!AP:AP,Catálogos!AO:AO)","v":"ERR"},{"$f":"CONCATENATE(LOOKUP(AC497,Catálogos!O:O,Catálogos!P:P),\".\",LOOKUP(AC497,Catálogos!O:O,Catálogos!Q:Q))","v":{"$error":"#N/A"}},{"$f":"IF(AC497=LOOKUP(CONCATENATE(AE497,\" - \",AC497),Catálogos!T:T,Catálogos!V:V),LOOKUP(CONCATENATE(AE497,\" - \",AC497),Catálogos!T:T,Catálogos!W:W),FALSE)","v":{"$error":"#N/A"}},{"$f":"LOOKUP(BD497,Catálogos!AM:AM,Catálogos!AL:AL)","v":"ERR"},{"$f":"LOOKUP(BK497,Catálogos!AM:AM,Catálogos!AL:AL)","v":"ERR"},{"$f":"LOOKUP(BR497,Catálogos!AM:AM,Catálogos!AL:AL)","v":"ERR"},{"$f":"LOOKUP(BY497,Catálogos!AM:AM,Catálogos!AL:AL)","v":"ERR"},0]
[null,null,null,null,null,null,null," -SELECCIONAR-"," -SELECCIONAR-"," -SELECCIONAR-",null," -SELECCIONAR-"," -SELECCIONAR-"," -SELECCIONAR-"," -SELECCIONAR-",null,null," -SELECCIONAR-",null,null,null," -SELECCIONAR-",null,null," -SELECCIONAR-",null," -SELECCIONAR-"," -SELECCIONAR-",null,{"$f":"IF(AC498=FALSE, LOOKUP(AC498,Catálogos!O:O),LOOKUP(AC498,Catálogos!O:O,Catálogos!R:R))","v":{"$error":"#N/A"}},"",null,null,null,{"$f":"IF(CD498=FALSE,\"COL. INCORRECTA\",LOOKUP(CONCATENATE(AE498,\" - \",AC498),Catálogos!T:T,Catálogos!Y:Y))","v":{"$error":"#N/A"}},{"$f":"IF(CD498=FALSE,\"COL. INCORRECTA\",LOOKUP(CONCATENATE(AE498,\" - \",AC498),Catálogos!T:T,Catálogos!X:X))","v":{"$error":"#N/A"}}," -SELECCIONAR-",""," -SELECCIONAR-",null,null," -SELECCIONAR-",null,null,null," -SELECCIONAR-",null,null," -SELECCIONAR-"," -SELECCIONAR-",null,null,null,null,null," -SELECCIONAR-",null,null,null,null,null,null," -SELECCIONAR-",null,null,null,null,null,null," -SELECCIONAR-",null,null,null,null,null,null," -SELECCIONAR-",null,null,{"$f":"LOOKUP(AB498,Catálogos!AP:AP,Catálogos!AO:AO)","v":"ERR"},{"$f":"CONCATENATE(LOOKUP(AC498,Catálogos!O:O,Catálogos!P:P),\".\",LOOKUP(AC498,Catálogos!O:O,Catálogos!Q:Q))","v":{"$error":"#N/A"}},{"$f":"IF(AC498=LOOKUP(CONCATENATE(AE498,\" - \",AC498),Catálogos!T:T,Catálogos!V:V),LOOKUP(CONCATENATE(AE498,\" - \",AC498),Catálogos!T:T,Catálogos!W:W),FALSE)","v":{"$error":"#N/A"}},{"$f":"LOOKUP(BD498,Catálogos!AM:AM,Catálogos!AL:AL)","v":"ERR"},{"$f":"LOOKUP(BK498,Catálogos!AM:AM,Catálogos!AL:AL)","v":"ERR"},{"$f":"LOOKUP(BR498,Catálogos!AM:AM,Catálogos!AL:AL)","v":"ERR"},{"$f":"LOOKUP(BY498,Catálogos!AM:AM,Catálogos!AL:AL)","v":"ERR"},0]
[null,null,null,null,null,null,null," -SELECCIONAR-"," -SELECCIONAR-"," -SELECCIONAR-",null," -SELECCIONAR-"," -SELECCIONAR-"," -SELECCIONAR-"," -SELECCIONAR-",null,null," -SELECCIONAR-",null,null,null," -SELECCIONAR-",null,null," -SELECCIONAR-",null," -SELECCIONAR-"," -SELECCIONAR-",null,{"$f":"IF(AC499=FALSE, LOOKUP(AC499,Catálogos!O:O),LOOKUP(AC499,Catálogos!O:O,Catálogos!R:R))","v":{"$error":"#N/A"}},"",null,null,null,{"$f":"IF(CD499=FALSE,\"COL. INCORRECTA\",LOOKUP(CONCATENATE(AE499,\" - \",AC499),Catálogos!T:T,Catálogos!Y:Y))","v":{"$error":"#N/A"}},{"$f":"IF(CD499=FALSE,\"COL. INCORRECTA\",LOOKUP(CONCATENATE(AE499,\" - \",AC499),Catálogos!T:T,Catálogos!X:X))","v":{"$error":"#N/A"}}," -SELECCIONAR-",""," -SELECCIONAR-",null,null," -SELECCIONAR-",null,null,null," -SELECCIONAR-",null,null," -SELECCIONAR-"," -SELECCIONAR-",null,null,null,null,null," -SELECCIONAR-",null,null,null,null,null,null," -SELECCIONAR-",null,null,null,null,null,null," -SELECCIONAR-",null,null,null,null,null,null," -SELECCIONAR-",null,null,{"$f":"LOOKUP(AB499,Catálogos!AP:AP,Catálogos!AO:AO)","v":"ERR"},{"$f":"CONCATENATE(LOOKUP(AC499,Catálogos!O:O,Catálogos!P:P),\".\",LOOKUP(AC499,Catálogos!O:O,Catálogos!Q:Q))","v":{"$error":"#N/A"}},{"$f":"IF(AC499=LOOKUP(CONCATENATE(AE499,\" - \",AC499),Catálogos!T:T,Catálogos!V:V),LOOKUP(CONCATENATE(AE499,\" - \",AC499),Catálogos!T:T,Catálogos!W:W),FALSE)","v":{"$error":"#N/A"}},{"$f":"LOOKUP(BD499,Catálogos!AM:AM,Catálogos!AL:AL)","v":"ERR"},{"$f":"LOOKUP(BK499,Catálogos!AM:AM,Catálogos!AL:AL)","v":"ERR"},{"$f":"LOOKUP(BR499,Catálogos!AM:AM,Catálogos!AL:AL)","v":"ERR"},{"$f":"LOOKUP(BY499,Catálogos!AM:AM,Catálogos!AL:AL)","v":"ERR"},0]
[null,null,null,null,null,null,null," -SELECCIONAR-"," -SELECCIONAR-"," -SELECCIONAR-",null," -SELECCIONAR-"," -SELECCIONAR-"," -SELECCIONAR-"," -SELECCIONAR-",null,null," -SELECCIONAR-",null,null,null," -SELECCIONAR-",null,null," -SELECCIONAR-",null," -SELECCIONAR-"," -SELECCIONAR-",null,{"$f":"IF(AC500=FALSE, LOOKUP(AC500,Catálogos!O:O),LOOKUP(AC500,Catálogos!O:O,Catálogos!R:R))","v":{"$error":"#N/A"}},"",null,null,null,{"$f":"IF(CD500=FALSE,\"COL. INCORRECTA\",LOOKUP(CONCATENATE(AE500,\" - \",AC500),Catálogos!T:T,Catálogos!Y:Y))","v":{"$error":"#N/A"}},{"$f":"IF(CD500=FALSE,\"COL. INCORRECTA\",LOOKUP(CONCATENATE(AE500,\" - \",AC500),Catálogos!T:T,Catálogos!X:X))","v":{"$error":"#N/A"}}," -SELECCIONAR-",""," -SELECCIONAR-",null,null," -SELECCIONAR-",null,null,null," -SELECCIONAR-",null,null," -SELECCIONAR-"," -SELECCIONAR-",null,null,null,null,null," -SELECCIONAR-",null,null,null,null,null,null," -SELECCIONAR-",null,null,null,null,null,null," -SELECCIONAR-",null,null,null,null,null,null," -SELECCIONAR-",null,null,{"$f":"LOOKUP(AB500,Catálogos!AP:AP,Catálogos!AO:AO)","v":"ERR"},{"$f":"CONCATENATE(LOOKUP(AC500,Catálogos!O:O,Catálogos!P:P),\".\",LOOKUP(AC500,Catálogos!O:O,Catálogos!Q:Q))","v":{"$error":"#N/A"}},{"$f":"IF(AC500=LOOKUP(CONCATENATE(AE500,\" - \",AC500),Catálogos!T:T,Catálogos!V:V),LOOKUP(CONCATENATE(AE500,\" - \",AC500),Catálogos!T:T,Catálogos!W:W),FALSE)","v":{"$error":"#N/A"}},{"$f":"LOOKUP(BD500,Catálogos!AM:AM,Catálogos!AL:AL)","v":"ERR"},{"$f":"LOOKUP(BK500,Catálogos!AM:AM,Catálogos!AL:AL)","v":"ERR"},{"$f":"LOOKUP(BR500,Catálogos!AM:AM,Catálogos!AL:AL)","v":"ERR"},{"$f":"LOOKUP(BY500,Catálogos!AM:AM,Catálogos!AL:AL)","v":"ERR"},0]

{"sheet":"Catálogos","index":1,"n_rows":178798,"n_cols":59,"rows_kept":2250,"cut":true,"hidden":true,"merged":[],"bounds":{"rows_first":1000,"rows_last":250,"rows_between":1000,"halvings":1}}
["Sexo",null,"ID Estado","Nombre Estado",null,"Clave","Estado Civil",null,"Clave","Tipo de Identificación",null,"Clave","Tipo de Identificación 2",null,"Código Postal","ID Estado","ID Municipio","Municipio",null,"Colonia - CP","Colonia","Código Postal","ID_Colonia","Localidad BANXICO","Localidad CNBV",null,"@ID","PAIS",null,"Clave","Tipo de Empleo",null,"@ID","Descripcion",null,"Notifica abono",null,"ID Parentesco","Parentesco",null,"ID Estado","Estado",null,"ID Localidad CNBV","Id Pais",null,"ID Localidad Banxico","Id Pais",null,"Actividad Económica",null,"@ID","PAIS",null,"Entidad federativa","Clave",null,"Ciudad","LADA"]
[" -seleccionar-",null,"ERR"," -seleccionar-",null,"ERR"," -seleccionar-",null,"ERR"," -seleccionar-",null,"ERR"," -seleccionar-",null,"0","0","0","CP INCORRECTO",null," - 99994",null,"99994","99994.99999","'04658008","'484320330001.99994",null,"ERR"," -seleccionar-",null,"ERR"," -seleccionar-",null,"ERR"," -seleccionar-",null," -seleccionar-",null,"ERR"," -seleccionar-",null,"ERR"," -seleccionar-",null," -seleccionar-"," -seleccionar-",null," -seleccionar-"," -seleccionar-",null," -seleccionar-",null,"ERR"," -seleccionar-",null,"Aguascalientes","AS",null,"ERR"," -seleccionar-"]
["H",null,"01","AGUASCALIENTES",null,"1","CASADO",null,"1","Credencial de Elector (IFE/INE)",null,"3","Cédula Profesional",null,"01000","09","010","ALVARO OBREGON",null," - 99990",null,"99990","99990.99999","'04658008","'484320330001.99990",null,"AF","Afganistan",null,"04","Empleado Privado",null,"8944098","EMPLEADO PRIVADO",null,"SI",null,"21","Abuelo(a)",null,"01","AGUASCALIENTES",null,"004010010001.E0475","AF",null,"00101003","MX",null,"Otros servicios personales",null,"MX","MEXICO",null,"Baja California","BC",null,"PUEBLA 2(HEROICA PUEBLA)","221"]
["M",null,"02","BAJA CALIFORNIA",null,"2","SOLTERO",null,"2","Pasaporte Vigente",null,"4","Forma Migratoria FM2",null,"01000","09","010","ALVARO OBREGON",null," - 99974",null,"99974","99974.99999","'04658008","'484320230001.99974",null,"AL","Albania",null,null,null,null,null,null,null,"NO",null,"25","Abuelo(a) del Cónyugue",null,"02","BAJA CALIFORNIA",null,"008010010001.E0375","AL",null,"00101027","MX",null,null,null,null,null,null,"Baja California Sur","BS",null,"PUEBLA (HEROICA PUEBLA)","222"]
[null,null,"03","BAJA CALIFORNIA SUR",null,"4","UNION LIBRE",null,null,null,null,"5","Forma Migratoria FM3",null,"01010","09","010","ALVARO OBREGON",null," - 99960",null,"99960","99960.99999","'04658008","'484320230001.99960",null,"DE","Alemania",null,null,null,null,null,null,null,null,null,"8","Amigo (a)",null,"03","BAJA CALIFORNIA SUR",null,"012010010001.E0610","DZ",null,"00101106","MX",null,null,null,null,null,null,"Campeche","CC",null,"SAN ANDRES CHOLULA","222"]
[null,null,"04","CAMPECHE",null,"3","VIUDO",null,null,null,null,"6","Forma Migratoria FMM o FMT",null,"01010","09","010","ALVARO OBREGON",null," - 99921",null,"99921","99921.99999","'04658008","'484320020001.99921",null,"AD","Andorra",null,null,null,null,null,null,null,null,null,"24","Cuñado(a)",null,"04","CAMPECHE",null,"016010010001.E1545","WS",null,"00104003","MX",null,null,null,null,null,null,"Coahuila","CL",null,"SAN PEDRO CHOLULA","222"]
[null,null,"07","CHIAPAS",null,null,null,null,null,null,null,"7","Forma Migratoria FMTF",null,"01020","09","010","ALVARO OBREGON",null," - 99910",null,"99910","99910.99999","'04656003","'484320340001.99910",null,"AO","Angola",null,null,null,null,null,null,null,null,null,"6","Esposo(a)",null,"07","CHIAPAS",null,"020010010001.E0380","AD",null,"00107003","MX",null,null,null,null,null,null,"Colima","CM",null,"CUAUTLANCINGO","222"]
[null,null,"08","CHIHUAHUA",null,null,null,null,null,null,null,"8","Forma Migratoria FMVL",null,"01020","09","010","ALVARO OBREGON",null," - 99860",null,"99860","99860.99999","'04656003","'484320280001.99860",null,"AI","Anguila",null,null,null,null,null,null,null,null,null,"14","Heredero Legal",null,"08","CHIHUAHUA",null,"024010010001.E0615","AO",null,"00110006","MX",null,null,null,null,null,null,"Chiapas","CS",null,"AMOZOC","222"]
[null,null,"09","CIUDAD DE MEXICO",null,null,null,null,null,null,null,"10","Credencial INAPAM",null,"01028","09","010","ALVARO OBREGON",null," - 99823",null,"99823","99823.99999","'04656003","'484320580001.99823",null,"AQ","Antartida",null,null,null,null,null,null,null,null,null,"11","Hermano(a)",null,"09","CIUDAD DE MEXICO",null,"028010010001.E1135","AG",null,"00113006","MX",null,null,null,null,null,null,"Chihuahua","CH",null,"VILLA VICENTE GUERRERO","222"]
[null,null,"05","COAHUILA",null,null,null,null,null,null,null,"11","Credencial o Carnet IMSS",null,"01028","09","010","ALVARO OBREGON",null," - 99800",null,"99800","99800.99999","'04656003","'484320470001.99800",null,"AG","Antigua y Barbuda",null,null,null,null,null,null,null,null,null,"12","Hijo(a)",null,"05","COAHUILA DE ZARAGOZA",null,"031010010001.E1255","AZ",null,"00116006","MX",null,null,null,null,null,null,"Distrito Federal","DF",null,"TEPEACA","223"]
[null,null,"06","COLIMA",null,null,null,null,null,null,null,"12","Credencial o Carnet ISSSTE",null,"01029","09","010","ALVARO OBREGON",null," - 99770",null,"99770","99770.99999","'04656003","'484320450001.99770",null,"AN","Antillas Neerlandesas",null,null,null,null,null,null,null,null,null,"22","Nieto(a)",null,"06","COLIMA",null,"032030020001.E0020","AR",null,"00119006","MX",null,null,null,null,null,null,"Durango","DG",null,"TECALI DE HERRERA","224"]
[null,null,"10","DURANGO",null,null,null,null,null,null,null,"13","Credencial ISSFAM",null,"01029","09","010","ALVARO OBREGON",null," - 99755",null,"99755","99755.99999","'04656003","'484320450001.99755",null,"SA","Arabia Saudita",null,null,null,null,null,null,null,null,null,"7","Novio (a)",null,"09","DISTRITO FEDERAL",null,"032040010001.E0015","AR",null,"00122009","MX",null,null,null,null,null,null,"Guanajuato","GT",null,"TLAPACOYAN","225"]
[null,null,"NE","EXTRANJERO",null,null,null,null,null,null,null,"14","Licencia de Conducir",null,"01030","09","010","ALVARO OBREGON",null," - 99730",null,"99730","99730.99999","'04656003","'484320030001.99730",null,"DZ","Argel",null,null,null,null,null,null,null,null,null,"15","Padre / Madre",null,"10","DURANGO",null,"036010010001.E0025","AU",null,"00125009","MX",null,null,null,null,null,null,"Guerrero","GR",null,"ALTOTONGA","226"]
[null,null,"11","GUANAJUATO",null,null,null,null,null,null,null,"15","Carnet de Acreditación",null,"01030","09","010","ALVARO OBREGON",null," - 99707",null,"99707","99707.99999","'04656003","'484320480001.99707",null,"AR","Argentina",null,null,null,null,null,null,null,null,null,"28","Primo(a)",null,"11","GUANAJUATO",null,"040020010001.E0385","AT",null,"00128009","MX",null,null,null,null,null,null,"Hidalgo","HG",null,"HUEJOTZINGO","227"]
[null,null,"12","GUERRERO",null,null,null,null,null,null,null,null,null,null,"01030","09","010","ALVARO OBREGON",null," - 99650",null,"99650","99650.99999","'04656003","'484320440001.99650",null,"AM","Armenia",null,null,null,null,null,null,null,null,null,"30","Sin parentesco",null,"12","GUERRERO",null,"044010010001.E0030","BS",null,"00201009","MX",null,null,null,null,null,null,"Jalisco","JC",null,"XALAPA ENRIQUEZ","228"]
[null,null,"13","HIDALGO",null,null,null,null,null,null,null,null,null,null,"01040","09","010","ALVARO OBREGON",null," - 99630",null,"99630","99630.99999","'04656003","'484320440001.99630",null,"AW","Aruba",null,null,null,null,null,null,null,null,null,"29","Sobrino(a)",null,"13","HIDALGO",null,"048010010001.E0480","BH",null,"00201105","MX",null,null,null,null,null,null,"México","MC",null,"BANDERILLA","228"]
[null,null,"14","JALISCO",null,null,null,null,null,null,null,null,null,null,"01040","09","010","ALVARO OBREGON",null," - 99624",null,"99624","99624.99999","'04656003","'484320190001.99624",null,"AU","Australia",null,null,null,null,null,null,null,null,null,"23","Suegro(a)",null,"14","JALISCO",null,"050010010001.E0485","BD",null,"00201159","MX",null,null,null,null,null,null,"Michoacán","MN",null,"COSOLAPA","229"]
[null,null,"15","MEXICO",null,null,null,null,null,null,null,null,null,null,"01048","09","010","ALVARO OBREGON",null," - 99592",null,"99592","99592.99999","'04656003","'484320150001.99592",null,"AT","Austria",null,null,null,null,null,null,null,null,null,"27","Tío(a)",null,"15","MEXICO",null,"051010010001.E1205","AM",null,"00201195","MX",null,null,null,null,null,null,"Morelos","MS",null,"VICENTE ESTACION","229"]
[null,null,"16","MICHOACAN",null,null,null,null,null,null,null,null,null,null,"01048","09","010","ALVARO OBREGON",null," - 99580",null,"99580","99580.99999","'04656003","'484320460001.99580",null,"AZ","Azerbaiyan",null,null,null,null,null,null,null,null,null,"13","Tutor",null,"16","MICHOACAN DE OCAMPO",null,"052010010001.E1260","BB",null,"00201309","MX",null,null,null,null,null,null,"Nayarit","NT",null,"BOCA DEL RIO","229"]
[null,null,"17","MORELOS",null,null,null,null,null,null,null,null,null,null,"01049","09","010","ALVARO OBREGON",null," - 99570",null,"99570","99570.99999","'04656003","'484320460001.99570",null,"BS","Bahamas",null,null,null,null,null,null,null,null,null,"26","Yerno / Nuera",null,"17","MORELOS",null,"056070010001.E0035","BR",null,"00201355","MX",null,null,null,null,null,null,"Nuevo León","NL",null,"TEZIUTLAN","231"]
[null,null,"18","NAYARIT",null,null,null,null,null,null,null,null,null,null,"01049","09","010","ALVARO OBREGON",null," - 99552",null,"99552","99552.99999","'04656003","'484320550001.99552",null,"BH","Bahrein",null,null,null,null,null,null,null,null,null,null,null,null,"18","NAYARIT",null,"060010010001.E1125","BM",null,"00201408","MX",null,null,null,null,null,null,"Oaxaca","OC",null,"MARTINEZ DE LA TORRE","232"]
[null,null,"19","NUEVO LEON",null,null,null,null,null,null,null,null,null,null,"01050","09","010","ALVARO OBREGON",null," - 99547",null,"99547","99547.99999","'04656003","'484320550001.99547",null,"BD","Bangladesh",null,null,null,null,null,null,null,null,null,null,null,null,"19","NUEVO LEON",null,"064010010001.E0490","BT",null,"00204009","MX",null,null,null,null,null,null,"Puebla","PL",null,"SANTA CRUZ XALTETELA","233"]
[null,null,"20","OAXACA",null,null,null,null,null,null,null,null,null,null,"01050","09","010","ALVARO OBREGON",null," - 99545",null,"99545","99545.99999","'04655005","'484320550001.99545",null,"BB","Barbados",null,null,null,null,null,null,null,null,null,null,null,null,"20","OAXACA",null,"068010010001.E0275","BO",null,"00204052","MX",null,null,null,null,null,null,"Querétaro","QT",null,"MISANTLA","235"]
[null,null,"21","PUEBLA",null,null,null,null,null,null,null,null,null,null,"01060","09","010","ALVARO OBREGON",null," - 99543",null,"99543","99543.99999","'04655005","'484320550001.99543",null,"BY","Belarus",null,null,null,null,null,null,null,null,null,null,null,null,"21","PUEBLA",null,"070010010001.E0390","BA",null,"00204102","MX",null,null,null,null,null,null,"Quintana Roo","QR",null,"TEOTITLAN DE FLORES MAGON","236"]
[null,null,"22","QUERETARO",null,null,null,null,null,null,null,null,null,null,"01060","09","010","ALVARO OBREGON",null," - 99540",null,"99540","99540.99999","'04655005","'484320550001.99540",null,"BE","Belgica",null,null,null,null,null,null,null,null,null,null,null,null,"22","QUERETARO",null,"072010010001.E0620","BW",null,"00204159","MX",null,null,null,null,null,null,"San Luis Potosí","SP",null,"CUICATLAN","236"]
[null,null,"23","QUINTANA ROO",null,null,null,null,null,null,null,null,null,null,"01060","09","010","ALVARO OBREGON",null," - 99523",null,"99523","99523.99999","'04655005","'484320550001.99500",null,"BZ","Belice",null,null,null,null,null,null,null,null,null,null,null,null,"22","QUERETARO DE ARTEAGA",null,"076010010001.E0040","BR",null,"00204175","MX",null,null,null,null,null,null,"Sinaloa","SL",null,"XOCHITLAN TODOS SANTOS","237"]
[null,null,"24","SAN LUIS POTOSI",null,null,null,null,null,null,null,null,null,null,"01070","09","010","ALVARO OBREGON",null," - 99510",null,"99510","99510.99999","'04655005","'484320550001.99510",null,"BJ","Benin",null,null,null,null,null,null,null,null,null,null,null,null,"23","QUINTANA ROO",null,"076200010001.E1215","BR",null,"00204208","MX",null,null,null,null,null,null,"Sonora","SR",null,"TEHUACAN","238"]
[null,null,"25","SINALOA",null,null,null,null,null,null,null,null,null,null,"01070","09","010","ALVARO OBREGON",null," - 99506",null,"99506","99506.99999","'04655005","'484320550001.99506",null,"BM","Bermudas",null,null,null,null,null,null,null,null,null,null,null,null,"24","SAN LUIS POTOSI",null,"084010010001.E0335","BZ",null,"00204219","MX",null,null,null,null,null,null,"Tabasco","TC",null,"APIZACO","241"]
[null,null,"26","SONORA",null,null,null,null,null,null,null,null,null,null,"01080","09","010","ALVARO OBREGON",null," - 99469",null,"99469","99469.99999","'04655005","'484320200001.99469",null,"BT","Bhutan",null,null,null,null,null,null,null,null,null,null,null,null,"25","SINALOA",null,"086010010001.E1585","IO",null,"00204228","MX",null,null,null,null,null,null,"Tamaulipas","TS",null,"IZUCAR DE MATAMOROS","243"]
[null,null,"27","TABASCO",null,null,null,null,null,null,null,null,null,null,"01080","09","010","ALVARO OBREGON",null," - 99460",null,"99460","99460.99999","'04655005","'484320200001.99460",null,"BO","Bolivia",null,null,null,null,null,null,null,null,null,null,null,null,"26","SONORA",null,"090010010001.E1405","SB",null,"00204235","MX",null,null,null,null,null,null,"Tlaxcala","TL",null,"ATLIXCO","244"]
[null,null,"28","TAMAULIPAS",null,null,null,null,null,null,null,null,null,null,"01089","09","010","ALVARO OBREGON",null," - 99457",null,"99457","99457.99999","'04654001","'484320200001.99457",null,"BA","Bosnia y Herzegovina",null,null,null,null,null,null,null,null,null,null,null,null,"27","TABASCO",null,"092010010001.E1360","VI",null,"00204252","MX",null,null,null,null,null,null,"Veracruz","VZ",null,"CIUDAD SERDAN","245"]
[null,null,"29","TLAXCALA",null,null,null,null,null,null,null,null,null,null,"01089","09","010","ALVARO OBREGON",null," - 99443",null,"99443","99443.99999","'04654001","'484320200001.99443",null,"BW","Botsuana",null,null,null,null,null,null,null,null,null,null,null,null,"28","TAMAULIPAS",null,"096010010001.E1270","BN",null,"00204262","MX",null,null,null,null,null,null,"Yucatán","YN",null,"TLAXCALA (TLAXCALA DE XICOHTENCATL)","246"]
[null,null,"30","VERACRUZ",null,null,null,null,null,null,null,null,null,null,"01090","09","010","ALVARO OBREGON",null," - 99440",null,"99440","99440.99999","'04652002","'484320200001.99440",null,"BR","Brasil",null,null,null,null,null,null,null,null,null,null,null,null,"29","TLAXCALA",null,"100010010001.E0395","BG",null,"00204279","MX",null,null,null,null,null,null,"Zacatecas","ZS",null,"CHIAUTEMPAN","246"]
[null,null,"31","YUCATAN",null,null,null,null,null,null,null,null,null,null,"01090","09","010","ALVARO OBREGON",null," - 99420",null,"99420","99420.99999","'04652002","'484320310001.99420",null,"BN","Brunei",null,null,null,null,null,null,null,null,null,null,null,null,"30","VERACRUZ DE IGNACIO DE LA LLAVE",null,"100020010001.E00618","VU",null,"00204309","MX",null,null,null,null,null,null,"Nacido Extranjero","NE",null,"XICOTENCATL","247"]
[null,null,"32","ZACATECAS",null,null,null,null,null,null,null,null,null,null,"01090","09","010","ALVARO OBREGON",null," - 99400",null,"99400","99400.99999","'04651007","'484320310001.99400",null,"BG","Bulgaria",null,null,null,null,null,null,null,null,null,null,null,null,"30","VERACRUZ-LLAVE",null,"100030010001.E00619","VU",null,"00204369","MX",null,null,null,null,null,null,null,null,null,"SAN MARTIN TEXMELUCAN DE LABASTIDA","248"]
[null,null,null,null,null,null,null,null,null,null,null,null,null,null,"01090","09","010","ALVARO OBREGON",null," - 99390",null,"99390","99390.99999","'04651007","'484320200001.99390",null,"BF","Burkina Faso",null,null,null,null,null,null,null,null,null,null,null,null,"31","YUCATAN",null,"100040010001.E00620","VU",null,"00204405","MX",null,null,null,null,null,null,null,null,null,"TECAMACHALCO","249"]
[null,null,null,null,null,null,null,null,null,null,null,null,null,null,"01100","09","010","ALVARO OBREGON",null," - 99370",null,"99370","99370.99999","'04651007","'484320200001.99370",null,"BI","Burundi",null,null,null,null,null,null,null,null,null,null,null,null,"32","ZACATECAS",null,"100050010001.E00621","VU",null,"00204445","MX",null,null,null,null,null,null,null,null,null,"CORDOBA","271"]
[null,null,null,null,null,null,null,null,null,null,null,null,null,null,"01100","09","010","ALVARO OBREGON",null," - 99360",null,"99360","99360.99999","'04650006","'484320200001.99360",null,"CV","Cabo Verde",null,null,null,null,null,null,null,null,null,null,null,null,null,null,null,"100060010001.E00622","VU",null,"00204505","MX",null,null,null,null,null,null,null,null,null,"FORTIN DE LAS FLORES","271"]
[null,null,null,null,null,null,null,null,null,null,null,null,null,null,"01100","09","010","ALVARO OBREGON",null," - 99352",null,"99352","99352.99999","'04649005","'484320200001.99352",null,"KH","Camboya",null,null,null,null,null,null,null,null,null,null,null,null,null,null,null,"100070010001.E00623","VU",null,"00204555","MX",null,null,null,null,null,null,null,null,null,"PARAJE NUEVO","271"]
[null,null,null,null,null,null,null,null,null,null,null,null,null,null,"01109","09","010","ALVARO OBREGON",null," - 99330",null,"99330","99330.99999","'04649005","'484320200001.99330",null,"CM","Camerún",null,null,null,null,null,null,null,null,null,null,null,null,null,null,null,"100080010001.E00624","VU",null,"00204579","MX",null,null,null,null,null,null,null,null,null,"ORIZABA","272"]
[null,null,null,null,null,null,null,null,null,null,null,null,null,null,"01109","09","010","ALVARO OBREGON",null," - 99320",null,"99320","99320.99999","'04649005","'484320200001.99320",null,"CA","Canada",null,null,null,null,null,null,null,null,null,null,null,null,null,null,null,"100090010001.E00625","VU",null,"00204609","MX",null,null,null,null,null,null,null,null,null,"IXTACZOQUITLAN","272"]
[null,null,null,null,null,null,null,null,null,null,null,null,null,null,"01110","09","010","ALVARO OBREGON",null," - 99313",null,"99313","99313.99999","'04649005","'484320200001.99313",null,"TD","Chad",null,null,null,null,null,null,null,null,null,null,null,null,null,null,null,"100100010001.E00626","VU",null,"00204708","MX",null,null,null,null,null,null,null,null,null,"RIO BLANCO","272"]
[null,null,null,null,null,null,null,null,null,null,null,null,null,null,"01110","09","010","ALVARO OBREGON",null," - 99311",null,"99311","99311.99999","'04649005","'484320200001.99311",null,"CL","Chile",null,null,null,null,null,null,null,null,null,null,null,null,null,null,null,"100110010001.E00627","VU",null,"00207009","MX",null,null,null,null,null,null,null,null,null,"HUATUSCO","273"]
[null,null,null,null,null,null,null,null,null,null,null,null,null,null,"01110","09","010","ALVARO OBREGON",null," - 99300",null,"99300","99300.99999","'04648007","'484320200001.99300",null,"CN","China",null,null,null,null,null,null,null,null,null,null,null,null,null,null,null,"100120010001.E00628","VU",null,"00210009","MX",null,null,null,null,null,null,null,null,null,"PASO DEL MACHO","273"]
[null,null,null,null,null,null,null,null,null,null,null,null,null,null,"01110","09","010","ALVARO OBREGON",null," - 99257",null,"99257","99257.99999","'04648007","'484320490001.99257",null,"CY","Chipre",null,null,null,null,null,null,null,null,null,null,null,null,null,null,null,"104010010001.E0495","MM",null,"00210042","MX",null,null,null,null,null,null,null,null,null,"TIERRA BLANCA","274"]
[null,null,null,null,null,null,null,null,null,null,null,null,null,null,"01110","09","010","ALVARO OBREGON",null," - 99225",null,"99225","99225.99999","'04644009","'484320490001.99225",null,"VA","Ciudad del Vaticano",null,null,null,null,null,null,null,null,null,null,null,null,null,null,null,"104020010001.E00629","MM",null,"00210088","MX",null,null,null,null,null,null,null,null,null,"HUAMANTLA","276"]
[null,null,null,null,null,null,null,null,null,null,null,null,null,null,"01116","09","010","ALVARO OBREGON",null," - 99198",null,"99198","99198.99999","'04643008","'484320100001.99198",null,"CO","Colombia",null,null,null,null,null,null,null,null,null,null,null,null,null,null,null,"104030010001.E00630","MM",null,"00210208","MX",null,null,null,null,null,null,null,null,null,"CUITLAHUAC","278"]
[null,null,null,null,null,null,null,null,null,null,null,null,null,null,"01116","09","010","ALVARO OBREGON",null," - 99154",null,"99154","99154.99999","'04642001","'484320100001.99154",null,"KM","Comoros",null,null,null,null,null,null,null,null,null,null,null,null,null,null,null,"104040010001.E00631","MM",null,"00302006","MX",null,null,null,null,null,null,null,null,null,"TEZONAPA","278"]
[null,null,null,null,null,null,null,null,null,null,null,null,null,null,"01120","09","010","ALVARO OBREGON",null," - 99130",null,"99130","99130.99999","'04642001","'484320400001.99130",null,"CG","Congo",null,null,null,null,null,null,null,null,null,null,null,null,null,null,null,"104050010001.E00632","MM",null,"00302103","MX",null,null,null,null,null,null,null,null,null,"VILLA YECUATLA","279"]
[null,null,null,null,null,null,null,null,null,null,null,null,null,null,"01120","09","010","ALVARO OBREGON",null," - 99128",null,"99128","99128.99999","'04642001","'484320420001.99128",null,"KP","Corea del Norte",null,null,null,null,null,null,null,null,null,null,null,null,null,null,null,"104060010001.E00633","MM",null,"00302309","MX",null,null,null,null,null,null,null,null,null,"LOMA BONITA","281"]
[null,null,null,null,null,null,null,null,null,null,null,null,null,null,"01120","09","010","ALVARO OBREGON",null," - 99113",null,"99113","99113.99999","'04640005","'484320420001.99113",null,"KR","Corea del Sur",null,null,null,null,null,null,null,null,null,null,null,null,null,null,null,"108010010001.E0625","BI",null,"00302357","MX",null,null,null,null,null,null,null,null,null,"PEROTE","282"]
[null,null,null,null,null,null,null,null,null,null,null,null,null,null,"01120","09","010","ALVARO OBREGON",null," - 99106",null,"99106","99106.99999","'04639001","'484320420001.99106",null,"CI","Costa de Marfil",null,null,null,null,null,null,null,null,null,null,null,null,null,null,null,"108020010001.E00634","BI",null,"00302409","MX",null,null,null,null,null,null,null,null,null,"SAN JUAN BAUTISTA VALLE NACIONAL","283"]
[null,null,null,null,null,null,null,null,null,null,null,null,null,null,"01120","09","010","ALVARO OBREGON",null," - 99056",null,"99056","99056.99999","'04638003","'484320100001.99056",null,"CR","Costa Rica",null,null,null,null,null,null,null,null,null,null,null,null,null,null,null,"108030010001.E00635","BI",null,"00302504","MX",null,null,null,null,null,null,null,null,null,"JUAN RODRIGUEZ CLARA","283"]
[null,null,null,null,null,null,null,null,null,null,null,null,null,null,"01120","09","010","ALVARO OBREGON",null," - 99039",null,"99039","99039.99999","'04638003","'484320100001.99039",null,"HR","Croacia",null,null,null,null,null,null,null,null,null,null,null,null,null,null,null,"108040010001.E00636","BI",null,"00303009","MX",null,null,null,null,null,null,null,null,null,"ISLA","283"]
[null,null,null,null,null,null,null,null,null,null,null,null,null,null,"01125","09","010","ALVARO OBREGON",null," - 99034",null,"99034","99034.99999","'04638003","'484320100001.99034",null,"CU","Cuba",null,null,null,null,null,null,null,null,null,null,null,null,null,null,null,"108050010001.E00637","BI",null,"00303058","MX",null,null,null,null,null,null,null,null,null,"PLAYA VICENTE","283"]
[null,null,null,null,null,null,null,null,null,null,null,null,null,null,"01125","09","010","ALVARO OBREGON",null," - 99010",null,"99010","99010.99999","'04636007","'484320100001.99010",null,"CW","Curazao",null,null,null,null,null,null,null,null,null,null,null,null,null,null,null,"108060010001.E00638","BI",null,"00303069","MX",null,null,null,null,null,null,null,null,null,"ANGEL R CABADA","284"]
[null,null,null,null,null,null,null,null,null,null,null,null,null,null,"01130","09","010","ALVARO OBREGON",null," - 98941",null,"98941","98941.99999","'04636007","'484320380001.98941",null,"DK","Dinamarca",null,null,null,null,null,null,null,null,null,null,null,null,null,null,null,"112010010001.E1265","BY",null,"00303085","MX",null,null,null,null,null,null,null,null,null,"LERDO DE TEJADA","284"]
[null,null,null,null,null,null,null,null,null,null,null,null,null,null,"01130","09","010","ALVARO OBREGON",null," - 98832",null,"98832","98832.99999","'04631002","'484320240001.98832",null,"DM","Dominica",null,null,null,null,null,null,null,null,null,null,null,null,null,null,null,"116010010001.E0500","KH",null,"00305006","MX",null,null,null,null,null,null,null,null,null,"PASO DE OVEJAS","285"]
[null,null,null,null,null,null,null,null,null,null,null,null,null,null,"01130","09","010","ALVARO OBREGON",null," - 98718",null,"98718","98718.99999","'04625002","'484320360001.98718",null,"EC","Ecuador",null,null,null,null,null,null,null,null,null,null,null,null,null,null,null,"116020010001.E00639","KH",null,"00305021","MX",null,null,null,null,null,null,null,null,null,"SOLEDAD DE DOBLADO","285"]
[null,null,null,null,null,null,null,null,null,null,null,null,null,null,"01130","09","010","ALVARO OBREGON",null," - 98705",null,"98705","98705.99999","'04624007","'484320360001.98705",null,"EG","Egipto",null,null,null,null,null,null,null,null,null,null,null,null,null,null,null,"116030010001.E00640","KH",null,"00305073","MX",null,null,null,null,null,null,null,null,null,"TUXTEPEC (SAN JUAN BAUTISTA TUXTEPEC)","287"]
[null,null,null,null,null,null,null,null,null,null,null,null,null,null,"01130","09","010","ALVARO OBREGON",null," - 98658",null,"98658","98658.99999","'04622008","'484320170001.98658",null,"SV","El Salvador",null,null,null,null,null,null,null,null,null,null,null,null,null,null,null,"116040010001.E00641","KH",null,"00305159","MX",null,null,null,null,null,null,null,null,null,"SAN FELIPE JALAPA DE DIAZ","287"]
[null,null,null,null,null,null,null,null,null,null,null,null,null,null,"01139","09","010","ALVARO OBREGON",null," - 98507",null,"98507","98507.99999","'04617009","'484320050001.98507",null,"AE","Emiratos Arabes Unidos",null,null,null,null,null,null,null,null,null,null,null,null,null,null,null,"116050010001.E00642","KH",null,"00305207","MX",null,null,null,null,null,null,null,null,null,"TRES VALLES","288"]
[null,null,null,null,null,null,null,null,null,null,null,null,null,null,"01139","09","010","ALVARO OBREGON",null," - 98461",null,"98461","98461.99999","'04617009","'484320510001.98461",null,"ER","Eritrea",null,null,null,null,null,null,null,null,null,null,null,null,null,null,null,"116060010001.E00643","KH",null,"00308006","MX",null,null,null,null,null,null,null,null,null,"COSAMALOAPAN DE CARPIO","288"]
[null,null,null,null,null,null,null,null,null,null,null,null,null,null,"01140","09","010","ALVARO OBREGON",null," - 98452",null,"98452","98452.99999","'04617009","'484320510001.98452",null,"SK","Eslovaquia",null,null,null,null,null,null,null,null,null,null,null,null,null,null,null,"120010010001.E0630","CM",null,"00403009","MX",null,null,null,null,null,null,null,null,null,"CARLOS A CARRILLO","288"]
[null,null,null,null,null,null,null,null,null,null,null,null,null,null,"01140","09","010","ALVARO OBREGON",null," - 98440",null,"98440","98440.99999","'04617009","'484320510001.98440",null,"SI","Eslovenia",null,null,null,null,null,null,null,null,null,null,null,null,null,null,null,"120020010001.E00644","CM",null,"00405009","MX",null,null,null,null,null,null,null,null,null,"TLACOJALPAN","288"]
[null,null,null,null,null,null,null,null,null,null,null,null,null,null,"01140","09","010","ALVARO OBREGON",null," - 98426",null,"98426","98426.99999","'04617009","'484320390001.98426",null,"ES","España",null,null,null,null,null,null,null,null,null,null,null,null,null,null,null,"120030010001.E00645","CM",null,"00405138","MX",null,null,null,null,null,null,null,null,null,"SAN ANDRES TUXTLA","294"]
[null,null,null,null,null,null,null,null,null,null,null,null,null,null,"01150","09",null,"ALVARO OBREGON",null," - 98401",null,"98401","98401.99999","'04617009","'484320390001.98401",null,"US","Estados Unidos de America",null,null,null,null,null,null,null,null,null,null,null,null,null,null,null,"120040010001.E00646","CM",null,"00405609","MX",null,null,null,null,null,null,null,null,null,"JUAN DIAZ COVARRUBIAS","294"]
[null,null,null,null,null,null,null,null,null,null,null,null,null,null,"01150","09","010","ALVARO OBREGON",null," - 98236",null,"98236","98236.99999","'04610002","'484320260001.98236",null,"EE","Estonia",null,null,null,null,null,null,null,null,null,null,null,null,null,null,null,"120050010001.E00647","CM",null,"00407003","MX",null,null,null,null,null,null,null,null,null,"SANTIAGO TUXTLA","294"]
[null,null,null,null,null,null,null,null,null,null,null,null,null,null,"01150","09","010","ALVARO OBREGON",null," - 98212",null,"98212","98212.99999","'04610002","'484320070001.98212",null,"ET","Etiopia",null,null,null,null,null,null,null,null,null,null,null,null,null,null,null,"120060010001.E00648","CM",null,"00407043","MX",null,null,null,null,null,null,null,null,null,"CATEMACO","294"]
[null,null,null,null,null,null,null,null,null,null,null,null,null,null,"01159","09","010","ALVARO OBREGON",null," - 98209",null,"98209","98209.99999","'04610002","'484320070001.98209",null,"XE","Europa",null,null,null,null,null,null,null,null,null,null,null,null,null,null,null,"12020010001.E00510","DZ",null,"00407057","MX",null,null,null,null,null,null,null,null,null,"SIHUAPAN","294"]
[null,null,null,null,null,null,null,null,null,null,null,null,null,null,"01159","09","010","ALVARO OBREGON",null," - 98080",null,"98080","98080.99999","'04609007","'484320560001.98080",null,"FJ","Fiji",null,null,null,null,null,null,null,null,null,null,null,null,null,null,null,"12030010001.E00511","DZ",null,"00407079","MX",null,null,null,null,null,null,null,null,null,"JOSE CARDEL","296"]
[null,null,null,null,null,null,null,null,null,null,null,null,null,null,"01160","09","010","ALVARO OBREGON",null," - 98060",null,"98060","98060.99999","'04605006","'484320560001.98060",null,"PH","Filipinas",null,null,null,null,null,null,null,null,null,null,null,null,null,null,null,"12040010001.E00512","DZ",null,"00409009","MX",null,null,null,null,null,null,null,null,null,"ALVARADO","297"]
[null,null,null,null,null,null,null,null,null,null,null,null,null,null,"01160","09","010","ALVARO OBREGON",null," - 98054",null,"98054","98054.99999","'04605006","'484320560001.98054",null,"FI","Finlandia",null,null,null,null,null,null,null,null,null,null,null,null,null,null,null,"12050010001.E00513","DZ",null,"00411009","MX",null,null,null,null,null,null,null,null,null,"TEPIC","311"]
[null,null,null,null,null,null,null,null,null,null,null,null,null,null,"01160","09","010","ALVARO OBREGON",null," - 98047",null,"98047","98047.99999","'04605006","'484320560001.98047",null,"FR","Francia",null,null,null,null,null,null,null,null,null,null,null,null,null,null,null,"12060010001.E00514","DZ",null,"00413006","MX",null,null,null,null,null,null,null,null,null,"XALISCO","311"]
[null,null,null,null,null,null,null,null,null,null,null,null,null,null,"01160","09","010","ALVARO OBREGON",null," - 98045",null,"98045","98045.99999","'04605006","'484320560001.98045",null,"GA","Gabon",null,null,null,null,null,null,null,null,null,null,null,null,null,null,null,"124010010001.E0050","CA",null,"00415006","MX",null,null,null,null,null,null,null,null,null,"COLIMA","312"]
[null,null,null,null,null,null,null,null,null,null,null,null,null,null,"01160","09","010","ALVARO OBREGON",null," - 98017",null,"98017","98017.99999","'04603001","'484320560001.98017",null,"GM","Gambia",null,null,null,null,null,null,null,null,null,null,null,null,null,null,null,"124010010001.E0051","CA",null,"00417009","MX",null,null,null,null,null,null,null,null,null,"VILLA DE ALVAREZ","312"]
[null,null,null,null,null,null,null,null,null,null,null,null,null,null,"01170","09","010","ALVARO OBREGON",null," - 97985",null,"97985","97985.99999","'04479006","'484310790001.97985",null,"GE","Georgia",null,null,null,null,null,null,null,null,null,null,null,null,null,null,null,"124010010001.E0052","CA",null,"00419006","MX",null,null,null,null,null,null,null,null,null,"ARMERIA","312"]
[null,null,null,null,null,null,null,null,null,null,null,null,null,null,"01170","09","010","ALVARO OBREGON",null," - 97965",null,"97965","97965.99999","'04498007","'484310980001.97965",null,"GS","Georgia del Sur e Islas Sandwich del Sur",null,null,null,null,null,null,null,null,null,null,null,null,null,null,null,"124010020001.E00649","VU",null,"00503009","MX",null,null,null,null,null,null,null,null,null,"TECOMAN","313"]
[null,null,null,null,null,null,null,null,null,null,null,null,null,null,"01170","09","010","ALVARO OBREGON",null," - 97956",null,"97956","97956.99999","'04416006","'484310160001.97956",null,"GH","Ghana",null,null,null,null,null,null,null,null,null,null,null,null,null,null,null,"124010030001.E00650","VU",null,"00505003","MX",null,null,null,null,null,null,null,null,null,"MANZANILLO","314"]
[null,null,null,null,null,null,null,null,null,null,null,null,null,null,"01180","09","010","ALVARO OBREGON",null," - 97906",null,"97906","97906.99999","'04424005","'484310240001.97906",null,"GI","Gibraltar",null,null,null,null,null,null,null,null,null,null,null,null,null,null,null,"124010040001.E00651","VU",null,"00507009","MX",null,null,null,null,null,null,null,null,null,"CIHUATLAN","315"]
[null,null,null,null,null,null,null,null,null,null,null,null,null,null,"01180","09","010","ALVARO OBREGON",null," - 97896",null,"97896","97896.99999","'04466005","'484310660001.97896",null,"XG","Gold",null,null,null,null,null,null,null,null,null,null,null,null,null,null,null,"124010050001.E00652","VU",null,"00509009","MX",null,null,null,null,null,null,null,null,null,"AUTLAN DE NAVARRO","317"]
[null,null,null,null,null,null,null,null,null,null,null,null,null,null,"01180","09","010","ALVARO OBREGON",null," - 97886",null,"97886","97886.99999","'04456004","'484310560001.97886",null,"GD","Granada",null,null,null,null,null,null,null,null,null,null,null,null,null,null,null,"124020010001.E0045","CA",null,"00511009","MX",null,null,null,null,null,null,null,null,null,"RUIZ","319"]
[null,null,null,null,null,null,null,null,null,null,null,null,null,null,"01180","09","010","ALVARO OBREGON",null," - 97824",null,"97824","97824.99999","'04476003","'484310760001.97824",null,"GR","Grecia",null,null,null,null,null,null,null,null,null,null,null,null,null,null,null,"124020020001.E00653","VU",null,"00513009","MX",null,null,null,null,null,null,null,null,null,"EL GRULLO","321"]
[null,null,null,null,null,null,null,null,null,null,null,null,null,null,"01183","09",null,"ALVARO OBREGON",null," - 97820",null,"97820","97820.99999","'04476003","'484310760001.97820",null,"GL","Groenlandia",null,null,null,null,null,null,null,null,null,null,null,null,null,null,null,"124030010001.E00654","VU",null,"00515003","MX",null,null,null,null,null,null,null,null,null,"PUERTO VALLARTA","322"]
[null,null,null,null,null,null,null,null,null,null,null,null,null,null,"01184","09","010","ALVARO OBREGON",null," - 97816",null,"97816","97816.99999","'04423007","'484310230001.97816",null,"GP","Guadalupe",null,null,null,null,null,null,null,null,null,null,null,null,null,null,null,"124030020001.E00655","VU",null,"00516009","MX",null,null,null,null,null,null,null,null,null,"SANTIAGO IXCUINTLA","323"]
[null,null,null,null,null,null,null,null,null,null,null,null,null,null,"01184","09","010","ALVARO OBREGON",null," - 97814",null,"97814","97814.99999","'04455009","'484310550001.97814",null,"GU","Guam",null,null,null,null,null,null,null,null,null,null,null,null,null,null,null,"124040010001.E00656","VU",null,"00517009","MX",null,null,null,null,null,null,null,null,null,"PUERTO SAN BLAS","323"]
[null,null,null,null,null,null,null,null,null,null,null,null,null,null,"01200","09","010","ALVARO OBREGON",null," - 97806",null,"97806","97806.99999","'04448008","'484310480001.97806",null,"GT","Guatemala",null,null,null,null,null,null,null,null,null,null,null,null,null,null,null,"124040020001.E00657","VU",null,"00519009","MX",null,null,null,null,null,null,null,null,null,"SAN BLAS","323"]
[null,null,null,null,null,null,null,null,null,null,null,null,null,null,"01200","09","010","ALVARO OBREGON",null," - 97794",null,"97794","97794.99999","'04503003","'484311020001.97794",null,"GY","Guayana",null,null,null,null,null,null,null,null,null,null,null,null,null,null,null,"124050010001.E00658","VU",null,"00521006","MX",null,null,null,null,null,null,null,null,null,"IXTLAN DEL RIO","324"]
[null,null,null,null,null,null,null,null,null,null,null,null,null,null,"01209","09","010","ALVARO OBREGON",null," - 97787",null,"97787","97787.99999","'04503003","'484311020001.97787",null,"GF","Guayana Francesa",null,null,null,null,null,null,null,null,null,null,null,null,null,null,null,"124050020001.E00659","VU",null,"00523006","MX",null,null,null,null,null,null,null,null,null,"JALA","324"]
[null,null,null,null,null,null,null,null,null,null,null,null,null,null,"01209","09","010","ALVARO OBREGON",null," - 97785",null,"97785","97785.99999","'04503003","'484311020001.97785",null,"GG","Guernsey",null,null,null,null,null,null,null,null,null,null,null,null,null,null,null,"124060010001.E00660","VU",null,"00525009","MX",null,null,null,null,null,null,null,null,null,"ACAPONETA","325"]
[null,null,null,null,null,null,null,null,null,null,null,null,null,null,"01210","09","010","ALVARO OBREGON",null," - 97783",null,"97783","97783.99999","'04503003","'484311020001.97783",null,"GN","Guinea",null,null,null,null,null,null,null,null,null,null,null,null,null,null,null,"124060020001.E00661","VU",null,"00527006","MX",null,null,null,null,null,null,null,null,null,"ZACOALCO DE TORRES","326"]
[null,null,null,null,null,null,null,null,null,null,null,null,null,null,"01210","09","010","ALVARO OBREGON",null," - 97776",null,"97776","97776.99999","'04419009","'484310190001.97776",null,"GQ","Guinea Ecuatorial",null,null,null,null,null,null,null,null,null,null,null,null,null,null,null,"132010010001.E1275","CV",null,"00528009","MX",null,null,null,null,null,null,null,null,null,"COMPOSTELA","327"]
[null,null,null,null,null,null,null,null,null,null,null,null,null,null,"01219","09","010","ALVARO OBREGON",null," - 97774",null,"97774","97774.99999","'04419009","'484310190001.97774",null,"GW","Guinea-Bissau",null,null,null,null,null,null,null,null,null,null,null,null,null,null,null,"136010010001.E0060","KY",null,"00529006","MX",null,null,null,null,null,null,null,null,null,"SAN PEDRO LAGUNILLA","327"]
[null,null,null,null,null,null,null,null,null,null,null,null,null,null,"01219","09","010","ALVARO OBREGON",null," - 97748",null,"97748","97748.99999","'04408007","'484310080001.97748",null,"HT","Haiti",null,null,null,null,null,null,null,null,null,null,null,null,null,null,null,"136020010001.E0055","KY",null,"00531009","MX",null,null,null,null,null,null,null,null,null,"LA PEÑITA DE JALTEMBA","327"]
[null,null,null,null,null,null,null,null,null,null,null,null,null,null,"01220","09","010","ALVARO OBREGON",null," - 97695",null,"97695","97695.99999","'04469008","'484310690001.97695",null,"HN","Honduras",null,null,null,null,null,null,null,null,null,null,null,null,null,null,null,"136030010001.E00662","VU",null,"00533009","MX",null,null,null,null,null,null,null,null,null,"BUCERIAS","329"]
[null,null,null,null,null,null,null,null,null,null,null,null,null,null,"01220","09","010","ALVARO OBREGON",null," - 97650",null,"97650","97650.99999","'04497006","'484310970001.97650",null,"HK","Hong Kong",null,null,null,null,null,null,null,null,null,null,null,null,null,null,null,"140010010001.E0635","CF",null,"00535003","MX",null,null,null,null,null,null,null,null,null,"GUADALAJARA","33"]
[null,null,null,null,null,null,null,null,null,null,null,null,null,null,"01220","09","010","ALVARO OBREGON",null," - 97577",null,"97577","97577.99999","'04415002","'484310150001.97577",null,"HU","Hungria",null,null,null,null,null,null,null,null,null,null,null,null,null,null,null,"140020010001.E00663","CF",null,"00535059","MX",null,null,null,null,null,null,null,null,null,"TLAQUEPAQUE","33"]
[null,null,null,null,null,null,null,null,null,null,null,null,null,null,"01220","09","010","ALVARO OBREGON",null," - 97475",null,"97475","97475.99999","'04493005","'484310930001.97475",null,"IN","India",null,null,null,null,null,null,null,null,null,null,null,null,null,null,null,"140030010001.E00664","CF",null,"00535159","MX",null,null,null,null,null,null,null,null,null,"ZAPOPAN","33"]
[null,null,null,null,null,null,null,null,null,null,null,null,null,null,"01220","09","010","ALVARO OBREGON",null," - 97454",null,"97454","97454.99999","'04451005","'484310510001.97454",null,"ID","Indonesia",null,null,null,null,null,null,null,null,null,null,null,null,null,null,null,"140040010001.E00665","CF",null,"00537009","MX",null,null,null,null,null,null,null,null,null,"TLAJOMULCO DE ZUÑIGA","33"]
[null,null,null,null,null,null,null,null,null,null,null,null,null,null,"01220","09","010","ALVARO OBREGON",null," - 97383",null,"97383","97383.99999","'04402001","'484310020001.97383",null,"IQ","Irak",null,null,null,null,null,null,null,null,null,null,null,null,null,null,null,"140050010001.E00666","CF",null,"00537208","MX",null,null,null,null,null,null,null,null,null,"TONALA","33"]
[null,null,null,null,null,null,null,null,null,null,null,null,null,null,"01220","09","010","ALVARO OBREGON",null," - 97344",null,"97344","97344.99999","'04439005","'484310390001.97344",null,"IR","Iran",null,null,null,null,null,null,null,null,null,null,null,null,null,null,null,"140060010001.E00667","CF",null,"00537405","MX",null,null,null,null,null,null,null,null,null,"LAS PINTITAS","33"]
[null,null,null,null,null,null,null,null,null,null,null,null,null,null,"01230","09","010","ALVARO OBREGON",null," - 97342",null,"97342","97342.99999","'04420004","'484310200001.97340",null,"IE","Irlanda",null,null,null,null,null,null,null,null,null,null,null,null,null,null,null,"144010010001.E0505","LK",null,"00539009","MX",null,null,null,null,null,null,null,null,null,"JARDINES DEL BOSQUE","333"]
[null,null,null,null,null,null,null,null,null,null,null,null,null,null,"01230","09","010","ALVARO OBREGON",null," - 97310",null,"97310","97310.99999","'04450007","'484310500001.97310",null,"BV","Isla Bouvet",null,null,null,null,null,null,null,null,null,null,null,null,null,null,null,"144020010001.E00668","LK",null,"00541009","MX",null,null,null,null,null,null,null,null,null,"CIUDAD GUZMAN","341"]
[null,null,null,null,null,null,null,null,null,null,null,null,null,null,"01230","09","010","ALVARO OBREGON",null," - 97306",null,"97306","97306.99999","'04450007","'484310500001.97306",null,"IM","Isla de Man",null,null,null,null,null,null,null,null,null,null,null,null,null,null,null,"144030010001.E00669","LK",null,"00541056","MX",null,null,null,null,null,null,null,null,null,"ZAPOTILTIC","341"]
[null,null,null,null,null,null,null,null,null,null,null,null,null,null,"01230","09","010","ALVARO OBREGON",null," - 97305",null,"97305","97305.99999","'04450007","'484310500001.97305",null,"IS","Islandia",null,null,null,null,null,null,null,null,null,null,null,null,null,null,null,"144040010001.E00670","LK",null,"00541063","MX",null,null,null,null,null,null,null,null,null,"SAYULA","342"]
[null,null,null,null,null,null,null,null,null,null,null,null,null,null,"01230","09","010","ALVARO OBREGON",null," - 97303",null,"97303","97303.99999","'04450007","'484310500001.97303",null,"AX","Islas Aland",null,null,null,null,null,null,null,null,null,null,null,null,null,null,null,"144050010001.E00671","LK",null,"00541089","MX",null,null,null,null,null,null,null,null,null,"TONAYA","343"]
[null,null,null,null,null,null,null,null,null,null,null,null,null,null,"01230","09","010","ALVARO OBREGON",null," - 97302",null,"97302","97302.99999","'04450007","'484310500001.97302",null,"KY","Islas Caiman",null,null,null,null,null,null,null,null,null,null,null,null,null,null,null,"144060010001.E00672","LK",null,"00543009","MX",null,null,null,null,null,null,null,null,null,"YAHUALICA DE GONZALEZ GALLO","344"]
[null,null,null,null,null,null,null,null,null,null,null,null,null,null,"01235","09",null,"ALVARO OBREGON",null," - 97269",null,"97269","97269.99999","'04450007","'484310500001.97269",null,"CX","Islas Christmas",null,null,null,null,null,null,null,null,null,null,null,null,null,null,null,"148010010001.E0640","TD",null,"00545003","MX",null,null,null,null,null,null,null,null,null,"AYOTLAN","345"]
[null,null,null,null,null,null,null,null,null,null,null,null,null,null,"01239","09","010","ALVARO OBREGON",null," - 97199",null,"97199","97199.99999","'04450007","'484310500001.97199",null,"CC","Islas Cocos",null,null,null,null,null,null,null,null,null,null,null,null,null,null,null,"148010020001.E00673","TD",null,"00547009","MX",null,null,null,null,null,null,null,null,null,"TEOCALTICHE","346"]
[null,null,null,null,null,null,null,null,null,null,null,null,null,null,"01239","09","010","ALVARO OBREGON",null," - 97180",null,"97180","97180.99999","'04450007","'484310500001.97180",null,"CK","Islas Cook",null,null,null,null,null,null,null,null,null,null,null,null,null,null,null,"148020010001.E00674","TD",null,"00549009","MX",null,null,null,null,null,null,null,null,null,"NOCHISTLAN","346"]
[null,null,null,null,null,null,null,null,null,null,null,null,null,null,"01240","09","010","ALVARO OBREGON",null," - 97177",null,"97177","97177.99999","'04450007","'484310500001.97177",null,"FO","Islas Faroe",null,null,null,null,null,null,null,null,null,null,null,null,null,null,null,"148030010001.E00675","TD",null,"00551006","MX",null,null,null,null,null,null,null,null,null,"SAN JULIAN","347"]
[null,null,null,null,null,null,null,null,null,null,null,null,null,null,"01240","09","010","ALVARO OBREGON",null," - 97168",null,"97168","97168.99999","'04450007","'484310500001.97168",null,"HM","Islas Heard y McDonald",null,null,null,null,null,null,null,null,null,null,null,null,null,null,null,"148040010001.E00676","TD",null,"00551259","MX",null,null,null,null,null,null,null,null,null,"SAN MIGUEL EL ALTO","347"]
[null,null,null,null,null,null,null,null,null,null,null,null,null,null,"01250","09","010","ALVARO OBREGON",null," - 97148",null,"97148","97148.99999","'04450007","'484310500001.97148",null,"FK","Islas Malvinas",null,null,null,null,null,null,null,null,null,null,null,null,null,null,null,"148050010001.E00677","TD",null,"00551354","MX",null,null,null,null,null,null,null,null,null,"VALLE DE GUADALUPE","347"]
[null,null,null,null,null,null,null,null,null,null,null,null,null,null,"01250","09","010","ALVARO OBREGON",null," - 97142",null,"97142","97142.99999","'04450007","'484310500001.97142",null,"MP","Islas Marianas del Norte",null,null,null,null,null,null,null,null,null,null,null,null,null,null,null,"148060010001.E00678","TD",null,"00553006","MX",null,null,null,null,null,null,null,null,null,"SAN IGNACIO CERRO GORDO","348"]
[null,null,null,null,null,null,null,null,null,null,null,null,null,null,"01250","09","010","ALVARO OBREGON",null," - 97134",null,"97134","97134.99999","'04450007","'484310500001.97134",null,"MH","Islas Marshall",null,null,null,null,null,null,null,null,null,null,null,null,null,null,null,"152010010001.E0065","CL",null,"00555009","MX",null,null,null,null,null,null,null,null,null,"JACONA DE PLANCARTE","351"]
[null,null,null,null,null,null,null,null,null,null,null,null,null,null,"01250","09","010","ALVARO OBREGON",null," - 97117",null,"97117","97117.99999","'04450007","'484310500001.97117",null,"UM","Islas Menores Alejadas de los Estados Unidos de America",null,null,null,null,null,null,null,null,null,null,null,null,null,null,null,"152020010001.E00679","VU",null,"00557006","MX",null,null,null,null,null,null,null,null,null,"ZAMORA DE HIDALGO","351"]
[null,null,null,null,null,null,null,null,null,null,null,null,null,null,"01250","09","010","ALVARO OBREGON",null," - 97113",null,"97113","97113.99999","'04450007","'484310500001.97113",null,"NF","Islas Norkfolk",null,null,null,null,null,null,null,null,null,null,null,null,null,null,null,"152020020001.E00680","VU",null,"00557039","MX",null,null,null,null,null,null,null,null,null,"LA PIEDAD DE CAVADAS","352"]
[null,null,null,null,null,null,null,null,null,null,null,null,null,null,"01250","09","010","ALVARO OBREGON",null," - 97050",null,"97050","97050.99999","'04450007","'484310500001.97050",null,"PW","Islas Palaos",null,null,null,null,null,null,null,null,null,null,null,null,null,null,null,"152030010001.E00681","VU",null,"00557207","MX",null,null,null,null,null,null,null,null,null,"SAHUAYO DE MORELOS","353"]
[null,null,null,null,null,null,null,null,null,null,null,null,null,null,"01259","09","010","ALVARO OBREGON",null," - 97000",null,"97000","97000.99999","'04450007","'484310500001.97000",null,"PN","Islas Pitcairn",null,null,null,null,null,null,null,null,null,null,null,null,null,null,null,"152040010001.E00682","VU",null,"00559006","MX",null,null,null,null,null,null,null,null,null,"JIQUILPAN","353"]
[null,null,null,null,null,null,null,null,null,null,null,null,null,null,"01259","09","010","ALVARO OBREGON",null," - 96984",null,"96984","96984.99999","'04161003","'484300610001.96984",null,"SB","Islas Solomon",null,null,null,null,null,null,null,null,null,null,null,null,null,null,null,"152040020001.E00683","VU",null,"00561009","MX",null,null,null,null,null,null,null,null,null,"LOS REYES DE SALGADO (LOS REYES)","354"]
[null,null,null,null,null,null,null,null,null,null,null,null,null,null,"01259","09","010","ALVARO OBREGON",null," - 96967",null,"96967","96967.99999","'04191006","'484300910001.96967",null,"SJ","Islas Svalbard y Jan Mayen",null,null,null,null,null,null,null,null,null,null,null,null,null,null,null,"152040030001.E00684","VU",null,"00563009","MX",null,null,null,null,null,null,null,null,null,"TANGANCICUARO DE ARISTA","355"]
[null,null,null,null,null,null,null,null,null,null,null,null,null,null,"01260","09","010","ALVARO OBREGON",null," - 96962",null,"96962","96962.99999","'04191006","'484300910001.96962",null,"TC","Islas Turcas y Caicos",null,null,null,null,null,null,null,null,null,null,null,null,null,null,null,"152050010001.E00685","VU",null,"00565003","MX",null,null,null,null,null,null,null,null,null,"YURECUARO","356"]
[null,null,null,null,null,null,null,null,null,null,null,null,null,null,"01260","09","010","ALVARO OBREGON",null," - 96953",null,"96953","96953.99999","'04191006","'484300910001.96953",null,"VG","Islas Virgenes Britanicas",null,null,null,null,null,null,null,null,null,null,null,null,null,null,null,"152060010001.E00686","VU",null,"00565104","MX",null,null,null,null,null,null,null,null,null,"CASIMIRO CASTILLO","357"]
[null,null,null,null,null,null,null,null,null,null,null,null,null,null,"01260","09","010","ALVARO OBREGON",null," - 96383",null,"96383","96383.99999","'04139109","'484300390001.96383",null,"VI","Islas Virgenes de los Estados Unidos de America",null,null,null,null,null,null,null,null,null,null,null,null,null,null,null,"152070010001.E00687","VU",null,"00565209","MX",null,null,null,null,null,null,null,null,null,"TAMAZULA","358"]
[null,null,null,null,null,null,null,null,null,null,null,null,null,null,"01260","09","010","ALVARO OBREGON",null," - 96369",null,"96369","96369.99999","'04182006","'484300820001.96365",null,"IL","Israel",null,null,null,null,null,null,null,null,null,null,null,null,null,null,null,"152080010001.E00688","VU",null,"00569009","MX",null,null,null,null,null,null,null,null,null,"TECALITLAN","371"]
[null,null,null,null,null,null,null,null,null,null,null,null,null,null,"01260","09","010","ALVARO OBREGON",null," - 96324",null,"96324","96324.99999","'04301005","'484301990001.96324",null,"IT","Italia",null,null,null,null,null,null,null,null,null,null,null,null,null,null,null,"152090010001.E00689","VU",null,"00569303","MX",null,null,null,null,null,null,null,null,null,"ATOYAC","372"]
[null,null,null,null,null,null,null,null,null,null,null,null,null,null,"01260","09","010","ALVARO OBREGON",null," - 96317",null,"96317","96317.99999","'04189007","'484300890001.96317",null,"JM","Jamaica",null,null,null,null,null,null,null,null,null,null,null,null,null,null,null,"152100010001.E00690","VU",null,"00570309","MX",null,null,null,null,null,null,null,null,null,"IXTLAHUACÁN DEL RÍO","373"]
[null,null,null,null,null,null,null,null,null,null,null,null,null,null,"01268","09",null,"ALVARO OBREGON",null," - 96260",null,"96260","96260.99999","'04189007","'484300890001.96260",null,"JP","Japon",null,null,null,null,null,null,null,null,null,null,null,null,null,null,null,"152110010001.E00691","VU",null,"00571009","MX",null,null,null,null,null,null,null,null,null,"TEQUILA","374"]
[null,null,null,null,null,null,null,null,null,null,null,null,null,null,"01269","09","010","ALVARO OBREGON",null," - 96180",null,"96180","96180.99999","'04273007","'484301720001.96180",null,"JE","Jersey",null,null,null,null,null,null,null,null,null,null,null,null,null,null,null,"152120010001.E00692","VU",null,"00571206","MX",null,null,null,null,null,null,null,null,null,"AMECA","375"]
[null,null,null,null,null,null,null,null,null,null,null,null,null,null,"01269","09","010","ALVARO OBREGON",null," - 96165",null,"96165","96165.99999","'04217008","'484301160001.96165",null,"JO","Jordania",null,null,null,null,null,null,null,null,null,null,null,null,null,null,null,"152130010001.E00693","VU",null,"00571401","MX",null,null,null,null,null,null,null,null,null,"CHAPALA","376"]
[null,null,null,null,null,null,null,null,null,null,null,null,null,null,"01269","09","010","ALVARO OBREGON",null," - 96153",null,"96153","96153.99999","'04245006","'484301440001.96153",null,"KZ","Kazajstan",null,null,null,null,null,null,null,null,null,null,null,null,null,null,null,"156010010001.E1225","CN",null,"00573009","MX",null,null,null,null,null,null,null,null,null,"AJIJIC","376"]
[null,null,null,null,null,null,null,null,null,null,null,null,null,null,"01270","09","010","ALVARO OBREGON",null," - 96151",null,"96151","96151.99999","'04245006","'484301440001.96151",null,"KE","Kenia",null,null,null,null,null,null,null,null,null,null,null,null,null,null,null,"156020010001.E00694","VU",null,"00575003","MX",null,null,null,null,null,null,null,null,null,"EL CRUCERO DE SANTA MARIA","377"]
[null,null,null,null,null,null,null,null,null,null,null,null,null,null,"01270","09","010","ALVARO OBREGON",null," - 96145",null,"96145","96145.99999","'04243409","'484301420001.96145",null,"KG","Kirguistan",null,null,null,null,null,null,null,null,null,null,null,null,null,null,null,"156030010001.E00695","VU",null,"00577009","MX",null,null,null,null,null,null,null,null,null,"TEPATITLAN DE MORELOS","378"]
[null,null,null,null,null,null,null,null,null,null,null,null,null,null,"01270","09","010","ALVARO OBREGON",null," - 96124",null,"96124","96124.99999","'04243409","'484302100001.96123",null,"KI","Kiribati",null,null,null,null,null,null,null,null,null,null,null,null,null,null,null,"156030020001.E00696","VU",null,"00579009","MX",null,null,null,null,null,null,null,null,null,"MARCOS CASTELLANOS","381"]
[null,null,null,null,null,null,null,null,null,null,null,null,null,null,"01270","09","010","ALVARO OBREGON",null," - 96108",null,"96108","96108.99999","'04103002","'484300030001.96108",null,"KW","Kuwait",null,null,null,null,null,null,null,null,null,null,null,null,null,null,null,"156040010001.E00697","VU",null,"00603009","MX",null,null,null,null,null,null,null,null,null,"VILLAMAR","383"]
[null,null,null,null,null,null,null,null,null,null,null,null,null,null,"01270","09","010","ALVARO OBREGON",null," - 96070",null,"96070","96070.99999","'04103002","'484300030001.96070",null,"LA","Laos",null,null,null,null,null,null,null,null,null,null,null,null,null,null,null,"156050010001.E00698","VU",null,"00605006","MX",null,null,null,null,null,null,null,null,null,"TALA","384"]
[null,null,null,null,null,null,null,null,null,null,null,null,null,null,"01270","09","010","ALVARO OBREGON",null," - 96055",null,"96055","96055.99999","'04103002","'484300030001.96055",null,"LS","Lesotho",null,null,null,null,null,null,null,null,null,null,null,null,null,null,null,"156060010001.E00699","VU",null,"00605054","MX",null,null,null,null,null,null,null,null,null,"TEUCHITLAN","384"]
[null,null,null,null,null,null,null,null,null,null,null,null,null,null,"01270","09","010","ALVARO OBREGON",null," - 96029",null,"96029","96029.99999","'04103002","'484300030001.96029",null,"LV","Letonia",null,null,null,null,null,null,null,null,null,null,null,null,null,null,null,"156070010001.E00700","VU",null,"00605309","MX",null,null,null,null,null,null,null,null,null,"SAN MARTÍN HIDALGO","385"]
[null,null,null,null,null,null,null,null,null,null,null,null,null,null,"01275","09","010","ALVARO OBREGON",null," - 95930",null,"95930","95930.99999","'04205002","'484301040001.95930",null,"LB","Libano",null,null,null,null,null,null,null,null,null,null,null,null,null,null,null,"156080010001.E00701","VU",null,"00607006","MX",null,null,null,null,null,null,null,null,null,"ETZATLAN","386"]
[null,null,null,null,null,null,null,null,null,null,null,null,null,null,"01275","09","010","ALVARO OBREGON",null," - 95893",null,"95893","95893.99999","'04132001","'484300320001.95870",null,"LR","Liberia",null,null,null,null,null,null,null,null,null,null,null,null,null,null,null,"156090010001.E00702","VU",null,"00609009","MX",null,null,null,null,null,null,null,null,null,"AHUALULCO DEL MERCADO","386"]
[null,null,null,null,null,null,null,null,null,null,null,null,null,null,"01276","09","010","ALVARO OBREGON",null," - 95825",null,"95825","95825.99999","'04242003","'484301410001.95825",null,"LY","Libia",null,null,null,null,null,null,null,null,null,null,null,null,null,null,null,"156100010001.E00703","VU",null,"00611009","MX",null,null,null,null,null,null,null,null,null,"MAGDALENA","386"]
[null,null,null,null,null,null,null,null,null,null,null,null,null,null,"01276","09","010","ALVARO OBREGON",null," - 95823",null,"95823","95823.99999","'04242003","'484301410001.95823",null,"LI","Liechtenstein",null,null,null,null,null,null,null,null,null,null,null,null,null,null,null,"156110010001.E00704","VU",null,"00611109","MX",null,null,null,null,null,null,null,null,null,"VILLA CORONA","387"]
[null,null,null,null,null,null,null,null,null,null,null,null,null,null,"01278","09","010","ALVARO OBREGON",null," - 95819",null,"95819","95819.99999","'04242003","'484301410001.95819",null,"LT","Lituania",null,null,null,null,null,null,null,null,null,null,null,null,null,null,null,"156120010001.E00705","VU",null,"00611303","MX",null,null,null,null,null,null,null,null,null,"JOCOTEPEC","387"]
[null,null,null,null,null,null,null,null,null,null,null,null,null,null,"01278","09","010","ALVARO OBREGON",null," - 95816",null,"95816","95816.99999","'04242003","'484301410001.95816",null,"LU","Luxemburgo",null,null,null,null,null,null,null,null,null,null,null,null,null,null,null,"156130010001.E00706","VU",null,"00613003","MX",null,null,null,null,null,null,null,null,null,"ACATLAN DE JUAREZ","387"]
[null,null,null,null,null,null,null,null,null,null,null,null,null,null,"01279","09","010","ALVARO OBREGON",null," - 95813",null,"95813","95813.99999","'04242003","'484301410001.95813",null,"MO","Macao",null,null,null,null,null,null,null,null,null,null,null,null,null,null,null,"156140010001.E00707","VU",null,"00615009","MX",null,null,null,null,null,null,null,null,null,"TALPA DE ALLENDE","388"]
[null,null,null,null,null,null,null,null,null,null,null,null,null,null,"01279","09","010","ALVARO OBREGON",null," - 95810",null,"95810","95810.99999","'04242003","'484301410001.95810",null,"MK","Macedonia",null,null,null,null,null,null,null,null,null,null,null,null,null,null,null,"156150010001.E00708","VU",null,"00615099","MX",null,null,null,null,null,null,null,null,null,"TECUALA","389"]
[null,null,null,null,null,null,null,null,null,null,null,null,null,null,"01280","09","010","ALVARO OBREGON",null," - 95724",null,"95724","95724.99999","'04242003","'484301410001.95724",null,"MG","Madagascar",null,null,null,null,null,null,null,null,null,null,null,null,null,null,null,"156160010001.E00709","VU",null,"00615205","MX",null,null,null,null,null,null,null,null,null,"TOTOTLAN","391"]
[null,null,null,null,null,null,null,null,null,null,null,null,null,null,"01280","09","010","ALVARO OBREGON",null," - 95696",null,"95696","95696.99999","'04194009","'484300940001.95696",null,"MY","Malasia",null,null,null,null,null,null,null,null,null,null,null,null,null,null,null,"156170010001.E00710","VU",null,"00615255","MX",null,null,null,null,null,null,null,null,null,"ATOTONILCO EL ALTO","391"]
[null,null,null,null,null,null,null,null,null,null,null,null,null,null,"01280","09","010","ALVARO OBREGON",null," - 95694",null,"95694","95694.99999","'04194009","'484300940001.95694",null,"MW","Malawi",null,null,null,null,null,null,null,null,null,null,null,null,null,null,null,"156180010001.E00711","VU",null,"00615309","MX",null,null,null,null,null,null,null,null,null,"PONCITLAN","391"]
[null,null,null,null,null,null,null,null,null,null,null,null,null,null,"01280","09","010","ALVARO OBREGON",null," - 95690",null,"95690","95690.99999","'04194009","'484300940001.95690",null,"MV","Maldivas",null,null,null,null,null,null,null,null,null,null,null,null,null,null,null,"156190010001.E00712","VU",null,"00617009","MX",null,null,null,null,null,null,null,null,null,"OCOTLAN","392"]
[null,null,null,null,null,null,null,null,null,null,null,null,null,null,"01280","09","010","ALVARO OBREGON",null," - 95687",null,"95687","95687.99999","'04194009","'484300940001.95687",null,"ML","Mali",null,null,null,null,null,null,null,null,null,null,null,null,null,null,null,"156200010001.E00713","VU",null,"00619003","MX",null,null,null,null,null,null,null,null,null,"JAMAY","392"]
[null,null,null,null,null,null,null,null,null,null,null,null,null,null,"01280","09","010","ALVARO OBREGON",null," - 95685",null,"95685","95685.99999","'04194009","'484300940001.95685",null,"MT","Malta",null,null,null,null,null,null,null,null,null,null,null,null,null,null,null,"156210010001.E00714","VU",null,"00619039","MX",null,null,null,null,null,null,null,null,null,"LA BARCA","393"]
[null,null,null,null,null,null,null,null,null,null,null,null,null,null,"01285","09","010","ALVARO OBREGON",null," - 95682",null,"95682","95682.99999","'04194009","'484300940001.95682",null,"MA","Marruecos",null,null,null,null,null,null,null,null,null,null,null,null,null,null,null,"156220010001.E00715","VU",null,"00619251","MX",null,null,null,null,null,null,null,null,null,"SAN JUAN DE LOS LAGOS","395"]
[null,null,null,null,null,null,null,null,null,null,null,null,null,null,"01285","09","010","ALVARO OBREGON",null," - 95677",null,"95677","95677.99999","'04194009","'484300940001.95677",null,"MQ","Martinica",null,null,null,null,null,null,null,null,null,null,null,null,null,null,null,"156230010001.E00716","VU",null,"00621009","MX",null,null,null,null,null,null,null,null,null,"SAN DIEGO DE ALEJANDRIA","395"]
[null,null,null,null,null,null,null,null,null,null,null,null,null,null,"01289","09","010","ALVARO OBREGON",null," - 95652",null,"95652","95652.99999","'04177007","'484300770001.95652",null,"MU","Mauricio",null,null,null,null,null,null,null,null,null,null,null,null,null,null,null,"156240010001.E00717","VU",null,"00621355","MX",null,null,null,null,null,null,null,null,null,"UNION DE SAN ANTONIO","395"]
[null,null,null,null,null,null,null,null,null,null,null,null,null,null,"01289","09","010","ALVARO OBREGON",null," - 95642",null,"95642","95642.99999","'04177007","'484300770001.95642",null,"MR","Mauritania",null,null,null,null,null,null,null,null,null,null,null,null,null,null,null,"156250010001.E00718","VU",null,"00621639","MX",null,null,null,null,null,null,null,null,null,"CORTAZAR","411"]
[null,null,null,null,null,null,null,null,null,null,null,null,null,null,"01290","09","010","ALVARO OBREGON",null," - 95620",null,"95620","95620.99999","'04231304","'484301300001.95620",null,"YT","Mayotte",null,null,null,null,null,null,null,null,null,null,null,null,null,null,null,"156260010001.E0075","CN",null,"00701003","MX",null,null,null,null,null,null,null,null,null,"VILLAGRAN","411"]
[null,null,null,null,null,null,null,null,null,null,null,null,null,null,"01290","09","010","ALVARO OBREGON",null," - 95605",null,"95605","95605.99999","'04231304","'484301300001.95605",null,"MX","Mexico",null,null,null,null,null,null,null,null,null,null,null,null,null,null,null,"156270010001.E00719","VU",null,"00702009","MX",null,null,null,null,null,null,null,null,null,"COMONFORT","412"]
[null,null,null,null,null,null,null,null,null,null,null,null,null,null,"01290","09","010","ALVARO OBREGON",null," - 95585",null,"95585","95585.99999","'04270356","'484301690001.95585",null,"FM","Micronesia",null,null,null,null,null,null,null,null,null,null,null,null,null,null,null,"156280010001.E0070","CN",null,"00703009","MX",null,null,null,null,null,null,null,null,null,"EMPALME ESCOBEDO","412"]
[null,null,null,null,null,null,null,null,null,null,null,null,null,null,"01296","09","010","ALVARO OBREGON",null," - 95540",null,"95540","95540.99999","'04291001","'484301900001.95540",null,"MD","Moldova",null,null,null,null,null,null,null,null,null,null,null,null,null,null,null,"156280010001.E00720","VU",null,"00704003","MX",null,null,null,null,null,null,null,null,null,"APASEO EL GRANDE","413"]
[null,null,null,null,null,null,null,null,null,null,null,null,null,null,"01296","09","010","ALVARO OBREGON",null," - 95490",null,"95490","95490.99999","'04240001","'484301390001.95490",null,"MC","Monaco",null,null,null,null,null,null,null,null,null,null,null,null,null,null,null,"158010010001.E00721","TW",null,"00705009","MX",null,null,null,null,null,null,null,null,null,"TEQUISQUIAPAN","414"]
[null,null,null,null,null,null,null,null,null,null,null,null,null,null,"01296","09","010","ALVARO OBREGON",null," - 95469",null,"95469","95469.99999","'04279004","'484301780001.95469",null,"MN","Mongolia",null,null,null,null,null,null,null,null,null,null,null,null,null,null,null,"158010010001.E0510","TW",null,"00706009","MX",null,null,null,null,null,null,null,null,null,"SAN MIGUEL DE ALLENDE","415"]
[null,null,null,null,null,null,null,null,null,null,null,null,null,null,"01296","09","010","ALVARO OBREGON",null," - 95466",null,"95466","95466.99999","'04279004","'484301780001.95466",null,"ME","Montenegro",null,null,null,null,null,null,null,null,null,null,null,null,null,null,null,"158020010001.E00722","TW",null,"00707003","MX",null,null,null,null,null,null,null,null,null,"CERRITOS","415"]
[null,null,null,null,null,null,null,null,null,null,null,null,null,null,"01297","09",null,"ALVARO OBREGON",null," - 95460",null,"95460","95460.99999","'04279004","'484301780001.95460",null,"MS","Montserrat",null,null,null,null,null,null,null,null,null,null,null,null,null,null,null,"158030010001.E00723","TW",null,"00708009","MX",null,null,null,null,null,null,null,null,null,"ACAMBARO","417"]
[null,null,null,null,null,null,null,null,null,null,null,null,null,null,"01298","09","010","ALVARO OBREGON",null," - 95456",null,"95456","95456.99999","'04112005","'484300120001.95456",null,"MZ","Mozambique",null,null,null,null,null,null,null,null,null,null,null,null,null,null,null,"158040010001.E00724","TW",null,"00709009","MX",null,null,null,null,null,null,null,null,null,"DOLORES HIDALGO DE LA INDEPENDENCIA NACIONAL","418"]
[null,null,null,null,null,null,null,null,null,null,null,null,null,null,"01298","09","010","ALVARO OBREGON",null," - 95430",null,"95430","95430.99999","'04184008","'484300840001.95430",null,"MM","Myanmar",null,null,null,null,null,null,null,null,null,null,null,null,null,null,null,"158050010001.E00725","TW",null,"00710006","MX",null,null,null,null,null,null,null,null,null,"SANTA CATARINA","419"]
[null,null,null,null,null,null,null,null,null,null,null,null,null,null,"01299","09","010","ALVARO OBREGON",null," - 95426",null,"95426","95426.99999","'04145125","'484300450001.95426",null,"NA","Namibia",null,null,null,null,null,null,null,null,null,null,null,null,null,null,null,"158060010001.E00726","TW",null,"00711009","MX",null,null,null,null,null,null,null,null,null,"COLON","419"]
[null,null,null,null,null,null,null,null,null,null,null,null,null,null,"01299","09","010","ALVARO OBREGON",null," - 95424",null,"95424","95424.99999","'04145125","'484300450001.95424",null,"NR","Nauru",null,null,null,null,null,null,null,null,null,null,null,null,null,null,null,"162010010001.E1340","CX",null,"00712006","MX",null,null,null,null,null,null,null,null,null,"JERECUARO","421"]
[null,null,null,null,null,null,null,null,null,null,null,null,null,null,"01299","09","010","ALVARO OBREGON",null," - 95396",null,"95396","95396.99999","'04145125","'484300450001.95396",null,"NP","Nepal",null,null,null,null,null,null,null,null,null,null,null,null,null,null,null,"166010010001.E1365","CC",null,"00713006","MX",null,null,null,null,null,null,null,null,null,"TARANDACUAO","421"]
[null,null,null,null,null,null,null,null,null,null,null,null,null,null,"01310","09","010","ALVARO OBREGON",null," - 95339",null,"95339","95339.99999","'04145079","'484302080001.95339",null,"NI","Nicaragua",null,null,null,null,null,null,null,null,null,null,null,null,null,null,null,"170010010001.E0270","CO",null,"00714009","MX",null,null,null,null,null,null,null,null,null,"GABRIEL ZAMORA","422"]
[null,null,null,null,null,null,null,null,null,null,null,null,null,null,"01310","09","010","ALVARO OBREGON",null," - 95300",null,"95300","95300.99999","'04145202","'484302070001.95300",null,"NE","Nigeria",null,null,null,null,null,null,null,null,null,null,null,null,null,null,null,"170020010001.E1630","CO",null,"00715006","MX",null,null,null,null,null,null,null,null,null,"PARACHO","423"]
[null,null,null,null,null,null,null,null,null,null,null,null,null,null,"01320","09","010","ALVARO OBREGON",null," - 95260",null,"95260","95260.99999","'04111004","'484300110001.95260",null,"NG","Nigeria",null,null,null,null,null,null,null,null,null,null,null,null,null,null,null,"170030010001.E00727","VU",null,"00716006","MX",null,null,null,null,null,null,null,null,null,"TARETAN","425"]
[null,null,null,null,null,null,null,null,null,null,null,null,null,null,"01320","09","010","ALVARO OBREGON",null," - 95258",null,"95258","95258.99999","'04111004","'484300110001.95258",null,"UN","Niue",null,null,null,null,null,null,null,null,null,null,null,null,null,null,null,"170040010001.E00728","VU",null,"00717009","MX",null,null,null,null,null,null,null,null,null,"LAZARO CARDENAS","426"]
[null,null,null,null,null,null,null,null,null,null,null,null,null,null,"01329","09",null,"ALVARO OBREGON",null," - 95247",null,"95247","95247.99999","'04175005","'484300750001.95247",null,"NO","Noruega",null,null,null,null,null,null,null,null,null,null,null,null,null,null,null,"170050010001.E00729","VU",null,"00718006","MX",null,null,null,null,null,null,null,null,null,"SAN JUAN DEL RIO","427"]
[null,null,null,null,null,null,null,null,null,null,null,null,null,null,"01330","09","010","ALVARO OBREGON",null," - 95237",null,"95237","95237.99999","'04282304","'484301810001.95237",null,"NC","Nueva Caledonia",null,null,null,null,null,null,null,null,null,null,null,null,null,null,null,"170060010001.E00730","VU",null,"00719006","MX",null,null,null,null,null,null,null,null,null,"OCAMPO","428"]
[null,null,null,null,null,null,null,null,null,null,null,null,null,null,"01330","09","010","ALVARO OBREGON",null," - 95235",null,"95235","95235.99999","'04282304","'484301810001.95235",null,"NZ","Nueva Zelanda",null,null,null,null,null,null,null,null,null,null,null,null,null,null,null,"170070010001.E00731","VU",null,"00720009","MX",null,null,null,null,null,null,null,null,null,"HUANIMARO","429"]
[null,null,null,null,null,null,null,null,null,null,null,null,null,null,"01340","09","010","ALVARO OBREGON",null," - 95233",null,"95233","95233.99999","'04282304","'484301810001.95233",null,"OM","Oman",null,null,null,null,null,null,null,null,null,null,null,null,null,null,null,"170080010001.E00732","VU",null,"00720129","MX",null,null,null,null,null,null,null,null,null,"CUERAMARO","429"]
[null,null,null,null,null,null,null,null,null,null,null,null,null,null,"01340","09","010","ALVARO OBREGON",null," - 95230",null,"95230","95230.99999","'04282304","'484301810001.95230",null,"NL","Paises Bajos",null,null,null,null,null,null,null,null,null,null,null,null,null,null,null,"170090010001.E00733","VU",null,"00720178","MX",null,null,null,null,null,null,null,null,null,"JALOSTOTITLAN","431"]
[null,null,null,null,null,null,null,null,null,null,null,null,null,null,"01376","09","010","ALVARO OBREGON",null," - 95225",null,"95225","95225.99999","'04282304","'484301810001.95225",null,"PK","Pakistan",null,null,null,null,null,null,null,null,null,null,null,null,null,null,null,"170100010001.E00734","VU",null,"00720225","MX",null,null,null,null,null,null,null,null,null,"ROMITA","432"]
[null,null,null,null,null,null,null,null,null,null,null,null,null,null,"01376","09","010","ALVARO OBREGON",null," - 95223",null,"95223","95223.99999","'04282304","'484301810001.95223",null,"PS","Palestina",null,null,null,null,null,null,null,null,null,null,null,null,null,null,null,"170110010001.E00735","VU",null,"00721003","MX",null,null,null,null,null,null,null,null,null,"SOMBRERETE","433"]
[null,null,null,null,null,null,null,null,null,null,null,null,null,null,"01376","09","010","ALVARO OBREGON",null," - 95216",null,"95216","95216.99999","'04275009","'484301740001.95216",null,"PA","Panama",null,null,null,null,null,null,null,null,null,null,null,null,null,null,null,"170120010001.E00736","VU",null,"00722009","MX",null,null,null,null,null,null,null,null,null,"PATZCUARO","434"]
[null,null,null,null,null,null,null,null,null,null,null,null,null,null,"01376","09","010","ALVARO OBREGON",null," - 95213",null,"95213","95213.99999","'04275009","'484301740001.95100",null,"PG","Papua Nueva Guinea",null,null,null,null,null,null,null,null,null,null,null,null,null,null,null,"170130010001.E00737","VU",null,"00723009","MX",null,null,null,null,null,null,null,null,null,"HUETAMO DE NUÑEZ","435"]
[null,null,null,null,null,null,null,null,null,null,null,null,null,null,"01376","09","010","ALVARO OBREGON",null," - 95207",null,"95207","95207.99999","'04275009","'484301740001.95207",null,"PY","Paraguay",null,null,null,null,null,null,null,null,null,null,null,null,null,null,null,"170140010001.E00738","VU",null,"00724003","MX",null,null,null,null,null,null,null,null,null,"ZACAPU","436"]
[null,null,null,null,null,null,null,null,null,null,null,null,null,null,"01377","09","010","ALVARO OBREGON",null," - 95205",null,"95205","95205.99999","'04275009","'484301740001.95205",null,"PE","Peru",null,null,null,null,null,null,null,null,null,null,null,null,null,null,null,"170150010001.E00739","VU",null,"00725009","MX",null,null,null,null,null,null,null,null,null,"SAN MARTÍN DE BOLAÑOS","437"]
[null,null,null,null,null,null,null,null,null,null,null,null,null,null,"01377","09","010","ALVARO OBREGON",null," - 95203",null,"95203","95203.99999","'04275009","'484301740001.95203",null,"PF","Polinesia Francesa",null,null,null,null,null,null,null,null,null,null,null,null,null,null,null,"170160010001.E00740","VU",null,"00726009","MX",null,null,null,null,null,null,null,null,null,"PURUANDIRO","438"]
[null,null,null,null,null,null,null,null,null,null,null,null,null,null,"01379","09","010","ALVARO OBREGON",null," - 95201",null,"95201","95201.99999","'04275009","'484301740001.95201",null,"PL","Polonia",null,null,null,null,null,null,null,null,null,null,null,null,null,null,null,"170170010001.E00741","VU",null,"00727003","MX",null,null,null,null,null,null,null,null,null,"EL PUEBLITO","438"]
[null,null,null,null,null,null,null,null,null,null,null,null,null,null,"01379","09","010","ALVARO OBREGON",null," - 95193",null,"95193","95193.99999","'04275009","'484301740001.95193",null,"PT","Portugal",null,null,null,null,null,null,null,null,null,null,null,null,null,null,null,"170180010001.E00742","VU",null,"00728009","MX",null,null,null,null,null,null,null,null,null,"CADEREYTA DE MONTES","441"]
[null,null,null,null,null,null,null,null,null,null,null,null,null,null,"01389","09","010","ALVARO OBREGON",null," - 95180",null,"95180","95180.99999","'04275009","'484301740001.95180",null,"PR","Puerto Rico",null,null,null,null,null,null,null,null,null,null,null,null,null,null,null,"174010010001.E1280","KM",null,"00729009","MX",null,null,null,null,null,null,null,null,null,"QUERETARO","442"]
[null,null,null,null,null,null,null,null,null,null,null,null,null,null,"01389","09","010","ALVARO OBREGON",null," - 95170",null,"95170","95170.99999","'04275009","'484301740001.95170",null,"QA","Qatar",null,null,null,null,null,null,null,null,null,null,null,null,null,null,null,"175010010001.E1465","YT",null,"00730009","MX",null,null,null,null,null,null,null,null,null,"SAN JOSE DE LOS OLVERA","442"]
[null,null,null,null,null,null,null,null,null,null,null,null,null,null,"01400","09","010","ALVARO OBREGON",null," - 95150",null,"95150","95150.99999","'04275009","'484301740001.95150",null,"GB","Reino Unido",null,null,null,null,null,null,null,null,null,null,null,null,null,null,null,"178010010001.E0645","CD",null,"00731003","MX",null,null,null,null,null,null,null,null,null,"MORELIA","443"]
[null,null,null,null,null,null,null,null,null,null,null,null,null,null,"01400","09","010","ALVARO OBREGON",null," - 95130",null,"95130","95130.99999","'04275009","'484301740001.95130",null,"CF","Republica Centro-Africana",null,null,null,null,null,null,null,null,null,null,null,null,null,null,null,"178020010001.E00743","CD",null,"00732009","MX",null,null,null,null,null,null,null,null,null,"SAN LUIS POTOSI","444"]
[null,null,null,null,null,null,null,null,null,null,null,null,null,null,"01400","09","010","ALVARO OBREGON",null," - 95119",null,"95119","95119.99999","'04275009","'484301740001.95119",null,"CZ","Republica Checa",null,null,null,null,null,null,null,null,null,null,null,null,null,null,null,"178030010001.E00744","CD",null,"00733009","MX",null,null,null,null,null,null,null,null,null,"SOLEDAD DE GRACIANO SANCHEZ","444"]
[null,null,null,null,null,null,null,null,null,null,null,null,null,null,"01407","09","010","ALVARO OBREGON",null," - 95110",null,"95110","95110.99999","'04275009","'484301740001.95110",null,"CD","Republica Democrática del Congo",null,null,null,null,null,null,null,null,null,null,null,null,null,null,null,"178040010001.E00745","CD",null,"00734003","MX",null,null,null,null,null,null,null,null,null,"MOROLEON","445"]
[null,null,null,null,null,null,null,null,null,null,null,null,null,null,"01407","09","010","ALVARO OBREGON",null," - 95098",null,"95098","95098.99999","'04274002","'484301730001.95098",null,"DO","Republica Dominicana",null,null,null,null,null,null,null,null,null,null,null,null,null,null,null,"178050010001.E00746","CD",null,"00735009","MX",null,null,null,null,null,null,null,null,null,"URIANGATO","445"]
[null,null,null,null,null,null,null,null,null,null,null,null,null,null,"01408","09","010","ALVARO OBREGON",null," - 95096",null,"95096","95096.99999","'04274002","'484301730001.95096",null,"RE","Reunion",null,null,null,null,null,null,null,null,null,null,null,null,null,null,null,"178060010001.E00747","CD",null,"00736009","MX",null,null,null,null,null,null,null,null,null,"YURIRIA","445"]
[null,null,null,null,null,null,null,null,null,null,null,null,null,null,"01408","09","010","ALVARO OBREGON",null," - 95094",null,"95094","95094.99999","'04274002","'484301730001.95094",null,"RW","Ruanda",null,null,null,null,null,null,null,null,null,null,null,null,null,null,null,"180010010001.E1525","CD",null,"00737003","MX",null,null,null,null,null,null,null,null,null,"MARAVATIO DE OCAMPO","447"]
[null,null,null,null,null,null,null,null,null,null,null,null,null,null,"01409","09",null,"ALVARO OBREGON",null," - 95090",null,"95090","95090.99999","'04274002","'484301730001.95090",null,"RO","Rumania",null,null,null,null,null,null,null,null,null,null,null,null,null,null,null,"184010010001.E1370","CK",null,"00738009","MX",null,null,null,null,null,null,null,null,null,"PEDRO ESCOBEDO","448"]
[null,null,null,null,null,null,null,null,null,null,null,null,null,null,"01410","09","010","ALVARO OBREGON",null," - 95085",null,"95085","95085.99999","'04274002","'484301730001.95085",null,"RU","Rusia",null,null,null,null,null,null,null,null,null,null,null,null,null,null,null,"188010010001.E0280","CR",null,"00739009","MX",null,null,null,null,null,null,null,null,null,"AGUASCALIENTES","449"]
[null,null,null,null,null,null,null,null,null,null,null,null,null,null,"01410","09","010","ALVARO OBREGON",null," - 95080",null,"95080","95080.99999","'04274002","'484301730001.95080",null,"EH","Sahara Occidental",null,null,null,null,null,null,null,null,null,null,null,null,null,null,null,"188020010001.E00748","VU",null,"00740006","MX",null,null,null,null,null,null,null,null,null,"JESUS MARIA","449"]
[null,null,null,null,null,null,null,null,null,null,null,null,null,null,"01410","09","010","ALVARO OBREGON",null," - 95028",null,"95028","95028.99999","'04303007","'484302010001.95028",null,"WS","Samoa",null,null,null,null,null,null,null,null,null,null,null,null,null,null,null,"188030010001.E00749","VU",null,"00741009","MX",null,null,null,null,null,null,null,null,null,"SAN IGNACIO","449"]
[null,null,null,null,null,null,null,null,null,null,null,null,null,null,"01419","09","010","ALVARO OBREGON",null," - 94990",null,"94990","94990.99999","'04149009","'484300490001.94990",null,"AS","Samoa Americana",null,null,null,null,null,null,null,null,null,null,null,null,null,null,null,"188040010001.E00750","VU",null,"00742006","MX",null,null,null,null,null,null,null,null,null,"SAN IGNACIO","449"]
[null,null,null,null,null,null,null,null,null,null,null,null,null,null,"01419","09","010","ALVARO OBREGON",null," - 94983",null,"94983","94983.99999","'04131009","'484300310001.94983",null,"BL","San Bartolome",null,null,null,null,null,null,null,null,null,null,null,null,null,null,null,"188050010001.E00751","VU",null,"00743006","MX",null,null,null,null,null,null,null,null,null,"VALLADOLID","449"]
[null,null,null,null,null,null,null,null,null,null,null,null,null,null,"01420","09","010","ALVARO OBREGON",null," - 94977",null,"94977","94977.99999","'04226002","'484301250001.94977",null,"KN","San Cristóbal y Nieves",null,null,null,null,null,null,null,null,null,null,null,null,null,null,null,"188060010001.E00752","VU",null,"00744009","MX",null,null,null,null,null,null,null,null,null,"ZINAPECUARO DE FIGUEROA","451"]
[null,null,null,null,null,null,null,null,null,null,null,null,null,null,"01420","09","010","ALVARO OBREGON",null," - 94965",null,"94965","94965.99999","'04121008","'484300210001.94965",null,"SM","San Marino",null,null,null,null,null,null,null,null,null,null,null,null,null,null,null,"191010010001.E0400","HR",null,"00745006","MX",null,null,null,null,null,null,null,null,null,"URUAPAN","452"]
[null,null,null,null,null,null,null,null,null,null,null,null,null,null,"01420","09","010","ALVARO OBREGON",null," - 94961",null,"94961","94961.99999","'04121008","'484300210001.94961",null,"SX","San Martin",null,null,null,null,null,null,null,null,null,null,null,null,null,null,null,"191020010001.E00753","VU",null,"00746006","MX",null,null,null,null,null,null,null,null,null,"APATZINGAN DE LA CONSTITUCION","453"]
[null,null,null,null,null,null,null,null,null,null,null,null,null,null,"01430","09","010","ALVARO OBREGON",null," - 94939",null,"94939","94939.99999","'04297007","'484301960001.94939",null,"PM","San Pedro y Miquelon",null,null,null,null,null,null,null,null,null,null,null,null,null,null,null,"191030010001.E00754","VU",null,"00747009","MX",null,null,null,null,null,null,null,null,null,"VALLE DE SANTIAGO","456"]
[null,null,null,null,null,null,null,null,null,null,null,null,null,null,"01430","09","010","ALVARO OBREGON",null," - 94934",null,"94934","94934.99999","'04297007","'484301960001.94934",null,"VC","San Vicente y las Granadinas",null,null,null,null,null,null,null,null,null,null,null,null,null,null,null,"191040010001.E00755","VU",null,"00748006","MX",null,null,null,null,null,null,null,null,null,"HUEJUQUILLA EL ALTO","457"]
[null,null,null,null,null,null,null,null,null,null,null,null,null,null,"01440","09","010","ALVARO OBREGON",null," - 94930",null,"94930","94930.99999","'04297007","'484301960001.94930",null,"SH","Santa Elena",null,null,null,null,null,null,null,null,null,null,null,null,null,null,null,"191050010001.E00756","VU",null,"00749006","MX",null,null,null,null,null,null,null,null,null,"VALPARAISO","457"]
[null,null,null,null,null,null,null,null,null,null,null,null,null,null,"01440","09","010","ALVARO OBREGON",null," - 94918",null,"94918","94918.99999","'04153007","'484300530001.94918",null,"LC","Santa Lucia",null,null,null,null,null,null,null,null,null,null,null,null,null,null,null,"191060010001.E00757","VU",null,"00750009","MX",null,null,null,null,null,null,null,null,null,"COSIO","458"]
[null,null,null,null,null,null,null,null,null,null,null,null,null,null,"01450","09","010","ALVARO OBREGON",null," - 94916",null,"94916","94916.99999","'04153007","'484300530001.94916",null,"ST","Santo Tome y Principe",null,null,null,null,null,null,null,null,null,null,null,null,null,null,null,"192010010001.E00758","VU",null,"00751003","MX",null,null,null,null,null,null,null,null,null,"CIUDAD CUAUHTEMOC","458"]
[null,null,null,null,null,null,null,null,null,null,null,null,null,null,"01450","09","010","ALVARO OBREGON",null," - 94912",null,"94912","94912.99999","'04153007","'484300530001.94912",null,"SN","Senegal",null,null,null,null,null,null,null,null,null,null,null,null,null,null,null,"192010010001.E0265","CU",null,"00752009","MX",null,null,null,null,null,null,null,null,null,"OJOCALIENTE","458"]
[null,null,null,null,null,null,null,null,null,null,null,null,null,null,"01450","09","010","ALVARO OBREGON",null," - 94906",null,"94906","94906.99999","'04218006","'484301170001.94906",null,"RS","Serbia y Montenegro",null,null,null,null,null,null,null,null,null,null,null,null,null,null,null,"192020010001.E00759","VU",null,"00753009","MX",null,null,null,null,null,null,null,null,null,"VILLA DE COS","458"]
[null,null,null,null,null,null,null,null,null,null,null,null,null,null,"01450","09","010","ALVARO OBREGON",null," - 94846",null,"94846","94846.99999","'04269003","'484301680001.94846",null,"SC","Seychelles",null,null,null,null,null,null,null,null,null,null,null,null,null,null,null,"192030010001.E00760","VU",null,"00754003","MX",null,null,null,null,null,null,null,null,null,"LUIS MOYA","458"]
[null,null,null,null,null,null,null,null,null,null,null,null,null,null,"01450","09","010","ALVARO OBREGON",null," - 94825",null,"94825","94825.99999","'04296003","'484301950001.94825",null,"SL","Sierra Leona",null,null,null,null,null,null,null,null,null,null,null,null,null,null,null,"192040010001.E00761","VU",null,"00755009","MX",null,null,null,null,null,null,null,null,null,"TACAMBARO DE CODALLOS","459"]
[null,null,null,null,null,null,null,null,null,null,null,null,null,null,"01460","09","010","ALVARO OBREGON",null," - 94793",null,"94793","94793.99999","'04174004","'484300740001.94793",null,"XS","Silver",null,null,null,null,null,null,null,null,null,null,null,null,null,null,null,"192040020001.E00762","VU",null,"00756009","MX",null,null,null,null,null,null,null,null,null,"CELAYA","461"]
[null,null,null,null,null,null,null,null,null,null,null,null,null,null,"01460","09","010","ALVARO OBREGON",null," - 94783",null,"94783","94783.99999","'04174004","'484300740001.94783",null,"SG","Singapur",null,null,null,null,null,null,null,null,null,null,null,null,null,null,null,"192050010001.E00763","VU",null,"00757003","MX",null,null,null,null,null,null,null,null,null,"RINCON DE TAMAYO","461"]
[null,null,null,null,null,null,null,null,null,null,null,null,null,null,"01470","09","010","ALVARO OBREGON",null," - 94780",null,"94780","94780.99999","'04174004","'484300740001.94780",null,"SY","Siria",null,null,null,null,null,null,null,null,null,null,null,null,null,null,null,"192060010001.E00764","VU",null,"00758009","MX",null,null,null,null,null,null,null,null,null,"ALDAMA","462"]
[null,null,null,null,null,null,null,null,null,null,null,null,null,null,"01470","09","010","ALVARO OBREGON",null," - 94775",null,"94775","94775.99999","'04248009","'484301470001.94775",null,"SO","Somalia",null,null,null,null,null,null,null,null,null,null,null,null,null,null,null,"192070010001.E00765","VU",null,"00759009","MX",null,null,null,null,null,null,null,null,null,"IRAPUATO","462"]
[null,null,null,null,null,null,null,null,null,null,null,null,null,null,"01470","09","010","ALVARO OBREGON",null," - 94773",null,"94773","94773.99999","'04248009","'484301470001.94773",null,"LK","Sri Lanka",null,null,null,null,null,null,null,null,null,null,null,null,null,null,null,"192070020001.E00766","VU",null,"00760009","MX",null,null,null,null,null,null,null,null,null,"ARANDAS","462"]
[null,null,null,null,null,null,null,null,null,null,null,null,null,null,"01480","09","010","ALVARO OBREGON",null," - 94766",null,"94766","94766.99999","'04106005","'484300060001.94766",null,"SZ","Suazilandia",null,null,null,null,null,null,null,null,null,null,null,null,null,null,null,"192080010001.E00767","VU",null,"00761003","MX",null,null,null,null,null,null,null,null,null,"JALPA","463"]
[null,null,null,null,null,null,null,null,null,null,null,null,null,null,"01480","09","010","ALVARO OBREGON",null," - 94763",null,"94763","94763.99999","'04106005","'484300060001.94763",null,"ZA","Sudafrica",null,null,null,null,null,null,null,null,null,null,null,null,null,null,null,"192090010001.E00768","VU",null,"00762009","MX",null,null,null,null,null,null,null,null,null,"SALAMANCA","464"]
[null,null,null,null,null,null,null,null,null,null,null,null,null,null,"01490","09","010","ALVARO OBREGON",null," - 94746",null,"94746","94746.99999","'04130002","'484300300001.94746",null,"SD","Sudan",null,null,null,null,null,null,null,null,null,null,null,null,null,null,null,"192100010001.E00769","VU",null,"00763009","MX",null,null,null,null,null,null,null,null,null,"CARDENAS","464"]
[null,null,null,null,null,null,null,null,null,null,null,null,null,null,"01490","09","010","ALVARO OBREGON",null," - 94744",null,"94744","94744.99999","'04130002","'484300300001.94744",null,"SS","Sudan del Sur",null,null,null,null,null,null,null,null,null,null,null,null,null,null,null,"192110010001.E00770","VU",null,"00764003","MX",null,null,null,null,null,null,null,null,null,"CARDENAS","464"]
[null,null,null,null,null,null,null,null,null,null,null,null,null,null,"01490","09","010","ALVARO OBREGON",null," - 94733",null,"94733","94733.99999","'04239009","'484301380001.94733",null,"SE","Suecia",null,null,null,null,null,null,null,null,null,null,null,null,null,null,null,"192120010001.E00771","VU",null,"00765009","MX",null,null,null,null,null,null,null,null,null,"SAN FRANCISCO DE LOS ROMO","465"]
[null,null,null,null,null,null,null,null,null,null,null,null,null,null,"01500","09","010","ALVARO OBREGON",null," - 94729",null,"94729","94729.99999","'04216004","'484301150001.94729",null,"CH","Suiza",null,null,null,null,null,null,null,null,null,null,null,null,null,null,null,"192130010001.E00772","VU",null,"00766009","MX",null,null,null,null,null,null,null,null,null,"PABELLON DE ARTEAGA","465"]
[null,null,null,null,null,null,null,null,null,null,null,null,null,null,"01500","09","010","ALVARO OBREGON",null," - 94726",null,"94726","94726.99999","'04216004","'484301150001.94726",null,"SR","Surinam",null,null,null,null,null,null,null,null,null,null,null,null,null,null,null,"192140010001.E00773","VU",null,"00767003","MX",null,null,null,null,null,null,null,null,null,"RINCON DE ROMOS","465"]
[null,null,null,null,null,null,null,null,null,null,null,null,null,null,"01500","09","010","ALVARO OBREGON",null," - 94724",null,"94724","94724.99999","'04216004","'484301150001.94724",null,"TH","Tailandia",null,null,null,null,null,null,null,null,null,null,null,null,null,null,null,"192150010001.E00774","VU",null,"00768009","MX",null,null,null,null,null,null,null,null,null,"TEPEZALA","465"]
[null,null,null,null,null,null,null,null,null,null,null,null,null,null,"01504","09","010","ALVARO OBREGON",null," - 94722",null,"94722","94722.99999","'04216004","'484301150001.94722",null,"TW","Taiwán",null,null,null,null,null,null,null,null,null,null,null,null,null,null,null,"196010010001.E0860","CY",null,"00769009","MX",null,null,null,null,null,null,null,null,null,"EMILIANO ZAPATA","465"]
[null,null,null,null,null,null,null,null,null,null,null,null,null,null,"01504","09","010","ALVARO OBREGON",null," - 94703",null,"94703","94703.99999","'04199008","'484300990001.94703",null,"TZ","Tanzania",null,null,null,null,null,null,null,null,null,null,null,null,null,null,null,"20020010001.E00515","VU",null,"00770006","MX",null,null,null,null,null,null,null,null,null,"SANTIAGO MARAVATIO","466"]
[null,null,null,null,null,null,null,null,null,null,null,null,null,null,"01505","09","010","ALVARO OBREGON",null," - 94688",null,"94688","94688.99999","'04144109","'484300440001.94688",null,"TJ","Tayikistan",null,null,null,null,null,null,null,null,null,null,null,null,null,null,null,"20030010001.E00516","VU",null,"00771009","MX",null,null,null,null,null,null,null,null,null,"SALVATIERRA","466"]
[null,null,null,null,null,null,null,null,null,null,null,null,null,null,"01505","09","010","ALVARO OBREGON",null," - 94680",null,"94680","94680.99999","'04144109","'484300440001.94680",null,"IO","Territorio Britanico del Oceano Indico",null,null,null,null,null,null,null,null,null,null,null,null,null,null,null,"20040010001.E00517","VU",null,"00772006","MX",null,null,null,null,null,null,null,null,null,"MOYAHUA DE ESTRADA","467"]
[null,null,null,null,null,null,null,null,null,null,null,null,null,null,"01506","09","010","ALVARO OBREGON",null," - 94678",null,"94678","94678.99999","'04144109","'484300440001.94678",null,"TF","Territorios Australes Franceses",null,null,null,null,null,null,null,null,null,null,null,null,null,null,null,"20050010001.E00518","VU",null,"00773006","MX",null,null,null,null,null,null,null,null,null,"SAN LUIS DE LA PAZ","468"]
[null,null,null,null,null,null,null,null,null,null,null,null,null,null,"01506","09","010","ALVARO OBREGON",null," - 94677",null,"94677","94677.99999","'04144109","'484300440001.94677",null,"TL","Timor-Leste",null,null,null,null,null,null,null,null,null,null,null,null,null,null,null,"20060010001.E00519","VU",null,"00774009","MX",null,null,null,null,null,null,null,null,null,"PENJAMO","469"]
[null,null,null,null,null,null,null,null,null,null,null,null,null,null,"01507","09","010","ALVARO OBREGON",null," - 94660",null,"94660","94660.99999","'04144109","'484300440001.94660",null,"TG","Togo",null,null,null,null,null,null,null,null,null,null,null,null,null,null,null,"203010010001.E0405","CZ",null,"00774102","MX",null,null,null,null,null,null,null,null,null,"SILAO","472"]
[null,null,null,null,null,null,null,null,null,null,null,null,null,null,"01507","09","010","ALVARO OBREGON",null," - 94656",null,"94656","94656.99999","'04144109","'484300440001.94656",null,"TK","Tokelau",null,null,null,null,null,null,null,null,null,null,null,null,null,null,null,"203020010001.E0890","CZ",null,"00774252","MX",null,null,null,null,null,null,null,null,null,"GUANAJUATO","473"]
[null,null,null,null,null,null,null,null,null,null,null,null,null,null,"01508","09","010","ALVARO OBREGON",null," - 94649",null,"94649","94649.99999","'04144109","'484300440001.94649",null,"TO","Tonga",null,null,null,null,null,null,null,null,null,null,null,null,null,null,null,"203030010001.E00775","VU",null,"00775006","MX",null,null,null,null,null,null,null,null,null,"LAGOS DE MORENO","474"]
[null,null,null,null,null,null,null,null,null,null,null,null,null,null,"01508","09","010","ALVARO OBREGON",null," - 94640",null,"94640","94640.99999","'04144109","'484300440001.94640",null,"TT","Trinidad y Tobago",null,null,null,null,null,null,null,null,null,null,null,null,null,null,null,"203040010001.E00776","VU",null,"00776006","MX",null,null,null,null,null,null,null,null,null,"SAN FRANCISCO DEL RINCON","476"]
[null,null,null,null,null,null,null,null,null,null,null,null,null,null,"01509","09","010","ALVARO OBREGON",null," - 94630",null,"94630","94630.99999","'04144109","'484300440001.94630",null,"TN","Tunez",null,null,null,null,null,null,null,null,null,null,null,null,null,null,null,"203050010001.E00777","VU",null,"00777009","MX",null,null,null,null,null,null,null,null,null,"PURISIMA DE BUSTOS","476"]
[null,null,null,null,null,null,null,null,null,null,null,null,null,null,"01509","09","010","ALVARO OBREGON",null," - 94613",null,"94613","94613.99999","'04144109","'484300440001.94613",null,"TM","Turkmenistán",null,null,null,null,null,null,null,null,null,null,null,null,null,null,null,"203060010001.E00778","VU",null,"00778006","MX",null,null,null,null,null,null,null,null,null,"LEON DE LOS ALDAMA (LEON)","477"]
[null,null,null,null,null,null,null,null,null,null,null,null,null,null,"01510","09","010","ALVARO OBREGON",null," - 94546",null,"94546","94546.99999","'04144109","'484300440001.94546",null,"TR","Turquia",null,null,null,null,null,null,null,null,null,null,null,null,null,null,null,"204010010001.E0650","BJ",null,"00779006","MX",null,null,null,null,null,null,null,null,null,"CALERA DE VICTOR ROSALES","478"]
[null,null,null,null,null,null,null,null,null,null,null,null,null,null,"01510","09","010","ALVARO OBREGON",null," - 94544",null,"94544","94544.99999","'04144109","'484300440001.94544",null,"TV","Tuvalu",null,null,null,null,null,null,null,null,null,null,null,null,null,null,null,"204020010001.E00779","BJ",null,"00780009","MX",null,null,null,null,null,null,null,null,null,"LEON DE LOS ALDAMA (LEON)","479"]
[null,null,null,null,null,null,null,null,null,null,null,null,null,null,"01510","09","010","ALVARO OBREGON",null," - 94542",null,"94542","94542.99999","'04144109","'484300440001.94542",null,"UA","Ucrania",null,null,null,null,null,null,null,null,null,null,null,null,null,null,null,"204030010001.E00780","BJ",null,"00781003","MX",null,null,null,null,null,null,null,null,null,"CIUDAD VALLES","481"]
[null,null,null,null,null,null,null,null,null,null,null,null,null,null,"01510","09","010","ALVARO OBREGON",null," - 94534",null,"94534","94534.99999","'04144109","'484300440001.94534",null,"UG","Uganda",null,null,null,null,null,null,null,null,null,null,null,null,null,null,null,"204040010001.E00781","BJ",null,"00782009","MX",null,null,null,null,null,null,null,null,null,"TAMASOPO","482"]
[null,null,null,null,null,null,null,null,null,null,null,null,null,null,"01520","09","010","ALVARO OBREGON",null," - 94530",null,"94530","94530.99999","'04144109","'484300440001.94530",null,"EU","Unión Europea",null,null,null,null,null,null,null,null,null,null,null,null,null,null,null,"204050010001.E00782","BJ",null,"00783009","MX",null,null,null,null,null,null,null,null,null,"CIUDAD DEL MAIZ","482"]
[null,null,null,null,null,null,null,null,null,null,null,null,null,null,"01520","09","010","ALVARO OBREGON",null," - 94518",null,"94518","94518.99999","'04144109","'484300440001.94518",null,"UY","Uruguay",null,null,null,null,null,null,null,null,null,null,null,null,null,null,null,"204060010001.E00783","BJ",null,"00784003","MX",null,null,null,null,null,null,null,null,null,"TAMAZUNCHALE","483"]
[null,null,null,null,null,null,null,null,null,null,null,null,null,null,"01520","09","010","ALVARO OBREGON",null," - 94516",null,"94516","94516.99999","'04144109","'484300440001.94516",null,"UZ","Uzbekistan",null,null,null,null,null,null,null,null,null,null,null,null,null,null,null,"208010010001.E0080","DK",null,"00785009","MX",null,null,null,null,null,null,null,null,null,"TIERRA NUEVA","485"]
[null,null,null,null,null,null,null,null,null,null,null,null,null,null,"01520","09","010","ALVARO OBREGON",null," - 94510",null,"94510","94510.99999","'04144109","'484300440001.94510",null,"VU","Vanuatu",null,null,null,null,null,null,null,null,null,null,null,null,null,null,null,"208020010001.E00784","VU",null,"00786009","MX",null,null,null,null,null,null,null,null,null,"VILLA DE REYES","485"]
[null,null,null,null,null,null,null,null,null,null,null,null,null,null,"01520","09","010","ALVARO OBREGON",null," - 94494",null,"94494","94494.99999","'04144109","'484300440001.94480",null,"VE","Venezuela",null,null,null,null,null,null,null,null,null,null,null,null,null,null,null,"208030010001.E00785","VU",null,"00787003","MX",null,null,null,null,null,null,null,null,null,"CHARCAS","486"]
[null,null,null,null,null,null,null,null,null,null,null,null,null,null,"01520","09","010","ALVARO OBREGON",null," - 94485",null,"94485","94485.99999","'04144109","'484300440001.94485",null,"VN","Vietnam",null,null,null,null,null,null,null,null,null,null,null,null,null,null,null,"208040010001.E00786","VU",null,"00787107","MX",null,null,null,null,null,null,null,null,null,"RIO VERDE","487"]
[null,null,null,null,null,null,null,null,null,null,null,null,null,null,"01530","09","010","ALVARO OBREGON",null," - 94473",null,"94473","94473.99999","'04168001","'484300680001.94473",null,"WF","Wallis y Futuna",null,null,null,null,null,null,null,null,null,null,null,null,null,null,null,"208050010001.E00787","VU",null,"00788009","MX",null,null,null,null,null,null,null,null,null,"FRACCION EL REFUGIO","487"]
[null,null,null,null,null,null,null,null,null,null,null,null,null,null,"01530","09","010","ALVARO OBREGON",null," - 94463",null,"94463","94463.99999","'04185009","'484300850001.94463",null,"XX","Worldwide",null,null,null,null,null,null,null,null,null,null,null,null,null,null,null,"212010010001.E1285","DM",null,"00789009","MX",null,null,null,null,null,null,null,null,null,"DOCTOR ARROYO","488"]
[null,null,null,null,null,null,null,null,null,null,null,null,null,null,"01537","09","010","ALVARO OBREGON",null," - 94393",null,"94393","94393.99999","'04219007","'484301180001.94393",null,"YE","Yemen",null,null,null,null,null,null,null,null,null,null,null,null,null,null,null,"214010010001.E0340","DO",null,"00789505","MX",null,null,null,null,null,null,null,null,null,"MATEHUALA","488"]
[null,null,null,null,null,null,null,null,null,null,null,null,null,null,"01537","09","010","ALVARO OBREGON",null," - 94333",null,"94333","94333.99999","'04219007","'484301180001.94333",null,"DJ","Yibuti",null,null,null,null,null,null,null,null,null,null,null,null,null,null,null,"214020010001.E00788","VU",null,"00790009","MX",null,null,null,null,null,null,null,null,null,"CEDRAL","488"]
[null,null,null,null,null,null,null,null,null,null,null,null,null,null,"01538","09","010","ALVARO OBREGON",null," - 94271",null,"94271","94271.99999","'04206003","'484301050001.94271",null,"ZM","Zambia",null,null,null,null,null,null,null,null,null,null,null,null,null,null,null,"214030010001.E00789","VU",null,"00791003","MX",null,null,null,null,null,null,null,null,null,"TAMUIN","489"]
[null,null,null,null,null,null,null,null,null,null,null,null,null,null,"01538","09","010","ALVARO OBREGON",null," - 94264",null,"94264","94264.99999","'04190008","'484300900001.94264",null,"ZW","Zimbabue",null,null,null,null,null,null,null,null,null,null,null,null,null,null,null,"214040010001.E00790","VU",null,"00792009","MX",null,null,null,null,null,null,null,null,null,"EL HIGO","489"]
[null,null,null,null,null,null,null,null,null,null,null,null,null,null,"01539","09","010","ALVARO OBREGON",null," - 94233",null,"94233","94233.99999","'04107003","'484300070001.94233",null,null,null,null,null,null,null,null,null,null,null,null,null,null,null,null,null,null,"214050010001.E00791","VU",null,"00793009","MX",null,null,null,null,null,null,null,null,null,"ZACATECAS","492"]
[null,null,null,null,null,null,null,null,null,null,null,null,null,null,"01539","09","010","ALVARO OBREGON",null," - 94190",null,"94190","94190.99999","'04266009","'484301650001.94190",null,null,null,null,null,null,null,null,null,null,null,null,null,null,null,null,null,null,"214060010001.E00792","VU",null,"00794003","MX",null,null,null,null,null,null,null,null,null,"FRESNILLO (FRESNILLO DE GONZALEZ ECHEVE","493"]
[null,null,null,null,null,null,null,null,null,null,null,null,null,null,"01539","09","010","ALVARO OBREGON",null," - 94149",null,"94149","94149.99999","'04147004","'484300470001.94140",null,null,null,null,null,null,null,null,null,null,null,null,null,null,null,null,null,null,"218010010001.E0285","EC",null,"00795009","MX",null,null,null,null,null,null,null,null,null,"JEREZ (JEREZ DE GARCIA SALINAS)","494"]
[null,null,null,null,null,null,null,null,null,null,null,null,null,null,"01540","09","010","ALVARO OBREGON",null," - 94126",null,"94126","94126.99999","'04129001","'484300290001.94126",null,null,null,null,null,null,null,null,null,null,null,null,null,null,null,null,null,null,"218020010001.E00793","VU",null,"00796009","MX",null,null,null,null,null,null,null,null,null,"CALVILLO","495"]
[null,null,null,null,null,null,null,null,null,null,null,null,null,null,"01540","09","010","ALVARO OBREGON",null," - 94103",null,"94103","94103.99999","'04171001","'484300710001.94103",null,null,null,null,null,null,null,null,null,null,null,null,null,null,null,null,null,null,"218030010001.E00794","VU",null,"00797003","MX",null,null,null,null,null,null,null,null,null,"ASIENTOS","496"]
[null,null,null,null,null,null,null,null,null,null,null,null,null,null,"01540","09","010","ALVARO OBREGON",null," - 94057",null,"94057","94057.99999","'04289002","'484301880001.94057",null,null,null,null,null,null,null,null,null,null,null,null,null,null,null,null,null,null,"218040010001.E00795","VU",null,"00798009","MX",null,null,null,null,null,null,null,null,null,"SALINAS DE HIDALGO","496"]
[null,null,null,null,null,null,null,null,null,null,null,null,null,null,"01540","09","010","ALVARO OBREGON",null," - 93994",null,"93994","93994.99999","'04224003","'484301230001.93994",null,null,null,null,null,null,null,null,null,null,null,null,null,null,null,null,null,null,"218050010001.E00796","VU",null,"00799009","MX",null,null,null,null,null,null,null,null,null,"RIO GRANDE","498"]
[null,null,null,null,null,null,null,null,null,null,null,null,null,null,"01540","09","010","ALVARO OBREGON",null," - 93936",null,"93936","93936.99999","'04298005","'484301970001.93936",null,null,null,null,null,null,null,null,null,null,null,null,null,null,null,null,null,null,"218060010001.E00797","VU",null,"00801009","MX",null,null,null,null,null,null,null,null,null,"JUAN ALDAMA","498"]
[null,null,null,null,null,null,null,null,null,null,null,null,null,null,"01540","09","010","ALVARO OBREGON",null," - 93843",null,"93843","93843.99999","'04210007","'484301090001.93843",null,null,null,null,null,null,null,null,null,null,null,null,null,null,null,null,null,null,"218070010001.E00798","VU",null,"00802003","MX",null,null,null,null,null,null,null,null,null,"COLOTLAN","499"]
[null,null,null,null,null,null,null,null,null,null,null,null,null,null,"01548","09","010","ALVARO OBREGON",null," - 93836",null,"93836","93836.99999","'04210007","'484301090001.93836",null,null,null,null,null,null,null,null,null,null,null,null,null,null,null,null,null,null,"218080010001.E00799","VU",null,"00803009","MX",null,null,null,null,null,null,null,null,null,"VILLANUEVA","499"]
[null,null,null,null,null,null,null,null,null,null,null,null,null,null,"01548","09","010","ALVARO OBREGON",null," - 93828",null,"93828","93828.99999","'04210007","'484301090001.93828",null,null,null,null,null,null,null,null,null,null,null,null,null,null,null,null,null,null,"222010010001.E0290","SV",null,"00804009","MX",null,null,null,null,null,null,null,null,null,"CIUDAD DE MEXICO","55"]
[null,null,null,null,null,null,null,null,null,null,null,null,null,null,"01549","09","010","ALVARO OBREGON",null," - 93826",null,"93826","93826.99999","'04210007","'484301090001.93826",null,null,null,null,null,null,null,null,null,null,null,null,null,null,null,null,null,null,"222020010001.E00800","VU",null,"00805003","MX",null,null,null,null,null,null,null,null,null,"CIUDAD ADOLFO LOPEZ MATEOS","55"]
[null,null,null,null,null,null,null,null,null,null,null,null,null,null,"01549","09","010","ALVARO OBREGON",null," - 93808",null,"93808","93808.99999","'04215003","'484301140001.93808",null,null,null,null,null,null,null,null,null,null,null,null,null,null,null,null,null,null,"222030010001.E00801","VU",null,"00806009","MX",null,null,null,null,null,null,null,null,null,"CHIMALHUACAN","55"]
[null,null,null,null,null,null,null,null,null,null,null,null,null,null,"01550","09","010","ALVARO OBREGON",null," - 93800",null,"93800","93800.99999","'04215003","'484301140001.93800",null,null,null,null,null,null,null,null,null,null,null,null,null,null,null,null,null,null,"222040010001.E00802","VU",null,"00807009","MX",null,null,null,null,null,null,null,null,null,"COACALCO DE BERRIOZABAL","55"]
[null,null,null,null,null,null,null,null,null,null,null,null,null,null,"01550","09","010","ALVARO OBREGON",null," - 93790",null,"93790","93790.99999","'04264001","'484301630001.93790",null,null,null,null,null,null,null,null,null,null,null,null,null,null,null,null,null,null,"222050010001.E00803","VU",null,"00808003","MX",null,null,null,null,null,null,null,null,null,"CUAUTITLAN IZCALLI","55"]
[null,null,null,null,null,null,null,null,null,null,null,null,null,null,"01550","09","010","ALVARO OBREGON",null," - 93787",null,"93787","93787.99999","'04264001","'484301630001.93790",null,null,null,null,null,null,null,null,null,null,null,null,null,null,null,null,null,null,"222060010001.E00804","VU",null,"00808503","MX",null,null,null,null,null,null,null,null,null,"ECATEPEC DE MORELOS","55"]
[null,null,null,null,null,null,null,null,null,null,null,null,null,null,"01550","09","010","ALVARO OBREGON",null," - 93737",null,"93737","93737.99999","'04110006","'484300100001.93737",null,null,null,null,null,null,null,null,null,null,null,null,null,null,null,null,null,null,"222070010001.E00805","VU",null,"00809009","MX",null,null,null,null,null,null,null,null,null,"HUIXQUILUCAN DE DEGOLLADO","55"]
[null,null,null,null,null,null,null,null,null,null,null,null,null,null,"01560","09","010","ALVARO OBREGON",null," - 93733",null,"93733","93733.99999","'04110006","'484300100001.93733",null,null,null,null,null,null,null,null,null,null,null,null,null,null,null,null,null,null,"222080010001.E00806","VU",null,"00809504","MX",null,null,null,null,null,null,null,null,null,"LOS REYES ACAQUILPAN (LA PAZ)","55"]
[null,null,null,null,null,null,null,null,null,null,null,null,null,null,"01560","09","010","ALVARO OBREGON",null," - 93730",null,"93730","93730.99999","'04110006","'484300100001.93730",null,null,null,null,null,null,null,null,null,null,null,null,null,null,null,null,null,null,"222090010001.E00807","VU",null,"00810009","MX",null,null,null,null,null,null,null,null,null,"NAUCALPAN DE JUAREZ","55"]
[null,null,null,null,null,null,null,null,null,null,null,null,null,null,"01560","09","010","ALVARO OBREGON",null," - 93723",null,"93723","93723.99999","'04110006","'484300100001.93723",null,null,null,null,null,null,null,null,null,null,null,null,null,null,null,null,null,null,"222100010001.E00808","VU",null,"00811009","MX",null,null,null,null,null,null,null,null,null,"CIUDAD NEZAHUALCOYOTL","55"]
[null,null,null,null,null,null,null,null,null,null,null,null,null,null,"01560","09","010","ALVARO OBREGON",null," - 93720",null,"93720","93720.99999","'04110006","'484300100001.93720",null,null,null,null,null,null,null,null,null,null,null,null,null,null,null,null,null,null,"222110010001.E00809","VU",null,"00812003","MX",null,null,null,null,null,null,null,null,null,"VILLA NICOLAS ROMERO","55"]
[null,null,null,null,null,null,null,null,null,null,null,null,null,null,"01560","09","010","ALVARO OBREGON",null," - 93697",null,"93697","93697.99999","'04123004","'484300230001.93697",null,null,null,null,null,null,null,null,null,null,null,null,null,null,null,null,null,null,"222120010001.E00810","VU",null,"00813009","MX",null,null,null,null,null,null,null,null,null,"TECAMAC DE FELIPE VILLANUEVA","55"]
[null,null,null,null,null,null,null,null,null,null,null,null,null,null,"01566","09","010","ALVARO OBREGON",null," - 93696",null,"93696","93696.99999","'04123004","'484300230001.93696",null,null,null,null,null,null,null,null,null,null,null,null,null,null,null,null,null,null,"222130010001.E00811","VU",null,"00814009","MX",null,null,null,null,null,null,null,null,null,"TEPOTZOTLAN","55"]
[null,null,null,null,null,null,null,null,null,null,null,null,null,null,"01566","09","010","ALVARO OBREGON",null," - 93690",null,"93690","93690.99999","'04123004","'484300230001.93690",null,null,null,null,null,null,null,null,null,null,null,null,null,null,null,null,null,null,"222140010001.E00812","VU",null,"00815003","MX",null,null,null,null,null,null,null,null,null,"TLALNEPANTLA DE BAZ","55"]
[null,null,null,null,null,null,null,null,null,null,null,null,null,null,"01567","09","010","ALVARO OBREGON",null," - 93688",null,"93688","93688.99999","'04123004","'484300230001.93688",null,null,null,null,null,null,null,null,null,null,null,null,null,null,null,null,null,null,"226010010001.E0655","GQ",null,"00816009","MX",null,null,null,null,null,null,null,null,null,"SANTA MARIA TULTEPEC","55"]
[null,null,null,null,null,null,null,null,null,null,null,null,null,null,"01567","09","010","ALVARO OBREGON",null," - 93676",null,"93676","93676.99999","'04186004","'484300860001.93676",null,null,null,null,null,null,null,null,null,null,null,null,null,null,null,null,null,null,"226020010001.E00813","GQ",null,"00817009","MX",null,null,null,null,null,null,null,null,null,"TULTITLAN DE MARIANO ESCOBEDO","55"]
[null,null,null,null,null,null,null,null,null,null,null,null,null,null,"01568","09",null,"ALVARO OBREGON",null," - 93672",null,"93672","93672.99999","'04186004","'484300860001.93672",null,null,null,null,null,null,null,null,null,null,null,null,null,null,null,null,null,null,"226030010001.E00814","GQ",null,"00818003","MX",null,null,null,null,null,null,null,null,null,"CUAUTITLAN","55"]
[null,null,null,null,null,null,null,null,null,null,null,null,null,null,"01569","09","010","ALVARO OBREGON",null," - 93668",null,"93668","93668.99999","'04186004","'484300860001.93668",null,null,null,null,null,null,null,null,null,null,null,null,null,null,null,null,null,null,"226040010001.E00815","GQ",null,"00819009","MX",null,null,null,null,null,null,null,null,null,"IXTAPALUCA","55"]
[null,null,null,null,null,null,null,null,null,null,null,null,null,null,"01569","09","010","ALVARO OBREGON",null," - 93666",null,"93666","93666.99999","'04186004","'484300860001.93666",null,null,null,null,null,null,null,null,null,null,null,null,null,null,null,null,null,null,"226050010001.E00816","GQ",null,"00820006","MX",null,null,null,null,null,null,null,null,null,"VALLE DE CHALCO SOLIDARIDAD","55"]
[null,null,null,null,null,null,null,null,null,null,null,null,null,null,"01580","09","010","ALVARO OBREGON",null," - 93662",null,"93662","93662.99999","'04186004","'484300860001.93662",null,null,null,null,null,null,null,null,null,null,null,null,null,null,null,null,null,null,"226060010001.E00817","GQ",null,"00901006","MX",null,null,null,null,null,null,null,null,null,"CHALCO DE DIAZ COVARRUBIAS","55"]
[null,null,null,null,null,null,null,null,null,null,null,null,null,null,"01580","09","010","ALVARO OBREGON",null," - 93657",null,"93657","93657.99999","'04284009","'484301830001.93657",null,null,null,null,null,null,null,null,null,null,null,null,null,null,null,null,null,null,"231010010001.E0660","ET",null,"00902006","MX",null,null,null,null,null,null,null,null,null,"SAN VICENTE CHICOLOAPAN DE JUAREZ","55"]
[null,null,null,null,null,null,null,null,null,null,null,null,null,null,"01580","09","010","ALVARO OBREGON",null," - 93655",null,"93655","93655.99999","'04284009","'484301830001.93655",null,null,null,null,null,null,null,null,null,null,null,null,null,null,null,null,null,null,"231020010001.E00818","ET",null,"00903009","MX",null,null,null,null,null,null,null,null,null,"COATEPEC","55"]
[null,null,null,null,null,null,null,null,null,null,null,null,null,null,"01585","09","010","ALVARO OBREGON",null," - 93653",null,"93653","93653.99999","'04284009","'484301830001.93653",null,null,null,null,null,null,null,null,null,null,null,null,null,null,null,null,null,null,"231030010001.E00819","ET",null,"00904006","MX",null,null,null,null,null,null,null,null,null,"CIUDAD DE MEXICO","56"]
[null,null,null,null,null,null,null,null,null,null,null,null,null,null,"01585","09","010","ALVARO OBREGON",null," - 93641",null,"93641","93641.99999","'04203109","'484301020001.93641",null,null,null,null,null,null,null,null,null,null,null,null,null,null,null,null,null,null,"231040010001.E00820","ET",null,"00905006","MX",null,null,null,null,null,null,null,null,null,"VILLA DEL CARBON","588"]
[null,null,null,null,null,null,null,null,null,null,null,null,null,null,"01586","09","010","ALVARO OBREGON",null," - 93638",null,"93638","93638.99999","'04203109","'484301020001.93638",null,null,null,null,null,null,null,null,null,null,null,null,null,null,null,null,null,null,"231050010001.E00821","ET",null,"00905111","MX",null,null,null,null,null,null,null,null,null,"TEQUIXQUIAC","591"]
[null,null,null,null,null,null,null,null,null,null,null,null,null,null,"01586","09","010","ALVARO OBREGON",null," - 93636",null,"93636","93636.99999","'04203109","'484301020001.93636",null,null,null,null,null,null,null,null,null,null,null,null,null,null,null,null,null,null,"231060010001.E00822","ET",null,"00905463","MX",null,null,null,null,null,null,null,null,null,"OTUMBA","592"]
[null,null,null,null,null,null,null,null,null,null,null,null,null,null,"01587","09","010","ALVARO OBREGON",null," - 93633",null,"93633","93633.99999","'04203109","'484301020001.93633",null,null,null,null,null,null,null,null,null,null,null,null,null,null,null,null,null,null,"232010010001.E1290","ER",null,"00906009","MX",null,null,null,null,null,null,null,null,null,"COYOTEPEC","593"]
[null,null,null,null,null,null,null,null,null,null,null,null,null,null,"01587","09","010","ALVARO OBREGON",null," - 93628",null,"93628","93628.99999","'04203156","'484302110001.93628",null,null,null,null,null,null,null,null,null,null,null,null,null,null,null,null,null,null,"233010010001.E1130","EE",null,"00906058","MX",null,null,null,null,null,null,null,null,null,"XOMETLA","594"]
[null,null,null,null,null,null,null,null,null,null,null,null,null,null,"01588","09","010","ALVARO OBREGON",null," - 93626",null,"93626","93626.99999","'04203156","'484302110001.93626",null,null,null,null,null,null,null,null,null,null,null,null,null,null,null,null,null,null,"234010010001.E1375","FO",null,"00906138","MX",null,null,null,null,null,null,null,null,null,"TEXCOCO DE MORA","595"]
[null,null,null,null,null,null,null,null,null,null,null,null,null,null,"01588","09","010","ALVARO OBREGON",null," - 93624",null,"93624","93624.99999","'04203156","'484302110001.93624",null,null,null,null,null,null,null,null,null,null,null,null,null,null,null,null,null,null,"238010010001.E1385","FK",null,"00906309","MX",null,null,null,null,null,null,null,null,null,"CHICONCUAC","595"]
[null,null,null,null,null,null,null,null,null,null,null,null,null,null,"01589","09","010","ALVARO OBREGON",null," - 93620",null,"93620","93620.99999","'04203156","'484302110001.93620",null,null,null,null,null,null,null,null,null,null,null,null,null,null,null,null,null,null,"239010010001.E1380","GE",null,"00907006","MX",null,null,null,null,null,null,null,null,null,"JUCHITEPEC DE MARIANO RIVA PALACIO","597"]
[null,null,null,null,null,null,null,null,null,null,null,null,null,null,"01589","09","010","ALVARO OBREGON",null," - 93608",null,"93608","93608.99999","'04203109","'484301020001.93608",null,null,null,null,null,null,null,null,null,null,null,null,null,null,null,null,null,null,"24020010001.E00520","AO",null,"00908006","MX",null,null,null,null,null,null,null,null,null,"HUEYPOXTLA","599"]
[null,null,null,null,null,null,null,null,null,null,null,null,null,null,"01590","09","010","ALVARO OBREGON",null," - 93605",null,"93605","93605.99999","'04203109","'484301020001.93605",null,null,null,null,null,null,null,null,null,null,null,null,null,null,null,null,null,null,"24030010001.E00521","AO",null,"00909009","MX",null,null,null,null,null,null,null,null,null,"LA PAZ","612"]
[null,null,null,null,null,null,null,null,null,null,null,null,null,null,"01590","09","010","ALVARO OBREGON",null," - 93603",null,"93603","93603.99999","'04203109","'484301020001.93603",null,null,null,null,null,null,null,null,null,null,null,null,null,null,null,null,null,null,"24040010001.E00522","AO",null,"00910003","MX",null,null,null,null,null,null,null,null,null,"TODOS SANTOS","612"]
[null,null,null,null,null,null,null,null,null,null,null,null,null,null,"01600","09","010","ALVARO OBREGON",null," - 93588",null,"93588","93588.99999","'04259008","'484301580001.93588",null,null,null,null,null,null,null,null,null,null,null,null,null,null,null,null,null,null,"24050010001.E00523","AO",null,"00910101","MX",null,null,null,null,null,null,null,null,null,"CIUDAD CONSTITUCION (VILLA CONSTITUCION)","613"]
[null,null,null,null,null,null,null,null,null,null,null,null,null,null,"01600","09","010","ALVARO OBREGON",null," - 93577",null,"93577","93577.99999","'04259008","'484301580001.93577",null,null,null,null,null,null,null,null,null,null,null,null,null,null,null,null,null,null,"24060010001.E00524","AO",null,"00910159","MX",null,null,null,null,null,null,null,null,null,"LORETO","613"]
[null,null,null,null,null,null,null,null,null,null,null,null,null,null,"01600","09","010","ALVARO OBREGON",null," - 93570",null,"93570","93570.99999","'04259008","'484301580001.93570",null,null,null,null,null,null,null,null,null,null,null,null,null,null,null,null,null,null,"242010010001.E1300","FJ",null,"00910257","MX",null,null,null,null,null,null,null,null,null,"PUERTO ADOLFO LOPEZ MATEOS","613"]
[null,null,null,null,null,null,null,null,null,null,null,null,null,null,"01610","09","010","ALVARO OBREGON",null," - 93564",null,"93564","93564.99999","'04169005","'484300690001.93564",null,null,null,null,null,null,null,null,null,null,null,null,null,null,null,null,null,null,"246010010001.E0410","FI",null,"00911009","MX",null,null,null,null,null,null,null,null,null,"LORETO","613"]
[null,null,null,null,null,null,null,null,null,null,null,null,null,null,"01610","09","010","ALVARO OBREGON",null," - 93560",null,"93560","93560.99999","'04169005","'484300690001.93560",null,null,null,null,null,null,null,null,null,null,null,null,null,null,null,null,null,null,"246020010001.E00823","VU",null,"00911223","MX",null,null,null,null,null,null,null,null,null,"CHIHUAHUA","614"]
[null,null,null,null,null,null,null,null,null,null,null,null,null,null,"01610","09","010","ALVARO OBREGON",null," - 93557",null,"93557","93557.99999","'04169005","'484300690001.93557",null,null,null,null,null,null,null,null,null,null,null,null,null,null,null,null,null,null,"246030010001.E00824","VU",null,"00911537","MX",null,null,null,null,null,null,null,null,null,"HEROICA MULEGE","615"]
[null,null,null,null,null,null,null,null,null,null,null,null,null,null,"01618","09","010","ALVARO OBREGON",null," - 93553",null,"93553","93553.99999","'04169005","'484300690001.93553",null,null,null,null,null,null,null,null,null,null,null,null,null,null,null,null,null,null,"246040010001.E00825","VU",null,"00912009","MX",null,null,null,null,null,null,null,null,null,"VILLA ALBERTO A ALVARADO","615"]
[null,null,null,null,null,null,null,null,null,null,null,null,null,null,"01618","09","010","ALVARO OBREGON",null," - 93550",null,"93550","93550.99999","'04169005","'484300690001.93550",null,null,null,null,null,null,null,null,null,null,null,null,null,null,null,null,null,null,"246050010001.E00826","VU",null,"00913003","MX",null,null,null,null,null,null,null,null,null,"GUERRERO NEGRO","615"]
[null,null,null,null,null,null,null,null,null,null,null,null,null,null,"01618","09","010","ALVARO OBREGON",null," - 93549",null,"93549","93549.99999","'04225001","'484301240001.93549",null,null,null,null,null,null,null,null,null,null,null,null,null,null,null,null,null,null,"246060010001.E00827","VU",null,"00913509","MX",null,null,null,null,null,null,null,null,null,"DURANGO","618"]
[null,null,null,null,null,null,null,null,null,null,null,null,null,null,"01619","09","010","ALVARO OBREGON",null," - 93545",null,"93545","93545.99999","'04225001","'484301240001.93545",null,null,null,null,null,null,null,null,null,null,null,null,null,null,null,null,null,null,"250010010001.E0175","FR",null,"00914009","MX",null,null,null,null,null,null,null,null,null,"SAUCILLO","621"]
[null,null,null,null,null,null,null,null,null,null,null,null,null,null,"01619","09","010","ALVARO OBREGON",null," - 93543",null,"93543","93543.99999","'04225001","'484301240001.93543",null,null,null,null,null,null,null,null,null,null,null,null,null,null,null,null,null,null,"250010020001.E00828","VU",null,"00915009","MX",null,null,null,null,null,null,null,null,null,"EMPALME","622"]
[null,null,null,null,null,null,null,null,null,null,null,null,null,null,"01619","09","010","ALVARO OBREGON",null," - 93540",null,"93540","93540.99999","'04225001","'484301240001.93540",null,null,null,null,null,null,null,null,null,null,null,null,null,null,null,null,null,null,"250020010001.E00829","VU",null,"00916003","MX",null,null,null,null,null,null,null,null,null,"GUAYMAS (HEROICA GUAYMAS)","622"]
[null,null,null,null,null,null,null,null,null,null,null,null,null,null,"01620","09","010","ALVARO OBREGON",null," - 93537",null,"93537","93537.99999","'04225001","'484301240001.93537",null,null,null,null,null,null,null,null,null,null,null,null,null,null,null,null,null,null,"250020010001.E1655","FR",null,"00917009","MX",null,null,null,null,null,null,null,null,null,"CABO SAN LUCAS","624"]
[null,null,null,null,null,null,null,null,null,null,null,null,null,null,"01620","09","010","ALVARO OBREGON",null," - 93535",null,"93535","93535.99999","'04225001","'484301240001.93535",null,null,null,null,null,null,null,null,null,null,null,null,null,null,null,null,null,null,"250020020001.E00830","VU",null,"00917033","MX",null,null,null,null,null,null,null,null,null,"SAN JOSE DEL CABO","624"]
[null,null,null,null,null,null,null,null,null,null,null,null,null,null,"01630","09","010","ALVARO OBREGON",null," - 93532",null,"93532","93532.99999","'04225001","'484301240001.93532",null,null,null,null,null,null,null,null,null,null,null,null,null,null,null,null,null,null,"250020030001.E00831","VU",null,"00917087","MX",null,null,null,null,null,null,null,null,null,"SANTIAGO","624"]
[null,null,null,null,null,null,null,null,null,null,null,null,null,null,"01630","09","010","ALVARO OBREGON",null," - 93524",null,"93524","93524.99999","'04225001","'484301240001.93524",null,null,null,null,null,null,null,null,null,null,null,null,null,null,null,null,null,null,"250030010001.E00832","VU",null,"00917153","MX",null,null,null,null,null,null,null,null,null,"ANAHUAC","625"]
[null,null,null,null,null,null,null,null,null,null,null,null,null,null,"01630","09","010","ALVARO OBREGON",null," - 93499",null,"93499","93499.99999","'04225001","'484301240001.93499",null,null,null,null,null,null,null,null,null,null,null,null,null,null,null,null,null,null,"250030020001.E00833","VU",null,"00918009","MX",null,null,null,null,null,null,null,null,null,"OJINAGA","626"]
[null,null,null,null,null,null,null,null,null,null,null,null,null,null,"01630","09","010","ALVARO OBREGON",null," - 93484",null,"93484","93484.99999","'04225001","'484301240001.93484",null,null,null,null,null,null,null,null,null,null,null,null,null,null,null,null,null,null,"250040010001.E00834","VU",null,"00919003","MX",null,null,null,null,null,null,null,null,null,"HIDALGO DEL PARRAL","627"]
[null,null,null,null,null,null,null,null,null,null,null,null,null,null,"01630","09","010","ALVARO OBREGON",null," - 93478",null,"93478","93478.99999","'04225001","'484301240001.93478",null,null,null,null,null,null,null,null,null,null,null,null,null,null,null,null,null,null,"250040020001.E00835","VU",null,"00919113","MX",null,null,null,null,null,null,null,null,null,"ALLENDE","628"]
[null,null,null,null,null,null,null,null,null,null,null,null,null,null,"01640","09","010","ALVARO OBREGON",null," - 93468",null,"93468","93468.99999","'04225001","'484301240001.93468",null,null,null,null,null,null,null,null,null,null,null,null,null,null,null,null,null,null,"250050010001.E00836","VU",null,"00919269","MX",null,null,null,null,null,null,null,null,null,"JIMENEZ","629"]
[null,null,null,null,null,null,null,null,null,null,null,null,null,null,"01640","09","010","ALVARO OBREGON",null," - 93449",null,"93449","93449.99999","'04225001","'484301240001.93449",null,null,null,null,null,null,null,null,null,null,null,null,null,null,null,null,null,null,"250050020001.E00837","VU",null,"00920003","MX",null,null,null,null,null,null,null,null,null,"NOGALES","631"]
[null,null,null,null,null,null,null,null,null,null,null,null,null,null,"01645","09","010","ALVARO OBREGON",null," - 93438",null,"93438","93438.99999","'04225001","'484301240001.93438",null,null,null,null,null,null,null,null,null,null,null,null,null,null,null,null,null,null,"250050030001.E00838","VU",null,"00921009","MX",null,null,null,null,null,null,null,null,null,"NOGALES","631"]
[null,null,null,null,null,null,null,null,null,null,null,null,null,null,"01645","09","010","ALVARO OBREGON",null," - 93429",null,"93429","93429.99999","'04225001","'484301240001.93429",null,null,null,null,null,null,null,null,null,null,null,null,null,null,null,null,null,null,"250060010001.E00839","VU",null,"00922009","MX",null,null,null,null,null,null,null,null,null,"MAGDALENA DE KINO","632"]
[null,null,null,null,null,null,null,null,null,null,null,null,null,null,"01650","09","010","ALVARO OBREGON",null," - 93425",null,"93425","93425.99999","'04225001","'484301240001.93425",null,null,null,null,null,null,null,null,null,null,null,null,null,null,null,null,null,null,"250070010001.E00840","VU",null,"00923003","MX",null,null,null,null,null,null,null,null,null,"AGUA PRIETA","633"]
[null,null,null,null,null,null,null,null,null,null,null,null,null,null,"01650","09","010","ALVARO OBREGON",null," - 93420",null,"93420","93420.99999","'04225001","'484301240001.93420",null,null,null,null,null,null,null,null,null,null,null,null,null,null,null,null,null,null,"250070020001.E00841","VU",null,"00924009","MX",null,null,null,null,null,null,null,null,null,"GRANADOS","634"]
[null,null,null,null,null,null,null,null,null,null,null,null,null,null,"01650","09","010","ALVARO OBREGON",null," - 93418",null,"93418","93418.99999","'04225001","'484301240001.93418",null,null,null,null,null,null,null,null,null,null,null,null,null,null,null,null,null,null,"250080010001.E00842","VU",null,"00925009","MX",null,null,null,null,null,null,null,null,null,"VICENTE GUERRERO","635"]
[null,null,null,null,null,null,null,null,null,null,null,null,null,null,"01650","09","010","ALVARO OBREGON",null," - 93400",null,"93400","93400.99999","'04225001","'484301240001.93400",null,null,null,null,null,null,null,null,null,null,null,null,null,null,null,null,null,null,"250090010001.E00843","VU",null,"00926003","MX",null,null,null,null,null,null,null,null,null,"SAN RAFAEL","635"]
[null,null,null,null,null,null,null,null,null,null,null,null,null,null,"01650","09","010","ALVARO OBREGON",null," - 93399",null,"93399","93399.99999","'04232002","'484301310001.93399",null,null,null,null,null,null,null,null,null,null,null,null,null,null,null,null,null,null,"250090020001.E00844","VU",null,"00927009","MX",null,null,null,null,null,null,null,null,null,"SAN BUENAVENTURA","636"]
[null,null,null,null,null,null,null,null,null,null,null,null,null,null,"01650","09","010","ALVARO OBREGON",null," - 93396",null,"93396","93396.99999","'04232002","'484301310001.93396",null,null,null,null,null,null,null,null,null,null,null,null,null,null,null,null,null,null,"250090030001.E00845","VU",null,"00928009","MX",null,null,null,null,null,null,null,null,null,"NUEVO CASAS GRANDES","636"]
[null,null,null,null,null,null,null,null,null,null,null,null,null,null,"01650","09","010","ALVARO OBREGON",null," - 93390",null,"93390","93390.99999","'04232002","'484301310001.93390",null,null,null,null,null,null,null,null,null,null,null,null,null,null,null,null,null,null,"250100010001.E00846","VU",null,"00929003","MX",null,null,null,null,null,null,null,null,null,"GALEANA","636"]
[null,null,null,null,null,null,null,null,null,null,null,null,null,null,"01650","09","010","ALVARO OBREGON",null," - 93367",null,"93367","93367.99999","'04232002","'484301310001.93367",null,null,null,null,null,null,null,null,null,null,null,null,null,null,null,null,null,null,"250100020001.E00847","VU",null,"00930009","MX",null,null,null,null,null,null,null,null,null,"CABORCA (HEROICA CABORCA)","637"]
[null,null,null,null,null,null,null,null,null,null,null,null,null,null,"01700","09","010","ALVARO OBREGON",null," - 93320",null,"93320","93320.99999","'04232002","'484301310001.93320",null,null,null,null,null,null,null,null,null,null,null,null,null,null,null,null,null,null,"250110010001.E00848","VU",null,"00930309","MX",null,null,null,null,null,null,null,null,null,"PUERTO PEÑASCO","638"]
[null,null,null,null,null,null,null,null,null,null,null,null,null,null,"01700","09","010","ALVARO OBREGON",null," - 93306",null,"93306","93306.99999","'04232002","'484301310001.93306",null,null,null,null,null,null,null,null,null,null,null,null,null,null,null,null,null,null,"250110020001.E00849","VU",null,"00931006","MX",null,null,null,null,null,null,null,null,null,"CIUDAD DELICIAS","639"]
[null,null,null,null,null,null,null,null,null,null,null,null,null,null,"01700","09","010","ALVARO OBREGON",null," - 93294",null,"93294","93294.99999","'04232002","'484301310001.93294",null,null,null,null,null,null,null,null,null,null,null,null,null,null,null,null,null,null,"250120010001.E00850","VU",null,"00931059","MX",null,null,null,null,null,null,null,null,null,"LAS VARAS","639"]
[null,null,null,null,null,null,null,null,null,null,null,null,null,null,"01700","09","010","ALVARO OBREGON",null," - 93260",null,"93260","93260.99999","'04232002","'484301310001.93260",null,null,null,null,null,null,null,null,null,null,null,null,null,null,null,null,null,null,"250130010001.E00851","VU",null,"00931083","MX",null,null,null,null,null,null,null,null,null,"SANTA ANA","641"]
[null,null,null,null,null,null,null,null,null,null,null,null,null,null,"01700","09","010","ALVARO OBREGON",null," - 93249",null,"93249","93249.99999","'04232002","'484301310001.93249",null,null,null,null,null,null,null,null,null,null,null,null,null,null,null,null,null,null,"250140010001.E00852","VU",null,"00932006","MX",null,null,null,null,null,null,null,null,null,"OPODEPE","641"]
[null,null,null,null,null,null,null,null,null,null,null,null,null,null,"01700","09","010","ALVARO OBREGON",null," - 93240",null,"93240","93240.99999","'04232002","'484301310001.93240",null,null,null,null,null,null,null,null,null,null,null,null,null,null,null,null,null,null,"250140020001.E00853","VU",null,"00933009","MX",null,null,null,null,null,null,null,null,null,"NAVOJOA","642"]
[null,null,null,null,null,null,null,null,null,null,null,null,null,null,"01700","09","010","ALVARO OBREGON",null," - 93228",null,"93228","93228.99999","'04232002","'484301310001.93228",null,null,null,null,null,null,null,null,null,null,null,null,null,null,null,null,null,null,"250150010001.E00854","VU",null,"00934006","MX",null,null,null,null,null,null,null,null,null,"CAJEME","643"]
[null,null,null,null,null,null,null,null,null,null,null,null,null,null,"01708","09","010","ALVARO OBREGON",null," - 93213",null,"93213","93213.99999","'04232002","'484301310001.93213",null,null,null,null,null,null,null,null,null,null,null,null,null,null,null,null,null,null,"250160010001.E00855","VU",null,"00935006","MX",null,null,null,null,null,null,null,null,null,"CIUDAD OBREGON","644"]
[null,null,null,null,null,null,null,null,null,null,null,null,null,null,"01708","09","010","ALVARO OBREGON",null," - 93198",null,"93198","93198.99999","'04166125","'484300660001.93198",null,null,null,null,null,null,null,null,null,null,null,null,null,null,null,null,null,null,"250170010001.E00856","VU",null,"00936009","MX",null,null,null,null,null,null,null,null,null,"CANANEA","645"]
[null,null,null,null,null,null,null,null,null,null,null,null,null,null,"01708","09","010","ALVARO OBREGON",null," - 93195",null,"93195","93195.99999","'04166125","'484300660001.93195",null,null,null,null,null,null,null,null,null,null,null,null,null,null,null,null,null,null,"250180010001.E00857","VU",null,"00937006","MX",null,null,null,null,null,null,null,null,null,"ENSENADA","646"]
[null,null,null,null,null,null,null,null,null,null,null,null,null,null,"01710","09","010","ALVARO OBREGON",null," - 93193",null,"93193","93193.99999","'04166125","'484300660001.93193",null,null,null,null,null,null,null,null,null,null,null,null,null,null,null,null,null,null,"250190010001.E00858","VU",null,"00938006","MX",null,null,null,null,null,null,null,null,null,"RODOLFO SANCHEZ T (MANEADERO)","646"]
[null,null,null,null,null,null,null,null,null,null,null,null,null,null,"01710","09","010","ALVARO OBREGON",null," - 93184",null,"93184","93184.99999","'04166125","'484300660001.93184",null,null,null,null,null,null,null,null,null,null,null,null,null,null,null,null,null,null,"250200010001.E00859","VU",null,"00939009","MX",null,null,null,null,null,null,null,null,null,"HUATABAMPO","647"]
[null,null,null,null,null,null,null,null,null,null,null,null,null,null,"01710","09","010","ALVARO OBREGON",null," - 93170",null,"93170","93170.99999","'04140009","'484300400001.93170",null,null,null,null,null,null,null,null,null,null,null,null,null,null,null,null,null,null,"250210010001.E00860","VU",null,"00940003","MX",null,null,null,null,null,null,null,null,null,"CIUDAD CAMARGO","648"]
[null,null,null,null,null,null,null,null,null,null,null,null,null,null,"01720","09","010","ALVARO OBREGON",null," - 93164",null,"93164","93164.99999","'04140009","'484300400001.93164",null,null,null,null,null,null,null,null,null,null,null,null,null,null,null,null,null,null,"250220010001.E00861","VU",null,"00940371","MX",null,null,null,null,null,null,null,null,null,"LA CRUZ","648"]
[null,null,null,null,null,null,null,null,null,null,null,null,null,null,"01720","09","010","ALVARO OBREGON",null," - 93162",null,"93162","93162.99999","'04140009","'484300400001.93162",null,null,null,null,null,null,null,null,null,null,null,null,null,null,null,null,null,null,"254010010001.E0370","GY",null,"00940467","MX",null,null,null,null,null,null,null,null,null,"CIUDAD CAMARGO","648"]
[null,null,null,null,null,null,null,null,null,null,null,null,null,null,"01729","09","010","ALVARO OBREGON",null," - 93158",null,"93158","93158.99999","'04151002","'484300510001.93158",null,null,null,null,null,null,null,null,null,null,null,null,null,null,null,null,null,null,"254020010001.E00862","VU",null,"00941009","MX",null,null,null,null,null,null,null,null,null,"SANTA MARIA DEL ORO","649"]
[null,null,null,null,null,null,null,null,null,null,null,null,null,null,"01729","09","010","ALVARO OBREGON",null," - 93144",null,"93144","93144.99999","'04151002","'484300510001.93144",null,null,null,null,null,null,null,null,null,null,null,null,null,null,null,null,null,null,"258010010001.E1505","PF",null,"00942009","MX",null,null,null,null,null,null,null,null,null,"GENERAL ESCOBEDO","649"]
[null,null,null,null,null,null,null,null,null,null,null,null,null,null,"01730","09","010","ALVARO OBREGON",null," - 93124",null,"93124","93124.99999","'04137006","'484300370001.93124",null,null,null,null,null,null,null,null,null,null,null,null,null,null,null,null,null,null,"260010010001.E1590","TF",null,"00943003","MX",null,null,null,null,null,null,null,null,null,"SONOYTA","651"]
[null,null,null,null,null,null,null,null,null,null,null,null,null,null,"01730","09","010","ALVARO OBREGON",null," - 93120",null,"93120","93120.99999","'04137006","'484300370001.93120",null,null,null,null,null,null,null,null,null,null,null,null,null,null,null,null,null,null,"262010010001.E1520","DJ",null,"00944009","MX",null,null,null,null,null,null,null,null,null,"MADERA","652"]
[null,null,null,null,null,null,null,null,null,null,null,null,null,null,"01730","09","010","ALVARO OBREGON",null," - 93110",null,"93110","93110.99999","'04167009","'484300670001.93110",null,null,null,null,null,null,null,null,null,null,null,null,null,null,null,null,null,null,"266010010001.E0665","GA",null,"00945009","MX",null,null,null,null,null,null,null,null,null,"SAN LUIS RIO COLORADO (HORCASITAS)","653"]
[null,null,null,null,null,null,null,null,null,null,null,null,null,null,"01740","09","010","ALVARO OBREGON",null," - 93086",null,"93086","93086.99999","'04204004","'484301030001.93086",null,null,null,null,null,null,null,null,null,null,null,null,null,null,null,null,null,null,"266020010001.E00863","GA",null,"00945132","MX",null,null,null,null,null,null,null,null,null,"CIUDAD JUAREZ","656"]
[null,null,null,null,null,null,null,null,null,null,null,null,null,null,"01740","09","010","ALVARO OBREGON",null," - 93084",null,"93084","93084.99999","'04204004","'484301030001.93080",null,null,null,null,null,null,null,null,null,null,null,null,null,null,null,null,null,null,"266030010001.E00864","GA",null,"00945238","MX",null,null,null,null,null,null,null,null,null,"SALTILLO","658"]
[null,null,null,null,null,null,null,null,null,null,null,null,null,null,"01740","09","010","ALVARO OBREGON",null," - 93080",null,"93080","93080.99999","'04204004","'484301030001.93080",null,null,null,null,null,null,null,null,null,null,null,null,null,null,null,null,null,null,"266040010001.E00865","GA",null,"00946003","MX",null,null,null,null,null,null,null,null,null,"NAMIQUIPA","659"]
[null,null,null,null,null,null,null,null,null,null,null,null,null,null,"01740","09","010","ALVARO OBREGON",null," - 93076",null,"93076","93076.99999","'04150004","'484300500001.93076",null,null,null,null,null,null,null,null,null,null,null,null,null,null,null,null,null,null,"266050010001.E00866","GA",null,"00947009","MX",null,null,null,null,null,null,null,null,null,"ROSARITO","661"]
[null,null,null,null,null,null,null,null,null,null,null,null,null,null,"01750","09","010","ALVARO OBREGON",null," - 93072",null,"93072","93072.99999","'04150004","'484300500001.93072",null,null,null,null,null,null,null,null,null,null,null,null,null,null,null,null,null,null,"266060010001.E00867","GA",null,"00948009","MX",null,null,null,null,null,null,null,null,null,"HERMOSILLO","662"]
[null,null,null,null,null,null,null,null,null,null,null,null,null,null,"01750","09","010","ALVARO OBREGON",null," - 93068",null,"93068","93068.99999","'04150004","'484300500001.93068",null,null,null,null,null,null,null,null,null,null,null,null,null,null,null,null,null,null,"268010010001.E1305","GE",null,"00948205","MX",null,null,null,null,null,null,null,null,null,"TIJUANA","664"]
[null,null,null,null,null,null,null,null,null,null,null,null,null,null,"01750","09","010","ALVARO OBREGON",null," - 93063",null,"93063","93063.99999","'04150004","'484300500001.93063",null,null,null,null,null,null,null,null,null,null,null,null,null,null,null,null,null,null,"270010010001.E0670","GM",null,"00948309","MX",null,null,null,null,null,null,null,null,null,"TECATE","665"]
[null,null,null,null,null,null,null,null,null,null,null,null,null,null,"01750","09","010","ALVARO OBREGON",null," - 93020",null,"93020","93020.99999","'04305003","'484302030001.93020",null,null,null,null,null,null,null,null,null,null,null,null,null,null,null,null,null,null,"270020010001.E00868","GM",null,"00948432","MX",null,null,null,null,null,null,null,null,null,"CULIACAN","667"]
[null,null,null,null,null,null,null,null,null,null,null,null,null,null,"01759","09","010","ALVARO OBREGON",null," - 93003",null,"93003","93003.99999","'04305003","'484302030001.93003",null,null,null,null,null,null,null,null,null,null,null,null,null,null,null,null,null,null,"270030010001.E00869","GM",null,"00949003","MX",null,null,null,null,null,null,null,null,null,"QUILA","667"]
[null,null,null,null,null,null,null,null,null,null,null,null,null,null,"01759","09","010","ALVARO OBREGON",null," - 92985",null,"92985","92985.99999","'04133005","'484300330001.92985",null,null,null,null,null,null,null,null,null,null,null,null,null,null,null,null,null,null,"270040010001.E00870","GM",null,"00950003","MX",null,null,null,null,null,null,null,null,null,"AGUARUTO","667"]
[null,null,null,null,null,null,null,null,null,null,null,null,null,null,"01760","09","010","ALVARO OBREGON",null," - 92973",null,"92973","92973.99999","'04133005","'484300330001.92973",null,null,null,null,null,null,null,null,null,null,null,null,null,null,null,null,null,null,"270050010001.E00871","GM",null,"00950166","MX",null,null,null,null,null,null,null,null,null,"LOS MOCHIS","668"]
[null,null,null,null,null,null,null,null,null,null,null,null,null,null,"01760","09","010","ALVARO OBREGON",null," - 92933",null,"92933","92933.99999","'04276001","'484301750001.92933",null,null,null,null,null,null,null,null,null,null,null,null,null,null,null,null,null,null,"270060010001.E00872","GM",null,"00950373","MX",null,null,null,null,null,null,null,null,null,"AHOME","668"]
[null,null,null,null,null,null,null,null,null,null,null,null,null,null,"01760","09","010","ALVARO OBREGON",null," - 92920",null,"92920","92920.99999","'04276001","'484301750001.92928",null,null,null,null,null,null,null,null,null,null,null,null,null,null,null,null,null,null,"270070010001.E00873","GM",null,"00951009","MX",null,null,null,null,null,null,null,null,null,"HIGUERA DE ZARAGOZA","668"]
[null,null,null,null,null,null,null,null,null,null,null,null,null,null,"01760","09","010","ALVARO OBREGON",null," - 92917",null,"92917","92917.99999","'04276001","'484301750001.92917",null,null,null,null,null,null,null,null,null,null,null,null,null,null,null,null,null,null,"270080010001.E00874","GM",null,"00952009","MX",null,null,null,null,null,null,null,null,null,"TOPOLOBAMPO","668"]
[null,null,null,null,null,null,null,null,null,null,null,null,null,null,"01769","09","010","ALVARO OBREGON",null," - 92913",null,"92913","92913.99999","'04276001","'484301750001.92913",null,null,null,null,null,null,null,null,null,null,null,null,null,null,null,null,null,null,"276010010001.E1230","DE",null,"00953003","MX",null,null,null,null,null,null,null,null,null,"MAZATLAN","669"]
[null,null,null,null,null,null,null,null,null,null,null,null,null,null,"01770","09","010","ALVARO OBREGON",null," - 92909",null,"92909","92909.99999","'04276001","'484301750001.92909",null,null,null,null,null,null,null,null,null,null,null,null,null,null,null,null,null,null,"276020010001.E00875","VU",null,"00954009","MX",null,null,null,null,null,null,null,null,null,"VILLA UNION","669"]
[null,null,null,null,null,null,null,null,null,null,null,null,null,null,"01770","09","010","ALVARO OBREGON",null," - 92904",null,"92904","92904.99999","'04276001","'484301750001.92904",null,null,null,null,null,null,null,null,null,null,null,null,null,null,null,null,null,null,"276030010001.E00876","VU",null,"00955009","MX",null,null,null,null,null,null,null,null,null,"VIESCA","671"]
[null,null,null,null,null,null,null,null,null,null,null,null,null,null,"01770","09","010","ALVARO OBREGON",null," - 92903",null,"92903","92903.99999","'04276001","'484301750001.92903",null,null,null,null,null,null,null,null,null,null,null,null,null,null,null,null,null,null,"276040010001.E00877","VU",null,"00956003","MX",null,null,null,null,null,null,null,null,null,"NAVOLATO","672"]
[null,null,null,null,null,null,null,null,null,null,null,null,null,null,"01780","09","010","ALVARO OBREGON",null," - 92893",null,"92893","92893.99999","'04290006","'484301890001.92893",null,null,null,null,null,null,null,null,null,null,null,null,null,null,null,null,null,null,"276050010001.E00878","VU",null,"00957009","MX",null,null,null,null,null,null,null,null,null,"GUAMUCHIL","673"]
[null,null,null,null,null,null,null,null,null,null,null,null,null,null,"01780","09","010","ALVARO OBREGON",null," - 92875",null,"92875","92875.99999","'04290006","'484301890001.92875",null,null,null,null,null,null,null,null,null,null,null,null,null,null,null,null,null,null,"276060010001.E0870","DE",null,"00958009","MX",null,null,null,null,null,null,null,null,null,"MOCORITO","673"]
[null,null,null,null,null,null,null,null,null,null,null,null,null,null,"01780","09","010","ALVARO OBREGON",null," - 92850",null,"92850","92850.99999","'04290006","'484301890001.92850",null,null,null,null,null,null,null,null,null,null,null,null,null,null,null,null,null,null,"276070010001.E0010","DE",null,"00959003","MX",null,null,null,null,null,null,null,null,null,"SANTIAGO PAPASQUIARO","674"]
[null,null,null,null,null,null,null,null,null,null,null,null,null,null,"01788","09","010","ALVARO OBREGON",null," - 92820",null,"92820","92820.99999","'04290006","'484301890001.92820",null,null,null,null,null,null,null,null,null,null,null,null,null,null,null,null,null,null,"276080010001.E00879","VU",null,"00960009","MX",null,null,null,null,null,null,null,null,null,"NOMBRE DE DIOS","675"]
[null,null,null,null,null,null,null,null,null,null,null,null,null,null,"01788","09","010","ALVARO OBREGON",null," - 92785",null,"92785","92785.99999","'04290006","'484301890001.92785",null,null,null,null,null,null,null,null,null,null,null,null,null,null,null,null,null,null,"276090010001.E00880","VU",null,"00961006","MX",null,null,null,null,null,null,null,null,null,"EL SALTO","675"]
[null,null,null,null,null,null,null,null,null,null,null,null,null,null,"01789","09","010","ALVARO OBREGON",null," - 92774",null,"92774","92774.99999","'04290006","'484301890001.92774",null,null,null,null,null,null,null,null,null,null,null,null,null,null,null,null,null,null,"276100010001.E00881","VU",null,"00962006","MX",null,null,null,null,null,null,null,null,null,"VERACRUZ","675"]
[null,null,null,null,null,null,null,null,null,null,null,null,null,null,"01789","09","010","ALVARO OBREGON",null," - 92764",null,"92764","92764.99999","'04261059","'484301600001.92764",null,null,null,null,null,null,null,null,null,null,null,null,null,null,null,null,null,null,"276110010001.E00882","VU",null,"00963009","MX",null,null,null,null,null,null,null,null,null,"PEÑON BLANCO","676"]
[null,null,null,null,null,null,null,null,null,null,null,null,null,null,"01790","09","010","ALVARO OBREGON",null," - 92756",null,"92756","92756.99999","'04261059","'484301600001.92756",null,null,null,null,null,null,null,null,null,null,null,null,null,null,null,null,null,null,"276120010001.E00883","VU",null,"00964006","MX",null,null,null,null,null,null,null,null,null,"PANUCO DE CORONADO","676"]
[null,null,null,null,null,null,null,null,null,null,null,null,null,null,"01790","09","010","ALVARO OBREGON",null," - 92750",null,"92750","92750.99999","'04261059","'484301600001.92750",null,null,null,null,null,null,null,null,null,null,null,null,null,null,null,null,null,null,"276130010001.E00884","VU",null,"00965006","MX",null,null,null,null,null,null,null,null,null,"CANATLAN","677"]
[null,null,null,null,null,null,null,null,null,null,null,null,null,null,"01790","09","010","ALVARO OBREGON",null," - 92744",null,"92744","92744.99999","'04261059","'484301600001.92730",null,null,null,null,null,null,null,null,null,null,null,null,null,null,null,null,null,null,"276140010001.E0005","DE",null,"00966009","MX",null,null,null,null,null,null,null,null,null,"SAN JUAN DEL RIO","677"]
[null,null,null,null,null,null,null,null,null,null,null,null,null,null,"01799","09","010","ALVARO OBREGON",null," - 92724",null,"92724","92724.99999","'04158009","'484300580001.92724",null,null,null,null,null,null,null,null,null,null,null,null,null,null,null,null,null,null,"276150010001.E00885","VU",null,"00967006","MX",null,null,null,null,null,null,null,null,null,"MEXICALI","686"]
[null,null,null,null,null,null,null,null,null,null,null,null,null,null,"01800","09","010","ALVARO OBREGON",null," - 92720",null,"92720","92720.99999","'04158009","'484300580001.92720",null,null,null,null,null,null,null,null,null,null,null,null,null,null,null,null,null,null,"276160010001.E00886","VU",null,"00999999","TW",null,null,null,null,null,null,null,null,null,"SAN FELIPE","686"]
[null,null,null,null,null,null,null,null,null,null,null,null,null,null,"01800","09","010","ALVARO OBREGON",null," - 92716",null,"92716","92716.99999","'04158009","'484300580001.92716",null,null,null,null,null,null,null,null,null,null,null,null,null,null,null,null,null,null,"288010010001.E0675","GH",null,"01001002","MX",null,null,null,null,null,null,null,null,null,"GUASAVE","687"]
[null,null,null,null,null,null,null,null,null,null,null,null,null,null,"01807","09","010","ALVARO OBREGON",null," - 92685",null,"92685","92685.99999","'04183001","'484300830001.92685",null,null,null,null,null,null,null,null,null,null,null,null,null,null,null,null,null,null,"288020010001.E00887","GH",null,"01103002","MX",null,null,null,null,null,null,null,null,null,"SINALOA DE LEYVA","687"]
[null,null,null,null,null,null,null,null,null,null,null,null,null,null,"01807","09","010","ALVARO OBREGON",null," - 92683",null,"92683","92683.99999","'04183001","'484300830001.92683",null,null,null,null,null,null,null,null,null,null,null,null,null,null,null,null,null,null,"288030010001.E00888","GH",null,"01103058","MX",null,null,null,null,null,null,null,null,null,"NARANJO","687"]
[null,null,null,null,null,null,null,null,null,null,null,null,null,null,"01809","09",null,"ALVARO OBREGON",null," - 92664",null,"92664","92664.99999","'04127005","'484300270001.92664",null,null,null,null,null,null,null,null,null,null,null,null,null,null,null,null,null,null,"288040010001.E00889","GH",null,"01103152","MX",null,null,null,null,null,null,null,null,null,"EL ROSARIO","694"]
[null,null,null,null,null,null,null,null,null,null,null,null,null,null,"01810","09","010","ALVARO OBREGON",null," - 92638",null,"92638","92638.99999","'04304008","'484302020001.92638",null,null,null,null,null,null,null,null,null,null,null,null,null,null,null,null,null,null,"288050010001.E00890","GH",null,"01105004","MX",null,null,null,null,null,null,null,null,null,"ESCUINAPA","695"]
[null,null,null,null,null,null,null,null,null,null,null,null,null,null,"01810","09","010","ALVARO OBREGON",null," - 92635",null,"92635","92635.99999","'04304008","'484302020001.92635",null,null,null,null,null,null,null,null,null,null,null,null,null,null,null,null,null,null,"288060010001.E00891","GH",null,"01107009","MX",null,null,null,null,null,null,null,null,null,"COSALA","696"]
[null,null,null,null,null,null,null,null,null,null,null,null,null,null,"01820","09","010","ALVARO OBREGON",null," - 92630",null,"92630","92630.99999","'04304008","'484302020001.92630",null,null,null,null,null,null,null,null,null,null,null,null,null,null,null,null,null,null,"292010010001.E1310","GI",null,"01109008","MX",null,null,null,null,null,null,null,null,null,"ANGOSTURA","697"]
[null,null,null,null,null,null,null,null,null,null,null,null,null,null,"01820","09","010","ALVARO OBREGON",null," - 92623",null,"92623","92623.99999","'04176009","'484300760001.92623",null,null,null,null,null,null,null,null,null,null,null,null,null,null,null,null,null,null,"296010010001.E1435","KI",null,"01111007","MX",null,null,null,null,null,null,null,null,null,"CHOIX","698"]
[null,null,null,null,null,null,null,null,null,null,null,null,null,null,"01820","09","010","ALVARO OBREGON",null," - 92619",null,"92619","92619.99999","'04172002","'484300720001.92619",null,null,null,null,null,null,null,null,null,null,null,null,null,null,null,null,null,null,"300010010001.E0415","GR",null,"01113006","MX",null,null,null,null,null,null,null,null,null,"EL ORO","711"]
[null,null,null,null,null,null,null,null,null,null,null,null,null,null,"01830","09","010","ALVARO OBREGON",null," - 92617",null,"92617","92617.99999","'04172002","'484300720001.92617",null,null,null,null,null,null,null,null,null,null,null,null,null,null,null,null,null,null,"300010020001.E00892","VU",null,"01115008","MX",null,null,null,null,null,null,null,null,null,"JIQUIPILCO","712"]
[null,null,null,null,null,null,null,null,null,null,null,null,null,null,"01830","09","010","ALVARO OBREGON",null," - 92608",null,"92608","92608.99999","'04172002","'484300720001.92608",null,null,null,null,null,null,null,null,null,null,null,null,null,null,null,null,null,null,"300020010001.E00893","VU",null,"01116009","MX",null,null,null,null,null,null,null,null,null,"SANTA CRUZ ATIZAPAN","713"]
[null,null,null,null,null,null,null,null,null,null,null,null,null,null,"01840","09","010","ALVARO OBREGON",null," - 92605",null,"92605","92605.99999","'04172002","'484300720001.92605",null,null,null,null,null,null,null,null,null,null,null,null,null,null,null,null,null,null,"300020020001.E00894","VU",null,"01117004","MX",null,null,null,null,null,null,null,null,null,"ZITACUARO (HEROICA ZITACUARO)","715"]
[null,null,null,null,null,null,null,null,null,null,null,null,null,null,"01840","09","010","ALVARO OBREGON",null," - 92597",null,"92597","92597.99999","'04252001","'484301510001.92597",null,null,null,null,null,null,null,null,null,null,null,null,null,null,null,null,null,null,"300020030001.E00895","VU",null,"01119003","MX",null,null,null,null,null,null,null,null,null,"AMATEPEC","716"]
[null,null,null,null,null,null,null,null,null,null,null,null,null,null,"01849","09","010","ALVARO OBREGON",null," - 92564",null,"92564","92564.99999","'04252001","'484301510001.92564",null,null,null,null,null,null,null,null,null,null,null,null,null,null,null,null,null,null,"300030010001.E00896","VU",null,"01121008","MX",null,null,null,null,null,null,null,null,null,"XONACATLAN","719"]
[null,null,null,null,null,null,null,null,null,null,null,null,null,null,"01849","09","010","ALVARO OBREGON",null," - 92534",null,"92534","92534.99999","'04268002","'484301670001.92534",null,null,null,null,null,null,null,null,null,null,null,null,null,null,null,null,null,null,"300040010001.E00897","VU",null,"01123007","MX",null,null,null,null,null,null,null,null,null,"IXTAPAN DE LA SAL","721"]
[null,null,null,null,null,null,null,null,null,null,null,null,null,null,"01849","09","010","ALVARO OBREGON",null," - 92527",null,"92527","92527.99999","'04134003","'484300340001.92527",null,null,null,null,null,null,null,null,null,null,null,null,null,null,null,null,null,null,"304010010001.E1320","GL",null,"01125009","MX",null,null,null,null,null,null,null,null,null,"TOLUCA DE LERDO","722"]
[null,null,null,null,null,null,null,null,null,null,null,null,null,null,"01850","09",null,"ALVARO OBREGON",null," - 92524",null,"92524","92524.99999","'04134003","'484300340001.92524",null,null,null,null,null,null,null,null,null,null,null,null,null,null,null,null,null,null,"308010010001.E1315","GD",null,"01127005","MX",null,null,null,null,null,null,null,null,null,"TEJUPILCO DE HIDALGO","724"]
[null,null,null,null,null,null,null,null,null,null,null,null,null,null,"01856","09","010","ALVARO OBREGON",null," - 92518",null,"92518","92518.99999","'04134003","'484300340001.92518",null,null,null,null,null,null,null,null,null,null,null,null,null,null,null,null,null,null,"312010010001.E1325","GP",null,"01127079","MX",null,null,null,null,null,null,null,null,null,"ALMOLOYA DE JUAREZ","725"]
[null,null,null,null,null,null,null,null,null,null,null,null,null,null,"01856","09","010","ALVARO OBREGON",null," - 92516",null,"92516","92516.99999","'04134003","'484300340001.92516",null,null,null,null,null,null,null,null,null,null,null,null,null,null,null,null,null,null,"316010010001.E1330","GU",null,"01127208","MX",null,null,null,null,null,null,null,null,null,"VALLE DE BRAVO","726"]
[null,null,null,null,null,null,null,null,null,null,null,null,null,null,"01857","09","010","ALVARO OBREGON",null," - 92514",null,"92514","92514.99999","'04134003","'484300340001.92514",null,null,null,null,null,null,null,null,null,null,null,null,null,null,null,null,null,null,"320010010001.E0345","GT",null,"01129004","MX",null,null,null,null,null,null,null,null,null,"BUENAVISTA DE CUELLAR","727"]
[null,null,null,null,null,null,null,null,null,null,null,null,null,null,"01857","09","010","ALVARO OBREGON",null," - 91960",null,"91960","91960.99999","'04294004","'484301930001.91960",null,null,null,null,null,null,null,null,null,null,null,null,null,null,null,null,null,null,"320020010001.E00898","VU",null,"01131006","MX",null,null,null,null,null,null,null,null,null,"HUITZUCO","727"]
[null,null,null,null,null,null,null,null,null,null,null,null,null,null,"01859","09","010","ALVARO OBREGON",null," - 91739",null,"91739","91739.99999","'04294004","'484301930001.91739",null,null,null,null,null,null,null,null,null,null,null,null,null,null,null,null,null,null,"320030010001.E00899","VU",null,"01133005","MX",null,null,null,null,null,null,null,null,null,"SAN MATEO ATENCO","728"]
[null,null,null,null,null,null,null,null,null,null,null,null,null,null,"01859","09","010","ALVARO OBREGON",null," - 91602",null,"91602","91602.99999","'04138007","'484300380001.91602",null,null,null,null,null,null,null,null,null,null,null,null,null,null,null,null,null,null,"320040010001.E00900","VU",null,"01135007","MX",null,null,null,null,null,null,null,null,null,"OCOYOACAC","728"]
[null,null,null,null,null,null,null,null,null,null,null,null,null,null,"01860","09","010","ALVARO OBREGON",null," - 91165",null,"91165","91165.99999","'04187002","'484300870001.91165",null,null,null,null,null,null,null,null,null,null,null,null,null,null,null,null,null,null,"320050010001.E00901","VU",null,"01135109","MX",null,null,null,null,null,null,null,null,null,"YECAPIXTLA","731"]
[null,null,null,null,null,null,null,null,null,null,null,null,null,null,"01860","09","010","ALVARO OBREGON",null," - 91154",null,"91154","91154.99999","'04187002","'484300870001.91154",null,null,null,null,null,null,null,null,null,null,null,null,null,null,null,null,null,null,"320060010001.E00902","VU",null,"01135206","MX",null,null,null,null,null,null,null,null,null,"ARCELIA","732"]
[null,null,null,null,null,null,null,null,null,null,null,null,null,null,"01863","09","010","ALVARO OBREGON",null," - 90774",null,"90774","90774.99999","'04032009","'484290580001.90774",null,null,null,null,null,null,null,null,null,null,null,null,null,null,null,null,null,null,"320070010001.E00903","VU",null,"01137003","MX",null,null,null,null,null,null,null,null,null,"CUTZAMALA DE PINZON","732"]
[null,null,null,null,null,null,null,null,null,null,null,null,null,null,"01863","09","010","ALVARO OBREGON",null," - 90243",null,"90243","90243.99999","'04027004","'484290140001.90243",null,null,null,null,null,null,null,null,null,null,null,null,null,null,null,null,null,null,"32010010001.E00525","VU",null,"01137207","MX",null,null,null,null,null,null,null,null,null,"TLAPEHUALA","732"]
[null,null,null,null,null,null,null,null,null,null,null,null,null,null,"01870","09","010","ALVARO OBREGON",null," - 90200",null,"90200","90200.99999","'04013008","'484290060001.90200",null,null,null,null,null,null,null,null,null,null,null,null,null,null,null,null,null,null,"32010020001.E00526","VU",null,"01137306","MX",null,null,null,null,null,null,null,null,null,"IGUALA DE LA INDEPENDENCIA","733"]
[null,null,null,null,null,null,null,null,null,null,null,null,null,null,"01870","09","010","ALVARO OBREGON",null," - 90000",null,"90000","09000.99999","'01001002","'484090070001.09000",null,null,null,null,null,null,null,null,null,null,null,null,null,null,null,null,null,null,"32010030001.E00527","VU",null,"01139002","MX",null,null,null,null,null,null,null,null,null,"TEPECOACUILCO DE TRUJANO","733"]
[null,null,null,null,null,null,null,null,null,null,null,null,null,null,"01900","09","010","ALVARO OBREGON",null," - 89914",null,"89914","89914.99999","'03941309","'484280210001.89914",null,null,null,null,null,null,null,null,null,null,null,null,null,null,null,null,null,null,"32020010001.E00528","VU",null,"01141001","MX",null,null,null,null,null,null,null,null,null,"TUXPAN","733"]
[null,null,null,null,null,null,null,null,null,null,null,null,null,null,"01900","09","010","ALVARO OBREGON",null," - 89820",null,"89820","89820.99999","'03941309","'484280210001.89820",null,null,null,null,null,null,null,null,null,null,null,null,null,null,null,null,null,null,"32030010001.E00529","VU",null,"01141154","MX",null,null,null,null,null,null,null,null,null,"TUXPAN","733"]
[null,null,null,null,null,null,null,null,null,null,null,null,null,null,"01904","09","010","ALVARO OBREGON",null," - 89356",null,"89356","89356.99999","'03975009","'484280380001.89356",null,null,null,null,null,null,null,null,null,null,null,null,null,null,null,null,null,null,"32030030001.E00530","VU",null,"01141301","MX",null,null,null,null,null,null,null,null,null,"JOJUTLA","734"]
[null,null,null,null,null,null,null,null,null,null,null,null,null,null,"01904","09","010","ALVARO OBREGON",null," - 89250",null,"89250","89250.99999","'03975009","'484280380001.89250",null,null,null,null,null,null,null,null,null,null,null,null,null,null,null,null,null,null,"32050010001.E00531","VU",null,"01143009","MX",null,null,null,null,null,null,null,null,null,"SANTA ROSA TREINTA","734"]
[null,null,null,null,null,null,null,null,null,null,null,null,null,null,"01940","09","010","ALVARO OBREGON",null," - 88980",null,"88980","88980.99999","'03965256","'484280330001.88980",null,null,null,null,null,null,null,null,null,null,null,null,null,null,null,null,null,null,"32060010001.E00532","VU",null,"01145002","MX",null,null,null,null,null,null,null,null,null,"ZACATEPEC DE HIDALGO","734"]
[null,null,null,null,null,null,null,null,null,null,null,null,null,null,"01940","09","010","ALVARO OBREGON",null," - 88910",null,"88910","88910.99999","'03965256","'484280330001.88910",null,null,null,null,null,null,null,null,null,null,null,null,null,null,null,null,null,null,"324010010001.E0680","GN",null,"01145352","MX",null,null,null,null,null,null,null,null,null,"TLAQUILTENANGO","734"]
[null,null,null,null,null,null,null,null,null,null,null,null,null,null,"01990","09","010","ALVARO OBREGON",null," - 88713",null,"88713","88713.99999","'03963009","'484280320001.88713",null,null,null,null,null,null,null,null,null,null,null,null,null,null,null,null,null,null,"324020010001.E00904","GN",null,"01147007","MX",null,null,null,null,null,null,null,null,null,"CUAUTLA (CUAUTLA DE MORELOS)","735"]
[null,null,null,null,null,null,null,null,null,null,null,null,null,null,"01990","09","010","ALVARO OBREGON",null," - 87986",null,"87986","87986.99999","'03957009","'484280290001.87986",null,null,null,null,null,null,null,null,null,null,null,null,null,null,null,null,null,null,"324030010001.E00905","GN",null,"01147103","MX",null,null,null,null,null,null,null,null,null,"APAXTLA DE CASTREJON","736"]
[null,null,null,null,null,null,null,null,null,null,null,null,null,null,"02000","09","002","AZCAPOTZALCO",null," - 87884",null,"87884","87884.99999","'03983009","'484280420001.87884",null,null,null,null,null,null,null,null,null,null,null,null,null,null,null,null,null,null,"324040010001.E00906","GN",null,"01149006","MX",null,null,null,null,null,null,null,null,null,"TELOLOAPAN","736"]
[null,null,null,null,null,null,null,null,null,null,null,null,null,null,"02000","09","002","AZCAPOTZALCO",null," - 87822",null,"87822","87822.99999","'03931009","'484280160001.87822",null,null,null,null,null,null,null,null,null,null,null,null,null,null,null,null,null,null,"324050010001.E00907","GN",null,"01151002","MX",null,null,null,null,null,null,null,null,null,"COCULA","736"]
[null,null,null,null,null,null,null,null,null,null,null,null,null,null,"02008","09","002","AZCAPOTZALCO",null," - 87577",null,"87577","87577.99999","'03943153","'484280220001.87577",null,null,null,null,null,null,null,null,null,null,null,null,null,null,null,null,null,null,"328010010001.E1335","GY",null,"01153001","MX",null,null,null,null,null,null,null,null,null,"MIACATLÁN","737"]
[null,null,null,null,null,null,null,null,null,null,null,null,null,null,"02008","09","002","AZCAPOTZALCO",null," - 87499",null,"87499","87499.99999","'03943153","'484280220001.87499",null,null,null,null,null,null,null,null,null,null,null,null,null,null,null,null,null,null,"332010010001.E0350","HT",null,"01153301","MX",null,null,null,null,null,null,null,null,null,"CHILCUAUTLA","738"]
[null,null,null,null,null,null,null,null,null,null,null,null,null,null,"02010","09","002","AZCAPOTZALCO",null," - 87446",null,"87446","87446.99999","'03943153","'484280220001.87446",null,null,null,null,null,null,null,null,null,null,null,null,null,null,null,null,null,null,"332020010001.E00908","VU",null,"01155003","MX",null,null,null,null,null,null,null,null,null,"TEPOZTLAN","739"]
[null,null,null,null,null,null,null,null,null,null,null,null,null,null,"02010","09","002","AZCAPOTZALCO",null," - 87394",null,"87394","87394.99999","'03943153","'484280220001.87394",null,null,null,null,null,null,null,null,null,null,null,null,null,null,null,null,null,null,"332030010001.E00909","VU",null,"01157008","MX",null,null,null,null,null,null,null,null,null,"MARQUELIA","741"]
[null,null,null,null,null,null,null,null,null,null,null,null,null,null,"02010","09","002","AZCAPOTZALCO",null," - 87270",null,"87270","87270.99999","'03981009","'484280410001.87270",null,null,null,null,null,null,null,null,null,null,null,null,null,null,null,null,null,null,"332040010001.E00910","VU",null,"01159007","MX",null,null,null,null,null,null,null,null,null,"AZOYU","741"]
[null,null,null,null,null,null,null,null,null,null,null,null,null,null,"02010","09","002","AZCAPOTZALCO",null," - 87249",null,"87249","87249.99999","'03925003","'484280130001.87249",null,null,null,null,null,null,null,null,null,null,null,null,null,null,null,null,null,null,"332050010001.E00911","VU",null,"01161009","MX",null,null,null,null,null,null,null,null,null,"SAN LUIS ACATLAN","741"]
[null,null,null,null,null,null,null,null,null,null,null,null,null,null,"02020","09","002","AZCAPOTZALCO",null," - 87020",null,"87020","87020.99999","'03981009","'484280410001.87020",null,null,null,null,null,null,null,null,null,null,null,null,null,null,null,null,null,null,"332060010001.E00912","VU",null,"01163008","MX",null,null,null,null,null,null,null,null,null,"CUAJINICUILAPA","741"]
[null,null,null,null,null,null,null,null,null,null,null,null,null,null,"02020","09","002","AZCAPOTZALCO",null," - 86980",null,"86980","86980.99999","'03821003","'484270070001.86980",null,null,null,null,null,null,null,null,null,null,null,null,null,null,null,null,null,null,"336010010001.E1295","VA",null,"01165001","MX",null,null,null,null,null,null,null,null,null,"COPALA","741"]
[null,null,null,null,null,null,null,null,null,null,null,null,null,null,"02020","09","002","AZCAPOTZALCO",null," - 86973",null,"86973","86973.99999","'03805006","'484270010001.86973",null,null,null,null,null,null,null,null,null,null,null,null,null,null,null,null,null,null,"340010010001.E0300","HN",null,"01167006","MX",null,null,null,null,null,null,null,null,null,"ATOYAC DE ALVAREZ","742"]
[null,null,null,null,null,null,null,null,null,null,null,null,null,null,"02040","09","002","AZCAPOTZALCO",null," - 86926",null,"86926","86926.99999","'03851003","'484270170001.86926",null,null,null,null,null,null,null,null,null,null,null,null,null,null,null,null,null,null,"340010010002.E1195","HN",null,"01169005","MX",null,null,null,null,null,null,null,null,null,"SAN LUIS DE LA LOMA","742"]
[null,null,null,null,null,null,null,null,null,null,null,null,null,null,"02040","09","002","AZCAPOTZALCO",null," - 86910",null,"86910","86910.99999","'03851003","'484270170001.86910",null,null,null,null,null,null,null,null,null,null,null,null,null,null,null,null,null,null,"340020010001.E00913","VU",null,"01171004","MX",null,null,null,null,null,null,null,null,null,"SAN LUIS SAN PEDRO","742"]
[null,null,null,null,null,null,null,null,null,null,null,null,null,null,"02040","09","002","AZCAPOTZALCO",null," - 86870",null,"86870","86870.99999","'03845009","'484270150001.86870",null,null,null,null,null,null,null,null,null,null,null,null,null,null,null,null,null,null,"340030010001.E00914","VU",null,"01173003","MX",null,null,null,null,null,null,null,null,null,"TECPAN DE GALEANA","742"]
[null,null,null,null,null,null,null,null,null,null,null,null,null,null,"02050","09","002","AZCAPOTZALCO",null," - 86771",null,"86771","86771.99999","'03833006","'484270110001.86771",null,null,null,null,null,null,null,null,null,null,null,null,null,null,null,null,null,null,"340040010001.E00915","VU",null,"01174007","MX",null,null,null,null,null,null,null,null,null,"ZAPOTLÁN DE JUÁREZ","743"]
[null,null,null,null,null,null,null,null,null,null,null,null,null,null,"02050","09","002","AZCAPOTZALCO",null," - 86761",null,"86761","86761.99999","'03811003","'484270030001.86761",null,null,null,null,null,null,null,null,null,null,null,null,null,null,null,null,null,null,"340050010001.E00916","VU",null,"01175005","MX",null,null,null,null,null,null,null,null,null,"ACAPULCO DE JUAREZ","744"]
[null,null,null,null,null,null,null,null,null,null,null,null,null,null,"02050","09","002","AZCAPOTZALCO",null," - 86727",null,"86727","86727.99999","'03836006","'484270120001.86727",null,null,null,null,null,null,null,null,null,null,null,null,null,null,null,null,null,null,"340060010001.E00917","VU",null,"01177001","MX",null,null,null,null,null,null,null,null,null,"AYUTLA DE LOS LIBRES","745"]
[null,null,null,null,null,null,null,null,null,null,null,null,null,null,"02050","09","002","AZCAPOTZALCO",null," - 86713",null,"86713","86713.99999","'03836006","'484270120001.86713",null,null,null,null,null,null,null,null,null,null,null,null,null,null,null,null,null,null,"348010010001.E0420","HU",null,"01202008","MX",null,null,null,null,null,null,null,null,null,"TIERRA COLORADA","745"]
[null,null,null,null,null,null,null,null,null,null,null,null,null,null,"02060","09","002","AZCAPOTZALCO",null," - 86682",null,"86682","86682.99999","'03820009","'484270060001.86682",null,null,null,null,null,null,null,null,null,null,null,null,null,null,null,null,null,null,"348020010001.E00918","VU",null,"01204007","MX",null,null,null,null,null,null,null,null,null,"SAN MARCOS","745"]
[null,null,null,null,null,null,null,null,null,null,null,null,null,null,"02060","09","002","AZCAPOTZALCO",null," - 86610",null,"86610","86610.99999","'03842327","'484270140001.86610",null,null,null,null,null,null,null,null,null,null,null,null,null,null,null,null,null,null,"348030010001.E00919","VU",null,"01205002","MX",null,null,null,null,null,null,null,null,null,"CRUZ GRANDE","745"]
[null,null,null,null,null,null,null,null,null,null,null,null,null,null,"02060","09","002","AZCAPOTZALCO",null," - 86532",null,"86532","86532.99999","'03808006","'484270020001.86532",null,null,null,null,null,null,null,null,null,null,null,null,null,null,null,null,null,null,"348040010001.E00920","VU",null,"01206009","MX",null,null,null,null,null,null,null,null,null,"EL OCOTITO","745"]
[null,null,null,null,null,null,null,null,null,null,null,null,null,null,"02070","09","002","AZCAPOTZALCO",null," - 86504",null,"86504","86504.99999","'03808006","'484270020001.86504",null,null,null,null,null,null,null,null,null,null,null,null,null,null,null,null,null,null,"348050010001.E00921","VU",null,"01208005","MX",null,null,null,null,null,null,null,null,null,"TIHUATLAN","746"]
[null,null,null,null,null,null,null,null,null,null,null,null,null,null,"02070","09","002","AZCAPOTZALCO",null," - 86487",null,"86487","86487.99999","'03808006","'484270020001.86487",null,null,null,null,null,null,null,null,null,null,null,null,null,null,null,null,null,null,"348060010001.E00922","VU",null,"01210001","MX",null,null,null,null,null,null,null,null,null,"CHILPANCINGO DE LOS BRAVO","747"]
[null,null,null,null,null,null,null,null,null,null,null,null,null,null,"02070","09","002","AZCAPOTZALCO",null," - 86474",null,"86474","86474.99999","'03808006","'484270020001.86474",null,null,null,null,null,null,null,null,null,null,null,null,null,null,null,null,null,null,"348070010001.E00923","VU",null,"01212006","MX",null,null,null,null,null,null,null,null,null,"ZUMPANGO DEL RIO","747"]
[null,null,null,null,null,null,null,null,null,null,null,null,null,null,"02070","09","002","AZCAPOTZALCO",null," - 86425",null,"86425","86425.99999","'03824109","'484270080001.86425",null,null,null,null,null,null,null,null,null,null,null,null,null,null,null,null,null,null,"348080010001.E00924","VU",null,"01214005","MX",null,null,null,null,null,null,null,null,null,"APAN","748"]
[null,null,null,null,null,null,null,null,null,null,null,null,null,null,"02070","09","002","AZCAPOTZALCO",null," - 86413",null,"86413","86413.99999","'03824109","'484270080001.86413",null,null,null,null,null,null,null,null,null,null,null,null,null,null,null,null,null,null,"348090010001.E00925","VU",null,"01214055","MX",null,null,null,null,null,null,null,null,null,"CAPULHUAC","749"]
[null,null,null,null,null,null,null,null,null,null,null,null,null,null,"02070","09","002","AZCAPOTZALCO",null," - 86350",null,"86350","86350.99999","'03817101","'484270050001.86350",null,null,null,null,null,null,null,null,null,null,null,null,null,null,null,null,null,null,"352010010001.E0425","IE",null,"01214115","MX",null,null,null,null,null,null,null,null,null,"PUENTE DE IXTLA","751"]
[null,null,null,null,null,null,null,null,null,null,null,null,null,null,"02080","09","002","AZCAPOTZALCO",null," - 86330",null,"86330","86330.99999","'03817101","'484270050001.86330",null,null,null,null,null,null,null,null,null,null,null,null,null,null,null,null,null,null,"352020010001.E00926","VU",null,"01214155","MX",null,null,null,null,null,null,null,null,null,"LAS GUACAMAYAS","753"]
[null,null,null,null,null,null,null,null,null,null,null,null,null,null,"02080","09","002","AZCAPOTZALCO",null," - 86295",null,"86295","86295.99999","'03814003","'484270040001.86295",null,null,null,null,null,null,null,null,null,null,null,null,null,null,null,null,null,null,"352030010001.E00927","VU",null,"01216007","MX",null,null,null,null,null,null,null,null,null,"TIXTLA DE GUERRERO","754"]
[null,null,null,null,null,null,null,null,null,null,null,null,null,null,"02080","09","002","AZCAPOTZALCO",null," - 86293",null,"86293","86293.99999","'03814003","'484270040001.86293",null,null,null,null,null,null,null,null,null,null,null,null,null,null,null,null,null,null,"352040010001.E00928","VU",null,"01218003","MX",null,null,null,null,null,null,null,null,null,"LA UNION","755"]
[null,null,null,null,null,null,null,null,null,null,null,null,null,null,"02090","09","002","AZCAPOTZALCO",null," - 86274",null,"86274","86274.99999","'03814003","'484270040001.86274",null,null,null,null,null,null,null,null,null,null,null,null,null,null,null,null,null,null,"352050010001.E00929","VU",null,"01220005","MX",null,null,null,null,null,null,null,null,null,"OLINALA","756"]
[null,null,null,null,null,null,null,null,null,null,null,null,null,null,"02090","09","002","AZCAPOTZALCO",null," - 86265",null,"86265","86265.99999","'03814003","'484270040001.86265",null,null,null,null,null,null,null,null,null,null,null,null,null,null,null,null,null,null,"352060010001.E00930","VU",null,"01222001","MX",null,null,null,null,null,null,null,null,null,"CHILAPA DE ALVAREZ","756"]
[null,null,null,null,null,null,null,null,null,null,null,null,null,null,"02099","09","002","AZCAPOTZALCO",null," - 86214",null,"86214","86214.99999","'03830006","'484270100001.86214",null,null,null,null,null,null,null,null,null,null,null,null,null,null,null,null,null,null,"356010010001.E1235","IN",null,"01224009","MX",null,null,null,null,null,null,null,null,null,"TLAPA DE COMONFORT","757"]
[null,null,null,null,null,null,null,null,null,null,null,null,null,null,"02099","09","002","AZCAPOTZALCO",null," - 86190",null,"86190","86190.99999","'03814003","'484270040001.86190",null,null,null,null,null,null,null,null,null,null,null,null,null,null,null,null,null,null,"356020010001.E00931","VU",null,"01226002","MX",null,null,null,null,null,null,null,null,null,"TLALIXTAQUILLA","757"]
[null,null,null,null,null,null,null,null,null,null,null,null,null,null,"02100","09","002","AZCAPOTZALCO",null," - 86160",null,"86160","86160.99999","'03814003","'484270040001.86160",null,null,null,null,null,null,null,null,null,null,null,null,null,null,null,null,null,null,"356020020001.E00932","VU",null,"01228007","MX",null,null,null,null,null,null,null,null,null,"HUAMUXTITLAN","757"]
[null,null,null,null,null,null,null,null,null,null,null,null,null,null,"02100","09","002","AZCAPOTZALCO",null," - 86128",null,"86128","86128.99999","'03814003","'484270040001.86128",null,null,null,null,null,null,null,null,null,null,null,null,null,null,null,null,null,null,"356030010001.E00933","VU",null,"01230006","MX",null,null,null,null,null,null,null,null,null,"PETATLAN","758"]
[null,null,null,null,null,null,null,null,null,null,null,null,null,null,"02100","09","002","AZCAPOTZALCO",null," - 86107",null,"86107","86107.99999","'03814003","'484270040001.86107",null,null,null,null,null,null,null,null,null,null,null,null,null,null,null,null,null,null,"356040010001.E00934","VU",null,"01232002","MX",null,null,null,null,null,null,null,null,null,"ZIMAPAN","759"]
[null,null,null,null,null,null,null,null,null,null,null,null,null,null,"02109","09","002","AZCAPOTZALCO",null," - 86095",null,"86095","86095.99999","'03814003","'484270040001.86095",null,null,null,null,null,null,null,null,null,null,null,null,null,null,null,null,null,null,"356050010001.E00935","VU",null,"01234001","MX",null,null,null,null,null,null,null,null,null,"IXMIQUILPAN","759"]
[null,null,null,null,null,null,null,null,null,null,null,null,null,null,"02109","09","002","AZCAPOTZALCO",null," - 86079",null,"86079","86079.99999","'03814003","'484270040001.86079",null,null,null,null,null,null,null,null,null,null,null,null,null,null,null,null,null,null,"356060010001.E00936","VU",null,"01236003","MX",null,null,null,null,null,null,null,null,null,"CALPULALPAN","761"]
[null,null,null,null,null,null,null,null,null,null,null,null,null,null,"02109","09","002","AZCAPOTZALCO",null," - 86067",null,"86067","86067.99999","'03814003","'484270040001.86067",null,null,null,null,null,null,null,null,null,null,null,null,null,null,null,null,null,null,"356070010001.E00937","VU",null,"01238008","MX",null,null,null,null,null,null,null,null,null,"TAXCO DE ALARCON","762"]
[null,null,null,null,null,null,null,null,null,null,null,null,null,null,"02110","09","002","AZCAPOTZALCO",null," - 86027",null,"86027","86027.99999","'03814003","'484270040001.86027",null,null,null,null,null,null,null,null,null,null,null,null,null,null,null,null,null,null,"356080010001.E00938","VU",null,"01240004","MX",null,null,null,null,null,null,null,null,null,"TEZONTEPEC DE ALDAMA","763"]
[null,null,null,null,null,null,null,null,null,null,null,null,null,null,"02110","09","002","AZCAPOTZALCO",null," - 85920",null,"85920","85920.99999","'03733003","'484260330001.85920",null,null,null,null,null,null,null,null,null,null,null,null,null,null,null,null,null,null,"356090010001.E00939","VU",null,"01242009","MX",null,null,null,null,null,null,null,null,null,"AHUACATLAN","764"]
[null,null,null,null,null,null,null,null,null,null,null,null,null,null,"02110","09","002","AZCAPOTZALCO",null," - 85913",null,"85913","85913.99999","'03733003","'484260330001.85913",null,null,null,null,null,null,null,null,null,null,null,null,null,null,null,null,null,null,"356100010001.E00940","VU",null,"01244008","MX",null,null,null,null,null,null,null,null,null,"XICOTEPEC","764"]
[null,null,null,null,null,null,null,null,null,null,null,null,null,null,"02120","09","002","AZCAPOTZALCO",null," - 85864",null,"85864","85864.99999","'03742009","'484260420001.85864",null,null,null,null,null,null,null,null,null,null,null,null,null,null,null,null,null,null,"356110010001.E00941","VU",null,"01246001","MX",null,null,null,null,null,null,null,null,null,"GUTIERREZ ZAMORA","766"]
[null,null,null,null,null,null,null,null,null,null,null,null,null,null,"02120","09","002","AZCAPOTZALCO",null," - 85740",null,"85740","85740.99999","'03744009","'484260440001.85740",null,null,null,null,null,null,null,null,null,null,null,null,null,null,null,null,null,null,"356120010001.E00942","VU",null,"01246109","MX",null,null,null,null,null,null,null,null,null,"CIUDAD ALTAMIRANO","767"]
[null,null,null,null,null,null,null,null,null,null,null,null,null,null,"02125","09","002","AZCAPOTZALCO",null," - 85650",null,"85650","85650.99999","'03761009","'484260610001.85650",null,null,null,null,null,null,null,null,null,null,null,null,null,null,null,null,null,null,"356130010001.E00943","VU",null,"01246154","MX",null,null,null,null,null,null,null,null,null,"COYUCA DE CATALAN","767"]
[null,null,null,null,null,null,null,null,null,null,null,null,null,null,"02125","09","002","AZCAPOTZALCO",null," - 85641",null,"85641","85641.99999","'03761009","'484260610001.85641",null,null,null,null,null,null,null,null,null,null,null,null,null,null,null,null,null,null,"356140010001.E00944","VU",null,"01248006","MX",null,null,null,null,null,null,null,null,null,"NARANJOS","768"]
[null,null,null,null,null,null,null,null,null,null,null,null,null,null,"02127","09",null,"AZCAPOTZALCO",null," - 85620",null,"85620","85620.99999","'03754006","'484260540001.85620",null,null,null,null,null,null,null,null,null,null,null,null,null,null,null,null,null,null,"356150010001.E00945","VU",null,"01250008","MX",null,null,null,null,null,null,null,null,null,"AXOCHIAPAN","769"]
[null,null,null,null,null,null,null,null,null,null,null,null,null,null,"02128","09","002","AZCAPOTZALCO",null," - 85618",null,"85618","85618.99999","'03752006","'484260520001.85618",null,null,null,null,null,null,null,null,null,null,null,null,null,null,null,null,null,null,"356160010001.E00946","VU",null,"01250259","MX",null,null,null,null,null,null,null,null,null,"PACHUCA DE SOTO","771"]
[null,null,null,null,null,null,null,null,null,null,null,null,null,null,"02128","09","002","AZCAPOTZALCO",null," - 85565",null,"85565","85565.99999","'03737009","'484260370001.85565",null,null,null,null,null,null,null,null,null,null,null,null,null,null,null,null,null,null,"356170010001.E00947","VU",null,"01252004","MX",null,null,null,null,null,null,null,null,null,"TEPEJI DEL RIO","771"]
[null,null,null,null,null,null,null,null,null,null,null,null,null,null,"02129","09","002","AZCAPOTZALCO",null," - 85563",null,"85563","85563.99999","'03737009","'484260370001.85563",null,null,null,null,null,null,null,null,null,null,null,null,null,null,null,null,null,null,"356180010001.E0190","IN",null,"01254003","MX",null,null,null,null,null,null,null,null,null,"ACTOPAN","772"]
[null,null,null,null,null,null,null,null,null,null,null,null,null,null,"02129","09","002","AZCAPOTZALCO",null," - 85556",null,"85556","85556.99999","'03721006","'484260210001.85556",null,null,null,null,null,null,null,null,null,null,null,null,null,null,null,null,null,null,"360010010001.E0515","ID",null,"01256005","MX",null,null,null,null,null,null,null,null,null,"TULA DE ALLENDE","773"]
[null,null,null,null,null,null,null,null,null,null,null,null,null,null,"02130","09","002","AZCAPOTZALCO",null," - 85550",null,"85550","85550.99999","'03721006","'484260210001.85550",null,null,null,null,null,null,null,null,null,null,null,null,null,null,null,null,null,null,"360010020001.E00948","ID",null,"01258001","MX",null,null,null,null,null,null,null,null,null,"CRUZ AZUL","773"]
[null,null,null,null,null,null,null,null,null,null,null,null,null,null,"02130","09","002","AZCAPOTZALCO",null," - 85510",null,"85510","85510.99999","'03729055","'484260290001.85510",null,null,null,null,null,null,null,null,null,null,null,null,null,null,null,null,null,null,"360020010001.E00949","ID",null,"01262005","MX",null,null,null,null,null,null,null,null,null,"TULA","773"]
[null,null,null,null,null,null,null,null,null,null,null,null,null,null,"02140","09","002","AZCAPOTZALCO",null," - 85448",null,"85448","85448.99999","'03729055","'484260290001.85448",null,null,null,null,null,null,null,null,null,null,null,null,null,null,null,null,null,null,"360030010001.E00950","ID",null,"01264004","MX",null,null,null,null,null,null,null,null,null,"METEPEC","774"]
[null,null,null,null,null,null,null,null,null,null,null,null,null,null,"02140","09","002","AZCAPOTZALCO",null," - 85360",null,"85360","85360.99999","'03725006","'484260250001.85360",null,null,null,null,null,null,null,null,null,null,null,null,null,null,null,null,null,null,"360040010001.E00951","ID",null,"01268002","MX",null,null,null,null,null,null,null,null,null,"HUAYACOCOTLA","774"]
[null,null,null,null,null,null,null,null,null,null,null,null,null,null,"02150","09","002","AZCAPOTZALCO",null," - 85285",null,"85285","85285.99999","'03726102","'484260260001.85285",null,null,null,null,null,null,null,null,null,null,null,null,null,null,null,null,null,null,"360050010001.E00952","ID",null,"01270007","MX",null,null,null,null,null,null,null,null,null,"TULANCINGO","775"]
[null,null,null,null,null,null,null,null,null,null,null,null,null,null,"02150","09","002","AZCAPOTZALCO",null," - 85252",null,"85252","85252.99999","'03733003","'484260330001.85252",null,null,null,null,null,null,null,null,null,null,null,null,null,null,null,null,null,null,"360060010001.E00953","ID",null,"01272003","MX",null,null,null,null,null,null,null,null,null,"SANTIAGO TULANTEPEC","775"]
[null,null,null,null,null,null,null,null,null,null,null,null,null,null,"02150","09","002","AZCAPOTZALCO",null," - 85245",null,"85245","85245.99999","'03733003","'484260330001.85245",null,null,null,null,null,null,null,null,null,null,null,null,null,null,null,null,null,null,"360070010001.E1040","ID",null,"01274002","MX",null,null,null,null,null,null,null,null,null,"HUAUCHINANGO","776"]
[null,null,null,null,null,null,null,null,null,null,null,null,null,null,"02160","09","002","AZCAPOTZALCO",null," - 85241",null,"85241","85241.99999","'03733003","'484260330001.85241",null,null,null,null,null,null,null,null,null,null,null,null,null,null,null,null,null,null,"36010020001.E00533","VU",null,"01276004","MX",null,null,null,null,null,null,null,null,null,"CUERNAVACA","777"]
[null,null,null,null,null,null,null,null,null,null,null,null,null,null,"02160","09","002","AZCAPOTZALCO",null," - 85223",null,"85223","85223.99999","'03742009","'484260420001.85223",null,null,null,null,null,null,null,null,null,null,null,null,null,null,null,null,null,null,"36010030001.E00534","VU",null,"01278009","MX",null,null,null,null,null,null,null,null,null,"TLAXCOAPAN","778"]
[null,null,null,null,null,null,null,null,null,null,null,null,null,null,"02169","09","002","AZCAPOTZALCO",null," - 85219",null,"85219","85219.99999","'03718113","'484260180001.85219",null,null,null,null,null,null,null,null,null,null,null,null,null,null,null,null,null,null,"36020010001.E00535","VU",null,"01280002","MX",null,null,null,null,null,null,null,null,null,"TIZAYUCA","779"]
[null,null,null,null,null,null,null,null,null,null,null,null,null,null,"02169","09","002","AZCAPOTZALCO",null," - 85138",null,"85138","85138.99999","'03718113","'484260180001.85138",null,null,null,null,null,null,null,null,null,null,null,null,null,null,null,null,null,null,"36030010001.E00536","VU",null,"01282007","MX",null,null,null,null,null,null,null,null,null,"SAN JERONIMO DE JUAREZ","781"]
[0,null,null,null,null,null,null,null,null,null,null,null,null,null,"02200","09","002","AZCAPOTZALCO",null," - 85134",null,"85134","85134.99999","'03718113","'484260180001.85134",null,null,null,null,null,null,null,null,null,null,null,null,null,null,null,null,null,null,"36040010001.E00537","VU",null,"01284006","MX",null,null,null,null,null,null,null,null,null,"COYUCA DE BENITEZ","781"]
[null,null,null,null,null,null,null,null,null,null,null,null,null,null,"02200","09","002","AZCAPOTZALCO",null," - 85096",null,"85096","85096.99999","'03718113","'484260180001.85096",null,null,null,null,null,null,null,null,null,null,null,null,null,null,null,null,null,null,"36050010001.E00538","VU",null,"01286008","MX",null,null,null,null,null,null,null,null,null,"POZA RICA (POZA RICA DE HIDALGO)","782"]
[null,null,null,null,null,null,null,null,null,null,null,null,null,null,"02230","09","002","AZCAPOTZALCO",null," - 84943",null,"84943","84943.99999","'03714009","'484260140001.84943",null,null,null,null,null,null,null,null,null,null,null,null,null,null,null,null,null,null,"36060010001.E00539","VU",null,"01288004","MX",null,null,null,null,null,null,null,null,null,"COATZINTLA","782"]
[null,null,null,null,null,null,null,null,null,null,null,null,null,null,"02230","09","002","AZCAPOTZALCO",null," - 84874",null,"84874","84874.99999","'03734009","'484260340001.84874",null,null,null,null,null,null,null,null,null,null,null,null,null,null,null,null,null,null,"36070010001.E00540","VU",null,"01288503","MX",null,null,null,null,null,null,null,null,null,"TUXPAM DE RODRIGUEZ CANO","783"]
[null,null,null,null,null,null,null,null,null,null,null,null,null,null,"02240","09","002","AZCAPOTZALCO",null," - 84824",null,"84824","84824.99999","'03745009","'484260450001.84824",null,null,null,null,null,null,null,null,null,null,null,null,null,null,null,null,null,null,"36080010001.E00541","VU",null,"01290003","MX",null,null,null,null,null,null,null,null,null,"PAPANTLA (PAPANTLA DE OLARTE)","784"]
[null,null,null,null,null,null,null,null,null,null,null,null,null,null,"02240","09","002","AZCAPOTZALCO",null," - 84760",null,"84760","84760.99999","'03763003","'484260630001.84760",null,null,null,null,null,null,null,null,null,null,null,null,null,null,null,null,null,null,"364010010001.E0520","IR",null,"01292008","MX",null,null,null,null,null,null,null,null,null,"GENERAL MIGUEL ALEMAN","784"]
[null,null,null,null,null,null,null,null,null,null,null,null,null,null,"02240","09","002","AZCAPOTZALCO",null," - 84750",null,"84750","84750.99999","'03763003","'484260630001.84750",null,null,null,null,null,null,null,null,null,null,null,null,null,null,null,null,null,null,"364020010001.E00954","IR",null,"01294007","MX",null,null,null,null,null,null,null,null,null,"CAZONES DE HERRERA","784"]
[null,null,null,null,null,null,null,null,null,null,null,null,null,null,"02240","09","002","AZCAPOTZALCO",null," - 84746",null,"84746","84746.99999","'03724006","'484260240001.84746",null,null,null,null,null,null,null,null,null,null,null,null,null,null,null,null,null,null,"364030010001.E00955","IR",null,"01296009","MX",null,null,null,null,null,null,null,null,null,"CERRO AZUL","785"]
[null,null,null,null,null,null,null,null,null,null,null,null,null,null,"02240","09","002","AZCAPOTZALCO",null," - 84730",null,"84730","84730.99999","'03724006","'484260240001.84730",null,null,null,null,null,null,null,null,null,null,null,null,null,null,null,null,null,null,"364040010001.E00956","IR",null,"01296169","MX",null,null,null,null,null,null,null,null,null,"HUEJUTLA DE REYES","789"]
[null,null,null,null,null,null,null,null,null,null,null,null,null,null,"02250","09","002","AZCAPOTZALCO",null," - 84705",null,"84705","84705.99999","'03757006","'484260570001.84705",null,null,null,null,null,null,null,null,null,null,null,null,null,null,null,null,null,null,"364050010001.E00957","IR",null,"01296771","MX",null,null,null,null,null,null,null,null,null,"TEMPOAL","789"]
[null,null,null,null,null,null,null,null,null,null,null,null,null,null,"02250","09","002","AZCAPOTZALCO",null," - 84700",null,"84700","84700.99999","'03757006","'484260570001.84700",null,null,null,null,null,null,null,null,null,null,null,null,null,null,null,null,null,null,"364060010001.E00958","IR",null,"01301005","MX",null,null,null,null,null,null,null,null,null,"TANTOYUCA","789"]
[null,null,null,null,null,null,null,null,null,null,null,null,null,null,"02260","09","002","AZCAPOTZALCO",null," - 84694",null,"84694","84694.99999","'03711009","'484260110001.84694",null,null,null,null,null,null,null,null,null,null,null,null,null,null,null,null,null,null,"368010010001.E0525","IQ",null,"01301115","MX",null,null,null,null,null,null,null,null,null,"PLATON SANCHEZ","789"]
[null,null,null,null,null,null,null,null,null,null,null,null,null,null,"02260","09","002","AZCAPOTZALCO",null," - 84680",null,"84680","84680.99999","'03711009","'484260110001.84680",null,null,null,null,null,null,null,null,null,null,null,null,null,null,null,null,null,null,"368020010001.E00959","IQ",null,"01301439","MX",null,null,null,null,null,null,null,null,null,"CIUDAD DE FRAY BERNARDINO DE SAHAGUN","791"]
[null,null,null,null,null,null,null,null,null,null,null,null,null,null,"02300","09","002","AZCAPOTZALCO",null," - 84675",null,"84675","84675.99999","'03722006","'484260220001.84675",null,null,null,null,null,null,null,null,null,null,null,null,null,null,null,null,null,null,"368030010001.E00960","IQ",null,"01302006","MX",null,null,null,null,null,null,null,null,null,"ZACATLAN","797"]
[null,null,null,null,null,null,null,null,null,null,null,null,null,null,"02300","09","002","AZCAPOTZALCO",null," - 84673",null,"84673","84673.99999","'03722006","'484260220001.84673",null,null,null,null,null,null,null,null,null,null,null,null,null,null,null,null,null,null,"368040010001.E00961","IQ",null,"01303001","MX",null,null,null,null,null,null,null,null,null,"APODACA","81"]
[null,null,null,null,null,null,null,null,null,null,null,null,null,null,"02310","09","002","AZCAPOTZALCO",null," - 84657",null,"84657","84657.99999","'03706003","'484260060001.84657",null,null,null,null,null,null,null,null,null,null,null,null,null,null,null,null,null,null,"368050010001.E00962","IQ",null,"01304008","MX",null,null,null,null,null,null,null,null,null,"SAN PEDRO GARZA GARCIA","81"]
[null,null,null,null,null,null,null,null,null,null,null,null,null,null,"02310","09","002","AZCAPOTZALCO",null," - 84654",null,"84654","84654.99999","'03706003","'484260060001.84654",null,null,null,null,null,null,null,null,null,null,null,null,null,null,null,null,null,null,"368060010001.E00963","IQ",null,"01305009","MX",null,null,null,null,null,null,null,null,null,"GUADALUPE (CIUDAD GUADALUPE)","81"]
[null,null,null,null,null,null,null,null,null,null,null,null,null,null,"02320","09","002","AZCAPOTZALCO",null," - 84650",null,"84650","84650.99999","'03706003","'484260060001.84650",null,null,null,null,null,null,null,null,null,null,null,null,null,null,null,null,null,null,"372010010001.E0200","GB",null,"01306004","MX",null,null,null,null,null,null,null,null,null,"MONTERREY","81"]
[null,null,null,null,null,null,null,null,null,null,null,null,null,null,"02320","09","002","AZCAPOTZALCO",null," - 84636",null,"84636","84636.99999","'03719003","'484260190001.84636",null,null,null,null,null,null,null,null,null,null,null,null,null,null,null,null,null,null,"372010020001.E00964","VU",null,"01307002","MX",null,null,null,null,null,null,null,null,null,"SAN NICOLAS DE LOS GARZA","81"]
[null,null,null,null,null,null,null,null,null,null,null,null,null,null,"02330","09","002","AZCAPOTZALCO",null," - 84634",null,"84634","84634.99999","'03719003","'484260190001.84634",null,null,null,null,null,null,null,null,null,null,null,null,null,null,null,null,null,null,"372020010001.E00965","VU",null,"01308003","MX",null,null,null,null,null,null,null,null,null,"EL CERCADO","81"]
[null,null,null,null,null,null,null,null,null,null,null,null,null,null,"02330","09","002","AZCAPOTZALCO",null," - 84630",null,"84630","84630.99999","'03719003","'484260190001.84630",null,null,null,null,null,null,null,null,null,null,null,null,null,null,null,null,null,null,"372030010001.E00966","VU",null,"01309007","MX",null,null,null,null,null,null,null,null,null,"GARCIA","81"]
[null,null,null,null,null,null,null,null,null,null,null,null,null,null,"02340","09","002","AZCAPOTZALCO",null," - 84623",null,"84623","84623.99999","'03719003","'484260190001.84623",null,null,null,null,null,null,null,null,null,null,null,null,null,null,null,null,null,null,"372040010001.E00967","VU",null,"01310008","MX",null,null,null,null,null,null,null,null,null,"BENITO JUAREZ","81"]
[null,null,null,null,null,null,null,null,null,null,null,null,null,null,"02340","09","002","AZCAPOTZALCO",null," - 84617",null,"84617","84617.99999","'03758006","'484260580001.84617",null,null,null,null,null,null,null,null,null,null,null,null,null,null,null,null,null,null,"372050010001.E00968","VU",null,"01311006","MX",null,null,null,null,null,null,null,null,null,"GUADALUPE","81"]
[null,null,null,null,null,null,null,null,null,null,null,null,null,null,"02350","09","002","AZCAPOTZALCO",null," - 84611",null,"84611","84611.99999","'03758006","'484260580001.84611",null,null,null,null,null,null,null,null,null,null,null,null,null,null,null,null,null,null,"372050020001.E00969","VU",null,"01312007","MX",null,null,null,null,null,null,null,null,null,"LINARES","821"]
[null,null,null,null,null,null,null,null,null,null,null,null,null,null,"02350","09","002","AZCAPOTZALCO",null," - 84603",null,"84603","84603.99999","'03758006","'484260580001.84603",null,null,null,null,null,null,null,null,null,null,null,null,null,null,null,null,null,null,"372060010001.E00970","VU",null,"01313002","MX",null,null,null,null,null,null,null,null,null,"HUALAHUISES","821"]
[null,null,null,null,null,null,null,null,null,null,null,null,null,null,"02360","09","002","AZCAPOTZALCO",null," - 84601",null,"84601","84601.99999","'03758006","'484260580001.84601",null,null,null,null,null,null,null,null,null,null,null,null,null,null,null,null,null,null,"376010010001.E00971","VU",null,"01313049","MX",null,null,null,null,null,null,null,null,null,"GENERAL BRAVO","823"]
[null,null,null,null,null,null,null,null,null,null,null,null,null,null,"02360","09","002","AZCAPOTZALCO",null," - 84583",null,"84583","84583.99999","'03767009","'484260670001.84583",null,null,null,null,null,null,null,null,null,null,null,null,null,null,null,null,null,null,"376020010001.E00972","VU",null,"01313379","MX",null,null,null,null,null,null,null,null,null,"SABINAS HIDALGO","824"]
[0,null,null,null,null,null,null,null,null,null,null,null,null,null,"02400","09","002","AZCAPOTZALCO",null," - 84575",null,"84575","84575.99999","'03738009","'484260380001.84575",null,null,null,null,null,null,null,null,null,null,null,null,null,null,null,null,null,null,"376030010001.E00973","VU",null,"01314009","MX",null,null,null,null,null,null,null,null,null,"CIENEGA DE FLORES","825"]
[null,null,null,null,null,null,null,null,null,null,null,null,null,null,"02400","09","002","AZCAPOTZALCO",null," - 84566",null,"84566","84566.99999","'03738009","'484260380001.84566",null,null,null,null,null,null,null,null,null,null,null,null,null,null,null,null,null,null,"376030010001.E1625","IL",null,"01314303","MX",null,null,null,null,null,null,null,null,null,"MONTEMORELOS","826"]
[null,null,null,null,null,null,null,null,null,null,null,null,null,null,"02400","09","002","AZCAPOTZALCO",null," - 84564",null,"84564","84564.99999","'03738009","'484260380001.84564",null,null,null,null,null,null,null,null,null,null,null,null,null,null,null,null,null,null,"376040010001.E00974","VU",null,"01315001","MX",null,null,null,null,null,null,null,null,null,"CADEREYTA JIMENEZ","828"]
[null,null,null,null,null,null,null,null,null,null,null,null,null,null,"02400","09","002","AZCAPOTZALCO",null," - 84530",null,"84530","84530.99999","'03732009","'484260320001.84530",null,null,null,null,null,null,null,null,null,null,null,null,null,null,null,null,null,null,"376050010001.E00975","VU",null,"01316005","MX",null,null,null,null,null,null,null,null,null,"BUSTAMANTE","829"]
[null,null,null,null,null,null,null,null,null,null,null,null,null,null,"02409","09","002","AZCAPOTZALCO",null," - 84527",null,"84527","84527.99999","'03723009","'484260230001.84527",null,null,null,null,null,null,null,null,null,null,null,null,null,null,null,null,null,null,"376060010001.E0205","IL",null,"01317003","MX",null,null,null,null,null,null,null,null,null,"CIUDAD MANTE","831"]
[null,null,null,null,null,null,null,null,null,null,null,null,null,null,"02409","09","002","AZCAPOTZALCO",null," - 84513",null,"84513","84513.99999","'03723009","'484260230001.84513",null,null,null,null,null,null,null,null,null,null,null,null,null,null,null,null,null,null,"380010010001.E0210","IT",null,"01318004","MX",null,null,null,null,null,null,null,null,null,"JAUMAVE","832"]
[null,null,null,null,null,null,null,null,null,null,null,null,null,null,"02410","09","002","AZCAPOTZALCO",null," - 84507",null,"84507","84507.99999","'03723009","'484260230001.84507",null,null,null,null,null,null,null,null,null,null,null,null,null,null,null,null,null,null,"380020010001.E00976","VU",null,"01319008","MX",null,null,null,null,null,null,null,null,null,"ALTAMIRA","833"]
[null,null,null,null,null,null,null,null,null,null,null,null,null,null,"02410","09","002","AZCAPOTZALCO",null," - 84504",null,"84504","84504.99999","'03723009","'484260230001.84504",null,null,null,null,null,null,null,null,null,null,null,null,null,null,null,null,null,null,"380030010001.E00977","VU",null,"01320006","MX",null,null,null,null,null,null,null,null,null,"CIUDAD MADERO","833"]
[null,null,null,null,null,null,null,null,null,null,null,null,null,null,"02419","09","002","AZCAPOTZALCO",null," - 84494",null,"84494","84494.99999","'03708009","'484260080001.84494",null,null,null,null,null,null,null,null,null,null,null,null,null,null,null,null,null,null,"380040010001.E1055","IT",null,"01321004","MX",null,null,null,null,null,null,null,null,null,"TAMPICO","833"]
[null,null,null,null,null,null,null,null,null,null,null,null,null,null,"02419","09","002","AZCAPOTZALCO",null," - 84486",null,"84486","84486.99999","'03708009","'484260080001.84486",null,null,null,null,null,null,null,null,null,null,null,null,null,null,null,null,null,null,"380040020001.E00978","VU",null,"01322005","MX",null,null,null,null,null,null,null,null,null,"TAMPICO ALTO","833"]
[null,null,null,null,null,null,null,null,null,null,null,null,null,null,"02420","09","002","AZCAPOTZALCO",null," - 84484",null,"84484","84484.99999","'03708009","'484260080001.84484",null,null,null,null,null,null,null,null,null,null,null,null,null,null,null,null,null,null,"380040030001.E00979","VU",null,"01323009","MX",null,null,null,null,null,null,null,null,null,"HUILOAPAN DE CUAUHTEMOC","833"]
[null,null,null,null,null,null,null,null,null,null,null,null,null,null,"02420","09","002","AZCAPOTZALCO",null," - 84450",null,"84450","84450.99999","'03740003","'484260400001.84450",null,null,null,null,null,null,null,null,null,null,null,null,null,null,null,null,null,null,"380050010001.E00980","VU",null,"01324007","MX",null,null,null,null,null,null,null,null,null,"CIUDAD VICTORIA","834"]
[null,null,null,null,null,null,null,null,null,null,null,null,null,null,"02420","09","002","AZCAPOTZALCO",null," - 84445",null,"84445","84445.99999","'03740003","'484260400001.84445",null,null,null,null,null,null,null,null,null,null,null,null,null,null,null,null,null,null,"380050020001.E1065","IT",null,"01325008","MX",null,null,null,null,null,null,null,null,null,"SOTO LA MARINA","835"]
[null,null,null,null,null,null,null,null,null,null,null,null,null,null,"02430","09","002","AZCAPOTZALCO",null," - 84390",null,"84390","84390.99999","'03710003","'484260100001.84390",null,null,null,null,null,null,null,null,null,null,null,null,null,null,null,null,null,null,"380060010001.E00981","VU",null,"01326003","MX",null,null,null,null,null,null,null,null,null,"GONZALEZ","836"]
[null,null,null,null,null,null,null,null,null,null,null,null,null,null,"02430","09","002","AZCAPOTZALCO",null," - 84365",null,"84365","84365.99999","'03715009","'484260150001.84365",null,null,null,null,null,null,null,null,null,null,null,null,null,null,null,null,null,null,"380070010001.E00982","VU",null,"01327001","MX",null,null,null,null,null,null,null,null,null,"MANUEL ESTACION","836"]
[null,null,null,null,null,null,null,null,null,null,null,null,null,null,"02440","09","002","AZCAPOTZALCO",null," - 84364",null,"84364","84364.99999","'03715009","'484260150001.84364",null,null,null,null,null,null,null,null,null,null,null,null,null,null,null,null,null,null,"380080010001.E00983","VU",null,"01328002","MX",null,null,null,null,null,null,null,null,null,"SAN FERNANDO","841"]
[null,null,null,null,null,null,null,null,null,null,null,null,null,null,"02440","09","002","AZCAPOTZALCO",null," - 84335",null,"84335","84335.99999","'03727219","'484260270001.84335",null,null,null,null,null,null,null,null,null,null,null,null,null,null,null,null,null,null,"380090010001.E00984","VU",null,"01329006","MX",null,null,null,null,null,null,null,null,null,"PARRAS DE LA FUENTE","842"]
[null,null,null,null,null,null,null,null,null,null,null,null,null,null,"02450","09","002","AZCAPOTZALCO",null," - 84317",null,"84317","84317.99999","'03702009","'484260020001.84317",null,null,null,null,null,null,null,null,null,null,null,null,null,null,null,null,null,null,"380090020001.E00985","VU",null,"01330001","MX",null,null,null,null,null,null,null,null,null,"RAMOS ARIZPE","844"]
[null,null,null,null,null,null,null,null,null,null,null,null,null,null,"02450","09","002","AZCAPOTZALCO",null," - 84315",null,"84315","84315.99999","'03702009","'484260020001.84315",null,null,null,null,null,null,null,null,null,null,null,null,null,null,null,null,null,null,"380100010001.E00986","VU",null,"01330056","MX",null,null,null,null,null,null,null,null,null,"ARTEAGA","844"]
[null,null,null,null,null,null,null,null,null,null,null,null,null,null,"02450","09","002","AZCAPOTZALCO",null," - 84307",null,"84307","84307.99999","'03702009","'484260020001.84307",null,null,null,null,null,null,null,null,null,null,null,null,null,null,null,null,null,null,"380110010001.E00987","VU",null,"01331008","MX",null,null,null,null,null,null,null,null,null,"EBANO","845"]
[null,null,null,null,null,null,null,null,null,null,null,null,null,null,"02459","09","002","AZCAPOTZALCO",null," - 84260",null,"84260","84260.99999","'03702009","'484260020001.84260",null,null,null,null,null,null,null,null,null,null,null,null,null,null,null,null,null,null,"380120010001.E00988","VU",null,"01331052","MX",null,null,null,null,null,null,null,null,null,"PANUCO","846"]
[null,null,null,null,null,null,null,null,null,null,null,null,null,null,"02459","09","002","AZCAPOTZALCO",null," - 84195",null,"84195","84195.99999","'03739003","'484260390001.84195",null,null,null,null,null,null,null,null,null,null,null,null,null,null,null,null,null,null,"380130010001.E00989","VU",null,"01332009","MX",null,null,null,null,null,null,null,null,null,"CIUDAD SABINAS","861"]
[null,null,null,null,null,null,null,null,null,null,null,null,null,null,"02460","09","002","AZCAPOTZALCO",null," - 84187",null,"84187","84187.99999","'03739003","'484260390001.84187",null,null,null,null,null,null,null,null,null,null,null,null,null,null,null,null,null,null,"380140010001.E1060","IT",null,"01332303","MX",null,null,null,null,null,null,null,null,null,"NUEVA ROSITA","861"]
[null,null,null,null,null,null,null,null,null,null,null,null,null,null,"02460","09","002","AZCAPOTZALCO",null," - 84173",null,"84173","84173.99999","'03736003","'484260360001.84173",null,null,null,null,null,null,null,null,null,null,null,null,null,null,null,null,null,null,"380140020001.E1160","IT",null,"01333004","MX",null,null,null,null,null,null,null,null,null,"NAVA","862"]
[null,null,null,null,null,null,null,null,null,null,null,null,null,null,"02460","09","002","AZCAPOTZALCO",null," - 84163",null,"84163","84163.99999","'03736003","'484260360001.84163",null,null,null,null,null,null,null,null,null,null,null,null,null,null,null,null,null,null,"384010010001.E0685","CI",null,"01334002","MX",null,null,null,null,null,null,null,null,null,"ZARAGOZA","862"]
[null,null,null,null,null,null,null,null,null,null,null,null,null,null,"02470","09","002","AZCAPOTZALCO",null," - 84137",null,"84137","84137.99999","'03735009","'484260350001.84137",null,null,null,null,null,null,null,null,null,null,null,null,null,null,null,null,null,null,"384020010001.E00990","CI",null,"01335003","MX",null,null,null,null,null,null,null,null,null,"MORELOS","862"]
[null,null,null,null,null,null,null,null,null,null,null,null,null,null,"02470","09","002","AZCAPOTZALCO",null," - 84134",null,"84134","84134.99999","'03735009","'484260350001.84134",null,null,null,null,null,null,null,null,null,null,null,null,null,null,null,null,null,null,"384030010001.E00991","CI",null,"01336007","MX",null,null,null,null,null,null,null,null,null,"CIUDAD ALLENDE","862"]
[null,null,null,null,null,null,null,null,null,null,null,null,null,null,"02479","09","002","AZCAPOTZALCO",null," - 84123",null,"84123","84123.99999","'03735009","'484260350001.84123",null,null,null,null,null,null,null,null,null,null,null,null,null,null,null,null,null,null,"384040010001.E00992","CI",null,"01337005","MX",null,null,null,null,null,null,null,null,null,"MELCHOR MUZQUIZ","864"]
[null,null,null,null,null,null,null,null,null,null,null,null,null,null,"02479","09","002","AZCAPOTZALCO",null," - 84116",null,"84116","84116.99999","'03743003","'484260430001.84116",null,null,null,null,null,null,null,null,null,null,null,null,null,null,null,null,null,null,"384050010001.E00993","CI",null,"01339001","MX",null,null,null,null,null,null,null,null,null,"FRONTERA","866"]
[null,null,null,null,null,null,null,null,null,null,null,null,null,null,"02480","09","002","AZCAPOTZALCO",null," - 84106",null,"84106","84106.99999","'03743003","'484260430001.84106",null,null,null,null,null,null,null,null,null,null,null,null,null,null,null,null,null,null,"384060010001.E00994","CI",null,"01339154","MX",null,null,null,null,null,null,null,null,null,"MONCLOVA","866"]
[null,null,null,null,null,null,null,null,null,null,null,null,null,null,"02480","09","002","AZCAPOTZALCO",null," - 84104",null,"84104","84104.99999","'03743003","'484260430001.84104",null,null,null,null,null,null,null,null,null,null,null,null,null,null,null,null,null,null,"388010010001.E0355","JM",null,"01339256","MX",null,null,null,null,null,null,null,null,null,"CASTAÑOS","866"]
[null,null,null,null,null,null,null,null,null,null,null,null,null,null,"02490","09","002","AZCAPOTZALCO",null," - 84100",null,"84100","84100.99999","'03743003","'484260430001.84100",null,null,null,null,null,null,null,null,null,null,null,null,null,null,null,null,null,null,"388020010001.E00995","VU",null,"01340002","MX",null,null,null,null,null,null,null,null,null,"ABASOLO","866"]
[null,null,null,null,null,null,null,null,null,null,null,null,null,null,"02490","09","002","AZCAPOTZALCO",null," - 84090",null,"84090","84090.99999","'03743003","'484260430001.84090",null,null,null,null,null,null,null,null,null,null,null,null,null,null,null,null,null,null,"388030010001.E00996","VU",null,"01340308","MX",null,null,null,null,null,null,null,null,null,"FRONTERA","866"]
[null,null,null,null,null,null,null,null,null,null,null,null,null,null,"02490","09","002","AZCAPOTZALCO",null," - 84076",null,"84076","84076.99999","'03743003","'484260430001.84076",null,null,null,null,null,null,null,null,null,null,null,null,null,null,null,null,null,null,"388040010001.E00997","VU",null,"01341009","MX",null,null,null,null,null,null,null,null,null,"NUEVO LAREDO","867"]
[null,null,null,null,null,null,null,null,null,null,null,null,null,null,"02500","09","002","AZCAPOTZALCO",null," - 84067",null,"84067","84067.99999","'03743003","'484260430001.84067",null,null,null,null,null,null,null,null,null,null,null,null,null,null,null,null,null,null,"388050010001.E00998","VU",null,"01341106","MX",null,null,null,null,null,null,null,null,null,"MATAMOROS (HEROICA MATAMOROS)","868"]
[null,null,null,null,null,null,null,null,null,null,null,null,null,null,"02500","09","002","AZCAPOTZALCO",null," - 84063",null,"84063","84063.99999","'03743003","'484260430001.84063",null,null,null,null,null,null,null,null,null,null,null,null,null,null,null,null,null,null,"388060010001.E00999","VU",null,"01342001","MX",null,null,null,null,null,null,null,null,null,"CUATRO CIENEGAS DE CARRANZA","869"]
[null,null,null,null,null,null,null,null,null,null,null,null,null,null,"02510","09","002","AZCAPOTZALCO",null," - 84055",null,"84055","84055.99999","'03743003","'484260430001.84055",null,null,null,null,null,null,null,null,null,null,null,null,null,null,null,null,null,null,"392010010001.E0215","JP",null,"01343005","MX",null,null,null,null,null,null,null,null,null,"NADADORES","869"]
[null,null,null,null,null,null,null,null,null,null,null,null,null,null,"02510","09","002","AZCAPOTZALCO",null," - 84048",null,"84048","84048.99999","'03743003","'484260430001.84048",null,null,null,null,null,null,null,null,null,null,null,null,null,null,null,null,null,null,"392020010001.E01000","VU",null,"01343055","MX",null,null,null,null,null,null,null,null,null,"MATAMOROS DE LA LAGUNA","871"]
[null,null,null,null,null,null,null,null,null,null,null,null,null,null,"02510","09","002","AZCAPOTZALCO",null," - 84046",null,"84046","84046.99999","'03743003","'484260430001.84046",null,null,null,null,null,null,null,null,null,null,null,null,null,null,null,null,null,null,"392030010001.E01001","VU",null,"01344003","MX",null,null,null,null,null,null,null,null,null,"TORREON","871"]
[null,null,null,null,null,null,null,null,null,null,null,null,null,null,"02519","09","002","AZCAPOTZALCO",null," - 84017",null,"84017","84017.99999","'03743003","'484260430001.84017",null,null,null,null,null,null,null,null,null,null,null,null,null,null,null,null,null,null,"392040010001.E01002","VU",null,"01345004","MX",null,null,null,null,null,null,null,null,null,"GOMEZ PALACIO","871"]
[null,null,null,null,null,null,null,null,null,null,null,null,null,null,"02519","09","002","AZCAPOTZALCO",null," - 84014",null,"84014","84014.99999","'03743003","'484260430001.84014",null,null,null,null,null,null,null,null,null,null,null,null,null,null,null,null,null,null,"392050010001.E01003","VU",null,"01346008","MX",null,null,null,null,null,null,null,null,null,"CIUDAD LERDO","871"]
[null,null,null,null,null,null,null,null,null,null,null,null,null,null,"02520","09","002","AZCAPOTZALCO",null," - 83935",null,"83935","83935.99999","'03764009","'484260640001.83935",null,null,null,null,null,null,null,null,null,null,null,null,null,null,null,null,null,null,"392060010001.E01004","VU",null,"01347006","MX",null,null,null,null,null,null,null,null,null,"SAN PEDRO DE LAS COLINAS","872"]
[null,null,null,null,null,null,null,null,null,null,null,null,null,null,"02520","09","002","AZCAPOTZALCO",null," - 83930",null,"83930","83930.99999","'03764009","'484260640001.83930",null,null,null,null,null,null,null,null,null,null,null,null,null,null,null,null,null,null,"392070010001.E01005","VU",null,"01348007","MX",null,null,null,null,null,null,null,null,null,"FRANCISCO I MADERO","872"]
[null,null,null,null,null,null,null,null,null,null,null,null,null,null,"02525","09","002","AZCAPOTZALCO",null," - 83926",null,"83926","83926.99999","'03716003","'484260160001.83926",null,null,null,null,null,null,null,null,null,null,null,null,null,null,null,null,null,null,"392080010001.E01006","VU",null,"01348209","MX",null,null,null,null,null,null,null,null,null,"FRANCISCO I MADERO","872"]
[null,null,null,null,null,null,null,null,null,null,null,null,null,null,"02525","09","002","AZCAPOTZALCO",null," - 83905",null,"83905","83905.99999","'03716003","'484260160001.83905",null,null,null,null,null,null,null,null,null,null,null,null,null,null,null,null,null,null,"392090010001.E01007","VU",null,"01349002","MX",null,null,null,null,null,null,null,null,null,"ANAHUAC","873"]
[null,null,null,null,null,null,null,null,null,null,null,null,null,null,"02530","09","002","AZCAPOTZALCO",null," - 83860",null,"83860","83860.99999","'03760003","'484260600001.83860",null,null,null,null,null,null,null,null,null,null,null,null,null,null,null,null,null,null,"392100010001.E01008","VU",null,"01350009","MX",null,null,null,null,null,null,null,null,null,"CIUDAD ACUÑA","877"]
[null,null,null,null,null,null,null,null,null,null,null,null,null,null,"02530","09","002","AZCAPOTZALCO",null," - 83801",null,"83801","83801.99999","'03765009","'484260650001.83801",null,null,null,null,null,null,null,null,null,null,null,null,null,null,null,null,null,null,"392110010001.E01009","VU",null,"01351007","MX",null,null,null,null,null,null,null,null,null,"PIEDRAS NEGRAS","878"]
[null,null,null,null,null,null,null,null,null,null,null,null,null,null,"02540","09","002","AZCAPOTZALCO",null," - 83796",null,"83796","83796.99999","'03704009","'484260040001.83796",null,null,null,null,null,null,null,null,null,null,null,null,null,null,null,null,null,null,"392120010001.E01010","VU",null,"01351053","MX",null,null,null,null,null,null,null,null,null,"CIUDAD GUSTAVO DIAZ ORDAZ","891"]
[null,null,null,null,null,null,null,null,null,null,null,null,null,null,"02540","09","002","AZCAPOTZALCO",null," - 83794",null,"83794","83794.99999","'03704009","'484260040001.83794",null,null,null,null,null,null,null,null,null,null,null,null,null,null,null,null,null,null,"392130010001.E01011","VU",null,"01352008","MX",null,null,null,null,null,null,null,null,null,"CIUDAD CERRALVO","892"]
[null,null,null,null,null,null,null,null,null,null,null,null,null,null,"02600","09","002","AZCAPOTZALCO",null," - 83790",null,"83790","83790.99999","'03704009","'484260040001.83790",null,null,null,null,null,null,null,null,null,null,null,null,null,null,null,null,null,null,"392140010001.E01012","VU",null,"01353003","MX",null,null,null,null,null,null,null,null,null,"VALLE HERMOSO","894"]
[null,null,null,null,null,null,null,null,null,null,null,null,null,null,"02600","09","002","AZCAPOTZALCO",null," - 83756",null,"83756","83756.99999","'03704009","'484260040001.83756",null,null,null,null,null,null,null,null,null,null,null,null,null,null,null,null,null,null,"400010010001.E0530","JO",null,"01354001","MX",null,null,null,null,null,null,null,null,null,"MIGUEL ALEMAN","897"]
[null,null,null,null,null,null,null,null,null,null,null,null,null,null,"02630","09","002","AZCAPOTZALCO",null," - 83660",null,"83660","83660.99999","'03717009","'484260170001.83660",null,null,null,null,null,null,null,null,null,null,null,null,null,null,null,null,null,null,"400020010001.E01013","JO",null,"01355002","MX",null,null,null,null,null,null,null,null,null,"NUEVA CIUDAD GUERRERO","897"]
[null,null,null,null,null,null,null,null,null,null,null,null,null,null,"02630","09","002","AZCAPOTZALCO",null," - 83621",null,"83621","83621.99999","'03717009","'484260170001.83621",null,null,null,null,null,null,null,null,null,null,null,null,null,null,null,null,null,null,"400030010001.E01014","JO",null,"01356006","MX",null,null,null,null,null,null,null,null,null,"REYNOSA (CIUDAD REYNOSA)","899"]
[null,null,null,null,null,null,null,null,null,null,null,null,null,null,"02630","09","002","AZCAPOTZALCO",null," - 83504",null,"83504","83504.99999","'03755259","'484260550001.83504",null,null,null,null,null,null,null,null,null,null,null,null,null,null,null,null,null,null,"400040010001.E01015","JO",null,"01357004","MX",null,null,null,null,null,null,null,null,null,"RIO BRAVO (CIUDAD RIO BRAVO)","899"]
[null,null,null,null,null,null,null,null,null,null,null,null,null,null,"02640","09","002","AZCAPOTZALCO",null," - 83489",null,"83489","83489.99999","'03755259","'484260550001.83489",null,null,null,null,null,null,null,null,null,null,null,null,null,null,null,null,null,null,"400050010001.E01016","JO",null,"01358005","MX",null,null,null,null,null,null,null,null,null,"JALPA DE MENDEZ","914"]
[null,null,null,null,null,null,null,null,null,null,null,null,null,null,"02640","09","002","AZCAPOTZALCO",null," - 83457",null,"83457","83457.99999","'03755259","'484260550001.83457",null,null,null,null,null,null,null,null,null,null,null,null,null,null,null,null,null,null,"400060010001.E01017","JO",null,"01358502","MX",null,null,null,null,null,null,null,null,null,"CUNDUACAN","914"]
[null,null,null,null,null,null,null,null,null,null,null,null,null,null,"02650","09","002","AZCAPOTZALCO",null," - 83396",null,"83396","83396.99999","'03720009","'484260200001.83396",null,null,null,null,null,null,null,null,null,null,null,null,null,null,null,null,null,null,"400070010001.E01018","JO",null,"01358758","MX",null,null,null,null,null,null,null,null,null,"PALENQUE","916"]
[null,null,null,null,null,null,null,null,null,null,null,null,null,null,"02650","09","002","AZCAPOTZALCO",null," - 83394",null,"83394","83394.99999","'03720009","'484260200001.83394",null,null,null,null,null,null,null,null,null,null,null,null,null,null,null,null,null,null,"40030010001.E00542","VU",null,"01359009","MX",null,null,null,null,null,null,null,null,null,"REFORMA","917"]
[null,null,null,null,null,null,null,null,null,null,null,null,null,null,"02660","09","002","AZCAPOTZALCO",null," - 83390",null,"83390","83390.99999","'03720009","'484260200001.83390",null,null,null,null,null,null,null,null,null,null,null,null,null,null,null,null,null,null,"40040010001.E00543","VU",null,"01360004","MX",null,null,null,null,null,null,null,null,null,"HUIMANGUILLO","917"]
[null,null,null,null,null,null,null,null,null,null,null,null,null,null,"02660","09","002","AZCAPOTZALCO",null," - 83383",null,"83383","83383.99999","'03720009","'484260200001.83383",null,null,null,null,null,null,null,null,null,null,null,null,null,null,null,null,null,null,"40050010001.E00544","VU",null,"01361002","MX",null,null,null,null,null,null,null,null,null,"MAPASTEPEC","918"]
[null,null,null,null,null,null,null,null,null,null,null,null,null,null,"02670","09","002","AZCAPOTZALCO",null," - 83377",null,"83377","83377.99999","'03756009","'484260560001.83377",null,null,null,null,null,null,null,null,null,null,null,null,null,null,null,null,null,null,"40060010001.E00545","VU",null,"01362003","MX",null,null,null,null,null,null,null,null,null,"PIJIJIAPAN","918"]
[null,null,null,null,null,null,null,null,null,null,null,null,null,null,"02670","09","002","AZCAPOTZALCO",null," - 83375",null,"83375","83375.99999","'03756009","'484260560001.83375",null,null,null,null,null,null,null,null,null,null,null,null,null,null,null,null,null,null,"4020010001.E00500","AF",null,"01363007","MX",null,null,null,null,null,null,null,null,null,"OCOSINGO","919"]
[null,null,null,null,null,null,null,null,null,null,null,null,null,null,"02680","09","002","AZCAPOTZALCO",null," - 83367",null,"83367","83367.99999","'03756009","'484260560001.83367",null,null,null,null,null,null,null,null,null,null,null,null,null,null,null,null,null,null,"4030010001.E00501","AF",null,"01364005","MX",null,null,null,null,null,null,null,null,null,"COATZACOALCOS","921"]
[null,null,null,null,null,null,null,null,null,null,null,null,null,null,"02680","09","002","AZCAPOTZALCO",null," - 83365",null,"83365","83365.99999","'03756009","'484260560001.83365",null,null,null,null,null,null,null,null,null,null,null,null,null,null,null,null,null,null,"4040010001.E00502","AF",null,"01365006","MX",null,null,null,null,null,null,null,null,null,"JALTIPAN DE MORELOS (JALTIPAN)","922"]
[null,null,null,null,null,null,null,null,null,null,null,null,null,null,"02700","09","002","AZCAPOTZALCO",null," - 83363",null,"83363","83363.99999","'03756009","'484260560001.83363",null,null,null,null,null,null,null,null,null,null,null,null,null,null,null,null,null,null,"404010010001.E0690","KE",null,"01366001","MX",null,null,null,null,null,null,null,null,null,"MINATITLAN","922"]
[null,null,null,null,null,null,null,null,null,null,null,null,null,null,"02700","09","002","AZCAPOTZALCO",null," - 83343",null,"83343","83343.99999","'03730107","'484260300001.83343",null,null,null,null,null,null,null,null,null,null,null,null,null,null,null,null,null,null,"404020010001.E01019","KE",null,"01367008","MX",null,null,null,null,null,null,null,null,null,"COSOLEACAQUE","922"]
[null,null,null,null,null,null,null,null,null,null,null,null,null,null,"02710","09","002","AZCAPOTZALCO",null," - 83309",null,"83309","83309.99999","'03730107","'484260300001.83309",null,null,null,null,null,null,null,null,null,null,null,null,null,null,null,null,null,null,"404030010001.E01020","KE",null,"01368009","MX",null,null,null,null,null,null,null,null,null,"AGUA DULCE","923"]
[null,null,null,null,null,null,null,null,null,null,null,null,null,null,"02710","09","002","AZCAPOTZALCO",null," - 83300",null,"83300","83300.99999","'03730107","'484260300001.83300",null,null,null,null,null,null,null,null,null,null,null,null,null,null,null,null,null,null,"404040010001.E01021","KE",null,"01369004","MX",null,null,null,null,null,null,null,null,null,"CUICHAPA","923"]
[null,null,null,null,null,null,null,null,null,null,null,null,null,null,"02710","09","002","AZCAPOTZALCO",null," - 83219",null,"83219","83219.99999","'03730107","'484260300001.83219",null,null,null,null,null,null,null,null,null,null,null,null,null,null,null,null,null,null,"404050010001.E01022","KE",null,"01370005","MX",null,null,null,null,null,null,null,null,null,"LAS CHOAPAS","923"]
[null,null,null,null,null,null,null,null,null,null,null,null,null,null,"02718","09","002","AZCAPOTZALCO",null," - 83205",null,"83205","83205.99999","'03730107","'484260300001.83205",null,null,null,null,null,null,null,null,null,null,null,null,null,null,null,null,null,null,"404060010001.E01023","KE",null,"01371003","MX",null,null,null,null,null,null,null,null,null,"ACAYUCAN","924"]
[null,null,null,null,null,null,null,null,null,null,null,null,null,null,"02718","09","002","AZCAPOTZALCO",null," - 83175",null,"83175","83175.99999","'03730107","'484260300001.83175",null,null,null,null,null,null,null,null,null,null,null,null,null,null,null,null,null,null,"404070010001.E01024","KE",null,"01372004","MX",null,null,null,null,null,null,null,null,null,"PICHUCALCO","932"]
[null,null,null,null,null,null,null,null,null,null,null,null,null,null,"02719","09","002","AZCAPOTZALCO",null," - 83145",null,"83145","83145.99999","'03730107","'484260300001.83145",null,null,null,null,null,null,null,null,null,null,null,null,null,null,null,null,null,null,"4050010001.E00503","AF",null,"01373008","MX",null,null,null,null,null,null,null,null,null,"TEAPA","932"]
[null,null,null,null,null,null,null,null,null,null,null,null,null,null,"02719","09","002","AZCAPOTZALCO",null," - 83138",null,"83138","83138.99999","'03730107","'484260300001.83138",null,null,null,null,null,null,null,null,null,null,null,null,null,null,null,null,null,null,"4060010001.E00504","AF",null,"01374006","MX",null,null,null,null,null,null,null,null,null,"COMALCALCO","933"]
[null,null,null,null,null,null,null,null,null,null,null,null,null,null,"02720","09","002","AZCAPOTZALCO",null," - 83104",null,"83104","83104.99999","'03730107","'484260300001.83104",null,null,null,null,null,null,null,null,null,null,null,null,null,null,null,null,null,null,"408010010001.E0535","KP",null,"01374057","MX",null,null,null,null,null,null,null,null,null,"PARAISO","933"]
[null,null,null,null,null,null,null,null,null,null,null,null,null,null,"02720","09","002","AZCAPOTZALCO",null," - 83078",null,"83078","83078.99999","'03730107","'484260300001.83078",null,null,null,null,null,null,null,null,null,null,null,null,null,null,null,null,null,null,"408020010001.E01025","KP",null,"01374253","MX",null,null,null,null,null,null,null,null,null,"TENOSIQUE","934"]
[null,null,null,null,null,null,null,null,null,null,null,null,null,null,"02720","09","002","AZCAPOTZALCO",null," - 83050",null,"83050","83050.99999","'03730107","'484260300001.83050",null,null,null,null,null,null,null,null,null,null,null,null,null,null,null,null,null,null,"408030010001.E01026","KP",null,"01375007","MX",null,null,null,null,null,null,null,null,null,"MACUSPANA","936"]
[null,null,null,null,null,null,null,null,null,null,null,null,null,null,"02729","09","002","AZCAPOTZALCO",null," - 83030",null,"83030","83030.99999","'03730107","'484260300001.83030",null,null,null,null,null,null,null,null,null,null,null,null,null,null,null,null,null,null,"408040010001.E01027","KP",null,"01376002","MX",null,null,null,null,null,null,null,null,null,"CARDENAS","937"]
[null,null,null,null,null,null,null,null,null,null,null,null,null,null,"02729","09","002","AZCAPOTZALCO",null," - 83020",null,"83020","83020.99999","'03730107","'484260300001.83020",null,null,null,null,null,null,null,null,null,null,null,null,null,null,null,null,null,null,"408050010001.E01028","KP",null,"01377009","MX",null,null,null,null,null,null,null,null,null,"CIUDAD DEL CARMEN","938"]
[null,null,null,null,null,null,null,null,null,null,null,null,null,null,"02730","09","002","AZCAPOTZALCO",null," - 83010",null,"83010","83010.99999","'03730107","'484260300001.83010",null,null,null,null,null,null,null,null,null,null,null,null,null,null,null,null,null,null,"408060010001.E01029","KP",null,"01378001","MX",null,null,null,null,null,null,null,null,null,"OAXACA (OAXACA DE JUAREZ)","951"]
[null,null,null,null,null,null,null,null,null,null,null,null,null,null,"02730","09","002","AZCAPOTZALCO",null," - 82993",null,"82993","82993.99999","'03646006","'484250160001.82993",null,null,null,null,null,null,null,null,null,null,null,null,null,null,null,null,null,null,"410010010001.E01030","VU",null,"01379005","MX",null,null,null,null,null,null,null,null,null,"SANTIAGO SUCHILQUITONGO","951"]
[null,null,null,null,null,null,null,null,null,null,null,null,null,null,"02739","09","002","AZCAPOTZALCO",null," - 82973",null,"82973","82973.99999","'03646006","'484250160001.82973",null,null,null,null,null,null,null,null,null,null,null,null,null,null,null,null,null,null,"410020010001.E0220","KR",null,"01380003","MX",null,null,null,null,null,null,null,null,null,"TLACOLULA DE MATAMOROS","951"]
[null,null,null,null,null,null,null,null,null,null,null,null,null,null,"02739","09","002","AZCAPOTZALCO",null," - 82971",null,"82971","82971.99999","'03646006","'484250160001.82971",null,null,null,null,null,null,null,null,null,null,null,null,null,null,null,null,null,null,"410030010001.E01031","VU",null,"01401006","MX",null,null,null,null,null,null,null,null,null,"SAN PABLO VILLA DE MITLA","951"]
[null,null,null,null,null,null,null,null,null,null,null,null,null,null,"02750","09","002","AZCAPOTZALCO",null," - 82960",null,"82960","82960.99999","'03646006","'484250160001.82960",null,null,null,null,null,null,null,null,null,null,null,null,null,null,null,null,null,null,"410040010001.E01032","VU",null,"01402004","MX",null,null,null,null,null,null,null,null,null,"NATIVIDAD","951"]
[null,null,null,null,null,null,null,null,null,null,null,null,null,null,"02750","09","002","AZCAPOTZALCO",null," - 82930",null,"82930","82930.99999","'03646006","'484250160001.82930",null,null,null,null,null,null,null,null,null,null,null,null,null,null,null,null,null,null,"410050010001.E01033","VU",null,"01403005","MX",null,null,null,null,null,null,null,null,null,"VILLA SOLA DE VEGA","951"]
[null,null,null,null,null,null,null,null,null,null,null,null,null,null,"02750","09","002","AZCAPOTZALCO",null," - 82918",null,"82918","82918.99999","'03646006","'484250160001.82918",null,null,null,null,null,null,null,null,null,null,null,null,null,null,null,null,null,null,"410060010001.E01034","VU",null,"01404009","MX",null,null,null,null,null,null,null,null,null,"OCOTLAN DE MORELOS","951"]
[null,null,null,null,null,null,null,null,null,null,null,null,null,null,"02750","09","002","AZCAPOTZALCO",null," - 82913",null,"82913","82913.99999","'03646006","'484250160001.82913",null,null,null,null,null,null,null,null,null,null,null,null,null,null,null,null,null,null,"414010010001.E0540","KW",null,"01405007","MX",null,null,null,null,null,null,null,null,null,"VILLA DE ZAACHILA","951"]
[null,null,null,null,null,null,null,null,null,null,null,null,null,null,"02760","09","002","AZCAPOTZALCO",null," - 82910",null,"82910","82910.99999","'03646006","'484250160001.82910",null,null,null,null,null,null,null,null,null,null,null,null,null,null,null,null,null,null,"414020010001.E01035","KW",null,"01406008","MX",null,null,null,null,null,null,null,null,null,"MIAHUATLAN DE PORFIRIO DIAZ","951"]
[null,null,null,null,null,null,null,null,null,null,null,null,null,null,"02760","09","002","AZCAPOTZALCO",null," - 82904",null,"82904","82904.99999","'03646006","'484250160001.82904",null,null,null,null,null,null,null,null,null,null,null,null,null,null,null,null,null,null,"414030010001.E01036","KW",null,"01407003","MX",null,null,null,null,null,null,null,null,null,"EJUTLA DE CRESPO","951"]
[null,null,null,null,null,null,null,null,null,null,null,null,null,null,"02760","09","002","AZCAPOTZALCO",null," - 82885",null,"82885","82885.99999","'03640153","'484250140001.82885",null,null,null,null,null,null,null,null,null,null,null,null,null,null,null,null,null,null,"414040010001.E01037","KW",null,"01408001","MX",null,null,null,null,null,null,null,null,null,"SAN PEDRO TOTOLAPAN","951"]
[null,null,null,null,null,null,null,null,null,null,null,null,null,null,"02770","09","002","AZCAPOTZALCO",null," - 82880",null,"82880","82880.99999","'03640153","'484250140001.82880",null,null,null,null,null,null,null,null,null,null,null,null,null,null,null,null,null,null,"414050010001.E01038","KW",null,"01409002","MX",null,null,null,null,null,null,null,null,null,"ZIMATLAN DE ALVAREZ","951"]
[null,null,null,null,null,null,null,null,null,null,null,null,null,null,"02770","09","002","AZCAPOTZALCO",null," - 82875",null,"82875","82875.99999","'03640153","'484250140001.82875",null,null,null,null,null,null,null,null,null,null,null,null,null,null,null,null,null,null,"414060010001.E01039","KW",null,"01410006","MX",null,null,null,null,null,null,null,null,null,"SAN PABLO HUITZIO","951"]
[null,null,null,null,null,null,null,null,null,null,null,null,null,null,"02780","09","002","AZCAPOTZALCO",null," - 82860",null,"82860","82860.99999","'03640153","'484250140001.82860",null,null,null,null,null,null,null,null,null,null,null,null,null,null,null,null,null,null,"417010010001.E1430","KG",null,"01411001","MX",null,null,null,null,null,null,null,null,null,"SAN FRANCISCO TELIXTLAHUACA","951"]
[null,null,null,null,null,null,null,null,null,null,null,null,null,null,"02780","09","002","AZCAPOTZALCO",null," - 82839",null,"82839","82839.99999","'03640153","'484250140001.82839",null,null,null,null,null,null,null,null,null,null,null,null,null,null,null,null,null,null,"418010010001.E0545","LA",null,"01412008","MX",null,null,null,null,null,null,null,null,null,"ASUNCION NOCHIXTLAN","951"]
[null,null,null,null,null,null,null,null,null,null,null,null,null,null,"02790","09","002","AZCAPOTZALCO",null," - 82830",null,"82830","82830.99999","'03640153","'484250140001.82830",null,null,null,null,null,null,null,null,null,null,null,null,null,null,null,null,null,null,"418020010001.E01040","LA",null,"01413009","MX",null,null,null,null,null,null,null,null,null,"HUAJUAPAN DE LEON","953"]
[null,null,null,null,null,null,null,null,null,null,null,null,null,null,"02790","09","002","AZCAPOTZALCO",null," - 82808",null,"82808","82808.99999","'03640153","'484250140001.82808",null,null,null,null,null,null,null,null,null,null,null,null,null,null,null,null,null,null,"418030010001.E01041","LA",null,"01414004","MX",null,null,null,null,null,null,null,null,null,"PUTLA VILLA DE GUERRERO","953"]
[null,null,null,null,null,null,null,null,null,null,null,null,null,null,"02800","09","002","AZCAPOTZALCO",null," - 82805",null,"82805","82805.99999","'03640153","'484250140001.82805",null,null,null,null,null,null,null,null,null,null,null,null,null,null,null,null,null,null,"418040010001.E01042","LA",null,"01415002","MX",null,null,null,null,null,null,null,null,null,"TAMAZULAPAN","953"]
[null,null,null,null,null,null,null,null,null,null,null,null,null,null,"02800","09","002","AZCAPOTZALCO",null," - 82802",null,"82802","82802.99999","'03640153","'484250140001.82802",null,null,null,null,null,null,null,null,null,null,null,null,null,null,null,null,null,null,"418050010001.E01043","LA",null,"01416003","MX",null,null,null,null,null,null,null,null,null,"SAN MIGUEL EL GRANDE","953"]
[null,null,null,null,null,null,null,null,null,null,null,null,null,null,"02810","09","002","AZCAPOTZALCO",null," - 82792",null,"82792","82792.99999","'03622059","'484250080001.82792",null,null,null,null,null,null,null,null,null,null,null,null,null,null,null,null,null,null,"418060010001.E01044","LA",null,"01417007","MX",null,null,null,null,null,null,null,null,null,"MARISCALA DE JUAREZ","953"]
[null,null,null,null,null,null,null,null,null,null,null,null,null,null,"02810","09","002","AZCAPOTZALCO",null," - 82780",null,"82780","82780.99999","'03622059","'484250080001.82780",null,null,null,null,null,null,null,null,null,null,null,null,null,null,null,null,null,null,"422010010001.E0550","LB",null,"01418005","MX",null,null,null,null,null,null,null,null,null,"HEROICA CIUDAD DE TLAXIACO","953"]
[null,null,null,null,null,null,null,null,null,null,null,null,null,null,"02810","09","002","AZCAPOTZALCO",null," - 82775",null,"82775","82775.99999","'03622059","'484250080001.82775",null,null,null,null,null,null,null,null,null,null,null,null,null,null,null,null,null,null,"422020010001.E01045","LB",null,"01419006","MX",null,null,null,null,null,null,null,null,null,"SANTIAGO JUXTLAHUACA","953"]
[null,null,null,null,null,null,null,null,null,null,null,null,null,null,"02820","09",null,"AZCAPOTZALCO",null," - 82770",null,"82770","82770.99999","'03622059","'484250080001.82770",null,null,null,null,null,null,null,null,null,null,null,null,null,null,null,null,null,null,"422030010001.E01046","LB",null,"01420007","MX",null,null,null,null,null,null,null,null,null,"SAN SEBASTIAN TECOMAXTLAHUACA","953"]
[null,null,null,null,null,null,null,null,null,null,null,null,null,null,"02830","09","002","AZCAPOTZALCO",null," - 82764",null,"82764","82764.99999","'03622059","'484250080001.82764",null,null,null,null,null,null,null,null,null,null,null,null,null,null,null,null,null,null,"422040010001.E01047","LB",null,"01421002","MX",null,null,null,null,null,null,null,null,null,"ACATLAN DE OSORIO","953"]
[null,null,null,null,null,null,null,null,null,null,null,null,null,null,"02830","09","002","AZCAPOTZALCO",null," - 82757",null,"82757","82757.99999","'03622059","'484250080001.82757",null,null,null,null,null,null,null,null,null,null,null,null,null,null,null,null,null,null,"422050010001.E01048","LB",null,"01422009","MX",null,null,null,null,null,null,null,null,null,"PUERTO ESCONDIDO","954"]
[null,null,null,null,null,null,null,null,null,null,null,null,null,null,"02830","09","002","AZCAPOTZALCO",null," - 82745",null,"82745","82745.99999","'03622059","'484250080001.82745",null,null,null,null,null,null,null,null,null,null,null,null,null,null,null,null,null,null,"422060010001.E01049","LB",null,"01423001","MX",null,null,null,null,null,null,null,null,null,"RIO GRANDE","954"]
[null,null,null,null,null,null,null,null,null,null,null,null,null,null,"02840","09","002","AZCAPOTZALCO",null," - 82730",null,"82730","82730.99999","'03622059","'484250080001.82730",null,null,null,null,null,null,null,null,null,null,null,null,null,null,null,null,null,null,"426010010001.E0695","LS",null,"01423301","MX",null,null,null,null,null,null,null,null,null,"SAN PEDRO MIXTEPEC","954"]
[null,null,null,null,null,null,null,null,null,null,null,null,null,null,"02840","09","002","AZCAPOTZALCO",null," - 82720",null,"82720","82720.99999","'03622059","'484250080001.82720",null,null,null,null,null,null,null,null,null,null,null,null,null,null,null,null,null,null,"426020010001.E01050","LS",null,"01424005","MX",null,null,null,null,null,null,null,null,null,"SANTA CRUZ ITUNDUJIA","954"]
[null,null,null,null,null,null,null,null,null,null,null,null,null,null,"02840","09","002","AZCAPOTZALCO",null," - 82706",null,"82706","82706.99999","'03622059","'484250080001.82706",null,null,null,null,null,null,null,null,null,null,null,null,null,null,null,null,null,null,"426030010001.E01051","LS",null,"01425003","MX",null,null,null,null,null,null,null,null,null,"SAN JUAN BAUTISTA LO DE SOTO","954"]
[null,null,null,null,null,null,null,null,null,null,null,null,null,null,"02850","09","002","AZCAPOTZALCO",null," - 82700",null,"82700","82700.99999","'03622059","'484250080001.82700",null,null,null,null,null,null,null,null,null,null,null,null,null,null,null,null,null,null,"426040010001.E01052","LS",null,"01426004","MX",null,null,null,null,null,null,null,null,null,"SAN JUAN CACAHUATEPEC","954"]
[null,null,null,null,null,null,null,null,null,null,null,null,null,null,"02850","09","002","AZCAPOTZALCO",null," - 82663",null,"82663","82663.99999","'03610006","'484250040001.82663",null,null,null,null,null,null,null,null,null,null,null,null,null,null,null,null,null,null,"426050010001.E01053","LS",null,"01427008","MX",null,null,null,null,null,null,null,null,null,"PINOTEPA NACIONAL","954"]
[null,null,null,null,null,null,null,null,null,null,null,null,null,null,"02860","09","002","AZCAPOTZALCO",null," - 82642",null,"82642","82642.99999","'03610006","'484250040001.82642",null,null,null,null,null,null,null,null,null,null,null,null,null,null,null,null,null,null,"426060010001.E01054","LS",null,"01428006","MX",null,null,null,null,null,null,null,null,null,"SANTIAGO JAMILTEPEC","954"]
[null,null,null,null,null,null,null,null,null,null,null,null,null,null,"02860","09","002","AZCAPOTZALCO",null," - 82637",null,"82637","82637.99999","'00720129","'484250040001.82640",null,null,null,null,null,null,null,null,null,null,null,null,null,null,null,null,null,null,"428010010001.E1440","LV",null,"01429007","MX",null,null,null,null,null,null,null,null,null,"BAHIAS DE HUATULCO","958"]
[null,null,null,null,null,null,null,null,null,null,null,null,null,null,"02870","09","002","AZCAPOTZALCO",null," - 82635",null,"82635","82635.99999","'00720129","'484250040001.82640",null,null,null,null,null,null,null,null,null,null,null,null,null,null,null,null,null,null,"430010010001.E0700","LR",null,"01430005","MX",null,null,null,null,null,null,null,null,null,"SANTA MARIA HUATULCO","958"]
[null,null,null,null,null,null,null,null,null,null,null,null,null,null,"02870","09","002","AZCAPOTZALCO",null," - 82614",null,"82614","82614.99999","'00720129","'484250040001.82604",null,null,null,null,null,null,null,null,null,null,null,null,null,null,null,null,null,null,"430020010001.E01055","LR",null,"01431009","MX",null,null,null,null,null,null,null,null,null,"SAN PEDRO POCHUTLA","958"]
[null,null,null,null,null,null,null,null,null,null,null,null,null,null,"02900","09","002","AZCAPOTZALCO",null," - 82604",null,"82604","82604.99999","'03610006","'484250040001.82604",null,null,null,null,null,null,null,null,null,null,null,null,null,null,null,null,null,null,"430030010001.E01056","LR",null,"01432007","MX",null,null,null,null,null,null,null,null,null,"TUXTLA GUTIERREZ","961"]
[null,null,null,null,null,null,null,null,null,null,null,null,null,null,"02900","09","002","AZCAPOTZALCO",null," - 82563",null,"82563","82563.99999","'03625053","'484250090001.82400",null,null,null,null,null,null,null,null,null,null,null,null,null,null,null,null,null,null,"430040010001.E01057","LR",null,"01433008","MX",null,null,null,null,null,null,null,null,null,"CHIAPA DE CORZO","961"]
[null,null,null,null,null,null,null,null,null,null,null,null,null,null,"02910","09","002","AZCAPOTZALCO",null," - 82550",null,"82550","82550.99999","'03625053","'484250090001.82550",null,null,null,null,null,null,null,null,null,null,null,null,null,null,null,null,null,null,"430050010001.E01058","LR",null,"01434003","MX",null,null,null,null,null,null,null,null,null,"ACALA","961"]
[null,null,null,null,null,null,null,null,null,null,null,null,null,null,"02910","09","002","AZCAPOTZALCO",null," - 82457",null,"82457","82457.99999","'03625053","'484250090001.82457",null,null,null,null,null,null,null,null,null,null,null,null,null,null,null,null,null,null,"430060010001.E01059","LR",null,"01435001","MX",null,null,null,null,null,null,null,null,null,"TAPACHULA","962"]
[null,null,null,null,null,null,null,null,null,null,null,null,null,null,"02920","09","002","AZCAPOTZALCO",null," - 82132",null,"82132","82132.99999","'03634107","'484250120001.82132",null,null,null,null,null,null,null,null,null,null,null,null,null,null,null,null,null,null,"434010010001.E0705","LY",null,"01436002","MX",null,null,null,null,null,null,null,null,null,"CACAHOTAN","962"]
[null,null,null,null,null,null,null,null,null,null,null,null,null,null,"02920","09","002","AZCAPOTZALCO",null," - 81800",null,"81800","81800.99999","'03628056","'484250100001.81800",null,null,null,null,null,null,null,null,null,null,null,null,null,null,null,null,null,null,"434020010001.E01060","LY",null,"01437006","MX",null,null,null,null,null,null,null,null,null,"PUERTO MADERO","962"]
[null,null,null,null,null,null,null,null,null,null,null,null,null,null,"02930","09","002","AZCAPOTZALCO",null," - 81670",null,"81670","81670.99999","'03604059","'484250020001.81670",null,null,null,null,null,null,null,null,null,null,null,null,null,null,null,null,null,null,"434030010001.E01061","LY",null,"01438004","MX",null,null,null,null,null,null,null,null,null,"MOTOZINTLA","962"]
[null,null,null,null,null,null,null,null,null,null,null,null,null,null,"02930","09","002","AZCAPOTZALCO",null," - 81544",null,"81544","81544.99999","'03643006","'484250150001.81520",null,null,null,null,null,null,null,null,null,null,null,null,null,null,null,null,null,null,"434040010001.E01062","LY",null,"01439005","MX",null,null,null,null,null,null,null,null,null,"CIUDAD HIDALGO","962"]
[null,null,null,null,null,null,null,null,null,null,null,null,null,null,"02940","09","002","AZCAPOTZALCO",null," - 81361",null,"81361","81361.99999","'03601056","'484250010001.81361",null,null,null,null,null,null,null,null,null,null,null,null,null,null,null,null,null,null,"434050010001.E01063","LY",null,"01440009","MX",null,null,null,null,null,null,null,null,null,"COMITAN DE DOMINGUEZ","963"]
[null,null,null,null,null,null,null,null,null,null,null,null,null,null,"02940","09","002","AZCAPOTZALCO",null," - 81197",null,"81197","81197.99999","'03631059","'484250110001.81197",null,null,null,null,null,null,null,null,null,null,null,null,null,null,null,null,null,null,"434060010001.E01064","LY",null,"01441004","MX",null,null,null,null,null,null,null,null,null,"LAS MARGARITAS","963"]
[null,null,null,null,null,null,null,null,null,null,null,null,null,null,"02950","09","002","AZCAPOTZALCO",null," - 81186",null,"81186","81186.99999","'03631059","'484250110001.81186",null,null,null,null,null,null,null,null,null,null,null,null,null,null,null,null,null,null,"434070010001.E01065","LY",null,"01442002","MX",null,null,null,null,null,null,null,null,null,"CIUDAD CUAUHTEMOC","963"]
[null,null,null,null,null,null,null,null,null,null,null,null,null,null,"02950","09","002","AZCAPOTZALCO",null," - 81182",null,"81182","81182.99999","'03631059","'484250110001.81182",null,null,null,null,null,null,null,null,null,null,null,null,null,null,null,null,null,null,"434080010001.E01066","LY",null,"01443003","MX",null,null,null,null,null,null,null,null,null,"HUIXTLA","964"]
[null,null,null,null,null,null,null,null,null,null,null,null,null,null,"02960","09","002","AZCAPOTZALCO",null," - 81180",null,"81180","81180.99999","'03631059","'484250110001.81180",null,null,null,null,null,null,null,null,null,null,null,null,null,null,null,null,null,null,"435010010001.E0845","UA",null,"01444007","MX",null,null,null,null,null,null,null,null,null,"VILLAFLORES","965"]
[null,null,null,null,null,null,null,null,null,null,null,null,null,null,"02960","09","002","AZCAPOTZALCO",null," - 81177",null,"81177","81177.99999","'03631059","'484250110001.81177",null,null,null,null,null,null,null,null,null,null,null,null,null,null,null,null,null,null,"438010010001.E0430","LI",null,"01445005","MX",null,null,null,null,null,null,null,null,null,"VILLA HIDALGO","965"]
[null,null,null,null,null,null,null,null,null,null,null,null,null,null,"02970","09","002","AZCAPOTZALCO",null," - 80953",null,"80953","80953.99999","'03637156","'484250130001.80800",null,null,null,null,null,null,null,null,null,null,null,null,null,null,null,null,null,null,"438020010001.E01067","VU",null,"01446006","MX",null,null,null,null,null,null,null,null,null,"VILLA HIDALGO","965"]
[null,null,null,null,null,null,null,null,null,null,null,null,null,null,"02970","09","002","AZCAPOTZALCO",null," - 80940",null,"80940","80940.99999","'03637156","'484250130001.80940",null,null,null,null,null,null,null,null,null,null,null,null,null,null,null,null,null,null,"438030010001.E01068","VU",null,"01447001","MX",null,null,null,null,null,null,null,null,null,"VILLA HIDALGO","965"]
[null,null,null,null,null,null,null,null,null,null,null,null,null,null,"02980","09","002","AZCAPOTZALCO",null," - 80935",null,"80935","80935.99999","'03637156","'484250130001.80800",null,null,null,null,null,null,null,null,null,null,null,null,null,null,null,null,null,null,"438040010001.E01069","VU",null,"01448008","MX",null,null,null,null,null,null,null,null,null,"ARRIAGA","966"]
[null,null,null,null,null,null,null,null,null,null,null,null,null,null,"02980","09","002","AZCAPOTZALCO",null," - 80928",null,"80928","80928.99999","'03637156","'484250130001.80928",null,null,null,null,null,null,null,null,null,null,null,null,null,null,null,null,null,null,"438050010001.E01070","VU",null,"01449009","MX",null,null,null,null,null,null,null,null,null,"TONALA","966"]
[null,null,null,null,null,null,null,null,null,null,null,null,null,null,"02980","09","002","AZCAPOTZALCO",null," - 80926",null,"80926","80926.99999","'03637156","'484250130001.80926",null,null,null,null,null,null,null,null,null,null,null,null,null,null,null,null,null,null,"438060010001.E01071","VU",null,"01450001","MX",null,null,null,null,null,null,null,null,null,"SAN CRISTOBAL DE LAS CASAS","967"]
[null,null,null,null,null,null,null,null,null,null,null,null,null,null,"02990","09","002","AZCAPOTZALCO",null," - 80923",null,"80923","80923.99999","'03637156","'484250130001.80923",null,null,null,null,null,null,null,null,null,null,null,null,null,null,null,null,null,null,"440010010001.E1190","LT",null,"01451005","MX",null,null,null,null,null,null,null,null,null,"JIQUIPILAS","968"]
[null,null,null,null,null,null,null,null,null,null,null,null,null,null,"02990","09","002","AZCAPOTZALCO",null," - 80896",null,"80896","80896.99999","'03637156","'484250130001.80896",null,null,null,null,null,null,null,null,null,null,null,null,null,null,null,null,null,null,"44020010001.E00546","VU",null,"01451208","MX",null,null,null,null,null,null,null,null,null,"OCOZOCUAUTLA DE ESPINOZA","968"]
[null,null,null,null,null,null,null,null,null,null,null,null,null,null,"03000","09","014","BENITO JUAREZ",null," - 80894",null,"80894","80894.99999","'03637156","'484250130001.80894",null,null,null,null,null,null,null,null,null,null,null,null,null,null,null,null,null,null,"44030010001.E00547","VU",null,"01452003","MX",null,null,null,null,null,null,null,null,null,"CINTALAPA DE FIGUEROA","968"]
[null,null,null,null,null,null,null,null,null,null,null,null,null,null,"03000","09","014","BENITO JUAREZ",null," - 80888",null,"80888","80888.99999","'03637156","'484250130001.80888",null,null,null,null,null,null,null,null,null,null,null,null,null,null,null,null,null,null,"44040010001.E00548","VU",null,"01453004","MX",null,null,null,null,null,null,null,null,null,"PROGRESO","969"]
[null,null,null,null,null,null,null,null,null,null,null,null,null,null,"03010","09","014","BENITO JUAREZ",null," - 80880",null,"80880","80880.99999","'03637156","'484250130001.80880",null,null,null,null,null,null,null,null,null,null,null,null,null,null,null,null,null,null,"44050010001.E00549","VU",null,"01454008","MX",null,null,null,null,null,null,null,null,null,"JUCHITAN (JUCHITAN DE ZARAGOZA)","971"]
[null,null,null,null,null,null,null,null,null,null,null,null,null,null,"03010","09","014","BENITO JUAREZ",null," - 80873",null,"80873","80873.99999","'03637156","'484250130001.80873",null,null,null,null,null,null,null,null,null,null,null,null,null,null,null,null,null,null,"44060010001.E00550","VU",null,"01455006","MX",null,null,null,null,null,null,null,null,null,"SALINA CRUZ","971"]
[null,null,null,null,null,null,null,null,null,null,null,null,null,null,"03020","09","014","BENITO JUAREZ",null," - 80855",null,"80855","80855.99999","'03637156","'484250130001.80855",null,null,null,null,null,null,null,null,null,null,null,null,null,null,null,null,null,null,"442010010001.E01072","VU",null,"01456007","MX",null,null,null,null,null,null,null,null,null,"UNION HIDALGO","971"]
[null,null,null,null,null,null,null,null,null,null,null,null,null,null,"03020","09","014","BENITO JUAREZ",null," - 80853",null,"80853","80853.99999","'03637156","'484250130001.80853",null,null,null,null,null,null,null,null,null,null,null,null,null,null,null,null,null,null,"442020010001.E0225","LU",null,"01457002","MX",null,null,null,null,null,null,null,null,null,"CIUDAD IXTEPEC","971"]
[null,null,null,null,null,null,null,null,null,null,null,null,null,null,"03020","09","014","BENITO JUAREZ",null," - 80840",null,"80840","80840.99999","'03637156","'484250130001.80840",null,null,null,null,null,null,null,null,null,null,null,null,null,null,null,null,null,null,"442030010001.E01073","VU",null,"01458009","MX",null,null,null,null,null,null,null,null,null,"VILLA SAN BLAS ATEMPA","971"]
[null,null,null,null,null,null,null,null,null,null,null,null,null,null,"03023","09","014","BENITO JUAREZ",null," - 80833",null,"80833","80833.99999","'03637156","'484250130001.80833",null,null,null,null,null,null,null,null,null,null,null,null,null,null,null,null,null,null,"442040010001.E01074","VU",null,"01459001","MX",null,null,null,null,null,null,null,null,null,"SANTO DOMINGO TEHUANTEPEC","971"]
[null,null,null,null,null,null,null,null,null,null,null,null,null,null,"03023","09","014","BENITO JUAREZ",null," - 80808",null,"80808","80808.99999","'03637156","'484250130001.80808",null,null,null,null,null,null,null,null,null,null,null,null,null,null,null,null,null,null,"442050010001.E01075","VU",null,"01460008","MX",null,null,null,null,null,null,null,null,null,"MATIAS ROMERO","972"]
[null,null,null,null,null,null,null,null,null,null,null,null,null,null,"03023","09","014","BENITO JUAREZ",null," - 80805",null,"80805","80805.99999","'03637156","'484250130001.80805",null,null,null,null,null,null,null,null,null,null,null,null,null,null,null,null,null,null,"442060010001.E01076","VU",null,"01461003","MX",null,null,null,null,null,null,null,null,null,"LAGUNAS ESTACION","972"]
[null,null,null,null,null,null,null,null,null,null,null,null,null,null,"03027","09","014","BENITO JUAREZ",null," - 80800",null,"80800","80800.99999","'03637156","'484250130001.80800",null,null,null,null,null,null,null,null,null,null,null,null,null,null,null,null,null,null,"446010010001.E1445","MO",null,"01461103","MX",null,null,null,null,null,null,null,null,null,"CAMPECHE","981"]
[null,null,null,null,null,null,null,null,null,null,null,null,null,null,"03027","09","014","BENITO JUAREZ",null," - 80795",null,"80795","80795.99999","'03613006","'484250050001.80700",null,null,null,null,null,null,null,null,null,null,null,null,null,null,null,null,null,null,"447010010001.E0850","KZ",null,"01461259","MX",null,null,null,null,null,null,null,null,null,"MELCHOR OCAMPO","981"]
[null,null,null,null,null,null,null,null,null,null,null,null,null,null,"03028","09","014","BENITO JUAREZ",null," - 80784",null,"80784","80784.99999","'03613006","'484250050001.80784",null,null,null,null,null,null,null,null,null,null,null,null,null,null,null,null,null,null,"450010010001.E0710","MG",null,"01462001","MX",null,null,null,null,null,null,null,null,null,"CANDELARIA","982"]
[null,null,null,null,null,null,null,null,null,null,null,null,null,null,"03028","09","014","BENITO JUAREZ",null," - 80780",null,"80780","80780.99999","'03613006","'484250050001.80780",null,null,null,null,null,null,null,null,null,null,null,null,null,null,null,null,null,null,"450020010001.E01077","MG",null,"01463002","MX",null,null,null,null,null,null,null,null,null,"ESCARCEGA","982"]
[null,null,null,null,null,null,null,null,null,null,null,null,null,null,"03100","09","014","BENITO JUAREZ",null," - 80758",null,"80758","80758.99999","'03613006","'484250050001.80758",null,null,null,null,null,null,null,null,null,null,null,null,null,null,null,null,null,null,"450030010001.E01078","MG",null,"01464006","MX",null,null,null,null,null,null,null,null,null,"SABANCUY","982"]
[null,null,null,null,null,null,null,null,null,null,null,null,null,null,"03100","09","014","BENITO JUAREZ",null," - 80740",null,"80740","80740.99999","'03613006","'484250050001.80700",null,null,null,null,null,null,null,null,null,null,null,null,null,null,null,null,null,null,"450040010001.E01079","MG",null,"01465004","MX",null,null,null,null,null,null,null,null,null,"CHAMPOTON","982"]
[null,null,null,null,null,null,null,null,null,null,null,null,null,null,"03100","09","014","BENITO JUAREZ",null," - 80733",null,"80733","80733.99999","'03613006","'484250050001.80733",null,null,null,null,null,null,null,null,null,null,null,null,null,null,null,null,null,null,"450050010001.E01080","MG",null,"01466005","MX",null,null,null,null,null,null,null,null,null,"FELIPE CARRILLO PUERTO","982"]
[null,null,null,null,null,null,null,null,null,null,null,null,null,null,"03103","09","014","BENITO JUAREZ",null," - 80725",null,"80725","80725.99999","'03613006","'484250050001.80700",null,null,null,null,null,null,null,null,null,null,null,null,null,null,null,null,null,null,"454010010001.E0715","MW",null,"01467009","MX",null,null,null,null,null,null,null,null,null,"CHETUMAL (CIUDAD CHETUMAL)","983"]
[null,null,null,null,null,null,null,null,null,null,null,null,null,null,"03103","09","014","BENITO JUAREZ",null," - 80720",null,"80720","80720.99999","'03613006","'484250050001.80720",null,null,null,null,null,null,null,null,null,null,null,null,null,null,null,null,null,null,"454020010001.E01081","MW",null,"01468007","MX",null,null,null,null,null,null,null,null,null,"PLAYA DEL CARMEN","984"]
[null,null,null,null,null,null,null,null,null,null,null,null,null,null,"03104","09","014","BENITO JUAREZ",null," - 80704",null,"80704","80704.99999","'03613006","'484250050001.80704",null,null,null,null,null,null,null,null,null,null,null,null,null,null,null,null,null,null,"454030010001.E01082","MW",null,"01469008","MX",null,null,null,null,null,null,null,null,null,"KANTUNILKIN","984"]
[null,null,null,null,null,null,null,null,null,null,null,null,null,null,"03104","09","014","BENITO JUAREZ",null," - 80687",null,"80687","80687.99999","'03607009","'484250030001.80500",null,null,null,null,null,null,null,null,null,null,null,null,null,null,null,null,null,null,"454040010001.E01083","MW",null,"01470003","MX",null,null,null,null,null,null,null,null,null,"VALLADOLID CENTRO","985"]
[null,null,null,null,null,null,null,null,null,null,null,null,null,null,"03109","09","014","BENITO JUAREZ",null," - 80685",null,"80685","80685.99999","'03607009","'484250030001.80500",null,null,null,null,null,null,null,null,null,null,null,null,null,null,null,null,null,null,"454050010001.E01084","MW",null,"01471007","MX",null,null,null,null,null,null,null,null,null,"TIZIMIN","986"]
[null,null,null,null,null,null,null,null,null,null,null,null,null,null,"03109","09","014","BENITO JUAREZ",null," - 80683",null,"80683","80683.99999","'03607009","'484250030001.80683",null,null,null,null,null,null,null,null,null,null,null,null,null,null,null,null,null,null,"454060010001.E01085","MW",null,"01472005","MX",null,null,null,null,null,null,null,null,null,"COZUMEL","987"]
[null,null,null,null,null,null,null,null,null,null,null,null,null,null,"03199","09","014","BENITO JUAREZ",null," - 80679",null,"80679","80679.99999","'03607009","'484250030001.80679",null,null,null,null,null,null,null,null,null,null,null,null,null,null,null,null,null,null,"454070010001.E01086","MW",null,"01473006","MX",null,null,null,null,null,null,null,null,null,"CELESTUN","988"]
[null,null,null,null,null,null,null,null,null,null,null,null,null,null,"03199","09","014","BENITO JUAREZ",null," - 80674",null,"80674","80674.99999","'03607009","'484250030001.80500",null,null,null,null,null,null,null,null,null,null,null,null,null,null,null,null,null,null,"458010010001.E0305","MY",null,"01474001","MX",null,null,null,null,null,null,null,null,null,"MOTUL","991"]
[null,null,null,null,null,null,null,null,null,null,null,null,null,null,"03200","09","014","BENITO JUAREZ",null," - 80646",null,"80646","80646.99999","'03607009","'484250030001.80646",null,null,null,null,null,null,null,null,null,null,null,null,null,null,null,null,null,null,"458020010001.E01087","VU",null,"01475008","MX",null,null,null,null,null,null,null,null,null,"VENUSTIANO CARRANZA","992"]
[null,null,null,null,null,null,null,null,null,null,null,null,null,null,"03200","09","014","BENITO JUAREZ",null," - 80643",null,"80643","80643.99999","'03607009","'484250030001.80500",null,null,null,null,null,null,null,null,null,null,null,null,null,null,null,null,null,null,"458030010001.E01088","VU",null,"01476009","MX",null,null,null,null,null,null,null,null,null,"LAS ROSAS","992"]
[null,null,null,null,null,null,null,null,null,null,null,null,null,null,"03219","09","014","BENITO JUAREZ",null," - 80635",null,"80635","80635.99999","'03607009","'484250030001.80500",null,null,null,null,null,null,null,null,null,null,null,null,null,null,null,null,null,null,"458040010001.E01089","VU",null,"01476109","MX",null,null,null,null,null,null,null,null,null,"VILLAHERMOSA","993"]
[null,null,null,null,null,null,null,null,null,null,null,null,null,null,"03219","09","014","BENITO JUAREZ",null," - 80630",null,"80630","80630.99999","'03607009","'484250030001.80500",null,null,null,null,null,null,null,null,null,null,null,null,null,null,null,null,null,null,"458050010001.E01090","VU",null,"01476256","MX",null,null,null,null,null,null,null,null,null,"CHAHUITES","994"]
[null,null,null,null,null,null,null,null,null,null,null,null,null,null,"03220","09","014","BENITO JUAREZ",null," - 80623",null,"80623","80623.99999","'03607009","'484250030001.80500",null,null,null,null,null,null,null,null,null,null,null,null,null,null,null,null,null,null,"458060010001.E01091","VU",null,"01477004","MX",null,null,null,null,null,null,null,null,null,"SAN PEDRO TAPANATEPEC","994"]
[null,null,null,null,null,null,null,null,null,null,null,null,null,null,"03220","09","014","BENITO JUAREZ",null," - 80614",null,"80614","80614.99999","'03607009","'484250030001.80500",null,null,null,null,null,null,null,null,null,null,null,null,null,null,null,null,null,null,"458070010001.E01092","VU",null,"01478002","MX",null,null,null,null,null,null,null,null,null,"SAN FRANCISCO IXHUATAN","994"]
[null,null,null,null,null,null,null,null,null,null,null,null,null,null,"03229","09","014","BENITO JUAREZ",null," - 80607",null,"80607","80607.99999","'03607009","'484250030001.80500",null,null,null,null,null,null,null,null,null,null,null,null,null,null,null,null,null,null,"462010010001.E1450","MV",null,"01479003","MX",null,null,null,null,null,null,null,null,null,"NEJAPA DE MADERO","995"]
[null,null,null,null,null,null,null,null,null,null,null,null,null,null,"03229","09","014","BENITO JUAREZ",null," - 80604",null,"80604","80604.99999","'03607009","'484250030001.80604",null,null,null,null,null,null,null,null,null,null,null,null,null,null,null,null,null,null,"466010010001.E0720","ML",null,"01480004","MX",null,null,null,null,null,null,null,null,null,"EL CAMARON","995"]
[null,null,null,null,null,null,null,null,null,null,null,null,null,null,"03230","09","014","BENITO JUAREZ",null," - 80585",null,"80585","80585.99999","'03607009","'484250030001.80585",null,null,null,null,null,null,null,null,null,null,null,null,null,null,null,null,null,null,"466020010001.E01093","ML",null,"01481008","MX",null,null,null,null,null,null,null,null,null,"CALKINI","996"]
[null,null,null,null,null,null,null,null,null,null,null,null,null,null,"03230","09","014","BENITO JUAREZ",null," - 80583",null,"80583","80583.99999","'03607009","'484250030001.80583",null,null,null,null,null,null,null,null,null,null,null,null,null,null,null,null,null,null,"466030010001.E01094","ML",null,"01482006","MX",null,null,null,null,null,null,null,null,null,"HOPELCHEN","996"]
[null,null,null,null,null,null,null,null,null,null,null,null,null,null,"03240","09","014","BENITO JUAREZ",null," - 80577",null,"80577","80577.99999","'03607009","'484250030001.80500",null,null,null,null,null,null,null,null,null,null,null,null,null,null,null,null,null,null,"466040010001.E01095","ML",null,"01483007","MX",null,null,null,null,null,null,null,null,null,"HECELCHAKAN","996"]
[null,null,null,null,null,null,null,null,null,null,null,null,null,null,"03240","09","014","BENITO JUAREZ",null," - 80575",null,"80575","80575.99999","'03607009","'484250030001.80500",null,null,null,null,null,null,null,null,null,null,null,null,null,null,null,null,null,null,"466050010001.E01096","ML",null,"01484002","MX",null,null,null,null,null,null,null,null,null,"POMUCH","996"]
[null,null,null,null,null,null,null,null,null,null,null,null,null,null,"03300","09","014","BENITO JUAREZ",null," - 80565",null,"80565","80565.99999","'03607009","'484250030001.80565",null,null,null,null,null,null,null,null,null,null,null,null,null,null,null,null,null,null,"466060010001.E01097","ML",null,"01501007","MX",null,null,null,null,null,null,null,null,null,"TICUL","997"]
[null,null,null,null,null,null,null,null,null,null,null,null,null,null,"03300","09","014","BENITO JUAREZ",null," - 80563",null,"80563","80563.99999","'03607009","'484250030001.80500",null,null,null,null,null,null,null,null,null,null,null,null,null,null,null,null,null,null,"470010010001.E1455","MT",null,"01502002","MX",null,null,null,null,null,null,null,null,null,"CANCUN","998"]
[null,null,null,null,null,null,null,null,null,null,null,null,null,null,"03303","09","014","BENITO JUAREZ",null," - 80556",null,"80556","80556.99999","'03607009","'484250030001.80556",null,null,null,null,null,null,null,null,null,null,null,null,null,null,null,null,null,null,"474010010001.E1460","MQ",null,"01503009","MX",null,null,null,null,null,null,null,null,null,"ISLA MUJERES","998"]
[null,null,null,null,null,null,null,null,null,null,null,null,null,null,"03303","09","014","BENITO JUAREZ",null," - 80545",null,"80545","80545.99999","'03607009","'484250030001.80545",null,null,null,null,null,null,null,null,null,null,null,null,null,null,null,null,null,null,"478010010001.E0725","MR",null,"01504001","MX",null,null,null,null,null,null,null,null,null,"MERIDA","999"]
[null,null,null,null,null,null,null,null,null,null,null,null,null,null,"03310","09","014","BENITO JUAREZ",null," - 80537",null,"80537","80537.99999","'03607009","'484250030001.80537",null,null,null,null,null,null,null,null,null,null,null,null,null,null,null,null,null,null,"478020010001.E01098","MR",null,"01505005","MX"]
[null,null,null,null,null,null,null,null,null,null,null,null,null,null,"03310","09","014","BENITO JUAREZ",null," - 80535",null,"80535","80535.99999","'03607009","'484250030001.80535",null,null,null,null,null,null,null,null,null,null,null,null,null,null,null,null,null,null,"478030010001.E01099","MR",null,"01506003","MX"]
[null,null,null,null,null,null,null,null,null,null,null,null,null,null,"03313","09","014","BENITO JUAREZ",null," - 80533",null,"80533","80533.99999","'03607009","'484250030001.80533",null,null,null,null,null,null,null,null,null,null,null,null,null,null,null,null,null,null,"478040010001.E01100","MR",null,"01507004","MX"]
[null,null,null,null,null,null,null,null,null,null,null,null,null,null,"03313","09","014","BENITO JUAREZ",null," - 80527",null,"80527","80527.99999","'03607009","'484250030001.80527",null,null,null,null,null,null,null,null,null,null,null,null,null,null,null,null,null,null,"478050010001.E01101","MR",null,"01508008","MX"]
[null,null,null,null,null,null,null,null,null,null,null,null,null,null,"03319","09","014","BENITO JUAREZ",null," - 80524",null,"80524","80524.99999","'03607009","'484250030001.80500",null,null,null,null,null,null,null,null,null,null,null,null,null,null,null,null,null,null,"478060010001.E01102","MR",null,"01508692","MX"]
[null,null,null,null,null,null,null,null,null,null,null,null,null,null,"03319","09","014","BENITO JUAREZ",null," - 80505",null,"80505","80505.99999","'03607009","'484250030001.80500",null,null,null,null,null,null,null,null,null,null,null,null,null,null,null,null,null,null,"480010010001.E0730","MU",null,"01509006","MX"]
[null,null,null,null,null,null,null,null,null,null,null,null,null,null,"03320","09","014","BENITO JUAREZ",null," - 80503",null,"80503","80503.99999","'03607009","'484250030001.80500",null,null,null,null,null,null,null,null,null,null,null,null,null,null,null,null,null,null,"480020010001.E01103","MU",null,"01510004","MX"]
[null,null,null,null,null,null,null,null,null,null,null,null,null,null,"03320","09","014","BENITO JUAREZ",null," - 80484",null,"80484","80484.99999","'03616176","'484250060001.80484",null,null,null,null,null,null,null,null,null,null,null,null,null,null,null,null,null,null,"480030010001.E01104","MU",null,"01511005","MX"]
[null,null,null,null,null,null,null,null,null,null,null,null,null,null,"03330","09","014","BENITO JUAREZ",null," - 80464",null,"80464","80464.99999","'03616176","'484250060001.80464",null,null,null,null,null,null,null,null,null,null,null,null,null,null,null,null,null,null,"480040010001.E01105","MU",null,"01512009","MX"]
[null,null,null,null,null,null,null,null,null,null,null,null,null,null,"03330","09","014","BENITO JUAREZ",null," - 80460",null,"80460","80460.99999","'03616176","'484250060001.80460",null,null,null,null,null,null,null,null,null,null,null,null,null,null,null,null,null,null,"480050010001.E01106","MU",null,"01513007","MX"]
[null,null,null,null,null,null,null,null,null,null,null,null,null,null,"03339","09","014","BENITO JUAREZ",null," - 80451",null,"80451","80451.99999","'03616176","'484250060001.80451",null,null,null,null,null,null,null,null,null,null,null,null,null,null,null,null,null,null,"480060010001.E01107","MU",null,"01514008","MX"]
[null,null,null,null,null,null,null,null,null,null,null,null,null,null,"03339","09","014","BENITO JUAREZ",null," - 80444",null,"80444","80444.99999","'03616176","'484250060001.80444",null,null,null,null,null,null,null,null,null,null,null,null,null,null,null,null,null,null,"48020010001.E00551","BH",null,"01515003","MX"]
[null,null,null,null,null,null,null,null,null,null,null,null,null,null,"03340","09","014","BENITO JUAREZ",null," - 80439",null,"80439","80439.99999","'03616176","'484250060001.80439",null,null,null,null,null,null,null,null,null,null,null,null,null,null,null,null,null,null,"48030010001.E00552","BH",null,"01516001","MX"]
[null,null,null,null,null,null,null,null,null,null,null,null,null,null,"03340","09","014","BENITO JUAREZ",null," - 80434",null,"80434","80434.99999","'03616176","'484250060001.80434",null,null,null,null,null,null,null,null,null,null,null,null,null,null,null,null,null,null,"48040010001.E00553","BH",null,"01517002","MX"]
[null,null,null,null,null,null,null,null,null,null,null,null,null,null,"03400","09","014","BENITO JUAREZ",null," - 80396",null,"80396","80396.99999","'03616176","'484250060001.80396",null,null,null,null,null,null,null,null,null,null,null,null,null,null,null,null,null,null,"48050010001.E00554","BH",null,"01518006","MX"]
[null,null,null,null,null,null,null,null,null,null,null,null,null,null,"03400","09","014","BENITO JUAREZ",null," - 80393",null,"80393","80393.99999","'03616176","'484250060001.80393",null,null,null,null,null,null,null,null,null,null,null,null,null,null,null,null,null,null,"48060010001.E00555","BH",null,"01519004","MX"]
[null,null,null,null,null,null,null,null,null,null,null,null,null,null,"03410","09","014","BENITO JUAREZ",null," - 80390",null,"80390","80390.99999","'03616176","'484250060001.80390",null,null,null,null,null,null,null,null,null,null,null,null,null,null,null,null,null,null,"484010010001.20000","MX",null,"01520008","MX"]
[null,null,null,null,null,null,null,null,null,null,null,null,null,null,"03410","09","014","BENITO JUAREZ",null," - 80384",null,"80384","80384.99999","'03616176","'484250060001.80384",null,null,null,null,null,null,null,null,null,null,null,null,null,null,null,null,null,null,"484010010001.20008","MX",null,"01520109","MX"]
[null,null,null,null,null,null,null,null,null,null,null,null,null,null,"03420","09","014","BENITO JUAREZ",null," - 80372",null,"80372","80372.99999","'03616209","'484250180001.80372",null,null,null,null,null,null,null,null,null,null,null,null,null,null,null,null,null,null,"484010010001.20009","MX",null,"01521009","MX"]
[null,null,null,null,null,null,null,null,null,null,null,null,null,null,"03420","09","014","BENITO JUAREZ",null," - 80370",null,"80370","80370.99999","'03616209","'484250180001.80370",null,null,null,null,null,null,null,null,null,null,null,null,null,null,null,null,null,null,"484010010001.20010","MX",null,"01522004","MX"]
[null,null,null,null,null,null,null,null,null,null,null,null,null,null,"03430","09","014","BENITO JUAREZ",null," - 80345",null,"80345","80345.99999","'03616209","'484250180001.80345",null,null,null,null,null,null,null,null,null,null,null,null,null,null,null,null,null,null,"484010010001.20016","MX",null,"01522053","MX"]
[null,null,null,null,null,null,null,null,null,null,null,null,null,null,"03430","09","014","BENITO JUAREZ",null," - 80336",null,"80336","80336.99999","'03616209","'484250180001.80336",null,null,null,null,null,null,null,null,null,null,null,null,null,null,null,null,null,null,"484010010001.20018","MX",null,"01522103","MX"]
[null,null,null,null,null,null,null,null,null,null,null,null,null,null,"03440","09","014","BENITO JUAREZ",null," - 80332",null,"80332","80332.99999","'03616209","'484250180001.80332",null,null,null,null,null,null,null,null,null,null,null,null,null,null,null,null,null,null,"484010010001.20020","MX",null,"01522406","MX"]
[null,null,null,null,null,null,null,null,null,null,null,null,null,null,"03440","09","014","BENITO JUAREZ",null," - 80323",null,"80323","80323.99999","'03616209","'484250180001.80323",null,null,null,null,null,null,null,null,null,null,null,null,null,null,null,null,null,null,"484010010001.20029","MX",null,"01523002","MX"]
[null,null,null,null,null,null,null,null,null,null,null,null,null,null,"03500","09","014","BENITO JUAREZ",null," - 80320",null,"80320","80320.99999","'03616209","'484250180001.80320",null,null,null,null,null,null,null,null,null,null,null,null,null,null,null,null,null,null,"484010010001.20030","MX",null,"01524003","MX"]
[null,null,null,null,null,null,null,null,null,null,null,null,null,null,"03500","09","014","BENITO JUAREZ",null," - 80315",null,"80315","80315.99999","'03616176","'484250060001.80315",null,null,null,null,null,null,null,null,null,null,null,null,null,null,null,null,null,null,"484010010001.20040","MX",null,"01525007","MX"]
[null,null,null,null,null,null,null,null,null,null,null,null,null,null,"03510","09","014","BENITO JUAREZ",null," - 80313",null,"80313","80313.99999","'03616176","'484250060001.80313",null,null,null,null,null,null,null,null,null,null,null,null,null,null,null,null,null,null,"484010010001.20049","MX",null,"01526005","MX"]
[null,null,null,null,null,null,null,null,null,null,null,null,null,null,"03510","09","014","BENITO JUAREZ",null," - 80306",null,"80306","80306.99999","'03616176","'484250060001.80306",null,null,null,null,null,null,null,null,null,null,null,null,null,null,null,null,null,null,"484010010001.20050","MX",null,"01527006","MX"]
[null,null,null,null,null,null,null,null,null,null,null,null,null,null,"03520","09","014","BENITO JUAREZ",null," - 80303",null,"80303","80303.99999","'03616176","'484250060001.80303",null,null,null,null,null,null,null,null,null,null,null,null,null,null,null,null,null,null,"484010010001.20059","MX",null,"01528001","MX"]
[null,null,null,null,null,null,null,null,null,null,null,null,null,null,"03520","09","014","BENITO JUAREZ",null," - 80300",null,"80300","80300.99999","'03616176","'484250060001.80300",null,null,null,null,null,null,null,null,null,null,null,null,null,null,null,null,null,null,"484010010001.20060","MX",null,"01529008","MX"]
[null,null,null,null,null,null,null,null,null,null,null,null,null,null,"03530","09","014","BENITO JUAREZ",null," - 80298",null,"80298","80298.99999","'03616176","'484250060001.80298",null,null,null,null,null,null,null,null,null,null,null,null,null,null,null,null,null,null,"484010010001.20064","MX",null,"01530009","MX"]
[null,null,null,null,null,null,null,null,null,null,null,null,null,null,"03530","09","014","BENITO JUAREZ",null," - 80279",null,"80279","80279.99999","'03616176","'484250060001.80279",null,null,null,null,null,null,null,null,null,null,null,null,null,null,null,null,null,null,"484010010001.20070","MX",null,"01530054","MX"]
[null,null,null,null,null,null,null,null,null,null,null,null,null,null,"03540","09","014","BENITO JUAREZ",null," - 80249",null,"80249","80249.99999","'03616176","'484250060001.80249",null,null,null,null,null,null,null,null,null,null,null,null,null,null,null,null,null,null,"484010010001.20078","MX",null,"01530156","MX"]
[null,null,null,null,null,null,null,null,null,null,null,null,null,null,"03540","09","014","BENITO JUAREZ",null," - 80246",null,"80246","80246.99999","'03616176","'484250060001.80246",null,null,null,null,null,null,null,null,null,null,null,null,null,null,null,null,null,null,"484010010001.20080","MX",null,"01531001","MX"]
[null,null,null,null,null,null,null,null,null,null,null,null,null,null,"03550","09","014","BENITO JUAREZ",null," - 80230",null,"80230","80230.99999","'03616176","'484250060001.80230",null,null,null,null,null,null,null,null,null,null,null,null,null,null,null,null,null,null,"484010010001.20089","MX",null,"01532005","MX"]
[null,null,null,null,null,null,null,null,null,null,null,null,null,null,"03550","09","014","BENITO JUAREZ",null," - 80227",null,"80227","80227.99999","'03616176","'484250060001.80227",null,null,null,null,null,null,null,null,null,null,null,null,null,null,null,null,null,null,"484010010001.20100","MX",null,"01533003","MX"]
[null,null,null,null,null,null,null,null,null,null,null,null,null,null,"03560","09","014","BENITO JUAREZ",null," - 80225",null,"80225","80225.99999","'03616176","'484250060001.80225",null,null,null,null,null,null,null,null,null,null,null,null,null,null,null,null,null,null,"484010010001.20110","MX",null,"01534004","MX"]
[null,null,null,null,null,null,null,null,null,null,null,null,null,null,"03560","09","014","BENITO JUAREZ",null," - 80200",null,"80200","80200.99999","'03616176","'484250060001.80200",null,null,null,null,null,null,null,null,null,null,null,null,null,null,null,null,null,null,"484010010001.20115","MX",null,"01535008","MX"]
[null,null,null,null,null,null,null,null,null,null,null,null,null,null,"03570","09","014","BENITO JUAREZ",null," - 80199",null,"80199","80199.99999","'03616176","'484250060001.80199",null,null,null,null,null,null,null,null,null,null,null,null,null,null,null,null,null,null,"484010010001.20116","MX",null,"01536006","MX"]
[null,null,null,null,null,null,null,null,null,null,null,null,null,null,"03570","09","014","BENITO JUAREZ",null," - 80194",null,"80194","80194.99999","'03616176","'484250060001.80194",null,null,null,null,null,null,null,null,null,null,null,null,null,null,null,null,null,null,"484010010001.20117","MX",null,"01537007","MX"]
[null,null,null,null,null,null,null,null,null,null,null,null,null,null,"03580","09","014","BENITO JUAREZ",null," - 80179",null,"80179","80179.99999","'03616176","'484250060001.80179",null,null,null,null,null,null,null,null,null,null,null,null,null,null,null,null,null,null,"484010010001.20118","MX",null,"01538002","MX"]
[null,null,null,null,null,null,null,null,null,null,null,null,null,null,"03580","09","014","BENITO JUAREZ",null," - 80177",null,"80177","80177.99999","'03616176","'484250060001.80177",null,null,null,null,null,null,null,null,null,null,null,null,null,null,null,null,null,null,"484010010001.20119","MX",null,"01539009","MX"]
[null,null,null,null,null,null,null,null,null,null,null,null,null,null,"03590","09","014","BENITO JUAREZ",null," - 80160",null,"80160","80160.99999","'03616176","'484250060001.80160",null,null,null,null,null,null,null,null,null,null,null,null,null,null,null,null,null,null,"484010010001.20120","MX",null,"01540007","MX"]
[null,null,null,null,null,null,null,null,null,null,null,null,null,null,"03590","09","014","BENITO JUAREZ",null," - 80155",null,"80155","80155.99999","'03616176","'484250060001.80155",null,null,null,null,null,null,null,null,null,null,null,null,null,null,null,null,null,null,"484010010001.20123","MX",null,"01541008","MX"]
[null,null,null,null,null,null,null,null,null,null,null,null,null,null,"03600","09","014","BENITO JUAREZ",null," - 80144",null,"80144","80144.99999","'03616176","'484250060001.80144",null,null,null,null,null,null,null,null,null,null,null,null,null,null,null,null,null,null,"484010010001.20124","MX",null,"01543001","MX"]
[null,null,null,null,null,null,null,null,null,null,null,null,null,null,"03600","09","014","BENITO JUAREZ",null," - 80109",null,"80109","80109.99999","'03616176","'484250060001.80109",null,null,null,null,null,null,null,null,null,null,null,null,null,null,null,null,null,null,"484010010001.20126","MX",null,"01544002","MX"]
[null,null,null,null,null,null,null,null,null,null,null,null,null,null,"03610","09","014","BENITO JUAREZ",null," - 80106",null,"80106","80106.99999","'03616176","'484250060001.80106",null,null,null,null,null,null,null,null,null,null,null,null,null,null,null,null,null,null,"484010010001.20127","MX",null,"01544248","MX"]
[null,null,null,null,null,null,null,null,null,null,null,null,null,null,"03610","09","014","BENITO JUAREZ",null," - 80102",null,"80102","80102.99999","'03616176","'484250060001.80102",null,null,null,null,null,null,null,null,null,null,null,null,null,null,null,null,null,null,"484010010001.20129","MX",null,"01544379","MX"]
[null,null,null,null,null,null,null,null,null,null,null,null,null,null,"03620","09","014","BENITO JUAREZ",null," - 80080",null,"80080","80080.99999","'03616176","'484250060001.80080",null,null,null,null,null,null,null,null,null,null,null,null,null,null,null,null,null,null,"484010010001.20130","MX",null,"01545006","MX"]
[null,null,null,null,null,null,null,null,null,null,null,null,null,null,"03620","09","014","BENITO JUAREZ",null," - 80060",null,"80060","80060.99999","'03616176","'484250060001.80060",null,null,null,null,null,null,null,null,null,null,null,null,null,null,null,null,null,null,"484010010001.20135","MX",null,"01545051","MX"]
[null,null,null,null,null,null,null,null,null,null,null,null,null,null,"03630","09","014","BENITO JUAREZ",null," - 80059",null,"80059","80059.99999","'03616176","'484250060001.80059",null,null,null,null,null,null,null,null,null,null,null,null,null,null,null,null,null,null,"484010010001.20136","MX",null,"01545204","MX"]
[null,null,null,null,null,null,null,null,null,null,null,null,null,null,"03630","09","014","BENITO JUAREZ",null," - 80055",null,"80055","80055.99999","'03616176","'484250060001.80055",null,null,null,null,null,null,null,null,null,null,null,null,null,null,null,null,null,null,"484010010001.20137","MX",null,"01546004","MX"]
[null,null,null,null,null,null,null,null,null,null,null,null,null,null,"03640","09","014","BENITO JUAREZ",null," - 80040",null,"80040","80040.99999","'03616176","'484250060001.80040",null,null,null,null,null,null,null,null,null,null,null,null,null,null,null,null,null,null,"484010010001.20138","MX",null,"01547005","MX"]
[null,null,null,null,null,null,null,null,null,null,null,null,null,null,"03640","09","014","BENITO JUAREZ",null," - 80030",null,"80030","80030.99999","'03616176","'484250060001.80030",null,null,null,null,null,null,null,null,null,null,null,null,null,null,null,null,null,null,"484010010001.20140","MX",null,"01548009","MX"]
[null,null,null,null,null,null,null,null,null,null,null,null,null,null,"03650","09","014","BENITO JUAREZ",null," - 80029",null,"80029","80029.99999","'03616176","'484250060001.80029",null,null,null,null,null,null,null,null,null,null,null,null,null,null,null,null,null,null,"484010010001.20146","MX",null,"01549007","MX"]
[null,null,null,null,null,null,null,null,null,null,null,null,null,null,"03650","09","014","BENITO JUAREZ",null," - 80013",null,"80013","80013.99999","'03616176","'484250060001.80013",null,null,null,null,null,null,null,null,null,null,null,null,null,null,null,null,null,null,"484010010001.20149","MX",null,"01550002","MX"]
[null,null,null,null,null,null,null,null,null,null,null,null,null,null,"03660","09","014","BENITO JUAREZ",null," - 80007",null,"80007","80007.99999","'03616176","'484250060001.80007",null,null,null,null,null,null,null,null,null,null,null,null,null,null,null,null,null,null,"484010010001.20150","MX",null,"01551003","MX"]
[null,null,null,null,null,null,null,null,null,null,null,null,null,null,"03660","09","014","BENITO JUAREZ",null," - 79985",null,"79985","79985.99999","'03537309","'484240370001.79985",null,null,null,null,null,null,null,null,null,null,null,null,null,null,null,null,null,null,"484010010001.20157","MX",null,"01551501","MX"]
[null,null,null,null,null,null,null,null,null,null,null,null,null,null,"03700","09","014","BENITO JUAREZ",null," - 79978",null,"79978","79978.99999","'03537159","'484240570001.79978",null,null,null,null,null,null,null,null,null,null,null,null,null,null,null,null,null,null,"484010010001.20158","MX",null,"01552007","MX"]
[null,null,null,null,null,null,null,null,null,null,null,null,null,null,"03700","09","014","BENITO JUAREZ",null," - 79976",null,"79976","79976.99999","'03537159","'484240570001.79976",null,null,null,null,null,null,null,null,null,null,null,null,null,null,null,null,null,null,"484010010001.20159","MX",null,"01553005","MX"]
[null,null,null,null,null,null,null,null,null,null,null,null,null,null,"03710","09","014","BENITO JUAREZ",null," - 79973",null,"79973","79973.99999","'03537159","'484240570001.79973",null,null,null,null,null,null,null,null,null,null,null,null,null,null,null,null,null,null,"484010010001.20160","MX",null,"01554006","MX"]
[null,null,null,null,null,null,null,null,null,null,null,null,null,null,"03710","09","014","BENITO JUAREZ",null," - 79958",null,"79958","79958.99999","'03529009","'484240290001.79958",null,null,null,null,null,null,null,null,null,null,null,null,null,null,null,null,null,null,"484010010001.20164","MX",null,"01555001","MX"]
[null,null,null,null,null,null,null,null,null,null,null,null,null,null,"03720","09","014","BENITO JUAREZ",null," - 79954",null,"79954","79954.99999","'03529009","'484240290001.79954",null,null,null,null,null,null,null,null,null,null,null,null,null,null,null,null,null,null,"484010010001.20169","MX",null,"01556008","MX"]
[null,null,null,null,null,null,null,null,null,null,null,null,null,null,"03720","09","014","BENITO JUAREZ",null," - 79950",null,"79950","79950.99999","'03529009","'484240290001.79950",null,null,null,null,null,null,null,null,null,null,null,null,null,null,null,null,null,null,"484010010001.20170","MX",null,"01557009","MX"]
[null,null,null,null,null,null,null,null,null,null,null,null,null,null,"03730","09","014","BENITO JUAREZ",null," - 79946",null,"79946","79946.99999","'03538006","'484240380001.79946",null,null,null,null,null,null,null,null,null,null,null,null,null,null,null,null,null,null,"484010010001.20172","MX",null,"01558004","MX"]
[null,null,null,null,null,null,null,null,null,null,null,null,null,null,"03730","09","014","BENITO JUAREZ",null," - 79942",null,"79942","79942.99999","'03538006","'484240380001.79942",null,null,null,null,null,null,null,null,null,null,null,null,null,null,null,null,null,null,"484010010001.20174","MX",null,"01559002","MX"]
[null,null,null,null,null,null,null,null,null,null,null,null,null,null,"03740","09","014","BENITO JUAREZ",null," - 79940",null,"79940","79940.99999","'03538006","'484240380001.79940",null,null,null,null,null,null,null,null,null,null,null,null,null,null,null,null,null,null,"484010010001.20175","MX",null,"01560003","MX"]
[null,null,null,null,null,null,null,null,null,null,null,null,null,null,"03740","09","014","BENITO JUAREZ",null," - 79937",null,"79937","79937.99999","'03553009","'484240530001.79937",null,null,null,null,null,null,null,null,null,null,null,null,null,null,null,null,null,null,"484010010001.20177","MX",null,"01561004","MX"]
[null,null,null,null,null,null,null,null,null,null,null,null,null,null,"03800","09","014","BENITO JUAREZ",null," - 79922",null,"79922","79922.99999","'03554003","'484240540001.79922",null,null,null,null,null,null,null,null,null,null,null,null,null,null,null,null,null,null,"484010010001.20179","MX",null,"01563006","MX"]
[null,null,null,null,null,null,null,null,null,null,null,null,null,null,"03800","09","014","BENITO JUAREZ",null," - 79917",null,"79917","79917.99999","'03554003","'484240540001.79917",null,null,null,null,null,null,null,null,null,null,null,null,null,null,null,null,null,null,"484010010001.20180","MX",null,"01564007","MX"]
[null,null,null,null,null,null,null,null,null,null,null,null,null,null,"03809","09","014","BENITO JUAREZ",null," - 79915",null,"79915","79915.99999","'03554003","'484240540001.79915",null,null,null,null,null,null,null,null,null,null,null,null,null,null,null,null,null,null,"484010010001.20190","MX",null,"01565002","MX"]
[null,null,null,null,null,null,null,null,null,null,null,null,null,null,"03809","09","014","BENITO JUAREZ",null," - 79910",null,"79910","79910.99999","'03554003","'484240540001.79910",null,null,null,null,null,null,null,null,null,null,null,null,null,null,null,null,null,null,"484010010001.20196","MX",null,"01566009","MX"]
[null,null,null,null,null,null,null,null,null,null,null,null,null,null,"03810","09","014","BENITO JUAREZ",null," - 79907",null,"79907","79907.99999","'03554003","'484240540001.79907",null,null,null,null,null,null,null,null,null,null,null,null,null,null,null,null,null,null,"484010010001.20198","MX",null,"01567001","MX"]
[null,null,null,null,null,null,null,null,null,null,null,null,null,null,"03810","09","014","BENITO JUAREZ",null," - 79904",null,"79904","79904.99999","'03554003","'484240540001.79904",null,null,null,null,null,null,null,null,null,null,null,null,null,null,null,null,null,null,"484010010001.20199","MX",null,"01568005","MX"]
[null,null,null,null,null,null,null,null,null,null,null,null,null,null,"03818","09","014","BENITO JUAREZ",null," - 79893",null,"79893","79893.99999","'03518009","'484240180001.79893",null,null,null,null,null,null,null,null,null,null,null,null,null,null,null,null,null,null,"484010010001.20200","MX",null,"01569003","MX"]
[null,null,null,null,null,null,null,null,null,null,null,null,null,null,"03818","09","014","BENITO JUAREZ",null," - 79888",null,"79888","79888.99999","'03518009","'484240180001.79888",null,null,null,null,null,null,null,null,null,null,null,null,null,null,null,null,null,null,"484010010001.20205","MX",null,"01569651","MX"]
[null,null,null,null,null,null,null,null,null,null,null,null,null,null,"03819","09","014","BENITO JUAREZ",null," - 79884",null,"79884","79884.99999","'03518009","'484240180001.79884",null,null,null,null,null,null,null,null,null,null,null,null,null,null,null,null,null,null,"484010010001.20206","MX",null,"01569717","MX"]
[null,null,null,null,null,null,null,null,null,null,null,null,null,null,"03819","09","014","BENITO JUAREZ",null," - 79878",null,"79878","79878.99999","'03514003","'484240140001.79878",null,null,null,null,null,null,null,null,null,null,null,null,null,null,null,null,null,null,"484010010001.20207","MX",null,"01570001","MX"]
[null,null,null,null,null,null,null,null,null,null,null,null,null,null,"03820","09","014","BENITO JUAREZ",null," - 79874",null,"79874","79874.99999","'03514003","'484240140001.79874",null,null,null,null,null,null,null,null,null,null,null,null,null,null,null,null,null,null,"484010010001.20208","MX",null,"01571002","MX"]
[null,null,null,null,null,null,null,null,null,null,null,null,null,null,"03820","09","014","BENITO JUAREZ",null," - 79867",null,"79867","79867.99999","'03514003","'484240140001.79867",null,null,null,null,null,null,null,null,null,null,null,null,null,null,null,null,null,null,"484010010001.20210","MX",null,"01572006","MX"]
[null,null,null,null,null,null,null,null,null,null,null,null,null,null,"03840","09","014","BENITO JUAREZ",null," - 79865",null,"79865","79865.99999","'03514003","'484240140001.79865",null,null,null,null,null,null,null,null,null,null,null,null,null,null,null,null,null,null,"484010010001.20216","MX",null,"01573004","MX"]
[null,null,null,null,null,null,null,null,null,null,null,null,null,null,"03840","09","014","BENITO JUAREZ",null," - 79859",null,"79859","79859.99999","'03539006","'484240390001.79859",null,null,null,null,null,null,null,null,null,null,null,null,null,null,null,null,null,null,"484010010001.20217","MX",null,"01574005","MX"]
[null,null,null,null,null,null,null,null,null,null,null,null,null,null,"03849","09","014","BENITO JUAREZ",null," - 79853",null,"79853","79853.99999","'03539006","'484240390001.79853",null,null,null,null,null,null,null,null,null,null,null,null,null,null,null,null,null,null,"484010010001.20218","MX",null,"01575009","MX"]
[null,null,null,null,null,null,null,null,null,null,null,null,null,null,"03849","09","014","BENITO JUAREZ",null," - 79841",null,"79841","79841.99999","'03542009","'484240420001.79841",null,null,null,null,null,null,null,null,null,null,null,null,null,null,null,null,null,null,"484010010001.20219","MX",null,"01576007","MX"]
[null,null,null,null,null,null,null,null,null,null,null,null,null,null,"03900","09","014","BENITO JUAREZ",null," - 79837",null,"79837","79837.99999","'03526009","'484240260001.79837",null,null,null,null,null,null,null,null,null,null,null,null,null,null,null,null,null,null,"484010010001.20220","MX",null,"01577008","MX"]
[null,null,null,null,null,null,null,null,null,null,null,null,null,null,"03900","09","014","BENITO JUAREZ",null," - 79835",null,"79835","79835.99999","'03526009","'484240260001.79835",null,null,null,null,null,null,null,null,null,null,null,null,null,null,null,null,null,null,"484010010001.20229","MX",null,"01578003","MX"]
[null,null,null,null,null,null,null,null,null,null,null,null,null,null,"03910","09","014","BENITO JUAREZ",null," - 79825",null,"79825","79825.99999","'03534009","'484240340001.79825",null,null,null,null,null,null,null,null,null,null,null,null,null,null,null,null,null,null,"484010010001.20230","MX",null,"01579001","MX"]
[null,null,null,null,null,null,null,null,null,null,null,null,null,null,"03910","09","014","BENITO JUAREZ",null," - 79814",null,"79814","79814.99999","'03541003","'484240410001.79814",null,null,null,null,null,null,null,null,null,null,null,null,null,null,null,null,null,null,"484010010001.20234","MX",null,"01580005","MX"]
[null,null,null,null,null,null,null,null,null,null,null,null,null,null,"03920","09","014","BENITO JUAREZ",null," - 79803",null,"79803","79803.99999","'03541003","'484240120001.79803",null,null,null,null,null,null,null,null,null,null,null,null,null,null,null,null,null,null,"484010010001.20235","MX",null,"01581006","MX"]
[null,null,null,null,null,null,null,null,null,null,null,null,null,null,"03920","09","014","BENITO JUAREZ",null," - 79780",null,"79780","79780.99999","'03519009","'484240190001.79780",null,null,null,null,null,null,null,null,null,null,null,null,null,null,null,null,null,null,"484010010001.20236","MX",null,"01581207","MX"]
[null,null,null,null,null,null,null,null,null,null,null,null,null,null,"03930","09","014","BENITO JUAREZ",null," - 79773",null,"79773","79773.99999","'03503006","'484240030001.79773",null,null,null,null,null,null,null,null,null,null,null,null,null,null,null,null,null,null,"484010010001.20237","MX",null,"01582001","MX"]
[null,null,null,null,null,null,null,null,null,null,null,null,null,null,"03930","09","014","BENITO JUAREZ",null," - 79755",null,"79755","79755.99999","'03523009","'484240230001.79755",null,null,null,null,null,null,null,null,null,null,null,null,null,null,null,null,null,null,"484010010001.20238","MX",null,"01583008","MX"]
[null,null,null,null,null,null,null,null,null,null,null,null,null,null,"03940","09","014","BENITO JUAREZ",null," - 79731",null,"79731","79731.99999","'03536006","'484240360001.79731",null,null,null,null,null,null,null,null,null,null,null,null,null,null,null,null,null,null,"484010010001.20239","MX",null,"01584009","MX"]
[null,null,null,null,null,null,null,null,null,null,null,null,null,null,"03940","09","014","BENITO JUAREZ",null," - 79728",null,"79728","79728.99999","'03536006","'484240360001.79728",null,null,null,null,null,null,null,null,null,null,null,null,null,null,null,null,null,null,"484010010001.20240","MX",null,"01585004","MX"]
[null,null,null,null,null,null,null,null,null,null,null,null,null,null,"03949","09","014","BENITO JUAREZ",null," - 79720",null,"79720","79720.99999","'03536006","'484240360001.79720",null,null,null,null,null,null,null,null,null,null,null,null,null,null,null,null,null,null,"484010010001.20247","MX",null,"01586002","MX"]
[null,null,null,null,null,null,null,null,null,null,null,null,null,null,"03949","09","014","BENITO JUAREZ",null," - 79717",null,"79717","79717.99999","'03536006","'484240360001.79717",null,null,null,null,null,null,null,null,null,null,null,null,null,null,null,null,null,null,"484010010001.20248","MX",null,"01587003","MX"]
[null,null,null,null,null,null,null,null,null,null,null,null,null,null,"04000","09","003","COYOACAN",null," - 79704",null,"79704","79704.99999","'03536006","'484240360001.79704",null,null,null,null,null,null,null,null,null,null,null,null,null,null,null,null,null,null,"484010010001.20249","MX",null,"01588007","MX"]
[null,null,null,null,null,null,null,null,null,null,null,null,null,null,"04000","09","003","COYOACAN",null," - 79694",null,"79694","79694.99999","'03527003","'484240270001.79694",null,null,null,null,null,null,null,null,null,null,null,null,null,null,null,null,null,null,"484010010001.20250","MX",null,"01589005","MX"]
[null,null,null,null,null,null,null,null,null,null,null,null,null,null,"04009","09","003","COYOACAN",null," - 79675",null,"79675","79675.99999","'03511113","'484240110001.79675",null,null,null,null,null,null,null,null,null,null,null,null,null,null,null,null,null,null,"484010010001.20255","MX",null,"01590006","MX"]
[null,null,null,null,null,null,null,null,null,null,null,null,null,null,"04009","09","003","COYOACAN",null," - 79665",null,"79665","79665.99999","'03511113","'484240110001.79665",null,null,null,null,null,null,null,null,null,null,null,null,null,null,null,null,null,null,"484010010001.20256","MX",null,"01591007","MX"]
[null,null,null,null,null,null,null,null,null,null,null,null,null,null,"04010","09","003","COYOACAN",null," - 79646",null,"79646","79646.99999","'03524003","'484240240001.79646",null,null,null,null,null,null,null,null,null,null,null,null,null,null,null,null,null,null,"484010010001.20257","MX",null,"01592002","MX"]
[null,null,null,null,null,null,null,null,null,null,null,null,null,null,"04010","09","003","COYOACAN",null," - 79640",null,"79640","79640.99999","'03524003","'484240240001.79640",null,null,null,null,null,null,null,null,null,null,null,null,null,null,null,null,null,null,"484010010001.20259","MX",null,"01593009","MX"]
[null,null,null,null,null,null,null,null,null,null,null,null,null,null,"04020","09","003","COYOACAN",null," - 79633",null,"79633","79633.99999","'03524003","'484240240001.79633",null,null,null,null,null,null,null,null,null,null,null,null,null,null,null,null,null,null,"484010010001.20260","MX",null,"01594001","MX"]
[null,null,null,null,null,null,null,null,null,null,null,null,null,null,"04020","09","003","COYOACAN",null," - 79620",null,"79620","79620.99999","'03524003","'484240240001.79620",null,null,null,null,null,null,null,null,null,null,null,null,null,null,null,null,null,null,"484010010001.20263","MX",null,"01595005","MX"]
[null,null,null,null,null,null,null,null,null,null,null,null,null,null,"04030","09","003","COYOACAN",null," - 79614",null,"79614","79614.99999","'03524003","'484240240001.79614",null,null,null,null,null,null,null,null,null,null,null,null,null,null,null,null,null,null,"484010010001.20264","MX",null,"01595109","MX"]
[null,null,null,null,null,null,null,null,null,null,null,null,null,null,"04030","09","003","COYOACAN",null," - 79593",null,"79593","79593.99999","'03543009","'484240430001.79593",null,null,null,null,null,null,null,null,null,null,null,null,null,null,null,null,null,null,"484010010001.20265","MX",null,"01595215","MX"]
[null,null,null,null,null,null,null,null,null,null,null,null,null,null,"04040","09","003","COYOACAN",null," - 79575",null,"79575","79575.99999","'03532006","'484240320001.79575",null,null,null,null,null,null,null,null,null,null,null,null,null,null,null,null,null,null,"484010010001.20266","MX",null,"01595259","MX"]
[null,null,null,null,null,null,null,null,null,null,null,null,null,null,"04040","09","003","COYOACAN",null," - 79566",null,"79566","79566.99999","'03532006","'484240320001.79566",null,null,null,null,null,null,null,null,null,null,null,null,null,null,null,null,null,null,"484010010001.20267","MX",null,"01596003","MX"]
[null,null,null,null,null,null,null,null,null,null,null,null,null,null,"04100","09","003","COYOACAN",null," - 79562",null,"79562","79562.99999","'03532006","'484240320001.79562",null,null,null,null,null,null,null,null,null,null,null,null,null,null,null,null,null,null,"484010010001.20268","MX",null,"01597004","MX"]
[null,null,null,null,null,null,null,null,null,null,null,null,null,null,"04100","09","003","COYOACAN",null," - 79553",null,"79553","79553.99999","'03555009","'484240550001.79553",null,null,null,null,null,null,null,null,null,null,null,null,null,null,null,null,null,null,"484010010001.20269","MX",null,"01598008","MX"]
[null,null,null,null,null,null,null,null,null,null,null,null,null,null,"04110","09","003","COYOACAN",null," - 79546",null,"79546","79546.99999","'03555009","'484240550001.79546",null,null,null,null,null,null,null,null,null,null,null,null,null,null,null,null,null,null,"484010010001.20270","MX",null,"01599006","MX"]
[null,null,null,null,null,null,null,null,null,null,null,null,null,null,"04110","09","003","COYOACAN",null," - 79543",null,"79543","79543.99999","'03555009","'484240550001.79543",null,null,null,null,null,null,null,null,null,null,null,null,null,null,null,null,null,null,"484010010001.20276","MX",null,"01601008","MX"]
[null,null,null,null,null,null,null,null,null,null,null,null,null,null,"04120","09","003","COYOACAN",null," - 79509",null,"79509","79509.99999","'03550009","'484240500001.79509",null,null,null,null,null,null,null,null,null,null,null,null,null,null,null,null,null,null,"484010010001.20277","MX",null,"01601238","MX"]
[null,null,null,null,null,null,null,null,null,null,null,null,null,null,"04120","09","003","COYOACAN",null," - 79493",null,"79493","79493.99999","'03530006","'484240300001.79493",null,null,null,null,null,null,null,null,null,null,null,null,null,null,null,null,null,null,"484010010001.20278","MX",null,"01601482","MX"]
[null,null,null,null,null,null,null,null,null,null,null,null,null,null,"04120","09","003","COYOACAN",null," - 79489",null,"79489","79489.99999","'03530006","'484240300001.79489",null,null,null,null,null,null,null,null,null,null,null,null,null,null,null,null,null,null,"484010010001.20280","MX",null,"01601532","MX"]
[null,null,null,null,null,null,null,null,null,null,null,null,null,null,"04129","09","003","COYOACAN",null," - 79450",null,"79450","79450.99999","'03552009","'484240520001.79450",null,null,null,null,null,null,null,null,null,null,null,null,null,null,null,null,null,null,"484010010001.20283","MX",null,"01602009","MX"]
[null,null,null,null,null,null,null,null,null,null,null,null,null,null,"04129","09","003","COYOACAN",null," - 79447",null,"79447","79447.99999","'03508006","'484240080001.79447",null,null,null,null,null,null,null,null,null,null,null,null,null,null,null,null,null,null,"484010010001.20284","MX",null,"01603004","MX"]
[null,null,null,null,null,null,null,null,null,null,null,null,null,null,"04200","09","003","COYOACAN",null," - 79443",null,"79443","79443.99999","'03508006","'484240080001.79443",null,null,null,null,null,null,null,null,null,null,null,null,null,null,null,null,null,null,"484010010001.20285","MX",null,"01604002","MX"]
[null,null,null,null,null,null,null,null,null,null,null,null,null,null,"04200","09","003","COYOACAN",null," - 79440",null,"79440","79440.99999","'03508006","'484240080001.79440",null,null,null,null,null,null,null,null,null,null,null,null,null,null,null,null,null,null,"484010010001.20286","MX",null,"01605003","MX"]
[null,null,null,null,null,null,null,null,null,null,null,null,null,null,"04210","09","003","COYOACAN",null," - 79431",null,"79431","79431.99999","'03508006","'484240080001.79431",null,null,null,null,null,null,null,null,null,null,null,null,null,null,null,null,null,null,"484010010001.20287","MX",null,"01606007","MX"]
[null,null,null,null,null,null,null,null,null,null,null,null,null,null,"04210","09","003","COYOACAN",null," - 79427",null,"79427","79427.99999","'03508006","'484240080001.79427",null,null,null,null,null,null,null,null,null,null,null,null,null,null,null,null,null,null,"484010010001.20288","MX",null,"01607005","MX"]
[null,null,null,null,null,null,null,null,null,null,null,null,null,null,"04220","09",null,"COYOACAN",null," - 79401",null,"79401","79401.99999","'03508006","'484240080001.79401",null,null,null,null,null,null,null,null,null,null,null,null,null,null,null,null,null,null,"484010010001.20289","MX",null,"01608006","MX"]
[null,null,null,null,null,null,null,null,null,null,null,null,null,null,"04230","09","003","COYOACAN",null," - 79393",null,"79393","79393.99999","'03505006","'484240050001.79393",null,null,null,null,null,null,null,null,null,null,null,null,null,null,null,null,null,null,"484010010001.20290","MX",null,"01609001","MX"]
[null,null,null,null,null,null,null,null,null,null,null,null,null,null,"04230","09","003","COYOACAN",null," - 79387",null,"79387","79387.99999","'03505006","'484240050001.79387",null,null,null,null,null,null,null,null,null,null,null,null,null,null,null,null,null,null,"484010010001.20291","MX",null,"01610002","MX"]
[null,null,null,null,null,null,null,null,null,null,null,null,null,null,"04239","09","003","COYOACAN",null," - 79385",null,"79385","79385.99999","'03505006","'484240050001.79385",null,null,null,null,null,null,null,null,null,null,null,null,null,null,null,null,null,null,"484010010001.20296","MX",null,"01610202","MX"]
[null,null,null,null,null,null,null,null,null,null,null,null,null,null,"04239","09","003","COYOACAN",null," - 79383",null,"79383","79383.99999","'03505006","'484240050001.79383",null,null,null,null,null,null,null,null,null,null,null,null,null,null,null,null,null,null,"484010010001.20297","MX",null,"01610352","MX"]
[null,null,null,null,null,null,null,null,null,null,null,null,null,null,"04240","09","003","COYOACAN",null," - 79353",null,"79353","79353.99999","'03510055","'484240100001.79353",null,null,null,null,null,null,null,null,null,null,null,null,null,null,null,null,null,null,"484010010001.20298","MX",null,"01611009","MX"]
[null,null,null,null,null,null,null,null,null,null,null,null,null,null,"04240","09","003","COYOACAN",null," - 79334",null,"79334","79334.99999","'03510055","'484240100001.79334",null,null,null,null,null,null,null,null,null,null,null,null,null,null,null,null,null,null,"484010010001.20299","MX",null,"01612001","MX"]
[null,null,null,null,null,null,null,null,null,null,null,null,null,null,"04250","09","003","COYOACAN",null," - 79324",null,"79324","79324.99999","'03510055","'484240100001.79324",null,null,null,null,null,null,null,null,null,null,null,null,null,null,null,null,null,null,"484010010001.20310","MX",null,"01613005","MX"]
[null,null,null,null,null,null,null,null,null,null,null,null,null,null,"04250","09","003","COYOACAN",null," - 79314",null,"79314","79314.99999","'03510202","'484240580001.79314",null,null,null,null,null,null,null,null,null,null,null,null,null,null,null,null,null,null,"484010010001.20311","MX",null,"01614003","MX"]
[null,null,null,null,null,null,null,null,null,null,null,null,null,null,"04259","09","003","COYOACAN",null," - 79305",null,"79305","79305.99999","'03510202","'484240580001.79305",null,null,null,null,null,null,null,null,null,null,null,null,null,null,null,null,null,null,"484010010001.20312","MX",null,"01615004","MX"]
[null,null,null,null,null,null,null,null,null,null,null,null,null,null,"04259","09","003","COYOACAN",null," - 79290",null,"79290","79290.99999","'03516009","'484240160001.79290",null,null,null,null,null,null,null,null,null,null,null,null,null,null,null,null,null,null,"484010010001.20313","MX",null,"01616008","MX"]
[null,null,null,null,null,null,null,null,null,null,null,null,null,null,"04260","09","003","COYOACAN",null," - 79266",null,"79266","79266.99999","'03513009","'484240130001.79266",null,null,null,null,null,null,null,null,null,null,null,null,null,null,null,null,null,null,"484010010001.20314","MX",null,"01617006","MX"]
[null,null,null,null,null,null,null,null,null,null,null,null,null,null,"04260","09","003","COYOACAN",null," - 79245",null,"79245","79245.99999","'03513009","'484240130001.79245",null,null,null,null,null,null,null,null,null,null,null,null,null,null,null,null,null,null,"484010010001.20315","MX",null,"01618007","MX"]
[null,null,null,null,null,null,null,null,null,null,null,null,null,null,"04260","09","003","COYOACAN",null," - 79161",null,"79161","79161.99999","'03516009","'484240160001.79161",null,null,null,null,null,null,null,null,null,null,null,null,null,null,null,null,null,null,"484010010001.20316","MX",null,"01619002","MX"]
[null,null,null,null,null,null,null,null,null,null,null,null,null,null,"04260","09","003","COYOACAN",null," - 79097",null,"79097","79097.99999","'03513009","'484240130001.79097",null,null,null,null,null,null,null,null,null,null,null,null,null,null,null,null,null,null,"484010010001.20317","MX",null,"01620009","MX"]
[null,null,null,null,null,null,null,null,null,null,null,null,null,null,"04260","09","003","COYOACAN",null," - 79093",null,"79093","79093.99999","'03513009","'484240130001.79093",null,null,null,null,null,null,null,null,null,null,null,null,null,null,null,null,null,null,"484010010001.20318","MX",null,"01621007","MX"]
[null,null,null,null,null,null,null,null,null,null,null,null,null,null,"04269","09",null,"COYOACAN",null," - 79020",null,"79020","79020.99999","'03513009","'484240130001.79020",null,null,null,null,null,null,null,null,null,null,null,null,null,null,null,null,null,null,"484010010001.20319","MX",null,"01622008","MX"]
[null,null,null,null,null,null,null,null,null,null,null,null,null,null,"04270","09","003","COYOACAN",null," - 78995",null,"78995","78995.99999","'03504009","'484240040001.78995",null,null,null,null,null,null,null,null,null,null,null,null,null,null,null,null,null,null,"484010010001.20320","MX",null,"01623003","MX"]
[null,null,null,null,null,null,null,null,null,null,null,null,null,null,"04270","09","003","COYOACAN",null," - 78993",null,"78993","78993.99999","'03504009","'484240040001.78993",null,null,null,null,null,null,null,null,null,null,null,null,null,null,null,null,null,null,"484010010001.20321","MX",null,"01623733","MX"]
[null,null,null,null,null,null,null,null,null,null,null,null,null,null,"04280","09","003","COYOACAN",null," - 78987",null,"78987","78987.99999","'03504009","'484240040001.78987",null,null,null,null,null,null,null,null,null,null,null,null,null,null,null,null,null,null,"484010010001.20322","MX",null,"01623867","MX"]
[null,null,null,null,null,null,null,null,null,null,null,null,null,null,"04280","09","003","COYOACAN",null," - 78985",null,"78985","78985.99999","'03504009","'484240040001.78985",null,null,null,null,null,null,null,null,null,null,null,null,null,null,null,null,null,null,"484010010001.20323","MX",null,"01624001","MX"]
[null,null,null,null,null,null,null,null,null,null,null,null,null,null,"04300","09","003","COYOACAN",null," - 78979",null,"78979","78979.99999","'03551256","'484240220001.78979",null,null,null,null,null,null,null,null,null,null,null,null,null,null,null,null,null,null,"484010010001.20324","MX",null,"01625002","MX"]
[null,null,null,null,null,null,null,null,null,null,null,null,null,null,"04300","09","003","COYOACAN",null," - 78976",null,"78976","78976.99999","'03551256","'484240510001.78976",null,null,null,null,null,null,null,null,null,null,null,null,null,null,null,null,null,null,"484010010001.20326","MX",null,"01626006","MX"]
[null,null,null,null,null,null,null,null,null,null,null,null,null,null,"04307","09","003","COYOACAN",null," - 78957",null,"78957","78957.99999","'03551207","'484240560002.78957",null,null,null,null,null,null,null,null,null,null,null,null,null,null,null,null,null,null,"484010010001.20328","MX",null,"01627004","MX"]
[null,null,null,null,null,null,null,null,null,null,null,null,null,null,"04307","09","003","COYOACAN",null," - 78935",null,"78935","78935.99999","'03545009","'484240450001.78935",null,null,null,null,null,null,null,null,null,null,null,null,null,null,null,null,null,null,"484010010001.20329","MX",null,"01701009","MX"]
[null,null,null,null,null,null,null,null,null,null,null,null,null,null,"04309","09","003","COYOACAN",null," - 78924",null,"78924","78924.99999","'03545009","'484240450001.78924",null,null,null,null,null,null,null,null,null,null,null,null,null,null,null,null,null,null,"484010010001.20340","MX",null,"01702007","MX"]
[null,null,null,null,null,null,null,null,null,null,null,null,null,null,"04309","09","003","COYOACAN",null," - 78910",null,"78910","78910.99999","'03522009","'484240220001.78910",null,null,null,null,null,null,null,null,null,null,null,null,null,null,null,null,null,null,"484010010001.20341","MX",null,"01703008","MX"]
[null,null,null,null,null,null,null,null,null,null,null,null,null,null,"04310","09","003","COYOACAN",null," - 78908",null,"78908","78908.99999","'03522009","'484240220001.78908",null,null,null,null,null,null,null,null,null,null,null,null,null,null,null,null,null,null,"484010010001.20342","MX",null,"01704003","MX"]
[null,null,null,null,null,null,null,null,null,null,null,null,null,null,"04310","09","003","COYOACAN",null," - 78903",null,"78903","78903.99999","'03522009","'484240220001.78903",null,null,null,null,null,null,null,null,null,null,null,null,null,null,null,null,null,null,"484010010001.20344","MX",null,"01705001","MX"]
[null,null,null,null,null,null,null,null,null,null,null,null,null,null,"04310","09","003","COYOACAN",null," - 78887",null,"78887","78887.99999","'03517003","'484240170001.78887",null,null,null,null,null,null,null,null,null,null,null,null,null,null,null,null,null,null,"484010010001.20345","MX",null,"01706002","MX"]
[null,null,null,null,null,null,null,null,null,null,null,null,null,null,"04317","09","003","COYOACAN",null," - 78870",null,"78870","78870.99999","'03517003","'484240170001.78870",null,null,null,null,null,null,null,null,null,null,null,null,null,null,null,null,null,null,"484010010001.20346","MX",null,"01707006","MX"]
[null,null,null,null,null,null,null,null,null,null,null,null,null,null,"04317","09","003","COYOACAN",null," - 78859",null,"78859","78859.99999","'03547003","'484240470001.78859",null,null,null,null,null,null,null,null,null,null,null,null,null,null,null,null,null,null,"484010010001.20348","MX",null,"01708004","MX"]
[null,null,null,null,null,null,null,null,null,null,null,null,null,null,"04318","09","003","COYOACAN",null," - 78850",null,"78850","78850.99999","'03547003","'484240470001.78850",null,null,null,null,null,null,null,null,null,null,null,null,null,null,null,null,null,null,"484010010001.20349","MX",null,"01709005","MX"]
[null,null,null,null,null,null,null,null,null,null,null,null,null,null,"04318","09","003","COYOACAN",null," - 78844",null,"78844","78844.99999","'03547003","'484240470001.78844",null,null,null,null,null,null,null,null,null,null,null,null,null,null,null,null,null,null,"484010010001.20363","MX",null,"01710009","MX"]
[null,null,null,null,null,null,null,null,null,null,null,null,null,null,"04319","09","003","COYOACAN",null," - 78841",null,"78841","78841.99999","'03547003","'484240470001.78841",null,null,null,null,null,null,null,null,null,null,null,null,null,null,null,null,null,null,"484010010001.20364","MX",null,"01711004","MX"]
[null,null,null,null,null,null,null,null,null,null,null,null,null,null,"04319","09","003","COYOACAN",null," - 78836",null,"78836","78836.99999","'03548009","'484240480001.78836",null,null,null,null,null,null,null,null,null,null,null,null,null,null,null,null,null,null,"484010010001.20366","MX",null,"01712002","MX"]
[null,null,null,null,null,null,null,null,null,null,null,null,null,null,"04319","09","003","COYOACAN",null," - 78834",null,"78834","78834.99999","'03548009","'484240480001.78834",null,null,null,null,null,null,null,null,null,null,null,null,null,null,null,null,null,null,"484010010001.20367","MX",null,"01713003","MX"]
[null,null,null,null,null,null,null,null,null,null,null,null,null,null,"04320","09","003","COYOACAN",null," - 78830",null,"78830","78830.99999","'03548009","'484240480001.78830",null,null,null,null,null,null,null,null,null,null,null,null,null,null,null,null,null,null,"484010010001.20369","MX",null,"01713057","MX"]
[null,null,null,null,null,null,null,null,null,null,null,null,null,null,"04320","09","003","COYOACAN",null," - 78821",null,"78821","78821.99999","'03520009","'484240200001.78821",null,null,null,null,null,null,null,null,null,null,null,null,null,null,null,null,null,null,"484010010001.20370","MX",null,"01714007","MX"]
[null,null,null,null,null,null,null,null,null,null,null,null,null,null,"04320","09","003","COYOACAN",null," - 78815",null,"78815","78815.99999","'03520009","'484240200001.78815",null,null,null,null,null,null,null,null,null,null,null,null,null,null,null,null,null,null,"484010010001.20371","MX",null,"01715005","MX"]
[null,null,null,null,null,null,null,null,null,null,null,null,null,null,"04320","09","003","COYOACAN",null," - 78812",null,"78812","78812.99999","'03520009","'484240200001.78812",null,null,null,null,null,null,null,null,null,null,null,null,null,null,null,null,null,null,"484010010001.20372","MX",null,"01716006","MX"]
[null,null,null,null,null,null,null,null,null,null,null,null,null,null,"04326","09","003","COYOACAN",null," - 78805",null,"78805","78805.99999","'03520009","'484240200001.78805",null,null,null,null,null,null,null,null,null,null,null,null,null,null,null,null,null,null,"484010010001.20373","MX",null,"01717001","MX"]
[null,null,null,null,null,null,null,null,null,null,null,null,null,null,"04326","09","003","COYOACAN",null," - 78803",null,"78803","78803.99999","'03520009","'484240200001.78803",null,null,null,null,null,null,null,null,null,null,null,null,null,null,null,null,null,null,"484010010001.20375","MX",null,"01718008","MX"]
[null,null,null,null,null,null,null,null,null,null,null,null,null,null,"04327","09","003","COYOACAN",null," - 78800",null,"78800","78800.99999","'03520009","'484240200001.78800",null,null,null,null,null,null,null,null,null,null,null,null,null,null,null,null,null,null,"484010010001.20376","MX",null,"01719009","MX"]
[null,null,null,null,null,null,null,null,null,null,null,null,null,null,"04327","09","003","COYOACAN",null," - 78797",null,"78797","78797.99999","'03520009","'484240200001.78797",null,null,null,null,null,null,null,null,null,null,null,null,null,null,null,null,null,null,"484010010001.20377","MX",null,"01720001","MX"]
[null,null,null,null,null,null,null,null,null,null,null,null,null,null,"04330","09","003","COYOACAN",null," - 78792",null,"78792","78792.99999","'03520009","'484240200001.78792",null,null,null,null,null,null,null,null,null,null,null,null,null,null,null,null,null,null,"484010010001.20379","MX",null,"01721005","MX"]
[null,null,null,null,null,null,null,null,null,null,null,null,null,null,"04330","09","003","COYOACAN",null," - 78770",null,"78770","78770.99999","'03520009","'484240200001.78770",null,null,null,null,null,null,null,null,null,null,null,null,null,null,null,null,null,null,"484010010001.20382","MX",null,"01722003","MX"]
[null,null,null,null,null,null,null,null,null,null,null,null,null,null,"04330","09","003","COYOACAN",null," - 78760",null,"78760","78760.99999","'03520009","'484240200001.78760",null,null,null,null,null,null,null,null,null,null,null,null,null,null,null,null,null,null,"484010010001.20384","MX",null,"01723004","MX"]
[null,null,null,null,null,null,null,null,null,null,null,null,null,null,"04330","09","003","COYOACAN",null," - 78745",null,"78745","78745.99999","'03520009","'484240200001.78745",null,null,null,null,null,null,null,null,null,null,null,null,null,null,null,null,null,null,"484010010001.20385","MX",null,"01724008","MX"]
[null,null,null,null,null,null,null,null,null,null,null,null,null,null,"04330","09","003","COYOACAN",null," - 78721",null,"78721","78721.99999","'03520009","'484240200001.78721",null,null,null,null,null,null,null,null,null,null,null,null,null,null,null,null,null,null,"484010010001.20386","MX",null,"01725006","MX"]
[null,null,null,null,null,null,null,null,null,null,null,null,null,null,"04330","09","003","COYOACAN",null," - 78689",null,"78689","78689.99999","'03549009","'484240490001.78689",null,null,null,null,null,null,null,null,null,null,null,null,null,null,null,null,null,null,"484010010001.20389","MX",null,"01726007","MX"]
[null,null,null,null,null,null,null,null,null,null,null,null,null,null,"04330","09","003","COYOACAN",null," - 78645",null,"78645","78645.99999","'03533006","'484240330001.78645",null,null,null,null,null,null,null,null,null,null,null,null,null,null,null,null,null,null,"484010010001.20390","MX",null,"01727002","MX"]
[null,null,null,null,null,null,null,null,null,null,null,null,null,null,"04330","09","003","COYOACAN",null," - 78640",null,"78640","78640.99999","'03533006","'484240330001.78640",null,null,null,null,null,null,null,null,null,null,null,null,null,null,null,null,null,null,"484010010001.20391","MX",null,"01728009","MX"]
[null,null,null,null,null,null,null,null,null,null,null,null,null,null,"04336","09","003","COYOACAN",null," - 78623",null,"78623","78623.99999","'03525009","'484240250001.78623",null,null,null,null,null,null,null,null,null,null,null,null,null,null,null,null,null,null,"484010010001.20392","MX",null,"01729001","MX"]
[null,null,null,null,null,null,null,null,null,null,null,null,null,null,"04336","09","003","COYOACAN",null," - 78596",null,"78596","78596.99999","'03515009","'484240150001.78596",null,null,null,null,null,null,null,null,null,null,null,null,null,null,null,null,null,null,"484010010001.20394","MX",null,"01730008","MX"]
[null,null,null,null,null,null,null,null,null,null,null,null,null,null,"04337","09","003","COYOACAN",null," - 78578",null,"78578","78578.99999","'03515009","'484240150001.78578",null,null,null,null,null,null,null,null,null,null,null,null,null,null,null,null,null,null,"484010010001.20395","MX",null,"01731003","MX"]
[null,null,null,null,null,null,null,null,null,null,null,null,null,null,"04337","09","003","COYOACAN",null," - 78575",null,"78575","78575.99999","'03515009","'484240150001.78575",null,null,null,null,null,null,null,null,null,null,null,null,null,null,null,null,null,null,"484010010001.20396","MX",null,"01732001","MX"]
[null,null,null,null,null,null,null,null,null,null,null,null,null,null,"04338","09","003","COYOACAN",null," - 78560",null,"78560","78560.99999","'03506006","'484240060001.78560",null,null,null,null,null,null,null,null,null,null,null,null,null,null,null,null,null,null,"484010010001.20399","MX",null,"01733002","MX"]
[null,null,null,null,null,null,null,null,null,null,null,null,null,null,"04338","09","003","COYOACAN",null," - 78546",null,"78546","78546.99999","'03506006","'484240060001.78546",null,null,null,null,null,null,null,null,null,null,null,null,null,null,null,null,null,null,"484010020001.20700","MX",null,"01734006","MX"]
[null,null,null,null,null,null,null,null,null,null,null,null,null,null,"04340","09","003","COYOACAN",null," - 78533",null,"78533","78533.99999","'03507009","'484240070001.78533",null,null,null,null,null,null,null,null,null,null,null,null,null,null,null,null,null,null,"484010020001.20704","MX",null,"01734051","MX"]
[null,null,null,null,null,null,null,null,null,null,null,null,null,null,"04340","09","003","COYOACAN",null," - 78508",null,"78508","78508.99999","'03544003","'484240440001.78508",null,null,null,null,null,null,null,null,null,null,null,null,null,null,null,null,null,null,"484010020001.20705","MX",null,"01734103","MX"]
[null,null,null,null,null,null,null,null,null,null,null,null,null,null,"04340","09","003","COYOACAN",null," - 78495",null,"78495","78495.99999","'03546009","'484240460001.78495",null,null,null,null,null,null,null,null,null,null,null,null,null,null,null,null,null,null,"484010020001.20708","MX",null,"01734153","MX"]
[null,null,null,null,null,null,null,null,null,null,null,null,null,null,"04340","09","003","COYOACAN",null," - 78493",null,"78493","78493.99999","'03546009","'484240460001.78493",null,null,null,null,null,null,null,null,null,null,null,null,null,null,null,null,null,null,"484010020001.20709","MX",null,"01735004","MX"]
[null,null,null,null,null,null,null,null,null,null,null,null,null,null,"04350","09","003","COYOACAN",null," - 78475",null,"78475","78475.99999","'03521003","'484240210001.78475",null,null,null,null,null,null,null,null,null,null,null,null,null,null,null,null,null,null,"484010020001.20710","MX",null,"01736005","MX"]
[null,null,null,null,null,null,null,null,null,null,null,null,null,null,"04350","09","003","COYOACAN",null," - 78457",null,"78457","78457.99999","'03501009","'484240010001.78457",null,null,null,null,null,null,null,null,null,null,null,null,null,null,null,null,null,null,"484010020001.20712","MX",null,"01737009","MX"]
[null,null,null,null,null,null,null,null,null,null,null,null,null,null,"04350","09","003","COYOACAN",null," - 78455",null,"78455","78455.99999","'03501009","'484240010001.78455",null,null,null,null,null,null,null,null,null,null,null,null,null,null,null,null,null,null,"484010020001.20713","MX",null,"01738007","MX"]
[null,null,null,null,null,null,null,null,null,null,null,null,null,null,"04350","09","003","COYOACAN",null," - 78447",null,"78447","78447.99999","'03509006","'484240090001.78447",null,null,null,null,null,null,null,null,null,null,null,null,null,null,null,null,null,null,"484010020001.20714","MX",null,"01739008","MX"]
[null,null,null,null,null,null,null,null,null,null,null,null,null,null,"04350","09","003","COYOACAN",null," - 78407",null,"78407","78407.99999","'03528009","'484240280001.78407",null,null,null,null,null,null,null,null,null,null,null,null,null,null,null,null,null,null,"484010020001.20715","MX",null,"01739305","MX"]
[null,null,null,null,null,null,null,null,null,null,null,null,null,null,"04350","09","003","COYOACAN",null," - 78399",null,"78399","78399.99999","'03528009","'484240280001.78399",null,null,null,null,null,null,null,null,null,null,null,null,null,null,null,null,null,null,"484010020001.20716","MX",null,"01740003","MX"]
[null,null,null,null,null,null,null,null,null,null,null,null,null,null,"04359","09","003","COYOACAN",null," - 78385",null,"78385","78385.99999","'03528009","'484240280001.78385",null,null,null,null,null,null,null,null,null,null,null,null,null,null,null,null,null,null,"484010020001.20717","MX",null,"01740057","MX"]
[null,null,null,null,null,null,null,null,null,null,null,null,null,null,"04359","09","003","COYOACAN",null," - 78377",null,"78377","78377.99999","'03528009","'484240280001.78377",null,null,null,null,null,null,null,null,null,null,null,null,null,null,null,null,null,null,"484010020001.20720","MX",null,"01740159","MX"]
[null,null,null,null,null,null,null,null,null,null,null,null,null,null,"04360","09","003","COYOACAN",null," - 78365",null,"78365","78365.99999","'03528009","'484240280001.78365",null,null,null,null,null,null,null,null,null,null,null,null,null,null,null,null,null,null,"484010020001.20721","MX",null,"01740306","MX"]
[null,null,null,null,null,null,null,null,null,null,null,null,null,null,"04360","09","003","COYOACAN",null," - 78339",null,"78339","78339.99999","'03528009","'484240280001.78339",null,null,null,null,null,null,null,null,null,null,null,null,null,null,null,null,null,null,"484010020001.20722","MX",null,"01741007","MX"]
[null,null,null,null,null,null,null,null,null,null,null,null,null,null,"04360","09","003","COYOACAN",null," - 78320",null,"78320","78320.99999","'03528009","'484240280001.78320",null,null,null,null,null,null,null,null,null,null,null,null,null,null,null,null,null,null,"484010020001.20723","MX",null,"01742005","MX"]
[null,null,null,null,null,null,null,null,null,null,null,null,null,null,"04368","09","003","COYOACAN",null," - 78310",null,"78310","78310.99999","'03528009","'484240280001.78310",null,null,null,null,null,null,null,null,null,null,null,null,null,null,null,null,null,null,"484010020001.20724","MX",null,"01743006","MX"]
[null,null,null,null,null,null,null,null,null,null,null,null,null,null,"04368","09","003","COYOACAN",null," - 78306",null,"78306","78306.99999","'03528009","'484240280001.78306",null,null,null,null,null,null,null,null,null,null,null,null,null,null,null,null,null,null,"484010020001.20727","MX",null,"01744001","MX"]
[null,null,null,null,null,null,null,null,null,null,null,null,null,null,"04369","09","003","COYOACAN",null," - 78298",null,"78298","78298.99999","'03528009","'484240280001.78298",null,null,null,null,null,null,null,null,null,null,null,null,null,null,null,null,null,null,"484010020001.20728","MX",null,"01745008","MX"]
[null,null,null,null,null,null,null,null,null,null,null,null,null,null,"04369","09","003","COYOACAN",null," - 78290",null,"78290","78290.99999","'03528009","'484240280001.78290",null,null,null,null,null,null,null,null,null,null,null,null,null,null,null,null,null,null,"484010020001.20729","MX",null,"01746009","MX"]
[null,null,null,null,null,null,null,null,null,null,null,null,null,null,"04370","09","003","COYOACAN",null," - 78270",null,"78270","78270.99999","'03528009","'484240280001.78270",null,null,null,null,null,null,null,null,null,null,null,null,null,null,null,null,null,null,"484010020001.20730","MX",null,"01747004","MX"]
[null,null,null,null,null,null,null,null,null,null,null,null,null,null,"04370","09","003","COYOACAN",null," - 78250",null,"78250","78250.99999","'03528009","'484240280001.78250",null,null,null,null,null,null,null,null,null,null,null,null,null,null,null,null,null,null,"484010020001.20732","MX",null,"01748002","MX"]
[null,null,null,null,null,null,null,null,null,null,null,null,null,null,"04370","09","003","COYOACAN",null," - 78230",null,"78230","78230.99999","'03528009","'484240280001.78230",null,null,null,null,null,null,null,null,null,null,null,null,null,null,null,null,null,null,"484010020001.20734","MX",null,"01749003","MX"]
[null,null,null,null,null,null,null,null,null,null,null,null,null,null,"04370","09","003","COYOACAN",null," - 78218",null,"78218","78218.99999","'03528009","'484240280001.78218",null,null,null,null,null,null,null,null,null,null,null,null,null,null,null,null,null,null,"484010020001.20736","MX",null,"01750004","MX"]
[null,null,null,null,null,null,null,null,null,null,null,null,null,null,"04380","09","003","COYOACAN",null," - 78216",null,"78216","78216.99999","'03528009","'484240280001.78216",null,null,null,null,null,null,null,null,null,null,null,null,null,null,null,null,null,null,"484010020001.20738","MX",null,"01751008","MX"]
[null,null,null,null,null,null,null,null,null,null,null,null,null,null,"04380","09","003","COYOACAN",null," - 78210",null,"78210","78210.99999","'03528009","'484240280001.78210",null,null,null,null,null,null,null,null,null,null,null,null,null,null,null,null,null,null,"484010020001.20739","MX",null,"01752006","MX"]
[null,null,null,null,null,null,null,null,null,null,null,null,null,null,"04380","09","003","COYOACAN",null," - 78176",null,"78176","78176.99999","'03528009","'484240280001.78176",null,null,null,null,null,null,null,null,null,null,null,null,null,null,null,null,null,null,"484010020001.20740","MX",null,"01753007","MX"]
[null,null,null,null,null,null,null,null,null,null,null,null,null,null,"04389","09",null,"COYOACAN",null," - 78170",null,"78170","78170.99999","'03528009","'484240280001.78170",null,null,null,null,null,null,null,null,null,null,null,null,null,null,null,null,null,null,"484010020001.20741","MX",null,"01754002","MX"]
[null,null,null,null,null,null,null,null,null,null,null,null,null,null,"04390","09","003","COYOACAN",null," - 78153",null,"78153","78153.99999","'03528009","'484240280001.78153",null,null,null,null,null,null,null,null,null,null,null,null,null,null,null,null,null,null,"484010020001.20742","MX",null,"01755009","MX"]
[null,null,null,null,null,null,null,null,null,null,null,null,null,null,"04390","09","003","COYOACAN",null," - 78148",null,"78148","78148.99999","'03528009","'484240280001.78148",null,null,null,null,null,null,null,null,null,null,null,null,null,null,null,null,null,null,"484010020001.20744","MX",null,"01756001","MX"]
[null,null,null,null,null,null,null,null,null,null,null,null,null,null,"04390","09","003","COYOACAN",null," - 78146",null,"78146","78146.99999","'03528009","'484240280001.78146",null,null,null,null,null,null,null,null,null,null,null,null,null,null,null,null,null,null,"484010020001.20746","MX",null,"01757005","MX"]
[null,null,null,null,null,null,null,null,null,null,null,null,null,null,"04400","09","003","COYOACAN",null," - 78120",null,"78120","78120.99999","'03528009","'484240280001.78120",null,null,null,null,null,null,null,null,null,null,null,null,null,null,null,null,null,null,"484010020001.20748","MX",null,"01758003","MX"]
[null,null,null,null,null,null,null,null,null,null,null,null,null,null,"04400","09","003","COYOACAN",null," - 78116",null,"78116","78116.99999","'03528009","'484240280001.78116",null,null,null,null,null,null,null,null,null,null,null,null,null,null,null,null,null,null,"484010020001.20749","MX",null,"01758106","MX"]
[null,null,null,null,null,null,null,null,null,null,null,null,null,null,"04410","09","003","COYOACAN",null," - 78106",null,"78106","78106.99999","'03528009","'484240280001.78106",null,null,null,null,null,null,null,null,null,null,null,null,null,null,null,null,null,null,"484010020001.20750","MX",null,"01758159","MX"]
[null,null,null,null,null,null,null,null,null,null,null,null,null,null,"04410","09","003","COYOACAN",null," - 78038",null,"78038","78038.99999","'03528009","'484240280001.78038",null,null,null,null,null,null,null,null,null,null,null,null,null,null,null,null,null,null,"484010020001.20760","MX",null,"01758204","MX"]
[null,null,null,null,null,null,null,null,null,null,null,null,null,null,"04410","09","003","COYOACAN",null," - 77994",null,"77994","77994.99999","'03420009","'484230040001.77994",null,null,null,null,null,null,null,null,null,null,null,null,null,null,null,null,null,null,"484010020001.20765","MX",null,"01758253","MX"]
[null,null,null,null,null,null,null,null,null,null,null,null,null,null,"04420","09","003","COYOACAN",null," - 77986",null,"77986","77986.99999","'03420009","'484230040001.77986",null,null,null,null,null,null,null,null,null,null,null,null,null,null,null,null,null,null,"484010020001.20768","MX",null,"01758306","MX"]
[null,null,null,null,null,null,null,null,null,null,null,null,null,null,"04420","09","003","COYOACAN",null," - 77980",null,"77980","77980.99999","'03420009","'484230040001.77980",null,null,null,null,null,null,null,null,null,null,null,null,null,null,null,null,null,null,"484010020001.20770","MX",null,"01759004","MX"]
[null,null,null,null,null,null,null,null,null,null,null,null,null,null,"04430","09",null,"COYOACAN",null," - 77976",null,"77976","77976.99999","'03420009","'484230040001.77976",null,null,null,null,null,null,null,null,null,null,null,null,null,null,null,null,null,null,"484010020001.20771","MX",null,"01760002","MX"]
[null,null,null,null,null,null,null,null,null,null,null,null,null,null,"04440","09","003","COYOACAN",null," - 77962",null,"77962","77962.99999","'03420009","'484230040001.77962",null,null,null,null,null,null,null,null,null,null,null,null,null,null,null,null,null,null,"484010020001.20773","MX",null,"01761006","MX"]
[null,null,null,null,null,null,null,null,null,null,null,null,null,null,"04440","09","003","COYOACAN",null," - 77959",null,"77959","77959.99999","'03420009","'484230040001.77959",null,null,null,null,null,null,null,null,null,null,null,null,null,null,null,null,null,null,"484010020001.20775","MX",null,"01762004","MX"]
[null,null,null,null,null,null,null,null,null,null,null,null,null,null,"04440","09","003","COYOACAN",null," - 77954",null,"77954","77954.99999","'03420009","'484230040001.77954",null,null,null,null,null,null,null,null,null,null,null,null,null,null,null,null,null,null,"484010020001.20777","MX",null,"01763005","MX"]
[null,null,null,null,null,null,null,null,null,null,null,null,null,null,"04440","09","003","COYOACAN",null," - 77935",null,"77935","77935.99999","'03420052","'484230040001.77935",null,null,null,null,null,null,null,null,null,null,null,null,null,null,null,null,null,null,"484010020001.20779","MX",null,"01764009","MX"]
[null,null,null,null,null,null,null,null,null,null,null,null,null,null,"04450","09","003","COYOACAN",null," - 77933",null,"77933","77933.99999","'","'484230040001.77933",null,null,null,null,null,null,null,null,null,null,null,null,null,null,null,null,null,null,"484010020001.20780","MX",null,"01765007","MX"]
[null,null,null,null,null,null,null,null,null,null,null,null,null,null,"04450","09","003","COYOACAN",null," - 77926",null,"77926","77926.99999","'03420052","'484230040001.77926",null,null,null,null,null,null,null,null,null,null,null,null,null,null,null,null,null,null,"484010020001.20782","MX",null,"01766008","MX"]
[null,null,null,null,null,null,null,null,null,null,null,null,null,null,"04460","09","003","COYOACAN",null," - 77924",null,"77924","77924.99999","'03420052","'484230040001.77924",null,null,null,null,null,null,null,null,null,null,null,null,null,null,null,null,null,null,"484010020001.20785","MX",null,"01767003","MX"]
[null,null,null,null,null,null,null,null,null,null,null,null,null,null,"04460","09","003","COYOACAN",null," - 77920",null,"77920","77920.99999","'03420052","'484230040001.77920",null,null,null,null,null,null,null,null,null,null,null,null,null,null,null,null,null,null,"484010020001.20790","MX",null,"01768001","MX"]
[null,null,null,null,null,null,null,null,null,null,null,null,null,null,"04470","09","003","COYOACAN",null," - 77916",null,"77916","77916.99999","'03420052","'484230040001.77916",null,null,null,null,null,null,null,null,null,null,null,null,null,null,null,null,null,null,"484010020001.20792","MX",null,"01768059","MX"]
[null,null,null,null,null,null,null,null,null,null,null,null,null,null,"04470","09","003","COYOACAN",null," - 77914",null,"77914","77914.99999","'03420052","'484230040001.77914",null,null,null,null,null,null,null,null,null,null,null,null,null,null,null,null,null,null,"484010020001.20794","MX",null,"01769002","MX"]
[null,null,null,null,null,null,null,null,null,null,null,null,null,null,"04470","09","003","COYOACAN",null," - 77906",null,"77906","77906.99999","'03420052","'484230040001.77906",null,null,null,null,null,null,null,null,null,null,null,null,null,null,null,null,null,null,"484010020001.20795","MX",null,"01770006","MX"]
[null,null,null,null,null,null,null,null,null,null,null,null,null,null,"04480","09","003","COYOACAN",null," - 77903",null,"77903","77903.99999","'03420052","'484230040001.77903",null,null,null,null,null,null,null,null,null,null,null,null,null,null,null,null,null,null,"484010020001.20796","MX",null,"01771001","MX"]
[null,null,null,null,null,null,null,null,null,null,null,null,null,null,"04480","09","003","COYOACAN",null," - 77898",null,"77898","77898.99999","'03410201","'484230060069.77898",null,null,null,null,null,null,null,null,null,null,null,null,null,null,null,null,null,null,"484010020001.20797","MX",null,"01771154","MX"]
[null,null,null,null,null,null,null,null,null,null,null,null,null,null,"04480","09","003","COYOACAN",null," - 77895",null,"77895","77895.99999","'03410201","'484230060069.77895",null,null,null,null,null,null,null,null,null,null,null,null,null,null,null,null,null,null,"484010020001.20799","MX",null,"01772008","MX"]
[null,null,null,null,null,null,null,null,null,null,null,null,null,null,"04480","09","003","COYOACAN",null," - 77893",null,"77893","77893.99999","'03410201","'484230060069.77893",null,null,null,null,null,null,null,null,null,null,null,null,null,null,null,null,null,null,"484010030001.20800","MX",null,"01773009","MX"]
[null,null,null,null,null,null,null,null,null,null,null,null,null,null,"04480","09","003","COYOACAN",null," - 77883",null,"77883","77883.99999","'03410201","'484230060069.77883",null,null,null,null,null,null,null,null,null,null,null,null,null,null,null,null,null,null,"484010030001.20802","MX",null,"01774004","MX"]
[null,null,null,null,null,null,null,null,null,null,null,null,null,null,"04489","09","003","COYOACAN",null," - 77876",null,"77876","77876.99999","'03410201","'484230060069.77876",null,null,null,null,null,null,null,null,null,null,null,null,null,null,null,null,null,null,"484010030001.20803","MX",null,"01775002","MX"]
[null,null,null,null,null,null,null,null,null,null,null,null,null,null,"04489","09","003","COYOACAN",null," - 77859",null,"77859","77859.99999","'03410201","'484230060069.77859",null,null,null,null,null,null,null,null,null,null,null,null,null,null,null,null,null,null,"484010030001.20804","MX",null,"01776003","MX"]
[null,null,null,null,null,null,null,null,null,null,null,null,null,null,"04490","09","003","COYOACAN",null," - 77850",null,"77850","77850.99999","'03410201","'484230060069.77850",null,null,null,null,null,null,null,null,null,null,null,null,null,null,null,null,null,null,"484010030001.20805","MX",null,"01777007","MX"]
[null,null,null,null,null,null,null,null,null,null,null,null,null,null,"04490","09","003","COYOACAN",null," - 77808",null,"77808","77808.99999","'03410201","'484230060069.77808",null,null,null,null,null,null,null,null,null,null,null,null,null,null,null,null,null,null,"484010030001.20810","MX",null,"01778005","MX"]
[null,null,null,null,null,null,null,null,null,null,null,null,null,null,"04490","09","003","COYOACAN",null," - 77806",null,"77806","77806.99999","'03410201","'484230060069.77806",null,null,null,null,null,null,null,null,null,null,null,null,null,null,null,null,null,null,"484010030001.20814","MX",null,"01779006","MX"]
[null,null,null,null,null,null,null,null,null,null,null,null,null,null,"04500","09","003","COYOACAN",null," - 77796",null,"77796","77796.99999","'03422573","'484230090001.77796",null,null,null,null,null,null,null,null,null,null,null,null,null,null,null,null,null,null,"484010030001.20816","MX",null,"01780007","MX"]
[null,null,null,null,null,null,null,null,null,null,null,null,null,null,"04500","09","003","COYOACAN",null," - 77794",null,"77794","77794.99999","'03422573","'484230090001.77794",null,null,null,null,null,null,null,null,null,null,null,null,null,null,null,null,null,null,"484010030001.20820","MX",null,"01781002","MX"]
[null,null,null,null,null,null,null,null,null,null,null,null,null,null,"04510","09","003","COYOACAN",null," - 77776",null,"77776","77776.99999","'03422573","'484230090001.77776",null,null,null,null,null,null,null,null,null,null,null,null,null,null,null,null,null,null,"484010030001.20824","MX",null,"01782009","MX"]
[null,null,null,null,null,null,null,null,null,null,null,null,null,null,"04510","09","003","COYOACAN",null," - 77768",null,"77768","77768.99999","'03422573","'484230090001.77768",null,null,null,null,null,null,null,null,null,null,null,null,null,null,null,null,null,null,"484010030001.20830","MX",null,"01783001","MX"]
[null,null,null,null,null,null,null,null,null,null,null,null,null,null,"04513","09","003","COYOACAN",null," - 77760",null,"77760","77760.99999","'03422573","'484230090001.77760",null,null,null,null,null,null,null,null,null,null,null,null,null,null,null,null,null,null,"484010030001.20832","MX",null,"01784005","MX"]
[null,null,null,null,null,null,null,null,null,null,null,null,null,null,"04513","09","003","COYOACAN",null," - 77750",null,"77750","77750.99999","'03422006","'484230080001.77750",null,null,null,null,null,null,null,null,null,null,null,null,null,null,null,null,null,null,"484010030001.20834","MX",null,"01785003","MX"]
[null,null,null,null,null,null,null,null,null,null,null,null,null,null,"04513","09","003","COYOACAN",null," - 77734",null,"77734","77734.99999","'03422006","'484230080001.77734",null,null,null,null,null,null,null,null,null,null,null,null,null,null,null,null,null,null,"484010030001.20840","MX",null,"01786004","MX"]
[null,null,null,null,null,null,null,null,null,null,null,null,null,null,"04519","09","003","COYOACAN",null," - 77728",null,"77728","77728.99999","'03422006","'484230080001.77728",null,null,null,null,null,null,null,null,null,null,null,null,null,null,null,null,null,null,"484010030001.20842","MX",null,"01787008","MX"]
[null,null,null,null,null,null,null,null,null,null,null,null,null,null,"04519","09","003","COYOACAN",null," - 77726",null,"77726","77726.99999","'03422006","'484230080001.77726",null,null,null,null,null,null,null,null,null,null,null,null,null,null,null,null,null,null,"484010030001.20844","MX",null,"01788006","MX"]
[null,null,null,null,null,null,null,null,null,null,null,null,null,null,"04530","09","003","COYOACAN",null," - 77724",null,"77724","77724.99999","'03422006","'484230080001.77724",null,null,null,null,null,null,null,null,null,null,null,null,null,null,null,null,null,null,"484010030001.20850","MX",null,"01789007","MX"]
[null,null,null,null,null,null,null,null,null,null,null,null,null,null,"04530","09","003","COYOACAN",null," - 77718",null,"77718","77718.99999","'03422006","'484230080001.77710",null,null,null,null,null,null,null,null,null,null,null,null,null,null,null,null,null,null,"484010030001.20852","MX",null,"01790005","MX"]
[null,null,null,null,null,null,null,null,null,null,null,null,null,null,"04535","09","003","COYOACAN",null," - 77712",null,"77712","77712.99999","'03422006","'484230080001.77712",null,null,null,null,null,null,null,null,null,null,null,null,null,null,null,null,null,null,"484010030001.20854","MX",null,"01790302","MX"]
[null,null,null,null,null,null,null,null,null,null,null,null,null,null,"04535","09","003","COYOACAN",null," - 77673",null,"77673","77673.99999","'03405219","'484230010001.77673",null,null,null,null,null,null,null,null,null,null,null,null,null,null,null,null,null,null,"484010030001.20856","MX",null,"01791009","MX"]
[null,null,null,null,null,null,null,null,null,null,null,null,null,null,"04600","09","003","COYOACAN",null," - 77665",null,"77665","77665.99999","'03405219","'484230010001.77665",null,null,null,null,null,null,null,null,null,null,null,null,null,null,null,null,null,null,"484010030001.20860","MX",null,"01791303","MX"]
[null,null,null,null,null,null,null,null,null,null,null,null,null,null,"04600","09","003","COYOACAN",null," - 77620",null,"77620","77620.99999","'03405219","'484230010001.77620",null,null,null,null,null,null,null,null,null,null,null,null,null,null,null,null,null,null,"484010030001.20862","MX",null,"01792007","MX"]
[null,null,null,null,null,null,null,null,null,null,null,null,null,null,"04610","09","003","COYOACAN",null," - 77610",null,"77610","77610.99999","'03405219","'484230010001.77610",null,null,null,null,null,null,null,null,null,null,null,null,null,null,null,null,null,null,"484010030001.20864","MX",null,"01793008","MX"]
[null,null,null,null,null,null,null,null,null,null,null,null,null,null,"04610","09","003","COYOACAN",null," - 77560",null,"77560","77560.99999","'03403089","'484230050001.77560",null,null,null,null,null,null,null,null,null,null,null,null,null,null,null,null,null,null,"484010030001.20870","MX",null,"01794003","MX"]
[null,null,null,null,null,null,null,null,null,null,null,null,null,null,"04620","09","003","COYOACAN",null," - 77534",null,"77534","77534.99999","'03403089","'484230050001.77534",null,null,null,null,null,null,null,null,null,null,null,null,null,null,null,null,null,null,"484010030001.20872","MX",null,"01795001","MX"]
[null,null,null,null,null,null,null,null,null,null,null,null,null,null,"04620","09","003","COYOACAN",null," - 77525",null,"77525","77525.99999","'03403089","'484230050001.77525",null,null,null,null,null,null,null,null,null,null,null,null,null,null,null,null,null,null,"484010030001.20874","MX",null,"01796002","MX"]
[null,null,null,null,null,null,null,null,null,null,null,null,null,null,"04630","09","003","COYOACAN",null," - 77520",null,"77520","77520.99999","'03403089","'484230050001.77520",null,null,null,null,null,null,null,null,null,null,null,null,null,null,null,null,null,null,"484010030001.20880","MX",null,"01797006","MX"]
[null,null,null,null,null,null,null,null,null,null,null,null,null,null,"04630","09","003","COYOACAN",null," - 77518",null,"77518","77518.99999","'03403089","'484230050001.77518",null,null,null,null,null,null,null,null,null,null,null,null,null,null,null,null,null,null,"484010030001.20882","MX",null,"01798004","MX"]
[null,null,null,null,null,null,null,null,null,null,null,null,null,null,"04640","09","003","COYOACAN",null," - 77516",null,"77516","77516.99999","'03403089","'484230050001.77516",null,null,null,null,null,null,null,null,null,null,null,null,null,null,null,null,null,null,"484010030001.20884","MX",null,"01799005","MX"]
[null,null,null,null,null,null,null,null,null,null,null,null,null,null,"04640","09","003","COYOACAN",null," - 77514",null,"77514","77514.99999","'03403089","'484230050001.77514",null,null,null,null,null,null,null,null,null,null,null,null,null,null,null,null,null,null,"484010030001.20890","MX",null,"01801001","MX"]
[null,null,null,null,null,null,null,null,null,null,null,null,null,null,"04650","09","003","COYOACAN",null," - 77503",null,"77503","77503.99999","'03403089","'484230050001.77503",null,null,null,null,null,null,null,null,null,null,null,null,null,null,null,null,null,null,"484010030001.20892","MX",null,"01802005","MX"]
[null,null,null,null,null,null,null,null,null,null,null,null,null,null,"04650","09","003","COYOACAN",null," - 77408",null,"77408","77408.99999","'03415101","'484230030001.77408",null,null,null,null,null,null,null,null,null,null,null,null,null,null,null,null,null,null,"484010030001.20899","MX",null,"01803003","MX"]
[null,null,null,null,null,null,null,null,null,null,null,null,null,null,"04650","09","003","COYOACAN",null," - 77404",null,"77404","77404.99999","'03415101","'484230030001.77404",null,null,null,null,null,null,null,null,null,null,null,null,null,null,null,null,null,null,"484010040001.20460","MX",null,"01804004","MX"]
[null,null,null,null,null,null,null,null,null,null,null,null,null,null,"04660","09","003","COYOACAN",null," - 77390",null,"77390","77390.99999","'03418639","'484230070001.77390",null,null,null,null,null,null,null,null,null,null,null,null,null,null,null,null,null,null,"484010040001.20462","MX",null,"01805008","MX"]
[null,null,null,null,null,null,null,null,null,null,null,null,null,null,"04660","09","003","COYOACAN",null," - 77370",null,"77370","77370.99999","'03418639","'484230070001.77370",null,null,null,null,null,null,null,null,null,null,null,null,null,null,null,null,null,null,"484010040001.20466","MX",null,"01806006","MX"]
[null,null,null,null,null,null,null,null,null,null,null,null,null,null,"04660","09","003","COYOACAN",null," - 77366",null,"77366","77366.99999","'03418639","'484230070001.77366",null,null,null,null,null,null,null,null,null,null,null,null,null,null,null,null,null,null,"484010040001.20467","MX",null,"01806057","MX"]
[null,null,null,null,null,null,null,null,null,null,null,null,null,null,"04700","09","003","COYOACAN",null," - 77350",null,"77350","77350.99999","'03418639","'484230070001.77350",null,null,null,null,null,null,null,null,null,null,null,null,null,null,null,null,null,null,"484010040001.20468","MX",null,"01806106","MX"]
[null,null,null,null,null,null,null,null,null,null,null,null,null,null,"04700","09","003","COYOACAN",null," - 77326",null,"77326","77326.99999","'03418639","'484230070001.77326",null,null,null,null,null,null,null,null,null,null,null,null,null,null,null,null,null,null,"484010040001.20469","MX",null,"01806153","MX"]
[null,null,null,null,null,null,null,null,null,null,null,null,null,null,"04700","09","003","COYOACAN",null," - 77306",null,"77306","77306.99999","'03418639","'484230070001.77306",null,null,null,null,null,null,null,null,null,null,null,null,null,null,null,null,null,null,"484010040001.20470","MX",null,"01806201","MX"]
[null,null,null,null,null,null,null,null,null,null,null,null,null,null,"04710","09","003","COYOACAN",null," - 77302",null,"77302","77302.99999","'03418639","'484230070001.77302",null,null,null,null,null,null,null,null,null,null,null,null,null,null,null,null,null,null,"484010040001.20472","MX",null,"01807007","MX"]
[null,null,null,null,null,null,null,null,null,null,null,null,null,null,"04710","09","003","COYOACAN",null," - 77259",null,"77259","77259.99999","'03410054","'484230020001.77259",null,null,null,null,null,null,null,null,null,null,null,null,null,null,null,null,null,null,"484010040001.20476","MX",null,"01808002","MX"]
[null,null,null,null,null,null,null,null,null,null,null,null,null,null,"04718","09","003","COYOACAN",null," - 77216",null,"77216","77216.99999","'03410054","'484230020001.77216",null,null,null,null,null,null,null,null,null,null,null,null,null,null,null,null,null,null,"484010040001.20478","MX",null,"01809009","MX"]
[null,null,null,null,null,null,null,null,null,null,null,null,null,null,"04718","09","003","COYOACAN",null," - 77214",null,"77214","77214.99999","'03410054","'484230020001.77214",null,null,null,null,null,null,null,null,null,null,null,null,null,null,null,null,null,null,"484010050001.20900","MX",null,"01810007","MX"]
[null,null,null,null,null,null,null,null,null,null,null,null,null,null,"04719","09","003","COYOACAN",null," - 77196",null,"77196","77196.99999","'03410054","'484230020001.77196",null,null,null,null,null,null,null,null,null,null,null,null,null,null,null,null,null,null,"484010050001.20901","MX",null,"01811008","MX"]
[null,null,null,null,null,null,null,null,null,null,null,null,null,null,"04719","09","003","COYOACAN",null," - 77189",null,"77189","77189.99999","'03410054","'484230020001.77189",null,null,null,null,null,null,null,null,null,null,null,null,null,null,null,null,null,null,"484010050001.20902","MX",null,"01812003","MX"]
[null,null,null,null,null,null,null,null,null,null,null,null,null,null,"04719","09","003","COYOACAN",null," - 77156",null,"77156","77156.99999","'03410054","'484230020001.77156",null,null,null,null,null,null,null,null,null,null,null,null,null,null,null,null,null,null,"484010050001.20903","MX",null,"01812103","MX"]
[null,null,null,null,null,null,null,null,null,null,null,null,null,null,"04720","09","003","COYOACAN",null," - 77140",null,"77140","77140.99999","'03410054","'484230020001.77140",null,null,null,null,null,null,null,null,null,null,null,null,null,null,null,null,null,null,"484010050001.20904","MX",null,"01812306","MX"]
[null,null,null,null,null,null,null,null,null,null,null,null,null,null,"04720","09","003","COYOACAN",null," - 77120",null,"77120","77120.99999","'03410054","'484230020001.77120",null,null,null,null,null,null,null,null,null,null,null,null,null,null,null,null,null,null,"484010050001.20905","MX",null,"01813001","MX"]
[null,null,null,null,null,null,null,null,null,null,null,null,null,null,"04729","09","003","COYOACAN",null," - 77110",null,"77110","77110.99999","'03410054","'484230020001.77110",null,null,null,null,null,null,null,null,null,null,null,null,null,null,null,null,null,null,"484010050001.20906","MX",null,"01813301","MX"]
[null,null,null,null,null,null,null,null,null,null,null,null,null,null,"04729","09","003","COYOACAN",null," - 77107",null,"77107","77107.99999","'03410054","'484230020001.77107",null,null,null,null,null,null,null,null,null,null,null,null,null,null,null,null,null,null,"484010050001.20907","MX",null,"01814002","MX"]
[null,null,null,null,null,null,null,null,null,null,null,null,null,null,"04730","09","003","COYOACAN",null," - 77104",null,"77104","77104.99999","'03410054","'484230020001.77104",null,null,null,null,null,null,null,null,null,null,null,null,null,null,null,null,null,null,"484010050001.20908","MX",null,"01815006","MX"]
[null,null,null,null,null,null,null,null,null,null,null,null,null,null,"04730","09","003","COYOACAN",null," - 77080",null,"77080","77080.99999","'03420009","'484230040001.77080",null,null,null,null,null,null,null,null,null,null,null,null,null,null,null,null,null,null,"484010050001.20909","MX",null,"01816004","MX"]
[null,null,null,null,null,null,null,null,null,null,null,null,null,null,"04730","09","003","COYOACAN",null," - 77059",null,"77059","77059.99999","'03420009","'484230040001.77059",null,null,null,null,null,null,null,null,null,null,null,null,null,null,null,null,null,null,"484010050001.20912","MX",null,"01817005","MX"]
[null,null,null,null,null,null,null,null,null,null,null,null,null,null,"04737","09",null,"COYOACAN",null," - 77050",null,"77050","77050.99999","'03420009","'484230040001.77050",null,null,null,null,null,null,null,null,null,null,null,null,null,null,null,null,null,null,"484010050001.20914","MX",null,"01818009","MX"]
[null,null,null,null,null,null,null,null,null,null,null,null,null,null,"04738","09","003","COYOACAN",null," - 77048",null,"77048","77048.99999","'03420009","'484230040001.77048",null,null,null,null,null,null,null,null,null,null,null,null,null,null,null,null,null,null,"484010050001.20915","MX",null,"01819007","MX"]
[null,null,null,null,null,null,null,null,null,null,null,null,null,null,"04738","09","003","COYOACAN",null," - 77039",null,"77039","77039.99999","'03420009","'484230040001.77039",null,null,null,null,null,null,null,null,null,null,null,null,null,null,null,null,null,null,"484010050001.20916","MX",null,"01820002","MX"]
[null,null,null,null,null,null,null,null,null,null,null,null,null,null,"04738","09","003","COYOACAN",null," - 77011",null,"77011","77011.99999","'03420009","'484230040001.77011",null,null,null,null,null,null,null,null,null,null,null,null,null,null,null,null,null,null,"484010050001.20917","MX",null,"01821003","MX"]
[null,null,null,null,null,null,null,null,null,null,null,null,null,null,"04739","09","003","COYOACAN",null," - 77009",null,"77009","77009.99999","'03420009","'484230040001.77009",null,null,null,null,null,null,null,null,null,null,null,null,null,null,null,null,null,null,"484010050001.20919","MX",null,"01822007","MX"]
[null,null,null,null,null,null,null,null,null,null,null,null,null,null,"04739","09","003","COYOACAN",null," - 76997",null,"76997","76997.99999","'03324009","'484220080001.76997",null,null,null,null,null,null,null,null,null,null,null,null,null,null,null,null,null,null,"484010050001.20920","MX",null,"01823005","MX"]
[null,null,null,null,null,null,null,null,null,null,null,null,null,null,"04800","09","003","COYOACAN",null," - 76992",null,"76992","76992.99999","'03324009","'484220080001.76992",null,null,null,null,null,null,null,null,null,null,null,null,null,null,null,null,null,null,"484010050001.20922","MX",null,"01824006","MX"]
[null,null,null,null,null,null,null,null,null,null,null,null,null,null,"04800","09","003","COYOACAN",null," - 76985",null,"76985","76985.99999","'03324009","'484220080001.76985",null,null,null,null,null,null,null,null,null,null,null,null,null,null,null,null,null,null,"484010050001.20923","MX",null,"01825001","MX"]
[null,null,null,null,null,null,null,null,null,null,null,null,null,null,"04800","09","003","COYOACAN",null," - 76983",null,"76983","76983.99999","'03324009","'484220080001.76983",null,null,null,null,null,null,null,null,null,null,null,null,null,null,null,null,null,null,"484010050001.20924","MX",null,"01826008","MX"]
[null,null,null,null,null,null,null,null,null,null,null,null,null,null,"04809","09",null,"COYOACAN",null," - 76980",null,"76980","76980.99999","'03324009","'484220080001.76980",null,null,null,null,null,null,null,null,null,null,null,null,null,null,null,null,null,null,"484010050001.20925","MX",null,"01901002","MX"]
[null,null,null,null,null,null,null,null,null,null,null,null,null,null,"04810","09","003","COYOACAN",null," - 76974",null,"76974","76974.99999","'03324009","'484220080001.76974",null,null,null,null,null,null,null,null,null,null,null,null,null,null,null,null,null,null,"484010050001.20926","MX",null,"01902003","MX"]
[null,null,null,null,null,null,null,null,null,null,null,null,null,null,"04810","09","003","COYOACAN",null," - 76970",null,"76970","76970.99999","'03324009","'484220080001.76970",null,null,null,null,null,null,null,null,null,null,null,null,null,null,null,null,null,null,"484010050001.20927","MX",null,"01903007","MX"]
[null,null,null,null,null,null,null,null,null,null,null,null,null,null,"04815","09","003","COYOACAN",null," - 76950",null,"76950","76950.99999","'03324009","'484220080001.76950",null,null,null,null,null,null,null,null,null,null,null,null,null,null,null,null,null,null,"484010050001.20928","MX",null,"01903059","MX"]
[null,null,null,null,null,null,null,null,null,null,null,null,null,null,"04815","09","003","COYOACAN",null," - 76927",null,"76927","76927.99999","'03318009","'484220060001.76927",null,null,null,null,null,null,null,null,null,null,null,null,null,null,null,null,null,null,"484010050001.20940","MX",null,"01903103","MX"]
[null,null,null,null,null,null,null,null,null,null,null,null,null,null,"04830","09","003","COYOACAN",null," - 76925",null,"76925","76925.99999","'03318009","'484220060001.76925",null,null,null,null,null,null,null,null,null,null,null,null,null,null,null,null,null,null,"484010050001.20943","MX",null,"01904005","MX"]
[null,null,null,null,null,null,null,null,null,null,null,null,null,null,"04830","09","003","COYOACAN",null," - 76894",null,"76894","76894.99999","'03303009","'484220010001.76894",null,null,null,null,null,null,null,null,null,null,null,null,null,null,null,null,null,null,"484010050001.20945","MX",null,"01905006","MX"]
[null,null,null,null,null,null,null,null,null,null,null,null,null,null,"04830","09","003","COYOACAN",null," - 76885",null,"76885","76885.99999","'03303009","'484220010001.76885",null,null,null,null,null,null,null,null,null,null,null,null,null,null,null,null,null,null,"484010050001.20947","MX",null,"01906001","MX"]
[null,null,null,null,null,null,null,null,null,null,null,null,null,null,"04840","09","003","COYOACAN",null," - 76879",null,"76879","76879.99999","'03303009","'484220010001.76879",null,null,null,null,null,null,null,null,null,null,null,null,null,null,null,null,null,null,"484010050001.20950","MX",null,"01907008","MX"]
[null,null,null,null,null,null,null,null,null,null,null,null,null,null,"04840","09","003","COYOACAN",null," - 76875",null,"76875","76875.99999","'03303009","'484220010001.76875",null,null,null,null,null,null,null,null,null,null,null,null,null,null,null,null,null,null,"484010050001.20953","MX",null,"01908009","MX"]
[null,null,null,null,null,null,null,null,null,null,null,null,null,null,"04843","09","003","COYOACAN",null," - 76828",null,"76828","76828.99999","'03351009","'484220160001.76828",null,null,null,null,null,null,null,null,null,null,null,null,null,null,null,null,null,null,"484010050001.20955","MX",null,"01909004","MX"]
[null,null,null,null,null,null,null,null,null,null,null,null,null,null,"04843","09","003","COYOACAN",null," - 76813",null,"76813","76813.99999","'03351009","'484220160001.76813",null,null,null,null,null,null,null,null,null,null,null,null,null,null,null,null,null,null,"484010050001.20957","MX",null,"01910005","MX"]
[null,null,null,null,null,null,null,null,null,null,null,null,null,null,"04849","09","003","COYOACAN",null," - 76804",null,"76804","76804.99999","'03351009","'484220160001.76804",null,null,null,null,null,null,null,null,null,null,null,null,null,null,null,null,null,null,"484010050001.20959","MX",null,"01911003","MX"]
[null,null,null,null,null,null,null,null,null,null,null,null,null,null,"04849","09","003","COYOACAN",null," - 76800",null,"76800","76800.99999","'03351009","'484220160001.76800",null,null,null,null,null,null,null,null,null,null,null,null,null,null,null,null,null,null,"484010050001.20960","MX",null,"01912004","MX"]
[null,null,null,null,null,null,null,null,null,null,null,null,null,null,"04850","09","003","COYOACAN",null," - 76780",null,"76780","76780.99999","'03354009","'484220170001.76780",null,null,null,null,null,null,null,null,null,null,null,null,null,null,null,null,null,null,"484010050001.20964","MX",null,"01913008","MX"]
[null,null,null,null,null,null,null,null,null,null,null,null,null,null,"04850","09","003","COYOACAN",null," - 76773",null,"76773","76773.99999","'03354009","'484220170001.76773",null,null,null,null,null,null,null,null,null,null,null,null,null,null,null,null,null,null,"484010050001.20967","MX",null,"01914006","MX"]
[null,null,null,null,null,null,null,null,null,null,null,null,null,null,"04859","09","003","COYOACAN",null," - 76743",null,"76743","76743.99999","'03336009","'484220120001.76743",null,null,null,null,null,null,null,null,null,null,null,null,null,null,null,null,null,null,"484010050001.20970","MX",null,"01914057","MX"]
[null,null,null,null,null,null,null,null,null,null,null,null,null,null,"04859","09","003","COYOACAN",null," - 76714",null,"76714","76714.99999","'03336009","'484220120001.76714",null,null,null,null,null,null,null,null,null,null,null,null,null,null,null,null,null,null,"484010050001.20974","MX",null,"01914106","MX"]
[null,null,null,null,null,null,null,null,null,null,null,null,null,null,"04870","09","003","COYOACAN",null," - 76709",null,"76709","76709.99999","'03336009","'484220120001.76709",null,null,null,null,null,null,null,null,null,null,null,null,null,null,null,null,null,null,"484010050001.20980","MX",null,"01915007","MX"]
[null,null,null,null,null,null,null,null,null,null,null,null,null,null,"04870","09","003","COYOACAN",null," - 76700",null,"76700","76700.99999","'03336009","'484220120001.76700",null,null,null,null,null,null,null,null,null,null,null,null,null,null,null,null,null,null,"484010050001.20981","MX",null,"01916002","MX"]
[null,null,null,null,null,null,null,null,null,null,null,null,null,null,"04870","09","003","COYOACAN",null," - 76686",null,"76686","76686.99999","'03321009","'484220070001.76686",null,null,null,null,null,null,null,null,null,null,null,null,null,null,null,null,null,null,"484010050001.20983","MX",null,"01917009","MX"]
[null,null,null,null,null,null,null,null,null,null,null,null,null,null,"04890","09","003","COYOACAN",null," - 76680",null,"76680","76680.99999","'03321009","'484220070001.76680",null,null,null,null,null,null,null,null,null,null,null,null,null,null,null,null,null,null,"484010050001.20984","MX",null,"01918001","MX"]
[null,null,null,null,null,null,null,null,null,null,null,null,null,null,"04890","09","003","COYOACAN",null," - 76677",null,"76677","76677.99999","'03321009","'484220070001.76677",null,null,null,null,null,null,null,null,null,null,null,null,null,null,null,null,null,null,"484010050001.20986","MX",null,"01919005","MX"]
[null,null,null,null,null,null,null,null,null,null,null,null,null,null,"04890","09","003","COYOACAN",null," - 76649",null,"76649","76649.99999","'03357009","'484220180001.76649",null,null,null,null,null,null,null,null,null,null,null,null,null,null,null,null,null,null,"484010050001.20987","MX",null,"01920003","MX"]
[null,null,null,null,null,null,null,null,null,null,null,null,null,null,"05500","09","004","CUAJIMALPA DE MORELOS",null," - 74941",null,"74941","74941.99999","'03003009","'484210030001.74941",null,null,null,null,null,null,null,null,null,null,null,null,null,null,null,null,null,null,"484020010001.22794","MX",null,"02145006","MX"]
[null,null,null,null,null,null,null,null,null,null,null,null,null,null,"06880","09","015","CUAUHTEMOC",null," - 71437",null,"71437","71437.99999","'02822004","'484204200001.71437",null,null,null,null,null,null,null,null,null,null,null,null,null,null,null,null,null,null,"484020020001.21399","MX",null,"02477007","MX"]
[null,null,null,null,null,null,null,null,null,null,null,null,null,null,"07164","09","005","GUSTAVO A. MADERO",null," - 70575",null,"70575","70575.99999","'02408001","'484200080001.70575",null,null,null,null,null,null,null,null,null,null,null,null,null,null,null,null,null,null,"484020020001.21925","MX",null,"02549004","MX"]
[null,null,null,null,null,null,null,null,null,null,null,null,null,null,"07979","09","005","GUSTAVO A. MADERO",null," - 67938",null,"67938","67938.99999","'02315001","'484190140001.67938",null,null,null,null,null,null,null,null,null,null,null,null,null,null,null,null,null,null,"484030010001.23801","MX",null,"02856006","MX"]
[null,null,null,null,null,null,null,null,null,null,null,null,null,null,"09020","09","007","IZTAPALAPA",null," - 66468",null,"66468","66468.99999","'02347002","'484190460001.66468",null,null,null,null,null,null,null,null,null,null,null,null,null,null,null,null,null,null,"484030030001.23100","MX",null,"03005003","MX"]
[null,null,null,null,null,null,null,null,null,null,null,null,null,null,"09360","09","007","IZTAPALAPA",null," - 64368",null,"64368","64368.99999","'02340009","'484190390001.64368",null,null,null,null,null,null,null,null,null,null,null,null,null,null,null,null,null,null,"484030080001.23541","MX",null,"03113003","MX"]
[null,null,null,null,null,null,null,null,null,null,null,null,null,null,"09704","09","007","IZTAPALAPA",null," - 62812",null,"62812","62812.99999","'02143002","'484170220001.62812",null,null,null,null,null,null,null,null,null,null,null,null,null,null,null,null,null,null,"484040020001.24573","MX",null,"03345009","MX"]
[null,null,null,null,null,null,null,null,null,null,null,null,null,null,"10370","09","008","LA MAGDALENA CONTRERAS",null," - 60795",null,"60795","60795.99999","'01964002","'484160640001.60795",null,null,null,null,null,null,null,null,null,null,null,null,null,null,null,null,null,null,"484050020001.26304","MX",null,"03769003","MX"]
[null,null,null,null,null,null,null,null,null,null,null,null,null,null,"11550","09","016","MIGUEL HIDALGO",null," - 58502",null,"58502","58502.99999","'01971009","'484160710001.58502",null,null,null,null,null,null,null,null,null,null,null,null,null,null,null,null,null,null,"484050110001.25974","MX",null,"04116103","MX"]
[null,null,null,null,null,null,null,null,null,null,null,null,null,null,"13278","09","011","TLAHUAC",null," - 55684",null,"55684","55684.99999","'01737009","'484150360001.55684",null,null,null,null,null,null,null,null,null,null,null,null,null,null,null,null,null,null,"484050220001.26174","MX",null,"04274002","MX"]
[null,null,null,null,null,null,null,null,null,null,null,null,null,null,"14049","09","012","TLALPAN",null," - 54460",null,"54460","54460.99999","'01761006","'484150600001.54460",null,null,null,null,null,null,null,null,null,null,null,null,null,null,null,null,null,null,"484050270001.25915","MX",null,"04480001","MX"]
[null,null,null,null,null,null,null,null,null,null,null,null,null,null,"14370","09","012","TLALPAN",null," - 51850",null,"51850","51850.99999","'01819007","'484151170001.51850",null,null,null,null,null,null,null,null,null,null,null,null,null,null,null,null,null,null,"484050300001.25209","MX",null,"10206406","US"]
[null,null,null,null,null,null,null,null,null,null,null,null,null,null,"15339","09","017","VENUSTIANO CARRANZA",null," - 49653",null,"49653","49653.99999","'01587003","'484140850001.49653",null,null,null,null,null,null,null,null,null,null,null,null,null,null,null,null,null,null,"484050350001.27088","MX",null,"40902603","ES"]
[null,null,null,null,null,null,null,null,null,null,null,null,null,null,"16457","09","013","XOCHIMILCO",null," - 46783",null,"46783","46783.99999","'01579001","'484140770001.46783",null,null,null,null,null,null,null,null,null,null,null,null,null,null,null,null,null,null,"484060020001.28600","MX",null,"50200209","SA"]
[null,null,null,null,null,null,null,null,null,null,null,null,null,null,"20016","01","001","AGUASCALIENTES",null," - 45360",null,"45360","45360.99999","'01509006","'484140090001.45360",null,null,null,null,null,null,null,null,null,null,null,null,null,null,null,null,null,null,"484060080001.28767","MX",null,"70100502","AU"]
[null,null,null,null,null,null,null,null,null,null,null,null,null,null,"20120","01","001","AGUASCALIENTES",null," - 43570",null,"43570","43570.99999","'01445005","'484130450001.43570",null,null,null,null,null,null,null,null,null,null,null,null,null,null,null,null,null,null,"484070040001.30195","MX"]
[null,null,null,null,null,null,null,null,null,null,null,null,null,null,"20248","01","001","AGUASCALIENTES",null," - 40990",null,"40990","40990.99999","'01321004","'484120210001.40990",null,null,null,null,null,null,null,null,null,null,null,null,null,null,null,null,null,null,"484070340001.30146","MX"]
[null,null,null,null,null,null,null,null,null,null,null,null,null,null,"20298","01","001","AGUASCALIENTES",null," - 39613",null,"39613","39613.99999","'01301115","'484120010001.39613",null,null,null,null,null,null,null,null,null,null,null,null,null,null,null,null,null,null,"484070520001.30232","MX"]
[null,null,null,null,null,null,null,null,null,null,null,null,null,null,"20313","01","001","AGUASCALIENTES",null," - 38117",null,"38117","38117.99999","'01214055","'484110070001.38117",null,null,null,null,null,null,null,null,null,null,null,null,null,null,null,null,null,null,"484070680001.29530","MX"]
[null,null,null,null,null,null,null,null,null,null,null,null,null,null,"20357","01","011","SAN FRANCISCO DE LOS ROMO",null," - 36449",null,"36449","36449.99999","'01264004","'484110310001.36449",null,null,null,null,null,null,null,null,null,null,null,null,null,null,null,null,null,null,"484070810001.29836","MX"]
[null,null,null,null,null,null,null,null,null,null,null,null,null,null,"20470","01","004","COSIO",null," - 33710",null,"33710","33710.99999","'00911223","'484080110001.33710",null,null,null,null,null,null,null,null,null,null,null,null,null,null,null,null,null,null,"484071010001.29049","MX"]
[null,null,null,null,null,null,null,null,null,null,null,null,null,null,"20722","01","002","ASIENTOS",null," - 30544",null,"30544","30544.99999","'00769009","'484070690001.30544",null,null,null,null,null,null,null,null,null,null,null,null,null,null,null,null,null,null,"484080080001.33419","MX"]
[null,null,null,null,null,null,null,null,null,null,null,null,null,null,"20852","01","003","CALVILLO",null," - 27534",null,"27534","27534.99999","'00547009","'484050230001.27534",null,null,null,null,null,null,null,null,null,null,null,null,null,null,null,null,null,null,"484080190001.31076","MX"]
[null,null,null,null,null,null,null,null,null,null,null,null,null,null,"20882","01","003","CALVILLO",null," - 26429",null,"26429","26429.99999","'00529006","'484050140001.26429",null,null,null,null,null,null,null,null,null,null,null,null,null,null,null,null,null,null,"484080190001.31414","MX"]
[null,null,null,null,null,null,null,null,null,null,null,null,null,null,"20957","01","005","JESUS MARIA",null," - 24008",null,"24008","24008.99999","'00405138","'484040020001.24008",null,null,null,null,null,null,null,null,null,null,null,null,null,null,null,null,null,null,"484080310001.31696","MX"]
[null,null,null,null,null,null,null,null,null,null,null,null,null,null,"21165","02","002","MEXICALI",null," - 21397",null,"21397","21397.99999","'00204009","'484020020001.21397",null,null,null,null,null,null,null,null,null,null,null,null,null,null,null,null,null,null,"484080370001.32435","MX"]
[null,null,null,null,null,null,null,null,null,null,null,null,null,null,"21353","02","002","MEXICALI",null," - 09759",null,"09759","09759.99999","'01001002","'484090070001.09759",null,null,null,null,null,null,null,null,null,null,null,null,null,null,null,null,null,null,"484080510001.33336","MX"]
[null,null,null,null,null,null,null,null,null,null,null,null,null,null,"21384","02","002","MEXICALI",null," - 04489",null,"04489","04489.99999","'01001002","'484090030001.04489",null,null,null,null,null,null,null,null,null,null,null,null,null,null,null,null,null,null,"484080650001.33424","MX"]
[null,null,null,null,null,null,null,null,null,null,null,null,null,null,"21399","02","002","MEXICALI",null,"10 DE ABRIL - 68405","10 DE ABRIL","68405","68405.3924","'02443008","'484200440001.68405",null,null,null,null,null,null,null,null,null,null,null,null,null,null,null,null,null,null,"484090030001.04240","MX"]
[null,null,null,null,null,null,null,null,null,null,null,null,null,null,"21700","02","002","MEXICALI",null,"15 DE MAYO - 38165","15 DE MAYO","38165","38165.4013","'01210001","'484110050001.38165",null,null,null,null,null,null,null,null,null,null,null,null,null,null,null,null,null,null,"484090050001.07640","MX"]
[null,null,null,null,null,null,null,null,null,null,null,null,null,null,"21960","02","002","MEXICALI",null,"18 DE MARZO - 79955","18 DE MARZO","79955","79955.99999","'03529009","'484240290001.79955",null,null,null,null,null,null,null,null,null,null,null,null,null,null,null,null,null,null,"484090070001.09648","MX"]
[null,null,null,null,null,null,null,null,null,null,null,null,null,null,"22020","02","004","TIJUANA",null,"1901 - 90833",1901,"90833","90833.0732","'04010005","'484290480001.90833",null,null,null,null,null,null,null,null,null,null,null,null,null,null,null,null,null,null,"484090070001.09897","MX"]
[null,null,null,null,null,null,null,null,null,null,null,null,null,null,"22163","02","004","TIJUANA",null,"20 DE NOVIEMBRE - 50253","20 DE NOVIEMBRE","50253","50253.99999","'01808002","'484151060001.50253",null,null,null,null,null,null,null,null,null,null,null,null,null,null,null,null,null,null,"484090110001.13273","MX"]
[null,null,null,null,null,null,null,null,null,null,null,null,null,null,"22215","02","004","TIJUANA",null,"22 DE NOVIEMBRE - 93650","22 DE NOVIEMBRE","93650","93650.2118","'04284009","'484301830001.93650",null,null,null,null,null,null,null,null,null,null,null,null,null,null,null,null,null,null,"484090120001.14653","MX"]
[null,null,null,null,null,null,null,null,null,null,null,null,null,null,"22245","02","004","TIJUANA",null,"24 DE JUNIO - 29047","24 DE JUNIO","29047","29047.0129","'00802003","'484071010001.29047",null,null,null,null,null,null,null,null,null,null,null,null,null,null,null,null,null,null,"484090130001.16606","MX"]
[null,null,null,null,null,null,null,null,null,null,null,null,null,null,"22465","02","004","TIJUANA",null,"3 DE MAYO - 43245","3 DE MAYO","43245","43245.99999","'01414004","'484130140001.43245",null,null,null,null,null,null,null,null,null,null,null,null,null,null,null,null,null,null,"484090150001.06728","MX"]
[null,null,null,null,null,null,null,null,null,null,null,null,null,null,"22616","02","004","TIJUANA",null,"5 DE FEBRERO - 68375","5 DE FEBRERO","68375","68375.4032","'02583009","'484201840001.68375",null,null,null,null,null,null,null,null,null,null,null,null,null,null,null,null,null,null,"484100020001.34527","MX"]
[null,null,null,null,null,null,null,null,null,null,null,null,null,null,"22707","02","005","PLAYAS DE ROSARITO",null,"7 COPAS - 24323","7 COPAS","24323","24323.0908","'00407003","'484040030001.24323",null,null,null,null,null,null,null,null,null,null,null,null,null,null,null,null,null,null,"484100050001.34315","MX"]
[null,null,null,null,null,null,null,null,null,null,null,null,null,null,"22785","02","001","ENSENADA",null,"ABASOLO CENTRO - 65650","ABASOLO CENTRO","65650","65650.0686","'02301003","'484190010001.65650",null,null,null,null,null,null,null,null,null,null,null,null,null,null,null,null,null,null,"484100070001.35144","MX"]
[null,null,null,null,null,null,null,null,null,null,null,null,null,null,"22909","02","001","ENSENADA",null,"ACCION NACIONAL - 33120","ACCION NACIONAL","33120","33120.5882","'00955009","'484080550001.33120",null,null,null,null,null,null,null,null,null,null,null,null,null,null,null,null,null,null,"484100190001.34666","MX"]
[null,null,null,null,null,null,null,null,null,null,null,null,null,null,"22940","02","001","ENSENADA",null,"ACOYOTLA - 43130","ACOYOTLA","43130","43130.1323","'01462001","'484130620001.43130",null,null,null,null,null,null,null,null,null,null,null,null,null,null,null,null,null,null,"484100240001.35766","MX"]
[null,null,null,null,null,null,null,null,null,null,null,null,null,null,"23050","03","003","LA PAZ",null,"ADALBERTO TEJEDA - 30470","ADALBERTO TEJEDA","30470","30470.99999","'00809009","'484071080001.30470",null,null,null,null,null,null,null,null,null,null,null,null,null,null,null,null,null,null,"484100300001.35597","MX"]
[null,null,null,null,null,null,null,null,null,null,null,null,null,null,"23143","03","003","LA PAZ",null,"ADOLFO ORTIZ - 96344","ADOLFO ORTIZ","96344","96344.99999","'04148005","'484300480001.96344",null,null,null,null,null,null,null,null,null,null,null,null,null,null,null,null,null,null,"484110020001.38754","MX"]
[null,null,null,null,null,null,null,null,null,null,null,null,null,null,"23317","03","003","LA PAZ",null,"AEROPUERTO - 52420","AEROPUERTO","52420","52420.99999","'01789007","'484150880001.52420",null,null,null,null,null,null,null,null,null,null,null,null,null,null,null,null,null,null,"484110040001.38533","MX"]
[null,null,null,null,null,null,null,null,null,null,null,null,null,null,"23445","03","008","LOS CABOS",null,"AGRICOLA HIDALGO - 75333","AGRICOLA HIDALGO","75333","75333.8065","'03073006","'484211500001.75333",null,null,null,null,null,null,null,null,null,null,null,null,null,null,null,null,null,null,"484110080001.36470","MX"]
[null,null,null,null,null,null,null,null,null,null,null,null,null,null,"23630","03","001","COMONDU",null,"AGUA BLANCA - 71960","AGUA BLANCA","71960","71960.5321","'02929002","'484205260001.71960",null,null,null,null,null,null,null,null,null,null,null,null,null,null,null,null,null,null,"484110170001.36512","MX"]
[null,null,null,null,null,null,null,null,null,null,null,null,null,null,"23883","03","009","LORETO",null,"AGUA DE LA MULA - 25977","AGUA DE LA MULA","25977","25977.0696","'00523006","'484050110001.25977",null,null,null,null,null,null,null,null,null,null,null,null,null,null,null,null,null,null,"484110200001.37138","MX"]
[null,null,null,null,null,null,null,null,null,null,null,null,null,null,"23940","03","002","MULEGE",null,"AGUA HEDIONDA - 48909","AGUA HEDIONDA","48909","48909.2748","'01515003","'484140150001.48909",null,null,null,null,null,null,null,null,null,null,null,null,null,null,null,null,null,null,"484110210001.38870","MX"]
[null,null,null,null,null,null,null,null,null,null,null,null,null,null,"23980","03","002","MULEGE",null,"AGUA NUEVA - 33123","AGUA NUEVA","33123","33123.5778","'00955009","'484080550001.33123",null,null,null,null,null,null,null,null,null,null,null,null,null,null,null,null,null,null,"484110230001.36905","MX"]
[null,null,null,null,null,null,null,null,null,null,null,null,null,null,"24070","04","002","CAMPECHE",null,"AGUA ZARCA DOS - 61364","AGUA ZARCA DOS","61364","61364.0005","'02002008","'484161010001.61364",null,null,null,null,null,null,null,null,null,null,null,null,null,null,null,null,null,null,"484110270001.36870","MX"]
[null,null,null,null,null,null,null,null,null,null,null,null,null,null,"24157","04","003","CARMEN",null,"AHUACATAN - 93660","AHUACATAN","93660","93660.2482","'04186004","'484300860001.93660",null,null,null,null,null,null,null,null,null,null,null,null,null,null,null,null,null,null,"484110370001.36297","MX"]
[null,null,null,null,null,null,null,null,null,null,null,null,null,null,"24207","04","007","PALIZADA",null,"AHUEHUETITLA - 43017","AHUEHUETITLA","43017","43017.4642","'01428006","'484130280001.43017",null,null,null,null,null,null,null,null,null,null,null,null,null,null,null,null,null,null,"484110440001.38285","MX"]
[null,null,null,null,null,null,null,null,null,null,null,null,null,null,"24343","04","011","CANDELARIA",null,"ALAMOS DE SENECU - 32472","ALAMOS DE SENECU","32472","32472.0976","'00937006","'484080370001.32472",null,null,null,null,null,null,null,null,null,null,null,null,null,null,null,null,null,null,"484120070001.40520","MX"]
[null,null,null,null,null,null,null,null,null,null,null,null,null,null,"24347","04","011","CANDELARIA",null,"ALBERTO CARRERA TORRES - 87076","ALBERTO CARRERA TORRES","87076","87076.0120","'03981009","'484280410001.87076",null,null,null,null,null,null,null,null,null,null,null,null,null,null,null,null,null,null,"484120120001.39211","MX"]
[null,null,null,null,null,null,null,null,null,null,null,null,null,null,"24400","04","004","CHAMPOTON",null,"ALDAMA 4A SECC (EL NARANJITO) - 86667","ALDAMA 4A SECC (EL NARANJITO)","86667","86667.0575","'03817101","'484270050001.86667",null,null,null,null,null,null,null,null,null,null,null,null,null,null,null,null,null,null,"484120220001.40715","MX"]
[null,null,null,null,null,null,null,null,null,null,null,null,null,null,"24622","04","006","HOPELCHEN",null,"ALIANZA - 87410","ALIANZA","87410","87410.0393","'03943153","'484280220001.87410",null,null,null,null,null,null,null,null,null,null,null,null,null,null,null,null,null,null,"484120350001.40114","MX"]
[null,null,null,null,null,null,null,null,null,null,null,null,null,null,"24654","04","010","CALAKMUL",null,"ALLENDE - 58750","ALLENDE","58750","58750.99999","'01994005","'484160940001.58750",null,null,null,null,null,null,null,null,null,null,null,null,null,null,null,null,null,null,"484120420001.41193","MX"]
[null,null,null,null,null,null,null,null,null,null,null,null,null,null,"25010","05","030","SALTILLO",null,"ALTA MAR - 22813","ALTA MAR","22813","22813.2777","'00201105","'484020010001.22813",null,null,null,null,null,null,null,null,null,null,null,null,null,null,null,null,null,null,"484120520001.41637","MX"]
[null,null,null,null,null,null,null,null,null,null,null,null,null,null,"25069","05","030","SALTILLO",null,"ALTO AMATITAN EL BARRIAL - 86786","ALTO AMATITAN EL BARRIAL","86786","86786.0814","'03833006","'484270110001.86786",null,null,null,null,null,null,null,null,null,null,null,null,null,null,null,null,null,null,"484120620001.41741","MX"]
[null,null,null,null,null,null,null,null,null,null,null,null,null,null,"25156","05","030","SALTILLO",null,"AMACAHUITE - 39131","AMACAHUITE","39131","39131.0235","'01332009","'484120320001.39131",null,null,null,null,null,null,null,null,null,null,null,null,null,null,null,null,null,null,"484130020001.43733","MX"]
[null,null,null,null,null,null,null,null,null,null,null,null,null,null,"25270","05","030","SALTILLO",null,"AMAXAC DE GUERRERO - 58593","AMAXAC DE GUERRERO","58593","58593.99999","'01963004","'484160630001.58593",null,null,null,null,null,null,null,null,null,null,null,null,null,null,null,null,null,null,"484130170001.42913","MX"]
[null,null,null,null,null,null,null,null,null,null,null,null,null,null,"25296","05","030","SALTILLO",null,"AMERICA 7 - 88298","AMERICA 7","88298","88298.0945","'03953009","'484280270001.88298",null,null,null,null,null,null,null,null,null,null,null,null,null,null,null,null,null,null,"484130240001.43508","MX"]
[null,null,null,null,null,null,null,null,null,null,null,null,null,null,"25506","05","031","SAN BUENAVENTURA",null,"AMPLIACION EL ESCORIAL - 25902","AMPLIACION EL ESCORIAL","25902","25902.3205","'00555009","'484050270001.25902",null,null,null,null,null,null,null,null,null,null,null,null,null,null,null,null,null,null,"484130480001.42058","MX"]
[null,null,null,null,null,null,null,null,null,null,null,null,null,null,"25571","05","005","CANDELA",null,"AMPLIACION GUADALUPE VICTORIA - 55010","AMPLIACION GUADALUPE VICTORIA","55010","55010.3423","'01734051","'484150330001.55010",null,null,null,null,null,null,null,null,null,null,null,null,null,null,null,null,null,null,"484130530001.43444","MX"]
[null,null,null,null,null,null,null,null,null,null,null,null,null,null,"25770","05","018","MONCLOVA",null,"AMPLIACION PARQUES DE SAN FELIPE - 31203","AMPLIACION PARQUES DE SAN FELIPE","31203","31203.2268","'00919269","'484080190001.31203",null,null,null,null,null,null,null,null,null,null,null,null,null,null,null,null,null,null,"484130730001.43151","MX"]
[null,null,null,null,null,null,null,null,null,null,null,null,null,null,"25890","05","006","CASTAÑOS",null,"AMPLIACION TRINCHERAS DE MORELOS - 58096","AMPLIACION TRINCHERAS DE MORELOS","58096","58096.1011","'01953009","'484160530001.58096",null,null,null,null,null,null,null,null,null,null,null,null,null,null,null,null,null,null,"484130810001.43210","MX"]
[null,null,null,null,null,null,null,null,null,null,null,null,null,null,"25904","05","027","RAMOS ARIZPE",null,"ANAHUAC - 25130","ANAHUAC","25130","25130.0113","'00561009","'484050300001.25130",null,null,null,null,null,null,null,null,null,null,null,null,null,null,null,null,null,null,"484140030001.46746","MX"]
[null,null,null,null,null,null,null,null,null,null,null,null,null,null,"26069","05","025","PIEDRAS NEGRAS",null,"ANGELES DE VILLASEÑOR - 36927","ANGELES DE VILLASEÑOR","36927","36927.7437","'01246109","'484110230001.36927",null,null,null,null,null,null,null,null,null,null,null,null,null,null,null,null,null,null,"484140230001.49109","MX"]
[null,null,null,null,null,null,null,null,null,null,null,null,null,null,"26185","05","022","NAVA",null,"ANTONIO DE LEON FOVISSSTE - 69005","ANTONIO DE LEON FOVISSSTE","69005","69005.1376","'02427003","'484200390001.69005",null,null,null,null,null,null,null,null,null,null,null,null,null,null,null,null,null,null,"484140380001.46815","MX"]
[null,null,null,null,null,null,null,null,null,null,null,null,null,null,"26237","05","002","ACUÑA",null,"ANTONIO M. QUIRASCO 2A SECCION - 46710","ANTONIO M. QUIRASCO 2A SECCION","46710","46710.99999","'01506003","'484140060001.46710",null,null,null,null,null,null,null,null,null,null,null,null,null,null,null,null,null,null,"484140390001.44290","MX"]
[null,null,null,null,null,null,null,null,null,null,null,null,null,null,"26411","05","014","JIMENEZ",null,"APIPILULCO - 40581","APIPILULCO","40581","40581.2334","'01317003","'484120170001.40581",null,null,null,null,null,null,null,null,null,null,null,null,null,null,null,null,null,null,"484140430001.48870","MX"]
[null,null,null,null,null,null,null,null,null,null,null,null,null,null,"26516","05","019","MORELOS",null,"AQUISMON - 79760","AQUISMON","79760","79760.1529","'03503006","'484240030001.79760",null,null,null,null,null,null,null,null,null,null,null,null,null,null,null,null,null,null,"484140550001.46470","MX"]
[null,null,null,null,null,null,null,null,null,null,null,null,null,null,"26604","05","037","VILLA UNION",null,"ARBOLEDAS DE TRONCAL - 91152","ARBOLEDAS DE TRONCAL","91152","91152.4236","'04187002","'484300870001.91152",null,null,null,null,null,null,null,null,null,null,null,null,null,null,null,null,null,null,"484140740001.47174","MX"]
[null,null,null,null,null,null,null,null,null,null,null,null,null,null,"26605","05","037","VILLA UNION",null,"ARBOLEDAS DEL CAMPO - 37672","ARBOLEDAS DEL CAMPO","37672","37672.4566","'01240004","'484110200001.37672",null,null,null,null,null,null,null,null,null,null,null,null,null,null,null,null,null,null,"484140760001.46380","MX"]
[null,null,null,null,null,null,null,null,null,null,null,null,null,null,"26636","05","037","VILLA UNION",null,"ARENA 3A SECC - 86669","ARENA 3A SECC","86669","86669.0576","'03817101","'484270050001.86669",null,null,null,null,null,null,null,null,null,null,null,null,null,null,null,null,null,null,"484140910001.47218","MX"]
[null,null,null,null,null,null,null,null,null,null,null,null,null,null,"27009","05","035","TORREON",null,"ARROLLO MURILLO - 42830","ARROLLO MURILLO","42830","42830.99999","'01476256","'484130760001.42830",null,null,null,null,null,null,null,null,null,null,null,null,null,null,null,null,null,null,"484141020001.48760","MX"]
[null,null,null,null,null,null,null,null,null,null,null,null,null,null,"27085","05","035","TORREON",null,"ARROYO DE LAS GALLINAS - 33496","ARROYO DE LAS GALLINAS","33496","33496.4276","'00929003","'484080290001.33496",null,null,null,null,null,null,null,null,null,null,null,null,null,null,null,null,null,null,"484141150001.46127","MX"]
[null,null,null,null,null,null,null,null,null,null,null,null,null,null,"27296","05","035","TORREON",null,"ARROYO SALADO - 61596","ARROYO SALADO","61596","61596.0002","'01981007","'484160810001.61596",null,null,null,null,null,null,null,null,null,null,null,null,null,null,null,null,null,null,"484150020001.55890","MX"]
[null,null,null,null,null,null,null,null,null,null,null,null,null,null,"27413","05","035","TORREON",null,"ARTICULO 123 - 72995","ARTICULO 123","72995","72995.7281","'03015009","'484210150001.72995",null,null,null,null,null,null,null,null,null,null,null,null,null,null,null,null,null,null,"484150110001.56313","MX"]
[null,null,null,null,null,null,null,null,null,null,null,null,null,null,"27442","05","017","MATAMOROS",null,"ASTILLEROS DE MARINA - 31580","ASTILLEROS DE MARINA","31580","31580.99999","'00917009","'484080170001.31580",null,null,null,null,null,null,null,null,null,null,null,null,null,null,null,null,null,null,"484150180001.52203","MX"]
[null,null,null,null,null,null,null,null,null,null,null,null,null,null,"27485","05","036","VIESCA",null,"ATLAS PONIENTE - 44870","ATLAS PONIENTE","44870","44870.4935","'01539009","'484140390001.44870",null,null,null,null,null,null,null,null,null,null,null,null,null,null,null,null,null,null,"484150330001.55140","MX"]
[null,null,null,null,null,null,null,null,null,null,null,null,null,null,"27642","05","007","CUATRO CIENEGAS",null,"AURORA - 37930","AURORA","37930","37930.2229","'01294007","'484110450001.37930",null,null,null,null,null,null,null,null,null,null,null,null,null,null,null,null,null,null,"484150390001.56569","MX"]
[null,null,null,null,null,null,null,null,null,null,null,null,null,null,"27647","05","007","CUATRO CIENEGAS",null,"AURORA - 80310","AURORA","80310","80310.99999","'03616176","'484250060001.80310",null,null,null,null,null,null,null,null,null,null,null,null,null,null,null,null,null,null,"484150400001.51905","MX"]
[null,null,null,null,null,null,null,null,null,null,null,null,null,null,"27923","05","009","FRANCISCO I. MADERO",null,"AYUNTAMIENTO - 23088","AYUNTAMIENTO","23088","23088.0690","'00308006","'484030030001.23088",null,null,null,null,null,null,null,null,null,null,null,null,null,null,null,null,null,null,"484150570001.53427","MX"]
[null,null,null,null,null,null,null,null,null,null,null,null,null,null,"27946","05","033","SAN PEDRO",null,"AZTECA - 92123","AZTECA","92123","92123.4725","'04256005","'484301550001.92123",null,null,null,null,null,null,null,null,null,null,null,null,null,null,null,null,null,null,"484150600001.54405","MX"]
[null,null,null,null,null,null,null,null,null,null,null,null,null,null,"27987","05","024","PARRAS",null,"BACHOCO - 85797","BACHOCO","85797","85797.99999","'03769309","'484260690001.85797",null,null,null,null,null,null,null,null,null,null,null,null,null,null,null,null,null,null,"484150780001.51107","MX"]
[null,null,null,null,null,null,null,null,null,null,null,null,null,null,"27990","05","024","PARRAS",null,"BACUBIRITO - 81973","BACUBIRITO","81973","81973.0999","'03649206","'484250170001.81973",null,null,null,null,null,null,null,null,null,null,null,null,null,null,null,null,null,null,"484150800001.51654","MX"]
[null,null,null,null,null,null,null,null,null,null,null,null,null,null,"28048","06","002","COLIMA",null,"BAJIO DE LA LAGUNA - 34984","BAJIO DE LA LAGUNA","34984","34984.6149","'01129004","'484100140001.34984",null,null,null,null,null,null,null,null,null,null,null,null,null,null,null,null,null,null,"484150900001.52323","MX"]
[null,null,null,null,null,null,null,null,null,null,null,null,null,null,"28317","06","001","ARMERIA",null,"BALCONES DEL VALLE - 20196","BALCONES DEL VALLE","20196","20196.1398","'00101027","'484010010001.20196",null,null,null,null,null,null,null,null,null,null,null,null,null,null,null,null,null,null,"484151040001.54100","MX"]
[null,null,null,null,null,null,null,null,null,null,null,null,null,null,"28553","06","005","CUAUHTEMOC",null,"BANUS - 83106","BANUS","83106","83106.2971","'03730107","'484260300001.83106",null,null,null,null,null,null,null,null,null,null,null,null,null,null,null,null,null,null,"484151070001.51950","MX"]
[null,null,null,null,null,null,null,null,null,null,null,null,null,null,"28732","06","006","IXTLAHUACAN",null,"BARRA DE CUATUNALCO - 70902","BARRA DE CUATUNALCO","70902","70902.0003","'02725002","'484203240001.70902",null,null,null,null,null,null,null,null,null,null,null,null,null,null,null,null,null,null,"484151110001.51025","MX"]
[null,null,null,null,null,null,null,null,null,null,null,null,null,null,"28938","06","009","TECOMAN",null,"BARRIO ALTO - 42807","BARRIO ALTO","42807","42807.0794","'01476256","'484130760001.42807",null,null,null,null,null,null,null,null,null,null,null,null,null,null,null,null,null,null,"484160060001.60615","MX"]
[null,null,null,null,null,null,null,null,null,null,null,null,null,null,"28985","06","010","VILLA DE ALVAREZ",null,"BARRIO DEL CARMEN - 41665","BARRIO DEL CARMEN","41665","41665.5047","'","'484120780001.41665",null,null,null,null,null,null,null,null,null,null,null,null,null,null,null,null,null,null,"484160120001.60536","MX"]
[null,null,null,null,null,null,null,null,null,null,null,null,null,null,"29038","07","101","TUXTLA GUTIERREZ",null,"BARRIO NUEVO TOLTEPEC - 70904","BARRIO NUEVO TOLTEPEC","70904","70904.2491","'02725002","'484203240001.70904",null,null,null,null,null,null,null,null,null,null,null,null,null,null,null,null,null,null,"484160310001.61006","MX"]
[null,null,null,null,null,null,null,null,null,null,null,null,null,null,"29057","07","101","TUXTLA GUTIERREZ",null,"BARRIO TIERRA BLANCA - 34139","BARRIO TIERRA BLANCA","34139","34139.0120","'01111007","'484100050001.34139",null,null,null,null,null,null,null,null,null,null,null,null,null,null,null,null,null,null,"484160350001.61877","MX"]
[null,null,null,null,null,null,null,null,null,null,null,null,null,null,"29086","07","101","TUXTLA GUTIERREZ",null,"BATAMOTITA - 80884","BATAMOTITA","80884","80884.1455","'03637156","'484250130001.80884",null,null,null,null,null,null,null,null,null,null,null,null,null,null,null,null,null,null,"484160440001.58788","MX"]
[null,null,null,null,null,null,null,null,null,null,null,null,null,null,"29160","07","027","CHIAPA DE CORZO",null,"BELLA AURORA - 74580","BELLA AURORA","74580","74580.8080","'03051159","'484210510001.74580",null,null,null,null,null,null,null,null,null,null,null,null,null,null,null,null,null,null,"484160530001.58257","MX"]
[null,null,null,null,null,null,null,null,null,null,null,null,null,null,"29243","07","078","SAN CRISTOBAL DE LAS CASAS",null,"BELLAVISTA - 75793","BELLAVISTA","75793","75793.3615","'03157006","'484211560001.75793",null,null,null,null,null,null,null,null,null,null,null,null,null,null,null,null,null,null,"484160650001.60250","MX"]
[null,null,null,null,null,null,null,null,null,null,null,null,null,null,"29324","07","023","CHAMULA",null,"BENITO JUAREZ - 29955","BENITO JUAREZ","29955","29955.2693","'00815003","'484071140001.29955",null,null,null,null,null,null,null,null,null,null,null,null,null,null,null,null,null,null,"484160750001.60433","MX"]
[null,null,null,null,null,null,null,null,null,null,null,null,null,null,"29341","07","044","IXTAPA",null,"BENITO JUAREZ - 39010","BENITO JUAREZ","39010","39010.0007","'01329006","'484120290001.39010",null,null,null,null,null,null,null,null,null,null,null,null,null,null,null,null,null,null,"484160790001.61820","MX"]
[null,null,null,null,null,null,null,null,null,null,null,null,null,null,"29455","07","064","OXCHUC",null,"BENITO JUAREZ - 96144","BENITO JUAREZ","96144","96144.6277","'04243409","'484301420001.96144",null,null,null,null,null,null,null,null,null,null,null,null,null,null,null,null,null,null,"484161010001.61353","MX"]
[null,null,null,null,null,null,null,null,null,null,null,null,null,null,"29509","07","074","REFORMA",null,"BENITO JUAREZ ORIENTE - 63175","BENITO JUAREZ ORIENTE","63175","63175.0138","'02251002","'484180170001.63175",null,null,null,null,null,null,null,null,null,null,null,null,null,null,null,null,null,null,"484161050001.59200","MX"]
[null,null,null,null,null,null,null,null,null,null,null,null,null,null,"29550","07","062","OSTUACAN",null,"BETA SANTA MONICA - 27948","BETA SANTA MONICA","27948","27948.3791","'00569009","'484050330001.27948",null,null,null,null,null,null,null,null,null,null,null,null,null,null,null,null,null,null,"484161080001.59703","MX"]
[null,null,null,null,null,null,null,null,null,null,null,null,null,null,"29607","07","092","TECPATAN",null,"BLANCA FLOR - 77946","BLANCA FLOR","77946","77946.0365","'","'484230040001.77946",null,null,null,null,null,null,null,null,null,null,null,null,null,null,null,null,null,null,"484170050001.62614","MX"]
[null,null,null,null,null,null,null,null,null,null,null,null,null,null,"29707","07","005","AMATAN",null,"BOJORQUEZ - 28077","BOJORQUEZ","28077","28077.99999","'00605054","'484060020001.28077",null,null,null,null,null,null,null,null,null,null,null,null,null,null,null,null,null,null,"484170150001.62606","MX"]
[null,null,null,null,null,null,null,null,null,null,null,null,null,null,"29774","07","013","BOCHIL",null,"BOSENCHEVE - 51016","BOSENCHEVE","51016","51016.0959","'01813001","'484151110001.51016",null,null,null,null,null,null,null,null,null,null,null,null,null,null,null,null,null,null,"484180070001.63882","MX"]
[null,null,null,null,null,null,null,null,null,null,null,null,null,null,"29826","07","081","SIMOJOVEL",null,"BOSQUES DE LAS HACIENDAS - 88614","BOSQUES DE LAS HACIENDAS","88614","88614.3653","'03963009","'484280320001.88614",null,null,null,null,null,null,null,null,null,null,null,null,null,null,null,null,null,null,"484180150001.63330","MX"]
[null,null,null,null,null,null,null,null,null,null,null,null,null,null,"29847","07","014","EL BOSQUE",null,"BOSQUES DE VALLE ALTO 2 ETAPA - 64989","BOSQUES DE VALLE ALTO 2 ETAPA","64989","64989.4488","'02340009","'484190390001.64989",null,null,null,null,null,null,null,null,null,null,null,null,null,null,null,null,null,null,"484180170001.63083","MX"]
[null,null,null,null,null,null,null,null,null,null,null,null,null,null,"29900","07","077","SALTO DE AGUA",null,"BRAMADEROS - 34990","BRAMADEROS","34990","34990.6167","'01129004","'484100140001.34990",null,null,null,null,null,null,null,null,null,null,null,null,null,null,null,null,null,null,"484190050001.65008","MX"]
[null,null,null,null,null,null,null,null,null,null,null,null,null,null,"29908","07","077","SALTO DE AGUA",null,"BUCHUARI - 85549","BUCHUARI","85549","85549.99999","'03721006","'484260210001.85549",null,null,null,null,null,null,null,null,null,null,null,null,null,null,null,null,null,null,"484190180001.66035","MX"]
[null,null,null,null,null,null,null,null,null,null,null,null,null,null,"29950","07","059","OCOSINGO",null,"BUENAVISTA - 30178","BUENAVISTA","30178","30178.1188","'00741009","'484070410001.30178",null,null,null,null,null,null,null,null,null,null,null,null,null,null,null,null,null,null,"484190290001.67899","MX"]
[null,null,null,null,null,null,null,null,null,null,null,null,null,null,"29960","07","065","PALENQUE",null,"BUENAVISTA - 73195","BUENAVISTA","73195","73195.0867","'03008003","'484210080001.73195",null,null,null,null,null,null,null,null,null,null,null,null,null,null,null,null,null,null,"484190390001.64106","MX"]
[null,null,null,null,null,null,null,null,null,null,null,null,null,null,"29976","07","050","LA LIBERTAD",null,"BUENAVISTA (APASCO) - 86745","BUENAVISTA (APASCO)","86745","86745.0739","'03836006","'484270120001.86745",null,null,null,null,null,null,null,null,null,null,null,null,null,null,null,null,null,null,"484190390001.64470","MX"]
[null,null,null,null,null,null,null,null,null,null,null,null,null,null,"30135","07","011","BELLA VISTA",null,"BUENOS AIRES - 84269","BUENOS AIRES","84269","84269.1742","'03702009","'484260020001.84269",null,null,null,null,null,null,null,null,null,null,null,null,null,null,null,null,null,null,"484190460001.66477","MX"]
[null,null,null,null,null,null,null,null,null,null,null,null,null,null,"30160","07","099","LA TRINITARIA",null,"BUGAMBILIAS - 51424","BUGAMBILIAS","51424","51424.99999","'01783001","'484150820001.51424",null,null,null,null,null,null,null,null,null,null,null,null,null,null,null,null,null,null,"484190510001.65390","MX"]
[null,null,null,null,null,null,null,null,null,null,null,null,null,null,"30193","07","004","ALTAMIRANO",null,"C. N. O. P - 40275","C. N. O. P","40275","40275.1168","'01356006","'484120550001.40275",null,null,null,null,null,null,null,null,null,null,null,null,null,null,null,null,null,null,"484200610001.70826","MX"]
[null,null,null,null,null,null,null,null,null,null,null,null,null,null,"30197","07","004","ALTAMIRANO",null,"CABRAS DE GUADALUPE - 37640","CABRAS DE GUADALUPE","37640","37640.1817","'01244008","'484110220001.37640",null,null,null,null,null,null,null,null,null,null,null,null,null,null,null,null,null,null,"484200760001.71083","MX"]
[null,null,null,null,null,null,null,null,null,null,null,null,null,null,"30364","07","020","LA CONCORDIA",null,"CAFETAL (RANCHO AMADO HERRERA MARTINEZ) - 41916","CAFETAL (RANCHO AMADO HERRERA MARTINEZ)","41916","41916.5192","'01313049","'484120130001.41916",null,null,null,null,null,null,null,null,null,null,null,null,null,null,null,null,null,null,"484201250001.70508","MX"]
[null,null,null,null,null,null,null,null,null,null,null,null,null,null,"30406","07","017","CINTALAPA",null,"CALIFORNIA - 41070","CALIFORNIA","41070","41070.99999","'01319008","'484120190001.41070",null,null,null,null,null,null,null,null,null,null,null,null,null,null,null,null,null,null,"484201980001.70347","MX"]
[null,null,null,null,null,null,null,null,null,null,null,null,null,null,"30413","07","017","CINTALAPA",null,"CAMALU - 22910","CAMALU","22910","22910.1203","'00201105","'484020010001.22910",null,null,null,null,null,null,null,null,null,null,null,null,null,null,null,null,null,null,"484202720001.71890","MX"]
[null,null,null,null,null,null,null,null,null,null,null,null,null,null,"30415","07","017","CINTALAPA",null,"CAMELINAS - 60440","CAMELINAS","60440","60440.0002","'01968006","'484160680001.60440",null,null,null,null,null,null,null,null,null,null,null,null,null,null,null,null,null,null,"484202940001.68222","MX"]
[null,null,null,null,null,null,null,null,null,null,null,null,null,null,"30420","07","017","CINTALAPA",null,"CAMPAMENTO FF.CC. (LA COCHINILLA) - 38624","CAMPAMENTO FF.CC. (LA COCHINILLA)","38624","38624.5250","'01204007","'484110020001.38624",null,null,null,null,null,null,null,null,null,null,null,null,null,null,null,null,null,null,"484203630001.68776","MX"]
[null,null,null,null,null,null,null,null,null,null,null,null,null,null,"30425","07","017","CINTALAPA",null,"CAMPESTRE DEL RIO I - 87440","CAMPESTRE DEL RIO I","87440","87440.0403","'03943153","'484280220001.87440",null,null,null,null,null,null,null,null,null,null,null,null,null,null,null,null,null,null,"484204240001.70870","MX"]
[null,null,null,null,null,null,null,null,null,null,null,null,null,null,"30449","07","046","JIQUIPILAS",null,"CAMPO ALEJANDRO GIOTTONINI - 83324","CAMPO ALEJANDRO GIOTTONINI","83324","83324.6240","'03730107","'484260300001.83324",null,null,null,null,null,null,null,null,null,null,null,null,null,null,null,null,null,null,"484205000001.71183","MX"]
[null,null,null,null,null,null,null,null,null,null,null,null,null,null,"30478","07","108","VILLAFLORES",null,"CAMPO COTA RETEZ - 85207","CAMPO COTA RETEZ","85207","85207.4578","'03718113","'484260180001.85207",null,null,null,null,null,null,null,null,null,null,null,null,null,null,null,null,null,null,"484205440001.68740","MX"]
[null,null,null,null,null,null,null,null,null,null,null,null,null,null,"30505","07","097","TONALA",null,"CAMPO DE GUZMAN GALLEGOS - 85518","CAMPO DE GUZMAN GALLEGOS","85518","85518.2417","'03729238","'484260720001.85518",null,null,null,null,null,null,null,null,null,null,null,null,null,null,null,null,null,null,"484210040001.75159","MX"]
[null,null,null,null,null,null,null,null,null,null,null,null,null,null,"30556","07","069","PIJIJIAPAN",null,"CAMPO FIGUEROA - 81128","CAMPO FIGUEROA","81128","81128.2578","'03631059","'484250110001.81128",null,null,null,null,null,null,null,null,null,null,null,null,null,null,null,null,null,null,"484210470001.74736","MX"]
[null,null,null,null,null,null,null,null,null,null,null,null,null,null,"30583","07","003","ACAPETAHUA",null,"CAMPO MI ILUSION - 85218","CAMPO MI ILUSION","85218","85218.4654","'03718113","'484260180001.85218",null,null,null,null,null,null,null,null,null,null,null,null,null,null,null,null,null,null,"484210720001.73470","MX"]
[null,null,null,null,null,null,null,null,null,null,null,null,null,null,"30585","07","003","ACAPETAHUA",null,"CAMPO PAREDES - 80434","CAMPO PAREDES","80434","80434.2636","'03616176","'484250060001.80434",null,null,null,null,null,null,null,null,null,null,null,null,null,null,null,null,null,null,"484210860001.73057","MX"]
[null,null,null,null,null,null,null,null,null,null,null,null,null,null,"30616","07","032","ESCUINTLA",null,"CANAKOM - 23361","CANAKOM","23361","23361.99999","'00308006","'484030030001.23361",null,null,null,null,null,null,null,null,null,null,null,null,null,null,null,null,null,null,"484211140001.72365","MX"]
[null,null,null,null,null,null,null,null,null,null,null,null,null,null,"30647","07","040","HUIXTLA",null,"CANICAB - 26453","CANICAB","26453","26453.99999","'00579009","'484050380001.26453",null,null,null,null,null,null,null,null,null,null,null,null,null,null,null,null,null,null,"484211290001.75972","MX"]
[null,null,null,null,null,null,null,null,null,null,null,null,null,null,"30734","07","089","TAPACHULA",null,"CANUTILLO - 35383","CANUTILLO","35383","35383.1469","'01135206","'484100170001.35383",null,null,null,null,null,null,null,null,null,null,null,null,null,null,null,null,null,null,"484211570001.74801","MX"]
[null,null,null,null,null,null,null,null,null,null,null,null,null,null,"30745","07","089","TAPACHULA",null,"CAÑADA DE BERNARDEZ - 15240","CAÑADA DE BERNARDEZ","15240","15240.99999","'01001002","'484090170001.15240",null,null,null,null,null,null,null,null,null,null,null,null,null,null,null,null,null,null,"484211670001.73341","MX"]
[null,null,null,null,null,null,null,null,null,null,null,null,null,null,"30795","07","089","TAPACHULA",null,"CAÑON BUENAVISTA - 22790","CAÑON BUENAVISTA","22790","22790.2153","'00201105","'484020010001.22790",null,null,null,null,null,null,null,null,null,null,null,null,null,null,null,null,null,null,"484211940001.73049","MX"]
[null,null,null,null,null,null,null,null,null,null,null,null,null,null,"30817","07","089","TAPACHULA",null,"CARABANCHEL - 61519","CARABANCHEL","61519","61519.2432","'02013003","'484161120001.61519",null,null,null,null,null,null,null,null,null,null,null,null,null,null,null,null,null,null,"484220040001.76526","MX"]
[null,null,null,null,null,null,null,null,null,null,null,null,null,null,"30833","07","089","TAPACHULA",null,"CARLOS A MADRAZO - 80398","CARLOS A MADRAZO","80398","80398.99999","'03616176","'484250060001.80398",null,null,null,null,null,null,null,null,null,null,null,null,null,null,null,null,null,null,"484220100001.76384","MX"]
[null,null,null,null,null,null,null,null,null,null,null,null,null,null,"30845","07","087","SUCHIATE",null,"CARLOS SALINAS DE GORTARI - 29045","CARLOS SALINAS DE GORTARI","29045","29045.0120","'00802003","'484071010001.29045",null,null,null,null,null,null,null,null,null,null,null,null,null,null,null,null,null,null,"484220140001.76093","MX"]
[null,null,null,null,null,null,null,null,null,null,null,null,null,null,"30900","07","057","MOTOZINTLA",null,"CARRILLO ANCONA - 97060","CARRILLO ANCONA","97060","97060.0013","'04450007","'484310500001.97060",null,null,null,null,null,null,null,null,null,null,null,null,null,null,null,null,null,null,"484230020001.77107","MX"]
[null,null,null,null,null,null,null,null,null,null,null,null,null,null,"30911","07","057","MOTOZINTLA",null,"CASA BLANCA - 73815","CASA BLANCA","73815","73815.6498","'03176003","'484211740001.73815",null,null,null,null,null,null,null,null,null,null,null,null,null,null,null,null,null,null,"484230040001.77988","MX"]
[null,null,null,null,null,null,null,null,null,null,null,null,null,null,"30945","07","006","AMATENANGO DE LA FRONTERA",null,"CASAS VIEJAS - 76535","CASAS VIEJAS","76535","76535.3001","'03312009","'484220040001.76535",null,null,null,null,null,null,null,null,null,null,null,null,null,null,null,null,null,null,"484240090001.78441","MX"]
[null,null,null,null,null,null,null,null,null,null,null,null,null,null,"30974","07","070","EL PORVENIR",null,"CASTILLO CHICO - 91216","CASTILLO CHICO","91216","91216.7628","'04187002","'484300870001.91216",null,null,null,null,null,null,null,null,null,null,null,null,null,null,null,null,null,null,"484240130001.79251","MX"]
[null,null,null,null,null,null,null,null,null,null,null,null,null,null,"30995","07","080","SILTEPEC",null,"CAZONES DE HERRERA CENTRO - 92980","CAZONES DE HERRERA CENTRO","92980","92980.1742","'04133005","'484300330001.92980",null,null,null,null,null,null,null,null,null,null,null,null,null,null,null,null,null,null,"484240200001.78730","MX"]
[null,null,null,null,null,null,null,null,null,null,null,null,null,null,"31104","08","019","CHIHUAHUA",null,"CENACULO DE MARIA - 59937","CENACULO DE MARIA","59937","59937.4982","'01984001","'484160840001.59937",null,null,null,null,null,null,null,null,null,null,null,null,null,null,null,null,null,null,"484240280001.78268","MX"]
[null,null,null,null,null,null,null,null,null,null,null,null,null,null,"31136","08","019","CHIHUAHUA",null,"CENTRO - 76640","CENTRO","76640","76640.0557","'03357009","'484220180001.76640",null,null,null,null,null,null,null,null,null,null,null,null,null,null,null,null,null,null,"484240370001.79991","MX"]
[null,null,null,null,null,null,null,null,null,null,null,null,null,null,"31204","08","019","CHIHUAHUA",null,"CENTRO UNIVERSITARIO (U.A.Q.) - 76017","CENTRO UNIVERSITARIO (U.A.Q.)","76017","76017.0013","'03342535","'484220140001.76017",null,null,null,null,null,null,null,null,null,null,null,null,null,null,null,null,null,null,"484240530001.79936","MX"]
[null,null,null,null,null,null,null,null,null,null,null,null,null,null,"31217","08","019","CHIHUAHUA",null,"CERRADA LA CANTERA - 31115","CERRADA LA CANTERA","31115","31115.3893","'00919269","'484080190001.31115",null,null,null,null,null,null,null,null,null,null,null,null,null,null,null,null,null,null,"484250010001.81311","MX"]
[null,null,null,null,null,null,null,null,null,null,null,null,null,null,"31460","08","019","CHIHUAHUA",null,"CERRITOS - 42965","CERRITOS","42965","42965.99999","'01474001","'484130740001.42965",null,null,null,null,null,null,null,null,null,null,null,null,null,null,null,null,null,null,"484250060001.80010","MX"]
[null,null,null,null,null,null,null,null,null,null,null,null,null,null,"31604","08","017","CUAUHTEMOC",null,"CERRO COLORADO - 42348","CERRO COLORADO","42348","42348.0481","'01484002","'484130840001.42348",null,null,null,null,null,null,null,null,null,null,null,null,null,null,null,null,null,null,"484250070001.81746","MX"]
[null,null,null,null,null,null,null,null,null,null,null,null,null,null,"31645","08","054","RIVA PALACIO",null,"CERRO DEL CARBON - 93537","CERRO DEL CARBON","93537","93537.2375","'04225001","'484301240001.93537",null,null,null,null,null,null,null,null,null,null,null,null,null,null,null,null,null,null,"484250120001.82037","MX"]
[null,null,null,null,null,null,null,null,null,null,null,null,null,null,"31694","08","031","GUERRERO",null,"CERRO PELON - 41439","CERRO PELON","41439","41439.4279","'01377009","'484120760001.41439",null,null,null,null,null,null,null,null,null,null,null,null,null,null,null,null,null,null,"484250140001.82876","MX"]
[null,null,null,null,null,null,null,null,null,null,null,null,null,null,"31777","08","050","NUEVO CASAS GRANDES",null,"CERRO PRIETO DOS - 95935","CERRO PRIETO DOS","95935","95935.99999","'04205002","'484301040001.95935",null,null,null,null,null,null,null,null,null,null,null,null,null,null,null,null,null,null,"484250170001.81904","MX"]
[null,null,null,null,null,null,null,null,null,null,null,null,null,null,"31894","08","010","BUENAVENTURA",null,"CHACALAPA - 33922","CHACALAPA","33922","33922.99999","'00903009","'484080030001.33922",null,null,null,null,null,null,null,null,null,null,null,null,null,null,null,null,null,null,"484260040001.83793","MX"]
[null,null,null,null,null,null,null,null,null,null,null,null,null,null,"31984","08","063","TEMOSACHIC",null,"CHANCHEN PRIMERO - 77786","CHANCHEN PRIMERO","77786","77786.0304","'03422573","'484230090001.77786",null,null,null,null,null,null,null,null,null,null,null,null,null,null,null,null,null,null,"484260230001.84515","MX"]
[null,null,null,null,null,null,null,null,null,null,null,null,null,null,"31985","08","063","TEMOSACHIC",null,"CHAPANCAL - 92083","CHAPANCAL","92083","92083.5132","'04222007","'484301210001.92083",null,null,null,null,null,null,null,null,null,null,null,null,null,null,null,null,null,null,"484260290001.85427","MX"]
[null,null,null,null,null,null,null,null,null,null,null,null,null,null,"32107","08","037","JUAREZ",null,"CHARAPIO - 61236","CHARAPIO","61236","61236.0032","'01934008","'484160340001.61236",null,null,null,null,null,null,null,null,null,null,null,null,null,null,null,null,null,null,"484260300001.83336","MX"]
[null,null,null,null,null,null,null,null,null,null,null,null,null,null,"32350","08","037","JUAREZ",null,"CHERATO - 60433","CHERATO","60433","60433.1796","'01975004","'484160750001.60433",null,null,null,null,null,null,null,null,null,null,null,null,null,null,null,null,null,null,"484260430001.84046","MX"]
[null,null,null,null,null,null,null,null,null,null,null,null,null,null,"32409","08","037","JUAREZ",null,"CHICHIHUA II - 33814","CHICHIHUA II","33814","33814.99999","'00932006","'484080320001.33814",null,null,null,null,null,null,null,null,null,null,null,null,null,null,null,null,null,null,"484260550001.83488","MX"]
[null,null,null,null,null,null,null,null,null,null,null,null,null,null,"32560","08","037","JUAREZ",null,"CHIMALPA - 55885","CHIMALPA","55885","55885.5343","'01702007","'484150020001.55885",null,null,null,null,null,null,null,null,null,null,null,null,null,null,null,null,null,null,"484270040001.86275","MX"]
[null,null,null,null,null,null,null,null,null,null,null,null,null,null,"32575","08","037","JUAREZ",null,"CHINAMECA - 25748","CHINAMECA","25748","25748.0494","'00537208","'484050180001.25748",null,null,null,null,null,null,null,null,null,null,null,null,null,null,null,null,null,null,"484270050001.86656","MX"]
[null,null,null,null,null,null,null,null,null,null,null,null,null,null,"32618","08","037","JUAREZ",null,"CHIVUCU - 85238","CHIVUCU","85238","85238.1035","'03742009","'484260420001.85238",null,null,null,null,null,null,null,null,null,null,null,null,null,null,null,null,null,null,"484270140001.86613","MX"]
[null,null,null,null,null,null,null,null,null,null,null,null,null,null,"32692","08","037","JUAREZ",null,"CHULA VISTA - 79553","CHULA VISTA","79553","79553.3374","'03555009","'484240550001.79553",null,null,null,null,null,null,null,null,null,null,null,null,null,null,null,null,null,null,"484280090001.89479","MX"]
[null,null,null,null,null,null,null,null,null,null,null,null,null,null,"32896","08","052","OJINAGA",null,"CIENEGA DE SAN JUAN - 76319","CIENEGA DE SAN JUAN","76319","76319.1949","'03306009","'484220020001.76319",null,null,null,null,null,null,null,null,null,null,null,null,null,null,null,null,null,null,"484280220001.87343","MX"]
[null,null,null,null,null,null,null,null,null,null,null,null,null,null,"33038","08","021","DELICIAS",null,"CINCO DE MAYO - 33596","CINCO DE MAYO","33596","33596.5798","'00960009","'484080600001.33596",null,null,null,null,null,null,null,null,null,null,null,null,null,null,null,null,null,null,"484280270001.88278","MX"]
[null,null,null,null,null,null,null,null,null,null,null,null,null,null,"33087","08","021","DELICIAS",null,"CIQA - 25253","CIQA","25253","25253.2700","'00561009","'484050300001.25253",null,null,null,null,null,null,null,null,null,null,null,null,null,null,null,null,null,null,"484280320001.88719","MX"]
[null,null,null,null,null,null,null,null,null,null,null,null,null,null,"33115","08","021","DELICIAS",null,"CIUDAD SATELITE 5 SECTOR - 64969","CIUDAD SATELITE 5 SECTOR","64969","64969.4498","'02340009","'484190390001.64969",null,null,null,null,null,null,null,null,null,null,null,null,null,null,null,null,null,null,"484280410001.87015","MX"]
[null,null,null,null,null,null,null,null,null,null,null,null,null,null,"33123","08","055","ROSALES",null,"CLUB DE GOLF PUEBLA - 72460","CLUB DE GOLF PUEBLA","72460","72460.2850","'03115203","'484211140001.72460",null,null,null,null,null,null,null,null,null,null,null,null,null,null,null,null,null,null,"484290050001.90360","MX"]
[null,null,null,null,null,null,null,null,null,null,null,null,null,null,"33123","08","055","ROSALES",null,"CNOP - 05700","CNOP","05700","05700.99999","'01001002","'484090040001.05700",null,null,null,null,null,null,null,null,null,null,null,null,null,null,null,null,null,null,"484290100001.90821","MX"]
[null,null,null,null,null,null,null,null,null,null,null,null,null,null,"33136","08","045","MEOQUI",null,"COESILLOS - 61279","COESILLOS","61279","61279.99999","'01950006","'484160500001.61279",null,null,null,null,null,null,null,null,null,null,null,null,null,null,null,null,null,null,"484290600001.90194","MX"]
[null,null,null,null,null,null,null,null,null,null,null,null,null,null,"33186","08","027","GUACHOCHI",null,"COLIMA (LIC. MIGUEL DE LA MADRID HURTADO) - 28599","COLIMA (LIC. MIGUEL DE LA MADRID HURTADO)","28599","28599.0234","'00611009","'484060050001.28599",null,null,null,null,null,null,null,null,null,null,null,null,null,null,null,null,null,null,"484300130001.92300","MX"]
[null,null,null,null,null,null,null,null,null,null,null,null,null,null,"33187","08","027","GUACHOCHI",null,"COLINAS DEL SUR - 32670","COLINAS DEL SUR","32670","32670.1203","'00937006","'484080370001.32670",null,null,null,null,null,null,null,null,null,null,null,null,null,null,null,null,null,null,"484300390001.96497","MX"]
[null,null,null,null,null,null,null,null,null,null,null,null,null,null,"33187","08","027","GUACHOCHI",null,"COLINAS DEL SUR - 84093","COLINAS DEL SUR","84093","84093.1643","'03743003","'484260430001.84093",null,null,null,null,null,null,null,null,null,null,null,null,null,null,null,null,null,null,"484300390001.96536","MX"]
[null,null,null,null,null,null,null,null,null,null,null,null,null,null,"33190","08","027","GUACHOCHI",null,"COLONIA EL PALENQUE - 95835","COLONIA EL PALENQUE","95835","95835.8141","'04244008","'484301430001.95835",null,null,null,null,null,null,null,null,null,null,null,null,null,null,null,null,null,null,"484300510001.93157","MX"]
[null,null,null,null,null,null,null,null,null,null,null,null,null,null,"33194","08","027","GUACHOCHI",null,"COLONIA YUCATAN - 97710","COLONIA YUCATAN","97710","97710.0419","'04496008","'484310960001.97710",null,null,null,null,null,null,null,null,null,null,null,null,null,null,null,null,null,null,"484300780001.92290","MX"]
[null,null,null,null,null,null,null,null,null,null,null,null,null,null,"33195","08","027","GUACHOCHI",null,"COLUTILLA - 34584","COLUTILLA","34584","34584.5346","'01169005","'484100340001.34584",null,null,null,null,null,null,null,null,null,null,null,null,null,null,null,null,null,null,"484300870001.91156","MX"]
[null,null,null,null,null,null,null,null,null,null,null,null,null,null,"33196","08","027","GUACHOCHI",null,"CONCHAS CHINAS - 48390","CONCHAS CHINAS","48390","48390.2548","'01569717","'484140670001.48390",null,null,null,null,null,null,null,null,null,null,null,null,null,null,null,null,null,null,"484301100001.95045","MX"]
[null,null,null,null,null,null,null,null,null,null,null,null,null,null,"33197","08","027","GUACHOCHI",null,"CONGRESO PERMANENTE AGRARIO - 43003","CONGRESO PERMANENTE AGRARIO","43003","43003.4667","'01428006","'484130280001.43003",null,null,null,null,null,null,null,null,null,null,null,null,null,null,null,null,null,null,"484301230001.93997","MX"]
[null,null,null,null,null,null,null,null,null,null,null,null,null,null,"33198","08","027","GUACHOCHI",null,"CONQUISTADOR - 85506","CONQUISTADOR","85506","85506.2961","'03729055","'484260290001.85506",null,null,null,null,null,null,null,null,null,null,null,null,null,null,null,null,null,null,"484301310001.93250","MX"]
[null,null,null,null,null,null,null,null,null,null,null,null,null,null,"33277","08","024","SANTA ISABEL",null,"CONTRY LOS NARANJOS - 64858","CONTRY LOS NARANJOS","64858","64858.0487","'02340009","'484190390001.64858",null,null,null,null,null,null,null,null,null,null,null,null,null,null,null,null,null,null,"484301530001.92540","MX"]
[null,null,null,null,null,null,null,null,null,null,null,null,null,null,"33325","08","051","OCAMPO",null,"CORACACHI (CUERVO) - 33195","CORACACHI (CUERVO)","33195","33195.8524","'00927009","'484080270001.33195",null,null,null,null,null,null,null,null,null,null,null,null,null,null,null,null,null,null,"484301720001.96182","MX"]
[null,null,null,null,null,null,null,null,null,null,null,null,null,null,"33334","08","051","OCAMPO",null,"CORONACION - 70964","CORONACION","70964","70964.5404","'02470008","'484200710001.70964",null,null,null,null,null,null,null,null,null,null,null,null,null,null,null,null,null,null,"484301810001.95226","MX"]
[null,null,null,null,null,null,null,null,null,null,null,null,null,null,"33367","08","020","CHINIPAS",null,"CORREGIDORA - 76220","CORREGIDORA","76220","76220.1562","'03342535","'484220140001.76220",null,null,null,null,null,null,null,null,null,null,null,null,null,null,null,null,null,null,"484302070001.95374","MX"]
[null,null,null,null,null,null,null,null,null,null,null,null,null,null,"33473","08","029","GUADALUPE Y CALVO",null,"COSTA BRAVA TERRANOVA - 39412","COSTA BRAVA TERRANOVA","39412","39412.0549","'01301115","'484120010001.39412",null,null,null,null,null,null,null,null,null,null,null,null,null,null,null,null,null,null,"484310400001.97557","MX"]
[null,null,null,null,null,null,null,null,null,null,null,null,null,null,"33477","08","029","GUADALUPE Y CALVO",null,"COYOMETLA - 55067","COYOMETLA","55067","55067.4789","'01734051","'484150330001.55067",null,null,null,null,null,null,null,null,null,null,null,null,null,null,null,null,null,null,"484310650001.97616","MX"]
[null,null,null,null,null,null,null,null,null,null,null,null,null,null,"33483","08","029","GUADALUPE Y CALVO",null,"COYUL GRANDE - 71067","COYUL GRANDE","71067","71067.2643","'02849001","'484204470001.71067",null,null,null,null,null,null,null,null,null,null,null,null,null,null,null,null,null,null,"484310790001.97974","MX"]
[null,null,null,null,null,null,null,null,null,null,null,null,null,null,"33485","08","029","GUADALUPE Y CALVO",null,"CROC - 26700","CROC","26700","26700.99999","'00557207","'484050280001.26700",null,null,null,null,null,null,null,null,null,null,null,null,null,null,null,null,null,null,"484320080001.98698","MX"]
[null,null,null,null,null,null,null,null,null,null,null,null,null,null,"33488","08","029","GUADALUPE Y CALVO",null,"CRUZ QUEMADA - 41020","CRUZ QUEMADA","41020","41020.4711","'01346008","'484120450001.41020",null,null,null,null,null,null,null,null,null,null,null,null,null,null,null,null,null,null,"484320360001.98700","MX"]
[null,null,null,null,null,null,null,null,null,null,null,null,null,null,"33493","08","029","GUADALUPE Y CALVO",null,"CUACNOPALA - 75306","CUACNOPALA","75306","75306.8054","'03195009","'484211930001.75306",null,null,null,null,null,null,null,null,null,null,null,null,null,null,null,null,null,null,"484320490001.99202","MX"]
[null,null,null,null,null,null,null,null,null,null,null,null,null,null,"33544","08","033","HUEJOTITAN",null,"CUATRO HERMANOS - 30545","CUATRO HERMANOS","30545","30545.2946","'00769009","'484070690001.30545",null,null,null,null,null,null,null,null,null,null,null,null,null,null,null,null,null,null,"604010010002.E1200","PE"]
[null,null,null,null,null,null,null,null,null,null,null,null,null,null,"33563","08","007","BALLEZA",null,"CUAUHTEMOC - 29125","CUAUHTEMOC","29125","29125.0260","'00779006","'484070790001.29125",null,null,null,null,null,null,null,null,null,null,null,null,null,null,null,null,null,null,"642040010001.E01264","RO"]
[null,null,null,null,null,null,null,null,null,null,null,null,null,null,"33567","08","007","BALLEZA",null,"CUAUHTEMOC - 86716","CUAUHTEMOC","86716","86716.0675","'03836006","'484270120001.86716",null,null,null,null,null,null,null,null,null,null,null,null,null,null,null,null,null,null,"686020010001.E01372","SN"]
[null,null,null,null,null,null,null,null,null,null,null,null,null,null,"33576","08","007","BALLEZA",null,"CUERNO DE VENADO (CUMBRE DE GUALAYNA) - 33187","CUERNO DE VENADO (CUMBRE DE GUALAYNA)","33187","33187.8540","'00927009","'484080270001.33187",null,null,null,null,null,null,null,null,null,null,null,null,null,null,null,null,null,null,"840020050001.E01583","VU"]
[null,null,null,null,null,null,null,null,null,null,null,null,null,null,"33587","08","060","SANTA BARBARA",null,"CUEXPALA - 74565","CUEXPALA","74565","74565.1725","'03178009","'484211760001.74565",null,null,null,null,null,null,null,null,null,null,null,null,null,null,null,null,null,null,"840500010001.E01672","VU"]
[null,null,null,null,null,null,null,null,null,null,null,null,null,null,"33626","08","062","SAUCILLO",null,"CUMBRE DE SAN IGNACIO - 33187","CUMBRE DE SAN IGNACIO","33187","33187.8549","'00927009","'484080270001.33187"]
[null,null,null,null,null,null,null,null,null,null,null,null,null,null,"33637","08","062","SAUCILLO",null,"CUYAMIAPA - 30670","CUYAMIAPA","30670","30670.1604","'00737003","'484070370001.30670"]
[null,null,null,null,null,null,null,null,null,null,null,null,null,null,"33665","08","067","VALLE DE ZARAGOZA",null,"DE GOMEZ - 59773","DE GOMEZ","59773","59773.99999","'01985409","'484160850001.59773"]
[null,null,null,null,null,null,null,null,null,null,null,null,null,null,"33857","08","032","HIDALGO DEL PARRAL",null,"DE RUBEN - 65520","DE RUBEN","65520","65520.5546","'02346003","'484190450001.65520"]
[null,null,null,null,null,null,null,null,null,null,null,null,null,null,"33900","08","032","HIDALGO DEL PARRAL",null,"DEL AGUA - 20953","DEL AGUA","20953","20953.99999","'00113006","'484010050001.20953"]
[null,null,null,null,null,null,null,null,null,null,null,null,null,null,"33970","08","036","JIMENEZ",null,"DEL MAGISTERIO [HOTEL] - 36263","DEL MAGISTERIO [HOTEL]","36263","36263.6949","'01230006","'484110150001.36263"]
[null,null,null,null,null,null,null,null,null,null,null,null,null,null,"33970","08","036","JIMENEZ",null,"DEL PRI - 40900","DEL PRI","40900","40900.1204","'01358005","'484120570001.40900"]
[null,null,null,null,null,null,null,null,null,null,null,null,null,null,"33976","08","036","JIMENEZ",null,"DEL VALLE - 92125","DEL VALLE","92125","92125.1830","'04256005","'484301550001.92125"]
[null,null,null,null,null,null,null,null,null,null,null,null,null,null,"34008","10","005","DURANGO",null,"DEPORTIVA - 40800","DEPORTIVA","40800","40800.1207","'01369004","'484120680001.40800"]
[null,null,null,null,null,null,null,null,null,null,null,null,null,null,"34078","10","005","DURANGO",null,"DESARROLLO HABITACOINAL LOS CIPRECES - 76803","DESARROLLO HABITACOINAL LOS CIPRECES","76803","76803.2110","'03351009","'484220160001.76803"]
[null,null,null,null,null,null,null,null,null,null,null,null,null,null,"34190","10","005","DURANGO",null,"DIVISION DEL NORTE - 24354","DIVISION DEL NORTE","24354","24354.0254","'00407079","'484040090001.24354"]
[null,null,null,null,null,null,null,null,null,null,null,null,null,null,"34227","10","005","DURANGO",null,"DOLORES CUADRILLA DE ENMEDIO - 76820","DOLORES CUADRILLA DE ENMEDIO","76820","76820.0651","'03351009","'484220160001.76820"]
[null,null,null,null,null,null,null,null,null,null,null,null,null,null,"34286","10","005","DURANGO",null,"DON CLEMENT - 85218","DON CLEMENT","85218","85218.4786","'03718113","'484260180001.85218"]
[null,null,null,null,null,null,null,null,null,null,null,null,null,null,"34323","10","005","DURANGO",null,"DOS CAMINOS - 35056","DOS CAMINOS","35056","35056.99999","'01115008","'484100070001.35056"]
[null,null,null,null,null,null,null,null,null,null,null,null,null,null,"34405","10","001","CANATLAN",null,"DURANGUITO DE DIMAS - 82966","DURANGUITO DE DIMAS","82966","82966.1278","'03646006","'484250160001.82966"]
[null,null,null,null,null,null,null,null,null,null,null,null,null,null,"34457","10","001","CANATLAN",null,"EDUARDO LOARCA CASTILLO - 76118","EDUARDO LOARCA CASTILLO","76118","76118.1290","'03342535","'484220140001.76118"]
[null,null,null,null,null,null,null,null,null,null,null,null,null,null,"34486","10","028","SAN JUAN DEL RIO",null,"EJIDAL - 84187","EJIDAL","84187","84187.1854","'03739003","'484260390001.84187"]
[null,null,null,null,null,null,null,null,null,null,null,null,null,null,"34514","10","002","CANELAS",null,"EJIDO DE BENAVENTE (EL REFUGIO) - 36286","EJIDO DE BENAVENTE (EL REFUGIO)","36286","36286.8927","'01278009","'484110370001.36286"]
[null,null,null,null,null,null,null,null,null,null,null,null,null,null,"34546","10","037","TOPIA",null,"EJIDO PRIMERO DE ABRIL - 85224","EJIDO PRIMERO DE ABRIL","85224","85224.3526","'03742009","'484260420001.85224"]
[null,null,null,null,null,null,null,null,null,null,null,null,null,null,"34563","10","037","TOPIA",null,"EL AGOSTADERO - 91640","EL AGOSTADERO","91640","91640.99999","'04165106","'484300650001.91640"]
[null,null,null,null,null,null,null,null,null,null,null,null,null,null,"34575","10","034","TAMAZULA",null,"EL AGUAJITO - 33575","EL AGUAJITO","33575","33575.6444","'00908006","'484080070001.33575"]
[null,null,null,null,null,null,null,null,null,null,null,null,null,null,"34584","10","034","TAMAZULA",null,"EL ALACRAN - 34707","EL ALACRAN","34707","34707.5306","'01117004","'484100080001.34707"]
[null,null,null,null,null,null,null,null,null,null,null,null,null,null,"34588","10","034","TAMAZULA",null,"EL ALAMO - 83337","EL ALAMO","83337","83337.99999","'03730107","'484260300001.83337"]
[null,null,null,null,null,null,null,null,null,null,null,null,null,null,"34605","10","032","SANTIAGO PAPASQUIARO",null,"EL ANCLA - 25885","EL ANCLA","25885","25885.99999","'00513009","'484050060001.25885"]
[null,null,null,null,null,null,null,null,null,null,null,null,null,null,"34623","10","032","SANTIAGO PAPASQUIARO",null,"EL ARCOIRIS (LOS DAVILA) - 26605","EL ARCOIRIS (LOS DAVILA)","26605","26605.3488","'00577009","'484050370001.26605"]
[null,null,null,null,null,null,null,null,null,null,null,null,null,null,"34634","10","032","SANTIAGO PAPASQUIARO",null,"EL ARENAL - 54180","EL ARENAL","54180","54180.2790","'01806106","'484151040001.54180"]
[null,null,null,null,null,null,null,null,null,null,null,null,null,null,"34677","10","026","SAN DIMAS",null,"EL BABISO - 94059","EL BABISO","94059","94059.99999","'04289002","'484301880001.94059"]
[null,null,null,null,null,null,null,null,null,null,null,null,null,null,"34686","10","026","SAN DIMAS",null,"EL BANCO DE JICOTAN - 28362","EL BANCO DE JICOTAN","28362","28362.0183","'00603009","'484060010001.28362"]
[null,null,null,null,null,null,null,null,null,null,null,null,null,null,"34697","10","026","SAN DIMAS",null,"EL BECERRO - 48890","EL BECERRO","48890","48890.99999","'01544379","'484140430001.48890"]
[null,null,null,null,null,null,null,null,null,null,null,null,null,null,"34710","10","008","GUADALUPE VICTORIA",null,"EL BERRENDO - 33970","EL BERRENDO","33970","33970.5944","'00936009","'484080360001.33970"]
[null,null,null,null,null,null,null,null,null,null,null,null,null,null,"34801","10","'","POANAS",null,"EL BRAVO - 60927","EL BRAVO","60927","60927.5776","'01910005","'484160100001.60927"]
[null,null,null,null,null,null,null,null,null,null,null,null,null,null,"34933","10","033","SUCHIL",null,"EL CALABOZO - 61918","EL CALABOZO","61918","61918.0010","'01957001","'484160570001.61918"]
[null,null,null,null,null,null,null,null,null,null,null,null,null,null,"34956","10","023","PUEBLO NUEVO",null,"EL CALVARIO - 71265","EL CALVARIO","71265","71265.4002","'02696004","'484202950001.71265"]
[null,null,null,null,null,null,null,null,null,null,null,null,null,null,"34965","10","023","PUEBLO NUEVO",null,"EL CAMPANARIO - 25209","EL CAMPANARIO","25209","25209.1871","'00561009","'484050300001.25209"]
[null,null,null,null,null,null,null,null,null,null,null,null,null,null,"34976","10","014","MEZQUITAL",null,"EL CAPOTE (EJIDO) - 69501","EL CAPOTE (EJIDO)","69501","69501.99999","'02740008","'484203390001.69501"]
[null,null,null,null,null,null,null,null,null,null,null,null,null,null,"34983","10","014","MEZQUITAL",null,"EL CARACOL - 29140","EL CARACOL","29140","29140.2239","'00761003","'484070610001.29140"]
[null,null,null,null,null,null,null,null,null,null,null,null,null,null,"34985","10","014","MEZQUITAL",null,"EL CARMEN - 78820","EL CARMEN","78820","78820.0688","'03520009","'484240200001.78820"]
[null,null,null,null,null,null,null,null,null,null,null,null,null,null,"34986","10","014","MEZQUITAL",null,"EL CARRIL - 40189","EL CARRIL","40189","40189.99999","'01376002","'484120750001.40189"]
[null,null,null,null,null,null,null,null,null,null,null,null,null,null,"34987","10","014","MEZQUITAL",null,"EL CARRIZO - 33488","EL CARRIZO","33488","33488.4464","'00929003","'484080290001.33488"]
[null,null,null,null,null,null,null,null,null,null,null,null,null,null,"34993","10","014","MEZQUITAL",null,"EL CEDRAL - 96399","EL CEDRAL","96399","96399.4115","'04139058","'484302040001.96399"]
[null,null,null,null,null,null,null,null,null,null,null,null,null,null,"34996","10","014","MEZQUITAL",null,"EL CERRITO - 45629","EL CERRITO","45629","45629.1283","'01601532","'484140980001.45629"]
[null,null,null,null,null,null,null,null,null,null,null,null,null,null,"35040","10","007","GOMEZ PALACIO",null,"EL CHAMIZAL - 74088","EL CHAMIZAL","74088","74088.1444","'03133003","'484211320001.74088"]
[null,null,null,null,null,null,null,null,null,null,null,null,null,null,"35049","10","007","GOMEZ PALACIO",null,"EL CHAPARRAL - 27426","EL CHAPARRAL","27426","27426.3704","'00573009","'484050350001.27426"]
[null,null,null,null,null,null,null,null,null,null,null,null,null,null,"35128","10","007","GOMEZ PALACIO",null,"EL CHICLE - 94263","EL CHICLE","94263","94263.6954","'04190008","'484300900001.94263"]
[null,null,null,null,null,null,null,null,null,null,null,null,null,null,"35220","10","013","MAPIMI",null,"EL CHOTE - 43433","EL CHOTE","43433","43433.3731","'01427008","'484130270001.43433"]
[null,null,null,null,null,null,null,null,null,null,null,null,null,null,"35265","10","036","TLAHUALILO",null,"EL CIPIATE DE SAN ANTONIO URAPA - 61974","EL CIPIATE DE SAN ANTONIO URAPA","61974","61974.0026","'01938003","'484160380001.61974"]
[null,null,null,null,null,null,null,null,null,null,null,null,null,null,"35344","10","010","HIDALGO",null,"EL COCAL - 95397","EL COCAL","95397","95397.7603","'04145125","'484300450001.95397"]
[null,null,null,null,null,null,null,null,null,null,null,null,null,null,"35435","10","009","GUANACEVI",null,"EL CONEJO - 61675","EL CONEJO","61675","61675.4491","'01982008","'484160820001.61675"]
[null,null,null,null,null,null,null,null,null,null,null,null,null,null,"35446","10","009","GUANACEVI",null,"EL CORA - 63773","EL CORA","63773","63773.0646","'02234259","'484180120001.63773"]
[null,null,null,null,null,null,null,null,null,null,null,null,null,null,"35620","10","035","TEPEHUANES",null,"EL CRUCERO - 36964","EL CRUCERO","36964","36964.99999","'01224009","'484110120001.36964"]
[null,null,null,null,null,null,null,null,null,null,null,null,null,null,"35633","10","035","TEPEHUANES",null,"EL CUARENTA Y CUATRO (EL MAGNUM) - 33633","EL CUARENTA Y CUATRO (EL MAGNUM)","33633","33633.9703","'00962006","'484080620001.33633"]
[null,null,null,null,null,null,null,null,null,null,null,null,null,null,"35657","10","018","EL ORO",null,"EL DATIL - 82334","EL DATIL","82334","82334.99999","'03634107","'484250120001.82334"]
[null,null,null,null,null,null,null,null,null,null,null,null,null,null,"35750","10","029","SAN LUIS DEL CORDERO",null,"EL DIAMANTE (DOS PALOMAS) - 30917","EL DIAMANTE (DOS PALOMAS)","30917","30917.7007","'00757003","'484070570001.30917"]
[null,null,null,null,null,null,null,null,null,null,null,null,null,null,"35860","10","004","CUENCAME",null,"EL DURAZNO - 33947","EL DURAZNO","33947","33947.0015","'00939009","'484080390001.33947"]
[null,null,null,null,null,null,null,null,null,null,null,null,null,null,"35984","10","006","GENERAL SIMON BOLIVAR",null,"EL EMBOCADERO - 76346","EL EMBOCADERO","76346","76346.2080","'03327009","'484220090001.76346"]
[null,null,null,null,null,null,null,null,null,null,null,null,null,null,"36044","11","015","GUANAJUATO",null,"EL ENCINAL - 33485","EL ENCINAL","33485","33485.4504","'00929003","'484080290001.33485"]
[null,null,null,null,null,null,null,null,null,null,null,null,null,null,"36172","11","037","SILAO DE LA VICTORIA",null,"EL ESCOBAL - 29571","EL ESCOBAL","29571","29571.0624","'00743006","'484070430001.29571"]
[null,null,null,null,null,null,null,null,null,null,null,null,null,null,"36215","11","026","ROMITA",null,"EL FARO - 84624","EL FARO","84624","84624.9331","'03719003","'484260190001.84624"]
[null,null,null,null,null,null,null,null,null,null,null,null,null,null,"36243","11","015","GUANAJUATO",null,"EL GALAN - 43587","EL GALAN","43587","43587.4771","'01422009","'484130220001.43587"]
[null,null,null,null,null,null,null,null,null,null,null,null,null,null,"36263","11","015","GUANAJUATO",null,"EL GAVILAN - 78636","EL GAVILAN","78636","78636.4297","'03533006","'484240330001.78636"]
[null,null,null,null,null,null,null,null,null,null,null,null,null,null,"36274","11","037","SILAO DE LA VICTORIA",null,"EL GRAMAL - 32957","EL GRAMAL","32957","32957.1396","'00938006","'484080380001.32957"]
[null,null,null,null,null,null,null,null,null,null,null,null,null,null,"36283","11","037","SILAO DE LA VICTORIA",null,"EL GUAMECHIL - 37918","EL GUAMECHIL","37918","37918.8431","'01270007","'484110330001.37918"]
[null,null,null,null,null,null,null,null,null,null,null,null,null,null,"36342","11","031","SAN FRANCISCO DEL RINCON",null,"EL HORIZONTE - 30195","EL HORIZONTE","30195","30195.5432","'00704003","'484070040001.30195"]
[null,null,null,null,null,null,null,null,null,null,null,null,null,null,"36379","11","031","SAN FRANCISCO DEL RINCON",null,"EL HUAMUL - 70135","EL HUAMUL","70135","70135.4459","'02465007","'484200660001.70135"]
[null,null,null,null,null,null,null,null,null,null,null,null,null,null,"36440","11","031","SAN FRANCISCO DEL RINCON",null,"EL INVENTARIO - 61334","EL INVENTARIO","61334","61334.0035","'02002008","'484161010001.61334"]
[null,null,null,null,null,null,null,null,null,null,null,null,null,null,"36484","11","008","MANUEL DOBLADO",null,"EL JARDIN - 29836","EL JARDIN","29836","29836.0796","'00781003","'484070810001.29836"]
[null,null,null,null,null,null,null,null,null,null,null,null,null,null,"36540","11","017","IRAPUATO",null,"EL LAUREL - 20844","EL LAUREL","20844","20844.0769","'00107003","'484010030001.20844"]
[null,null,null,null,null,null,null,null,null,null,null,null,null,null,"36587","11","017","IRAPUATO",null,"EL LIMON - 63584","EL LIMON","63584","63584.0022","'02257005","'484180190001.63584"]
[null,null,null,null,null,null,null,null,null,null,null,null,null,null,"36620","11","017","IRAPUATO",null,"EL LIMONAR - 50324","EL LIMONAR","50324","50324.99999","'01701009","'484150010001.50324"]
[null,null,null,null,null,null,null,null,null,null,null,null,null,null,"36760","11","027","SALAMANCA",null,"EL LLANO (SAN MIGUEL CANARIO) - 61390","EL LLANO (SAN MIGUEL CANARIO)","61390","61390.0035","'01992003","'484160920001.61390"]
[null,null,null,null,null,null,null,null,null,null,null,null,null,null,"36804","11","017","IRAPUATO",null,"EL MADROÑO (LAS DAMIANAS) - 33577","EL MADROÑO (LAS DAMIANAS)","33577","33577.6501","'00908006","'484080070001.33577"]
[null,null,null,null,null,null,null,null,null,null,null,null,null,null,"36830","11","017","IRAPUATO",null,"EL MALACATE - 96155","EL MALACATE","96155","96155.99999","'04245006","'484301440001.96155"]
[null,null,null,null,null,null,null,null,null,null,null,null,null,null,"36883","11","027","SALAMANCA",null,"EL MARQUEZ - 35245","EL MARQUEZ","35245","35245.99999","'01127208","'484100130001.35245"]
[null,null,null,null,null,null,null,null,null,null,null,null,null,null,"36896","11","024","PUEBLO NUEVO",null,"EL MEZCLERO - 93655","EL MEZCLERO","93655","93655.6713","'04284009","'484301830001.93655"]
[null,null,null,null,null,null,null,null,null,null,null,null,null,null,"36926","11","023","PENJAMO",null,"EL MINERAL DEL CATORCE - 35633","EL MINERAL DEL CATORCE","35633","35633.3101","'01171004","'484100350001.35633"]
[null,null,null,null,null,null,null,null,null,null,null,null,null,null,"36927","11","023","PENJAMO",null,"EL MIRADOR - 20802","EL MIRADOR","20802","20802.0710","'00107003","'484010030001.20802"]
[null,null,null,null,null,null,null,null,null,null,null,null,null,null,"36948","11","023","PENJAMO",null,"EL MIRADOR - 62775","EL MIRADOR","62775","62775.1407","'02147004","'484170240001.62775"]
[null,null,null,null,null,null,null,null,null,null,null,null,null,null,"36984","11","001","ABASOLO",null,"EL MOLINITO (LA PRIMAVERA) - 60717","EL MOLINITO (LA PRIMAVERA)","60717","60717.1943","'01906001","'484160060001.60717"]
[null,null,null,null,null,null,null,null,null,null,null,null,null,null,"36985","11","001","ABASOLO",null,"EL MONTE DE ZAMORA (LA CAL) - 59715","EL MONTE DE ZAMORA (LA CAL)","59715","59715.0008","'02009007","'484161080001.59715"]
[null,null,null,null,null,null,null,null,null,null,null,null,null,null,"37128","11","020","LEON",null,"EL NARANJITO - 34627","EL NARANJITO","34627","34627.0685","'01165001","'484100320001.34627"]
[null,null,null,null,null,null,null,null,null,null,null,null,null,null,"37150","11","020","LEON",null,"EL NARANJO - 33486","EL NARANJO","33486","33486.4537","'00929003","'484080290001.33486"]
[null,null,null,null,null,null,null,null,null,null,null,null,null,null,"37210","11","020","LEON",null,"EL NOGAL - 68297","EL NOGAL","68297","68297.0982","'02811006","'484204090001.68297"]
[null,null,null,null,null,null,null,null,null,null,null,null,null,null,"37299","11","020","LEON",null,"EL OCOTE - 90414","EL OCOTE","90414","90414.1168","'04007008","'484290030001.90414"]
[null,null,null,null,null,null,null,null,null,null,null,null,null,null,"37358","11","020","LEON",null,"EL OJO DE AGUA - 79557","EL OJO DE AGUA","79557","79557.3399","'03555009","'484240550001.79557"]
[null,null,null,null,null,null,null,null,null,null,null,null,null,null,"37450","11","020","LEON",null,"EL ORO - 78885","EL ORO","78885","78885.0736","'03517003","'484240170001.78885"]
[null,null,null,null,null,null,null,null,null,null,null,null,null,null,"37604","11","030","SAN FELIPE",null,"EL PALMAREJO - 34574","EL PALMAREJO","34574","34574.5458","'01169005","'484100340001.34574"]
[null,null,null,null,null,null,null,null,null,null,null,null,null,null,"37644","11","022","OCAMPO",null,"EL PANTANO - 86453","EL PANTANO","86453","86453.2372","'03824109","'484270080001.86453"]
[null,null,null,null,null,null,null,null,null,null,null,null,null,null,"37728","11","003","SAN MIGUEL DE ALLENDE",null,"EL PARAISO - 60710","EL PARAISO","60710","60710.4361","'01906001","'484160060001.60710"]
[null,null,null,null,null,null,null,null,null,null,null,null,null,null,"37746","11","003","SAN MIGUEL DE ALLENDE",null,"EL PARAISO - 79777","EL PARAISO","79777","79777.4555","'03503006","'484240030001.79777"]
[null,null,null,null,null,null,null,null,null,null,null,null,null,null,"37867","11","029","SAN DIEGO DE LA UNION",null,"EL PEDREGAL - 58765","EL PEDREGAL","58765","58765.0036","'01970002","'484160700001.58760"]
[null,null,null,null,null,null,null,null,null,null,null,null,null,null,"37875","11","029","SAN DIEGO DE LA UNION",null,"EL PELILLO - 79375","EL PELILLO","79375","79375.0015","'03502006","'484240020001.79375"]
[null,null,null,null,null,null,null,null,null,null,null,null,null,null,"37886","11","003","SAN MIGUEL DE ALLENDE",null,"EL PICHO - 38765","EL PICHO","38765","38765.99999","'01204007","'484110020001.38765"]
[null,null,null,null,null,null,null,null,null,null,null,null,null,null,"37897","11","003","SAN MIGUEL DE ALLENDE",null,"EL PINTAL EL DEPOSITO - 50675","EL PINTAL EL DEPOSITO","50675","50675.5727","'01825001","'484151240001.50675"]
[null,null,null,null,null,null,null,null,null,null,null,null,null,null,"37906","11","033","SAN LUIS DE LA PAZ",null,"EL PIRUL - 36917","EL PIRUL","36917","36917.7510","'01246109","'484110230001.36917"]
[null,null,null,null,null,null,null,null,null,null,null,null,null,null,"37914","11","033","SAN LUIS DE LA PAZ",null,"EL PLATANAR - 49896","EL PLATANAR","49896","49896.5994","'01567001","'484140650001.49896"]
[null,null,null,null,null,null,null,null,null,null,null,null,null,null,"37918","11","033","SAN LUIS DE LA PAZ",null,"EL PORVENIR - 58160","EL PORVENIR","58160","58160.0195","'01953009","'484160530001.58160"]
[null,null,null,null,null,null,null,null,null,null,null,null,null,null,"37923","11","043","VICTORIA",null,"EL PORVENIR - 85243","EL PORVENIR","85243","85243.1059","'03733003","'484260330001.85243"]
[null,null,null,null,null,null,null,null,null,null,null,null,null,null,"37939","11","045","XICHU",null,"EL POTRERO - 58960","EL POTRERO","58960","58960.4367","'02011005","'484161100001.58960"]
[null,null,null,null,null,null,null,null,null,null,null,null,null,null,"37978","11","040","TIERRA BLANCA",null,"EL PROGRESO - 30586","EL PROGRESO","30586","30586.3360","'00703009","'484070030001.30586"]
[null,null,null,null,null,null,null,null,null,null,null,null,null,null,"37990","11","032","SAN JOSE ITURBIDE",null,"EL PROGRESO - 90410","EL PROGRESO","90410","90410.99999","'04007008","'484290030001.90410"]
[null,null,null,null,null,null,null,null,null,null,null,null,null,null,"38050","11","007","CELAYA",null,"EL QUERENDAL - 61804","EL QUERENDAL","61804","61804.2713","'01979352","'484160790001.61804"]
[null,null,null,null,null,null,null,null,null,null,null,null,null,null,"38090","11","007","CELAYA",null,"EL RANCHITO - 33483","EL RANCHITO","33483","33483.4590","'00929003","'484080290001.33483"]
[null,null,null,null,null,null,null,null,null,null,null,null,null,null,"38159","11","007","CELAYA",null,"EL RANCHITO (ALEJANDRO CAMOU) - 83320","EL RANCHITO (ALEJANDRO CAMOU)","83320","83320.6583","'03730107","'484260300001.83320"]
[null,null,null,null,null,null,null,null,null,null,null,null,null,null,"38197","11","005","APASEO EL GRANDE",null,"EL RECODO - 81119","EL RECODO","81119","81119.99999","'03631059","'484250110001.81119"]
[null,null,null,null,null,null,null,null,null,null,null,null,null,null,"38240","11","035","SANTA CRUZ DE JUVENTINO ROSAS",null,"EL REFUGIO - 96143","EL REFUGIO","96143","96143.6272","'04243409","'484301420001.96143"]
[null,null,null,null,null,null,null,null,null,null,null,null,null,null,"38255","11","035","SANTA CRUZ DE JUVENTINO ROSAS",null,"EL REPARO - 51569","EL REPARO","51569","51569.9519","'01807007","'484151050001.51569"]
[null,null,null,null,null,null,null,null,null,null,null,null,null,null,"38309","11","011","CORTAZAR",null,"EL RETIRO - 29962","EL RETIRO","29962","29962.0001","'00765009","'484070650001.29962"]
[null,null,null,null,null,null,null,null,null,null,null,null,null,null,"38426","11","042","VALLE DE SANTIAGO",null,"EL RINCON DE LAS BOMBAS (NICOLAS ORTIZ) - 79316","EL RINCON DE LAS BOMBAS (NICOLAS ORTIZ)","79316","79316.3553","'03510202","'484240580001.79316"]
[null,null,null,null,null,null,null,null,null,null,null,null,null,null,"38457","11","042","VALLE DE SANTIAGO",null,"EL ROBLITO - 82430","EL ROBLITO","82430","82430.2076","'03625053","'484250090001.82430"]
[null,null,null,null,null,null,null,null,null,null,null,null,null,null,"38487","11","018","JARAL DEL PROGRESO",null,"EL RODEO - 80776","EL RODEO","80776","80776.0486","'03613006","'484250050001.80776"]
[null,null,null,null,null,null,null,null,null,null,null,null,null,null,"38530","11","004","APASEO EL ALTO",null,"EL ROSILLO - 34684","EL ROSILLO","34684","34684.4106","'01153001","'484100260001.34684"]
[null,null,null,null,null,null,null,null,null,null,null,null,null,null,"38560","11","019","JERECUARO",null,"EL SABINO GORDO - 80875","EL SABINO GORDO","80875","80875.1443","'03637156","'484250130001.80875"]
[null,null,null,null,null,null,null,null,null,null,null,null,null,null,"38670","11","002","ACAMBARO",null,"EL SALTILLO - 44217","EL SALTILLO","44217","44217.99999","'01539009","'484140390001.44217"]
[null,null,null,null,null,null,null,null,null,null,null,null,null,null,"38679","11","002","ACAMBARO",null,"EL SALTITO - 35643","EL SALTITO","35643","35643.3146","'01171004","'484100350001.35643"]
[null,null,null,null,null,null,null,null,null,null,null,null,null,null,"38763","11","002","ACAMBARO",null,"EL SAUCE - 81225","EL SAUCE","81225","81225.99999","'03601056","'484250010001.81225"]
[null,null,null,null,null,null,null,null,null,null,null,null,null,null,"38830","11","021","MOROLEON",null,"EL SAUZ - 45259","EL SAUZ","45259","45259.0937","'01573004","'484140710001.45259"]
[null,null,null,null,null,null,null,null,null,null,null,null,null,null,"38905","11","028","SALVATIERRA",null,"EL SIETE - 35896","EL SIETE","35896","35896.7357","'01163008","'484100310001.35896"]
[null,null,null,null,null,null,null,null,null,null,null,null,null,null,"38983","11","041","URIANGATO",null,"EL SUSPIRO - 85203","EL SUSPIRO","85203","85203.4994","'03718113","'484260180001.85203"]
[null,null,null,null,null,null,null,null,null,null,null,null,null,null,"39010","12","029","CHILPANCINGO DE LOS BRAVO",null,"EL TAMARINDO - 60924","EL TAMARINDO","60924","60924.5852","'01910005","'484160100001.60924"]
[null,null,null,null,null,null,null,null,null,null,null,null,null,null,"39050","12","029","CHILPANCINGO DE LOS BRAVO",null,"EL TARENGO - 36945","EL TARENGO","36945","36945.7519","'01246109","'484110230001.36945"]
[null,null,null,null,null,null,null,null,null,null,null,null,null,null,"39128","12","029","CHILPANCINGO DE LOS BRAVO",null,"EL TEJOLOTE - 39287","EL TEJOLOTE","39287","39287.0469","'01357004","'484120560001.39287"]
[null,null,null,null,null,null,null,null,null,null,null,null,null,null,"39172","12","061","TIXTLA DE GUERRERO",null,"EL TEPETATE - 63547","EL TEPETATE","63547","63547.1531","'02225007","'484180090001.63547"]
[null,null,null,null,null,null,null,null,null,null,null,null,null,null,"39211","12","012","AYUTLA DE LOS LIBRES",null,"EL TERRERO - 34956","EL TERRERO","34956","34956.3752","'01147007","'484100230001.34956"]
[null,null,null,null,null,null,null,null,null,null,null,null,null,null,"39390","12","001","ACAPULCO DE JUAREZ",null,"EL TIRADERO (EL RAMON) - 86956","EL TIRADERO (EL RAMON)","86956","86956.2997","'03805006","'484270010001.86956"]
[null,null,null,null,null,null,null,null,null,null,null,null,null,null,"39660","12","001","ACAPULCO DE JUAREZ",null,"EL TOTOPO - 51443","EL TOTOPO","51443","51443.6046","'01824006","'484151230001.51443"]
[null,null,null,null,null,null,null,null,null,null,null,null,null,null,"39814","12","001","ACAPULCO DE JUAREZ",null,"EL TRIUNFO - 95094","EL TRIUNFO","95094","95094.7032","'04274002","'484301730001.95094"]
[null,null,null,null,null,null,null,null,null,null,null,null,null,null,"39887","12","001","ACAPULCO DE JUAREZ",null,"EL TUBURI - 82090","EL TUBURI","82090","82090.99999","'03634107","'484250120001.82090"]
[null,null,null,null,null,null,null,null,null,null,null,null,null,null,"39944","12","039","JUAN R. ESCUDERO",null,"EL VALLE - 22116","EL VALLE","22116","22116.1385","'00210208","'484020040001.22116"]
[null,null,null,null,null,null,null,null,null,null,null,null,null,null,"40040","12","035","IGUALA DE LA INDEPENDENCIA",null,"EL VERGEL - 31140","EL VERGEL","31140","31140.2792","'00919269","'484080190001.31140"]
[null,null,null,null,null,null,null,null,null,null,null,null,null,null,"40130","12","034","HUITZUCO DE LOS FIGUEROA",null,"EL VITONCHINO - 70938","EL VITONCHINO","70938","70938.5727","'02803005","'484204010001.70938"]
[null,null,null,null,null,null,null,null,null,null,null,null,null,null,"40185","12","075","EDUARDO NERI",null,"EL ZACATAL - 42285","EL ZACATAL","42285","42285.2552","'01418005","'484130180001.42285"]
[null,null,null,null,null,null,null,null,null,null,null,null,null,null,"40321","12","055","TAXCO DE ALARCON",null,"EL ZAPOTE - 78430","EL ZAPOTE","78430","78430.2238","'03535006","'484240350001.78430"]
[null,null,null,null,null,null,null,null,null,null,null,null,null,null,"40405","12","058","TELOLOAPAN",null,"EL ZORRILLO (EL CERRO DEL AGUILA) - 61023","EL ZORRILLO (EL CERRO DEL AGUILA)","61023","61023.6205","'01917009","'484160170001.61023"]
[null,null,null,null,null,null,null,null,null,null,null,null,null,null,"40512","12","007","ARCELIA",null,"EMILIANO ZAPATA - 27445","EMILIANO ZAPATA","27445","27445.1244","'00535159","'484050170001.27445"]
[null,null,null,null,null,null,null,null,null,null,null,null,null,null,"40580","12","017","COCULA",null,"EMILIANO ZAPATA - 40896","EMILIANO ZAPATA","40896","40896.3751","'01339256","'484120380001.40896"]
[null,null,null,null,null,null,null,null,null,null,null,null,null,null,"40648","12","027","CUTZAMALA DE PINZON",null,"EMILIANO ZAPATA - 68285","EMILIANO ZAPATA","68285","68285.4065","'02556009","'484201570001.68285"]
[null,null,null,null,null,null,null,null,null,null,null,null,null,null,"40734","12","003","AJUCHITLAN DEL PROGRESO",null,"EMILIANO ZAPATA LOS MOLINOS - 74367","EMILIANO ZAPATA LOS MOLINOS","74367","74367.1613","'03019006","'484210190001.74367"]
[null,null,null,null,null,null,null,null,null,null,null,null,null,null,"40826","12","068","LA UNION DE ISIDORO MONTES DE OCA",null,"ENANDIRO - 60468","ENANDIRO","60468","60468.6087","'01983003","'484160830001.60468"]
[null,null,null,null,null,null,null,null,null,null,null,null,null,null,"40865","12","016","COAHUAYUTLA DE JOSE MARIA IZAZAGA",null,"ENRIQUE GUERRA - 85213","ENRIQUE GUERRA","85213","85213.5022","'03718113","'484260180001.85213"]
[null,null,null,null,null,null,null,null,null,null,null,null,null,null,"40867","12","016","COAHUAYUTLA DE JOSE MARIA IZAZAGA",null,"ENSUEÑO - 93607","ENSUEÑO","93607","93607.7691","'04203109","'484301020001.93607"]
[null,null,null,null,null,null,null,null,null,null,null,null,null,null,"40886","12","038","ZIHUATANEJO DE AZUETA",null,"ESCOBAL (EJIDO ESCOBAL) - 49720","ESCOBAL (EJIDO ESCOBAL)","49720","49720.99999","'01965109","'484141130001.49720"]
[null,null,null,null,null,null,null,null,null,null,null,null,null,null,"40951","12","011","ATOYAC DE ALVAREZ",null,"ESPERANZA - 97169","ESPERANZA","97169","97169.0118","'04450007","'484310500001.97169"]
[null,null,null,null,null,null,null,null,null,null,null,null,null,null,"41007","12","045","OLINALA",null,"ESTACION JOAQUIN - 36984","ESTACION JOAQUIN","36984","36984.0979","'01202008","'484110010001.36984"]
[null,null,null,null,null,null,null,null,null,null,null,null,null,null,"41028","12","045","OLINALA",null,"ESTANISLAO MUÑOZ - 33740","ESTANISLAO MUÑOZ","33740","33740.3772","'00911223","'484080110001.33740"]
[null,null,null,null,null,null,null,null,null,null,null,null,null,null,"41100","12","028","CHILAPA DE ALVAREZ",null,"ESTERO AQUIROPO - 85240","ESTERO AQUIROPO","85240","85240.3918","'03733003","'484260330001.85240"]
[null,null,null,null,null,null,null,null,null,null,null,null,null,null,"41114","12","028","CHILAPA DE ALVAREZ",null,"EUGENIO GARZA SADA - 64103","EUGENIO GARZA SADA","64103","64103.3479","'02340009","'484190390001.64103"]
[null,null,null,null,null,null,null,null,null,null,null,null,null,null,"41179","12","074","ZITLALA",null,"EX-HACIENDA XICO - 56614","EX-HACIENDA XICO","56614","56614.8944","'01823005","'484151220001.56614"]
[null,null,null,null,null,null,null,null,null,null,null,null,null,null,"41300","12","066","TLAPA DE COMONFORT",null,"FAISANES SUR - 67169","FAISANES SUR","67169","67169.5093","'02327001","'484190260001.67169"]
[null,null,null,null,null,null,null,null,null,null,null,null,null,null,"41434","12","076","ACATEPEC",null,"FELIPA VELAZQUEZ - 22190","FELIPA VELAZQUEZ","22190","22190.2039","'00210208","'484020040001.22190"]
[null,null,null,null,null,null,null,null,null,null,null,null,null,null,"41614","12","052","SAN LUIS ACATLAN",null,"FERIVA - 86896","FERIVA","86896","86896.99999","'03845009","'484270150001.86896"]
[null,null,null,null,null,null,null,null,null,null,null,null,null,null,"41670","12","004","ALCOZAUCA DE GUERRERO",null,"FICUS - 52100","FICUS","52100","52100.99999","'01777007","'484150760001.52100"]
[null,null,null,null,null,null,null,null,null,null,null,null,null,null,"41753","12","062","TLACOACHISTLAHUACA",null,"FIRCO - 16615","FIRCO","16615","16615.99999","'01001002","'484090130001.16615"]
[null,null,null,null,null,null,null,null,null,null,null,null,null,null,"41887","12","018","COPALA",null,"FLOREÑO - 33601","FLOREÑO","33601","33601.1900","'00911223","'484080110001.33601"]
[null,null,null,null,null,null,null,null,null,null,null,null,null,null,"41962","12","023","CUAJINICUILAPA",null,"FONHAPO 2 - 76114","FONHAPO 2","76114","76114.99999","'03342535","'484220140001.76114"]
[null,null,null,null,null,null,null,null,null,null,null,null,null,null,"42057","13","048","PACHUCA DE SOTO",null,"FOVISSSTE - 99471","FOVISSSTE","99471","99471.99999","'04655005","'484320200001.99471"]
[null,null,null,null,null,null,null,null,null,null,null,null,null,null,"42117","13","048","PACHUCA DE SOTO",null,"FRACCIONAMIENTO FUENTES DE LA LAJA - 38197","FRACCIONAMIENTO FUENTES DE LA LAJA","38197","38197.5439","'01210001","'484110050001.38197"]
[null,null,null,null,null,null,null,null,null,null,null,null,null,null,"42156","13","005","AJACUBA",null,"FRANCISCO DE GARAY (TACOACINTA) - 96903","FRANCISCO DE GARAY (TACOACINTA)","96903","96903.7294","'04209006","'484301080001.96903"]
[null,null,null,null,null,null,null,null,null,null,null,null,null,null,"42182","13","051","MINERAL DE LA REFORMA",null,"FRANCISCO I MADERO - 29160","FRANCISCO I MADERO","29160","29160.5743","'00727003","'484070270001.29160"]
[null,null,null,null,null,null,null,null,null,null,null,null,null,null,"42186","13","051","MINERAL DE LA REFORMA",null,"FRANCISCO I. MADERO - 29372","FRANCISCO I. MADERO","29372","29372.99999","'00702009","'484070020001.29372"]
[null,null,null,null,null,null,null,null,null,null,null,null,null,null,"42266","13","040","LA MISION",null,"FRANCISCO URBALEJO - 89780","FRANCISCO URBALEJO","89780","89780.99999","'03921009","'484280110036.89780"]
[null,null,null,null,null,null,null,null,null,null,null,null,null,null,"42282","13","018","CHAPULHUACAN",null,"FRANCISCO VILLA - 30472","FRANCISCO VILLA","30472","30472.1397","'00809009","'484071080001.30472"]
[null,null,null,null,null,null,null,null,null,null,null,null,null,null,"42320","13","030","IXMIQUILPAN",null,"FRANCISCO VILLA NUEVO - 96977","FRANCISCO VILLA NUEVO","96977","96977.8628","'04191006","'484300910001.96977"]
[null,null,null,null,null,null,null,null,null,null,null,null,null,null,"42348","13","084","ZIMAPAN",null,"FRESNOS LA SILLA - 67176","FRESNOS LA SILLA","67176","67176.1757","'02327001","'484190260001.67176"]
[null,null,null,null,null,null,null,null,null,null,null,null,null,null,"42366","13","043","NICOLAS FLORES",null,"FUENTES DE SAN JOSE - 54466","FUENTES DE SAN JOSE","54466","54466.7030","'01761006","'484150600001.54466"]
[null,null,null,null,null,null,null,null,null,null,null,null,null,null,"42394","13","006","ALFAJAYUCAN",null,"GABRIEL LOPEZ - 99917","GABRIEL LOPEZ","99917","99917.0724","'04657004","'484320340001.99917"]
[null,null,null,null,null,null,null,null,null,null,null,null,null,null,"42444","13","059","TECOZAUTLA",null,"GANDHI - 60440","GANDHI","60440","60440.99999","'01968006","'484160680001.60440"]
[null,null,null,null,null,null,null,null,null,null,null,null,null,null,"42523","13","003","ACTOPAN",null,"GENERAL EMILIANO ZAPATA - 68496","GENERAL EMILIANO ZAPATA","68496","68496.4502","'02535003","'484201360001.68496"]
[null,null,null,null,null,null,null,null,null,null,null,null,null,null,"42646","13","054","SAN SALVADOR",null,"GEOVILLAS CAMPESTRE - 51924","GEOVILLAS CAMPESTRE","51924","51924.99999","'01741007","'484150400001.51924"]
[null,null,null,null,null,null,null,null,null,null,null,null,null,null,"42694","13","009","EL ARENAL",null,"GILBERTO GONZALEZ - 65537","GILBERTO GONZALEZ","65537","65537.5734","'02346003","'484190450001.65537"]
[null,null,null,null,null,null,null,null,null,null,null,null,null,null,"42830","13","076","TULA DE ALLENDE",null,"GRACIANO SANCHEZ - 88920","GRACIANO SANCHEZ","88920","88920.1237","'03965256","'484280330001.88920"]
[null,null,null,null,null,null,null,null,null,null,null,null,null,null,"42860","13","063","TEPEJI DEL RIO DE OCAMPO",null,"GRAN ROYAL ALTABRISA - 29325","GRAN ROYAL ALTABRISA","29325","29325.99999","'00723009","'484070230001.29325"]
[null,null,null,null,null,null,null,null,null,null,null,null,null,null,"42980","13","013","ATOTONILCO DE TULA",null,"GRANJA LOS ARCOS - 36293","GRANJA LOS ARCOS","36293","36293.9013","'01278009","'484110370001.36293"]
[null,null,null,null,null,null,null,null,null,null,null,null,null,null,"43000","13","028","HUEJUTLA DE REYES",null,"GRANJA SAN FRANCISCO - 36210","GRANJA SAN FRANCISCO","36210","36210.5753","'01252004","'484110260001.36210"]
[null,null,null,null,null,null,null,null,null,null,null,null,null,null,"43010","13","028","HUEJUTLA DE REYES",null,"GRANJAS DIVISION DEL NORTE - 22474","GRANJAS DIVISION DEL NORTE","22474","22474.2393","'00210208","'484020040001.22474"]
[null,null,null,null,null,null,null,null,null,null,null,null,null,null,"43039","13","046","SAN FELIPE ORIZATLAN",null,"GUADALUPE - 24010","GUADALUPE","24010","24010.0009","'00405138","'484040020001.24010"]
[null,null,null,null,null,null,null,null,null,null,null,null,null,null,"43066","13","011","ATLAPEXCO",null,"GUADALUPE - 52107","GUADALUPE","52107","52107.1647","'01777007","'484150760001.52107"]
[null,null,null,null,null,null,null,null,null,null,null,null,null,null,"43108","13","042","MOLANGO DE ESCAMILLA",null,"GUADALUPE ALCHIPINI - 74859","GUADALUPE ALCHIPINI","74859","74859.1910","'03009009","'484210090001.74859"]
[null,null,null,null,null,null,null,null,null,null,null,null,null,null,"43125","13","062","TEPEHUACAN DE GUERRERO",null,"GUADALUPE DE AMOLES (EL CAMARON) - 36216","GUADALUPE DE AMOLES (EL CAMARON)","36216","36216.5767","'01252004","'484110260001.36216"]
[null,null,null,null,null,null,null,null,null,null,null,null,null,null,"43155","13","073","TLANCHINOL",null,"GUADALUPE ORIENTE - 29130","GUADALUPE ORIENTE","29130","29130.3615","'00712006","'484070120001.29130"]
[null,null,null,null,null,null,null,null,null,null,null,null,null,null,"43206","13","081","ZACUALTIPAN DE ANGELES",null,"GUADALUPE VICTORIA VALSEQUILLO - 72596","GUADALUPE VICTORIA VALSEQUILLO","72596","72596.6694","'03115203","'484211140001.72596"]
[null,null,null,null,null,null,null,null,null,null,null,null,null,null,"43240","13","014","CALNALI",null,"GUANAJUATILLO - 47533","GUANAJUATILLO","47533","47533.5517","'01554006","'484140530001.47533"]
[null,null,null,null,null,null,null,null,null,null,null,null,null,null,"43287","13","068","TIANGUISTENGO",null,"GUAYABALES - 71227","GUAYABALES","71227","71227.3875","'02775006","'484203750001.71227"]
[null,null,null,null,null,null,null,null,null,null,null,null,null,null,"43370","13","037","METZTITLAN",null,"GUSTAVO AGUIRRE BENAVIDES 1A SECCION - 29503","GUSTAVO AGUIRRE BENAVIDES 1A SECCION","29503","29503.4357","'00774252","'484070740001.29503"]
[null,null,null,null,null,null,null,null,null,null,null,null,null,null,"43391","13","036","SAN AGUSTIN METZQUITITLAN",null,"GUSTAVO SOTELO (SECCION FF CC) - 83560","GUSTAVO SOTELO (SECCION FF CC)","83560","83560.8665","'03748156","'484260480001.83560"]
[null,null,null,null,null,null,null,null,null,null,null,null,null,null,"43460","13","004","AGUA BLANCA DE ITURBIDE",null,"HACIENDA DZODZIL - 97115","HACIENDA DZODZIL","97115","97115.0040","'04450007","'484310500001.97115"]
[null,null,null,null,null,null,null,null,null,null,null,null,null,null,"43490","13","060","TENANGO DE DORIA",null,"HACIENDA LA PILA - 34316","HACIENDA LA PILA","34316","34316.4515","'01111007","'484100050001.34316"]
[null,null,null,null,null,null,null,null,null,null,null,null,null,null,"43563","13","045","OMITLAN DE JUAREZ",null,"HACIENDA SAN FERNANDO - 61286","HACIENDA SAN FERNANDO","61286","61286.99999","'01941006","'484160410001.61286"]
[null,null,null,null,null,null,null,null,null,null,null,null,null,null,"43648","13","077","TULANCINGO DE BRAVO",null,"HEBERTO CASTILLO - 70110","HEBERTO CASTILLO","70110","70110.4235","'02414007","'484200140001.70110"]
[null,null,null,null,null,null,null,null,null,null,null,null,null,null,"43725","13","002","ACAXOCHITLAN",null,"HERMENEGILDO GALEANA - 45184","HERMENEGILDO GALEANA","45184","45184.0828","'01623867","'484141200001.45184"]
[null,null,null,null,null,null,null,null,null,null,null,null,null,null,"43750","13","016","CUAUTEPEC DE HINOJOSA",null,"HEROES REPUBLICANOS - 58337","HEROES REPUBLICANOS","58337","58337.3639","'01953009","'484160530001.58337"]
[null,null,null,null,null,null,null,null,null,null,null,null,null,null,"43774","13","056","SANTIAGO TULANTEPEC DE LUGO GUERRERO",null,"HIDALGO - 30160","HIDALGO","30160","30160.1154","'00799009","'484070990001.30160"]
[null,null,null,null,null,null,null,null,null,null,null,null,null,null,"43850","13","083","ZEMPOALA",null,"HOGAR Y PATRIMONIO - 89790","HOGAR Y PATRIMONIO","89790","89790.99999","'03921009","'484280110036.89790"]
[null,null,null,null,null,null,null,null,null,null,null,null,null,null,"43909","13","008","APAN",null,"HORNO DE CAL - 34058","HORNO DE CAL","34058","34058.99999","'01111007","'484100050001.34058"]
[null,null,null,null,null,null,null,null,null,null,null,null,null,null,"43921","13","008","APAN",null,"HUACHICHILES - 78100","HUACHICHILES","78100","78100.2098","'03528009","'484240280001.78100"]
[null,null,null,null,null,null,null,null,null,null,null,null,null,null,"43998","13","061","TEPEAPULCO",null,"HUERTA AURORA - 33637","HUERTA AURORA","33637","33637.9789","'00962006","'484080620001.33637"]
[null,null,null,null,null,null,null,null,null,null,null,null,null,null,"44260","14","039","GUADALAJARA",null,"HUERTAS DE ABAJO - 99054","HUERTAS DE ABAJO","99054","99054.0784","'04638003","'484320100001.99054"]
[null,null,null,null,null,null,null,null,null,null,null,null,null,null,"44720","14","039","GUADALAJARA",null,"HUITRON - 35111","HUITRON","35111","35111.1147","'01115008","'484100070001.35111"]
[null,null,null,null,null,null,null,null,null,null,null,null,null,null,"44870","14","039","GUADALAJARA",null,"HUMOTITLA COYUCO - 43003","HUMOTITLA COYUCO","43003","43003.1116","'01428006","'484130280001.43003"]
[null,null,null,null,null,null,null,null,null,null,null,null,null,null,"44977","14","039","GUADALAJARA",null,"IGLESIA VIEJA - 42346","IGLESIA VIEJA","42346","42346.5773","'01484002","'484130840001.42346"]
[null,null,null,null,null,null,null,null,null,null,null,null,null,null,"45066","14","120","ZAPOPAN",null,"IGNACIO SALAZAR - 26543","IGNACIO SALAZAR","26543","26543.3363","'00507009","'484050030001.26543"]
[null,null,null,null,null,null,null,null,null,null,null,null,null,null,"45138","14","120","ZAPOPAN",null,"IMSS COPLAMAR - 92700","IMSS COPLAMAR","92700","92700.4719","'04158009","'484300580001.92700"]
[null,null,null,null,null,null,null,null,null,null,null,null,null,null,"45200","14","120","ZAPOPAN",null,"INDEPENDENCIA - 69775","INDEPENDENCIA","69775","69775.5615","'02609001","'484202080001.69775"]
[null,null,null,null,null,null,null,null,null,null,null,null,null,null,"45280","14","045","IXTLAHUACAN DEL RIO",null,"INDUSTRIA - 44740","INDUSTRIA","44740","44740.0350","'01539009","'484140390001.44740"]
[null,null,null,null,null,null,null,null,null,null,null,null,null,null,"45400","14","101","TONALA",null,"INDUSTRIAL MEXICANA - 78309","INDUSTRIAL MEXICANA","78309","78309.0162","'03528009","'484240280001.78309"]
[null,null,null,null,null,null,null,null,null,null,null,null,null,null,"45408","14","101","TONALA",null,"INFONAVIT ARBUSTOS - 62574","INFONAVIT ARBUSTOS","62574","62574.99999","'02121003","'484170110001.62574"]
[null,null,null,null,null,null,null,null,null,null,null,null,null,null,"45440","14","124","ZAPOTLANEJO",null,"INFONAVIT LA ISLA - 29249","INFONAVIT LA ISLA","29249","29249.0362","'00778006","'484070780001.29249"]
[null,null,null,null,null,null,null,null,null,null,null,null,null,null,"45486","14","029","CUQUIO",null,"INFONAVIT LOS PINOS - 60840","INFONAVIT LOS PINOS","60840","60840.0008","'01915007","'484160150001.60840"]
[null,null,null,null,null,null,null,null,null,null,null,null,null,null,"45630","14","098","SAN PEDRO TLAQUEPAQUE",null,"INSURGENTES - 68075","INSURGENTES","68075","68075.99999","'02466009","'484200670001.68075"]
[null,null,null,null,null,null,null,null,null,null,null,null,null,null,"45645","14","097","TLAJOMULCO DE ZUÑIGA",null,"IQUISA - 96540","IQUISA","96540","96540.3865","'04139109","'484300390001.96540"]
[null,null,null,null,null,null,null,null,null,null,null,null,null,null,"45737","14","114","VILLA CORONA",null,"ISSSTE - 68024","ISSSTE","68024","68024.0078","'02466009","'484200670001.68024"]
[null,null,null,null,null,null,null,null,null,null,null,null,null,null,"45899","14","051","JUANACATLAN",null,"IXOTITLA - 55749","IXOTITLA","55749","55749.8069","'01782009","'484150810001.55749"]
[null,null,null,null,null,null,null,null,null,null,null,null,null,null,"45945","14","030","CHAPALA",null,"IXTAHUATA - 73563","IXTAHUATA","73563","73563.5770","'03043006","'484210430001.73563"]
[null,null,null,null,null,null,null,null,null,null,null,null,null,null,"46056","14","061","MEZQUITIC",null,"JACARANDAS - 37876","JACARANDAS","37876","37876.0077","'01258001","'484110290001.37876"]
[null,null,null,null,null,null,null,null,null,null,null,null,null,null,"46207","14","025","COLOTLAN",null,"JAIME TORRES BODET - 78390","JAIME TORRES BODET","78390","78390.0223","'03528009","'484240280001.78390"]
[null,null,null,null,null,null,null,null,null,null,null,null,null,null,"46640","14","006","AMECA",null,"JARDIN - 88670","JARDIN","88670","88670.1063","'03963009","'484280320001.88670"]
[null,null,null,null,null,null,null,null,null,null,null,null,null,null,"46719","14","006","AMECA",null,"JARDIN DEL ALAMO - 99382","JARDIN DEL ALAMO","99382","99382.1548","'04651007","'484320200001.99382"]
[null,null,null,null,null,null,null,null,null,null,null,null,null,null,"46990","14","080","SAN SEBASTIAN DEL OESTE",null,"JARDINES DE HUAPINOL - 86284","JARDINES DE HUAPINOL","86284","86284.1722","'03814003","'484270040001.86284"]
[null,null,null,null,null,null,null,null,null,null,null,null,null,null,"47184","14","008","ARANDAS",null,"JARDINES DE PASTOREZA - 54363","JARDINES DE PASTOREZA","54363","54363.99999","'01727002","'484150260001.54363"]
[null,null,null,null,null,null,null,null,null,null,null,null,null,null,"47216","14","091","TEOCALTICHE",null,"JARDINES DE SANTA MARIA - 47184","JARDINES DE SANTA MARIA","47184","47184.3438","'01508008","'484140080001.47184"]
[null,null,null,null,null,null,null,null,null,null,null,null,null,null,"47258","14","116","VILLA HIDALGO",null,"JARDINES DEL BOSQUE - 98087","JARDINES DEL BOSQUE","98087","98087.1434","'04610002","'484320560001.98087"]
[null,null,null,null,null,null,null,null,null,null,null,null,null,null,"47500","14","053","LAGOS DE MORENO",null,"JARDINES TEPEYAC - 45034","JARDINES TEPEYAC","45034","45034.0587","'01623867","'484141200001.45034"]
[null,null,null,null,null,null,null,null,null,null,null,null,null,null,"47515","14","053","LAGOS DE MORENO",null,"JERUSALEN - 30378","JERUSALEN","30378","30378.2856","'00708009","'484070080001.30378"]
[null,null,null,null,null,null,null,null,null,null,null,null,null,null,"47533","14","053","LAGOS DE MORENO",null,"JESUS MARIA VEGA ENCINAS - 89604","JESUS MARIA VEGA ENCINAS","89604","89604.99999","'03905003","'484280030001.89604"]
[null,null,null,null,null,null,null,null,null,null,null,null,null,null,"47536","14","053","LAGOS DE MORENO",null,"JESUS SANCHEZ MEJIA - 26554","JESUS SANCHEZ MEJIA","26554","26554.3369","'00507009","'484050030001.26554"]
[null,null,null,null,null,null,null,null,null,null,null,null,null,null,"47675","14","093","TEPATITLAN DE MORELOS",null,"JOCONAS - 85773","JOCONAS","85773","85773.8934","'03703003","'484260030001.85773"]
[null,null,null,null,null,null,null,null,null,null,null,null,null,null,"47882","14","063","OCOTLAN",null,"JOSE DE ESCANDON - 63567","JOSE DE ESCANDON","63567","63567.99999","'02243103","'484180150001.63567"]
[null,null,null,null,null,null,null,null,null,null,null,null,null,null,"47997","14","033","DEGOLLADO",null,"JOSE MARIA MARTINEZ - 37958","JOSE MARIA MARTINEZ","37958","37958.99999","'01272003","'484110340001.37958"]
[null,null,null,null,null,null,null,null,null,null,null,null,null,null,"48276","14","067","PUERTO VALLARTA",null,"JOSE MARIA PINO SUAREZ - 98960","JOSE MARIA PINO SUAREZ","98960","98960.0412","'04636007","'484320380001.98960"]
[null,null,null,null,null,null,null,null,null,null,null,null,null,null,"48290","14","067","PUERTO VALLARTA",null,"JOSE RIVERA OJEDA - 84303","JOSE RIVERA OJEDA","84303","84303.8266","'03702009","'484260020001.84303"]
[null,null,null,null,null,null,null,null,null,null,null,null,null,null,"48353","14","067","PUERTO VALLARTA",null,"JOYA DE MANANTIALES - 68415","JOYA DE MANANTIALES","68415","68415.99999","'02421009","'484200210001.68415"]
[null,null,null,null,null,null,null,null,null,null,null,null,null,null,"48720","14","054","EL LIMON",null,"JUAN FRANCISCO PATRON MARQUEZ - 85424","JUAN FRANCISCO PATRON MARQUEZ","85424","85424.2105","'03729055","'484260290001.85424"]
[null,null,null,null,null,null,null,null,null,null,null,null,null,null,"48815","14","068","VILLA PURIFICACION",null,"JUAN PEDRO MONTEVERDE - 84176","JUAN PEDRO MONTEVERDE","84176","84176.4164","'03736003","'484260360001.84176"]
[null,null,null,null,null,null,null,null,null,null,null,null,null,null,"48903","14","015","AUTLAN DE NAVARRO",null,"JUAREZ - 62937","JUAREZ","62937","62937.1627","'02125008","'484170130001.62937"]
[null,null,null,null,null,null,null,null,null,null,null,null,null,null,"49028","14","023","ZAPOTLAN EL GRANDE",null,"JUSTICIA SOCIAL - 97937","JUSTICIA SOCIAL","97937","97937.1331","'04458003","'484310580001.97937"]
[null,null,null,null,null,null,null,null,null,null,null,null,null,null,"49236","14","089","TECHALUTA DE MONTENEGRO",null,"KILOMETRO 40 - 25416","KILOMETRO 40","25416","25416.0385","'00531009","'484050150001.25416"]
[null,null,null,null,null,null,null,null,null,null,null,null,null,null,"49540","14","112","VALLE DE JUAREZ",null,"LA 21 - 86930","LA 21","86930","86930.1713","'03805006","'484270010001.86930"]
[null,null,null,null,null,null,null,null,null,null,null,null,null,null,"49655","14","085","TAMAZULA DE GORDIANO",null,"LA ALBORADA - 54803","LA ALBORADA","54803","54803.7992","'01724008","'484150240001.54803"]
[null,null,null,null,null,null,null,null,null,null,null,null,null,null,"49870","14","065","PIHUAMO",null,"LA ANGOSTURA (PUERTO HONDO) - 61915","LA ANGOSTURA (PUERTO HONDO)","61915","61915.0034","'01957001","'484160570001.61915"]
[null,null,null,null,null,null,null,null,null,null,null,null,null,null,"50016","15","106","TOLUCA",null,"LA ASUNCION - 75515","LA ASUNCION","75515","75515.7498","'03111009","'484211100001.75515"]
[null,null,null,null,null,null,null,null,null,null,null,null,null,null,"50225","15","106","TOLUCA",null,"LA BARRANCA - 78580","LA BARRANCA","78580","78580.3231","'03515009","'484240150001.78580"]
[null,null,null,null,null,null,null,null,null,null,null,null,null,null,"50263","15","106","TOLUCA",null,"LA BOCA - 33567","LA BOCA","33567","33567.6584","'00908006","'484080070001.33567"]
[null,null,null,null,null,null,null,null,null,null,null,null,null,null,"50295","15","106","TOLUCA",null,"LA BOQUILLA - 33125","LA BOQUILLA","33125","33125.7893","'00955009","'484080550001.33125"]
[null,null,null,null,null,null,null,null,null,null,null,null,null,null,"50356","15","001","ACAMBAY DE RUIZ CASTAÑEDA",null,"LA CABECERA - 62920","LA CABECERA","62920","62920.99999","'02137002","'484170190001.62920"]
[null,null,null,null,null,null,null,null,null,null,null,null,null,null,"50507","15","102","TIMILPAN",null,"LA CANDELARIA - 34378","LA CANDELARIA","34378","34378.99999","'01111007","'484100050001.34378"]
[null,null,null,null,null,null,null,null,null,null,null,null,null,null,"50583","15","056","MORELOS",null,"LA CANTERA - 33077","LA CANTERA","33077","33077.3752","'00921009","'484080210001.33077"]
[null,null,null,null,null,null,null,null,null,null,null,null,null,null,"50686","15","074","SAN FELIPE DEL PROGRESO",null,"LA CAPILLA - 85519","LA CAPILLA","85519","85519.2454","'03729238","'484260720001.85519"]
[null,null,null,null,null,null,null,null,null,null,null,null,null,null,"50726","15","048","JOCOTITLAN",null,"LA CARRERITA - 61936","LA CARRERITA","61936","61936.2836","'01913008","'484160130001.61936"]
[null,null,null,null,null,null,null,null,null,null,null,null,null,null,"50774","15","042","IXTLAHUACA",null,"LA CASTILLA - 45010","LA CASTILLA","45010","45010.3227","'01623867","'484141200001.45010"]
[null,null,null,null,null,null,null,null,null,null,null,null,null,null,"50946","15","005","ALMOLOYA DE JUAREZ",null,"LA CHIVA BRAVA - 36285","LA CHIVA BRAVA","36285","36285.9040","'01278009","'484110370001.36285"]
[null,null,null,null,null,null,null,null,null,null,null,null,null,null,"50974","15","114","VILLA VICTORIA",null,"LA CIENAGA - 79797","LA CIENAGA","79797","79797.3815","'03531009","'484240310001.79797"]
[null,null,null,null,null,null,null,null,null,null,null,null,null,null,"51080","15","041","IXTAPAN DEL ORO",null,"LA CIENEGUILLA - 71399","LA CIENEGUILLA","71399","71399.0016","'02919006","'484205160001.71399"]
[null,null,null,null,null,null,null,null,null,null,null,null,null,null,"51273","15","007","AMANALCO",null,"LA CODORNIZ - 58355","LA CODORNIZ","58355","58355.6321","'01953009","'484160530001.58355"]
[null,null,null,null,null,null,null,null,null,null,null,null,null,null,"51415","15","082","TEJUPILCO",null,"LA CONCEPCION - 68618","LA CONCEPCION","68618","68618.4437","'02426007","'484200270001.68618"]
[null,null,null,null,null,null,null,null,null,null,null,null,null,null,"51443","15","123","LUVIANOS",null,"LA CONSENTIDA - 60464","LA CONSENTIDA","60464","60464.6101","'01983003","'484160830001.60464"]
[null,null,null,null,null,null,null,null,null,null,null,null,null,null,"51457","15","123","LUVIANOS",null,"LA COYOTA (LA COYOTITA) - 83300","LA COYOTA (LA COYOTITA)","83300","83300.6840","'03730107","'484260300001.83300"]
[null,null,null,null,null,null,null,null,null,null,null,null,null,null,"51550","15","105","TLATLAYA",null,"LA CUBATA - 51565","LA CUBATA","51565","51565.0039","'01807007","'484151050001.51565"]
[null,null,null,null,null,null,null,null,null,null,null,null,null,null,"51572","15","105","TLATLAYA",null,"LA CUESTA - 20686","LA CUESTA","20686","20686.99999","'00116006","'484010060001.20663"]
[null,null,null,null,null,null,null,null,null,null,null,null,null,null,"51613","15","080","SULTEPEC",null,"LA CUEVITA - 30090","LA CUEVITA","30090","30090.99999","'00719006","'484070190001.30090"]
[null,null,null,null,null,null,null,null,null,null,null,null,null,null,"51855","15","117","ZACUALPAN",null,"LA ENCARNACION - 49310","LA ENCARNACION","49310","49310.99999","'01584009","'484140820001.49310"]
[null,null,null,null,null,null,null,null,null,null,null,null,null,null,"51950","15","107","TONATICO",null,"LA ESCOBA (CALLE UNO Y SEISCIENTOS) - 85200","LA ESCOBA (CALLE UNO Y SEISCIENTOS)","85200","85200.5298","'03718113","'484260180001.85200"]
[null,null,null,null,null,null,null,null,null,null,null,null,null,null,"51995","15","119","ZUMPAHUACAN",null,"LA ESCONDIDA - 61836","LA ESCONDIDA","61836","61836.0056","'01909004","'484160090001.61836"]
[null,null,null,null,null,null,null,null,null,null,null,null,null,null,"52104","15","076","SAN MATEO ATENCO",null,"LA ESPERANCITA - 86946","LA ESPERANCITA","86946","86946.2804","'03805006","'484270010001.86946"]
[null,null,null,null,null,null,null,null,null,null,null,null,null,null,"52170","15","054","METEPEC",null,"LA ESPERANZA - 65220","LA ESPERANZA","65220","65220.2471","'02345007","'484190440001.65220"]
[null,null,null,null,null,null,null,null,null,null,null,null,null,null,"52315","15","090","TENANGO DEL VALLE",null,"LA ESTACION - 82650","LA ESTACION","82650","82650.99999","'03610006","'484250040001.82650"]
[null,null,null,null,null,null,null,null,null,null,null,null,null,null,"52420","15","088","TENANCINGO",null,"LA ESTANCIA SECTOR II - 50335","LA ESTANCIA SECTOR II","50335","50335.0432","'01701009","'484150010001.50335"]
[null,null,null,null,null,null,null,null,null,null,null,null,null,null,"52486","15","063","OCUILAN",null,"LA FAROLA - 30500","LA FAROLA","30500","30500.5578","'00797003","'484070970001.30500"]
[null,null,null,null,null,null,null,null,null,null,null,null,null,null,"52778","15","037","HUIXQUILUCAN",null,"LA FORTUNA - 27538","LA FORTUNA","27538","27538.1375","'00547009","'484050230001.27538"]
[null,null,null,null,null,null,null,null,null,null,null,null,null,null,"52915","15","013","ATIZAPAN DE ZARAGOZA",null,"LA FUENTE - 20239","LA FUENTE","20239","20239.0218","'00101027","'484010010001.20239"]
[null,null,null,null,null,null,null,null,null,null,null,null,null,null,"53127","15","057","NAUCALPAN DE JUAREZ",null,"LA GLORIA - 35174","LA GLORIA","35174","35174.0001","'01125009","'484100120001.35174"]
[null,null,null,null,null,null,null,null,null,null,null,null,null,null,"53240","15","057","NAUCALPAN DE JUAREZ",null,"LA GLORIA - 99902","LA GLORIA","99902","99902.0930","'04656003","'484320340001.99902"]
[null,null,null,null,null,null,null,null,null,null,null,null,null,null,"53550","15","057","NAUCALPAN DE JUAREZ",null,"LA GUACAMAYA - 51346","LA GUACAMAYA","51346","51346.1100","'01787008","'484150860001.51346"]
[null,null,null,null,null,null,null,null,null,null,null,null,null,null,"54035","15","'","TLALNEPANTLA DE BAZ",null,"LA HACIENDA (LOS NOGALES) - 94290","LA HACIENDA (LOS NOGALES)","94290","94290.99999","'04128006","'484300280001.94290"]
[null,null,null,null,null,null,null,null,null,null,null,null,null,null,"54120","15","104","TLALNEPANTLA DE BAZ",null,"LA HERRADURA - 76155","LA HERRADURA","76155","76155.99999","'03342535","'484220140001.76155"]
[null,null,null,null,null,null,null,null,null,null,null,null,null,null,"54263","15","045","JILOTEPEC",null,"LA HUAMUCHILERA - 41023","LA HUAMUCHILERA","41023","41023.4754","'01346008","'484120450001.41023"]
[null,null,null,null,null,null,null,null,null,null,null,null,null,null,"54293","15","079","SOYANIQUILPAN DE JUAREZ",null,"LA HUERTA - 38167","LA HUERTA","38167","38167.3990","'01210001","'484110050001.38167"]
[null,null,null,null,null,null,null,null,null,null,null,null,null,null,"54408","15","060","NICOLAS ROMERO",null,"LA HUINA DOS (LA HUINA) - 60530","LA HUINA DOS (LA HUINA)","60530","60530.5403","'01912004","'484160120001.60530"]
[null,null,null,null,null,null,null,null,null,null,null,null,null,null,"54687","15","035","HUEHUETOCA",null,"LA JOYA - 34514","LA JOYA","34514","34514.2673","'01105004","'484100020001.34514"]
[null,null,null,null,null,null,null,null,null,null,null,null,null,null,"54765","15","121","CUAUTITLAN IZCALLI",null,"LA JOYA - 97370","LA JOYA","97370","97370.1891","'04441001","'484310410001.97370"]
[null,null,null,null,null,null,null,null,null,null,null,null,null,null,"54900","15","109","TULTITLAN",null,"LA JUQUILITA - 71510","LA JUQUILITA","71510","71510.4141","'02467005","'484200680001.71510"]
[null,null,null,null,null,null,null,null,null,null,null,null,null,null,"54930","15","109","TULTITLAN",null,"LA LADERA - 76147","LA LADERA","76147","76147.3109","'03342535","'484220140001.76147"]
[null,null,null,null,null,null,null,null,null,null,null,null,null,null,"54945","15","109","TULTITLAN",null,"LA LAGUNA - 43188","LA LAGUNA","43188","43188.3057","'01471007","'484130710001.43188"]
[null,null,null,null,null,null,null,null,null,null,null,null,null,null,"55066","15","033","ECATEPEC DE MORELOS",null,"LA LAJA - 79766","LA LAJA","79766","79766.4591","'03503006","'484240030001.79766"]
[null,null,null,null,null,null,null,null,null,null,null,null,null,null,"55070","15","033","ECATEPEC DE MORELOS",null,"LA LENGUETA - 07144","LA LENGUETA","07144","07144.2887","'01001002","'484090050001.07144"]
[null,null,null,null,null,null,null,null,null,null,null,null,null,null,"55236","15","033","ECATEPEC DE MORELOS",null,"LA LOBERA - 51874","LA LOBERA","51874","51874.7501","'01704003","'484150040001.51874"]
[null,null,null,null,null,null,null,null,null,null,null,null,null,null,"55506","15","033","ECATEPEC DE MORELOS",null,"LA LOMA - 93467","LA LOMA","93467","93467.99999","'04225001","'484301240001.93467"]
[null,null,null,null,null,null,null,null,null,null,null,null,null,null,"55673","15","036","HUEYPOXTLA",null,"LA LUCITA DE LEDEZMA - 36936","LA LUCITA DE LEDEZMA","36936","36936.7569","'01246109","'484110230001.36936"]
[null,null,null,null,null,null,null,null,null,null,null,null,null,null,"55739","15","020","COACALCO DE BERRIOZABAL",null,"LA MAGAÑA - 27433","LA MAGAÑA","27433","27433.3736","'00573009","'484050350001.27433"]
[null,null,null,null,null,null,null,null,null,null,null,null,null,null,"55769","15","081","TECAMAC",null,"LA MANCHA (ALBIA SOCIEDAD) - 27420","LA MANCHA (ALBIA SOCIEDAD)","27420","27420.3737","'00573009","'484050350001.27420"]
[null,null,null,null,null,null,null,null,null,null,null,null,null,null,"55876","15","002","ACOLMAN",null,"LA MASITA - 78860","LA MASITA","78860","78860.0718","'03547003","'484240470001.78860"]
[null,null,null,null,null,null,null,null,null,null,null,null,null,null,"55977","15","061","NOPALTEPEC",null,"LA MESA DE CHOSTO - 50465","LA MESA DE CHOSTO","50465","50465.0542","'01714007","'484150140001.50465"]
[null,null,null,null,null,null,null,null,null,null,null,null,null,null,"56213","15","099","TEXCOCO",null,"LA MICHOACANA - 96913","LA MICHOACANA","96913","96913.6792","'04209006","'484301080001.96913"]
[null,null,null,null,null,null,null,null,null,null,null,null,null,null,"56306","15","011","ATENCO",null,"LA MIXTEQUITA - 70235","LA MIXTEQUITA","70235","70235.2043","'02608005","'484202070001.70235"]
[null,null,null,null,null,null,null,null,null,null,null,null,null,null,"56343","15","031","CHIMALHUACAN",null,"LA MORA - 51854","LA MORA","51854","51854.7416","'01819007","'484151170001.51854"]
[null,null,null,null,null,null,null,null,null,null,null,null,null,null,"56560","15","039","IXTAPALUCA",null,"LA NOPALERA - 59506","LA NOPALERA","59506","59506.5035","'01951004","'484160510001.59506"]
[null,null,null,null,null,null,null,null,null,null,null,null,null,null,"56600","15","025","CHALCO",null,"LA NORIA (TORIBAMPO) - 85777","LA NORIA (TORIBAMPO)","85777","85777.8984","'03703003","'484260030001.85777"]
[null,null,null,null,null,null,null,null,null,null,null,null,null,null,"56613","15","122","VALLE DE CHALCO SOLIDARIDAD",null,"LA NORIA SEIS - 27404","LA NORIA SEIS","27404","27404.3742","'00573009","'484050350001.27404"]
[null,null,null,null,null,null,null,null,null,null,null,null,null,null,"56765","15","017","AYAPANGO",null,"LA PAHUA - 43147","LA PAHUA","43147","43147.3614","'01434003","'484130340001.43147"]
[null,null,null,null,null,null,null,null,null,null,null,null,null,null,"56974","15","015","ATLAUTLA",null,"LA PALMA - 71713","LA PALMA","71713","71713.4658","'02704002","'484203020001.71713"]
[null,null,null,null,null,null,null,null,null,null,null,null,null,null,"58055","16","053","MORELIA",null,"LA PAROTA - 41666","LA PAROTA","41666","41666.5079","'","'484120780001.41666"]
[null,null,null,null,null,null,null,null,null,null,null,null,null,null,"58058","16","053","MORELIA",null,"LA PAROTA - 61844","LA PAROTA","61844","61844.0099","'01909004","'484160090001.61844"]
[null,null,null,null,null,null,null,null,null,null,null,null,null,null,"58118","16","053","MORELIA",null,"LA PEDREGUERA - 56956","LA PEDREGUERA","56956","56956.99999","'01709005","'484150090001.56956"]
[null,null,null,null,null,null,null,null,null,null,null,null,null,null,"58195","16","053","MORELIA",null,"LA PERLA - 35730","LA PERLA","35730","35730.1670","'01131006","'484100150001.35730"]
[null,null,null,null,null,null,null,null,null,null,null,null,null,null,"58270","16","053","MORELIA",null,"LA PILA - 79255","LA PILA","79255","79255.1173","'03513009","'484240130001.79255"]
[null,null,null,null,null,null,null,null,null,null,null,null,null,null,"58312","16","053","MORELIA",null,"LA PIÑUELA - 61958","LA PIÑUELA","61958","61958.0071","'01938003","'484160380001.61958"]
[null,null,null,null,null,null,null,null,null,null,null,null,null,null,"58356","16","053","MORELIA",null,"LA POZA (OJO DE AGUA) - 36264","LA POZA (OJO DE AGUA)","36264","36264.7020","'01230006","'484110150001.36264"]
[null,null,null,null,null,null,null,null,null,null,null,null,null,null,"58420","16","073","QUIROGA",null,"LA PRESA DE LA FLOR - 27438","LA PRESA DE LA FLOR","27438","27438.3744","'00573009","'484050350001.27438"]
[null,null,null,null,null,null,null,null,null,null,null,null,null,null,"58489","16","049","MADERO",null,"LA PROVIDENCIA - 91750","LA PROVIDENCIA","91750","91750.99999","'04294004","'484301930001.91750"]
[null,null,null,null,null,null,null,null,null,null,null,null,null,null,"58502","16","071","PURUANDIRO",null,"LA PUERTA DE SAN NICOLAS - 47504","LA PUERTA DE SAN NICOLAS","47504","47504.5583","'01554006","'484140530001.47504"]
[null,null,null,null,null,null,null,null,null,null,null,null,null,null,"58540","16","113","JOSE SIXTO VERDUZCO",null,"LA PURISIMA - 55405","LA PURISIMA","55405","55405.0068","'01734051","'484150330001.55405"]
[null,null,null,null,null,null,null,null,null,null,null,null,null,null,"58740","16","094","TLAZAZALCA",null,"LA REDONDA - 63622","LA REDONDA","63622","63622.1188","'02231004","'484180110001.63622"]
[null,null,null,null,null,null,null,null,null,null,null,null,null,null,"58820","16","036","HUANDACAREO",null,"LA RESURRECCION - 38155","LA RESURRECCION","38155","38155.3945","'01214055","'484110070001.38155"]
[null,null,null,null,null,null,null,null,null,null,null,null,null,null,"58893","16","088","TARIMBARO",null,"LA ROSITA - 67353","LA ROSITA","67353","67353.99999","'02304009","'484190040001.67353"]
[null,null,null,null,null,null,null,null,null,null,null,null,null,null,"58915","16","078","SANTA ANA MAYA",null,"LA SABANILLA (PORTEZUELO) - 78447","LA SABANILLA (PORTEZUELO)","78447","78447.2937","'03509006","'484240090001.78447"]
[null,null,null,null,null,null,null,null,null,null,null,null,null,null,"58973","16","040","INDAPARAPEO",null,"LA SIDRA - 43573","LA SIDRA","43573","43573.99999","'01445005","'484130450001.43573"]
[null,null,null,null,null,null,null,null,null,null,null,null,null,null,"59155","16","074","COJUMATLAN DE REGULES",null,"LA SOLEDAD - 69390","LA SOLEDAD","69390","69390.99999","'02824005","'484204220001.69390"]
[null,null,null,null,null,null,null,null,null,null,null,null,null,null,"59254","16","106","YURECUARO",null,"LA SURTIDORA - 42050","LA SURTIDORA","42050","42050.0066","'01448008","'484130480001.42050"]
[null,null,null,null,null,null,null,null,null,null,null,null,null,null,"59359","16","069","LA PIEDAD",null,"LA TEPEHUA - 95227","LA TEPEHUA","95227","95227.6505","'04282304","'484301810001.95227"]
[null,null,null,null,null,null,null,null,null,null,null,null,null,null,"59481","16","067","PENJAMILLO",null,"LA TOSCANA - 42995","LA TOSCANA","42995","42995.6428","'01413009","'484130130001.42995"]
[null,null,null,null,null,null,null,null,null,null,null,null,null,null,"59518","16","045","JIQUILPAN",null,"LA TRINIDAD - 61346","LA TRINIDAD","61346","61346.99999","'02002008","'484161010001.61346"]
[null,null,null,null,null,null,null,null,null,null,null,null,null,null,"59665","16","108","ZAMORA",null,"LA UNION - 94968","LA UNION","94968","94968.6642","'04121008","'484300210001.94968"]
[null,null,null,null,null,null,null,null,null,null,null,null,null,null,"59720","16","108","ZAMORA",null,"LA VEGA - 50039","LA VEGA","50039","50039.0210","'01808002","'484151060001.50039"]
[null,null,null,null,null,null,null,null,null,null,null,null,null,null,"59810","16","043","JACONA",null,"LA VENTILLA - 79506","LA VENTILLA","79506","79506.1310","'03550009","'484240500001.79506"]
[null,null,null,null,null,null,null,null,null,null,null,null,null,null,"59940","16","019","COTIJA",null,"LA VINATA - 33367","LA VINATA","33367","33367.7048","'00920003","'484080200001.33367"]
[null,null,null,null,null,null,null,null,null,null,null,null,null,null,"60030","16","102","URUAPAN",null,"LA YERBABUENA - 34555","LA YERBABUENA","34555","34555.2940","'01175005","'484100370001.34555"]
[null,null,null,null,null,null,null,null,null,null,null,null,null,null,"60153","16","102","URUAPAN",null,"LACHICOCANA - 70284","LACHICOCANA","70284","70284.2095","'02738004","'484203370001.70284"]
[null,null,null,null,null,null,null,null,null,null,null,null,null,null,"60173","16","102","URUAPAN",null,"LADRILLERA RODRIGUEZ - 83375","LADRILLERA RODRIGUEZ","83375","83375.6068","'03756009","'484260560001.83375"]
[null,null,null,null,null,null,null,null,null,null,null,null,null,null,"60235","16","102","URUAPAN",null,"LAGUNA DE SANTO DOMINGO - 79486","LAGUNA DE SANTO DOMINGO","79486","79486.1304","'03530006","'484240300001.79486"]
[null,null,null,null,null,null,null,null,null,null,null,null,null,null,"60434","16","075","LOS REYES",null,"LAMPAZOS - 65546","LAMPAZOS","65546","65546.5771","'02346003","'484190450001.65546"]
[null,null,null,null,null,null,null,null,null,null,null,null,null,null,"60464","16","083","TANCITARO",null,"LAS ADJUNTAS - 63535","LAS ADJUNTAS","63535","63535.1635","'02225007","'484180090001.63535"]
[null,null,null,null,null,null,null,null,null,null,null,null,null,null,"60525","16","012","BUENAVISTA",null,"LAS AMERICAS - 69700","LAS AMERICAS","69700","69700.3493","'02871009","'484204690001.69700"]
[null,null,null,null,null,null,null,null,null,null,null,null,null,null,"60544","16","089","TEPALCATEPEC",null,"LAS ANIMAS - 74160","LAS ANIMAS","74160","74160.6427","'03074006","'484210740001.74160"]
[null,null,null,null,null,null,null,null,null,null,null,null,null,null,"60576","16","002","AGUILILLA",null,"LAS ARBOLEDAS I - 77086","LAS ARBOLEDAS I","77086","77086.0684","'03420009","'484230040001.77086"]
[null,null,null,null,null,null,null,null,null,null,null,null,null,null,"60713","16","006","APATZINGAN",null,"LAS BUGAMBILIAS - 34234","LAS BUGAMBILIAS","34234","34234.2100","'01111007","'484100050001.34234"]
[null,null,null,null,null,null,null,null,null,null,null,null,null,null,"60753","16","006","APATZINGAN",null,"LAS CAJAS - 38795","LAS CAJAS","38795","38795.0015","'01280002","'484110380001.38795"]
[null,null,null,null,null,null,null,null,null,null,null,null,null,null,"60824","16","026","CHINICUILA",null,"LAS CAÑAS - 38905","LAS CAÑAS","38905","38905.3226","'01256005","'484110280001.38905"]
[null,null,null,null,null,null,null,null,null,null,null,null,null,null,"60853","16","015","COALCOMAN DE VAZQUEZ PALLARES",null,"LAS CHILCAS - 30036","LAS CHILCAS","30036","30036.4609","'00719006","'484070190001.30036"]
[null,null,null,null,null,null,null,null,null,null,null,null,null,null,"60884","16","008","AQUILA",null,"LAS CRUCES - 55766","LAS CRUCES","55766","55766.99999","'01782009","'484150810001.55766"]
[null,null,null,null,null,null,null,null,null,null,null,null,null,null,"60895","16","008","AQUILA",null,"LAS CUEVAS COLORADAS - 95530","LAS CUEVAS COLORADAS","95530","95530.99999","'04277005","'484301760001.95530"]
[null,null,null,null,null,null,null,null,null,null,null,null,null,null,"60914","16","096","TUMBISCATIO",null,"LAS DELICIAS - 31983","LAS DELICIAS","31983","31983.7627","'00963009","'484080630001.31983"]
[null,null,null,null,null,null,null,null,null,null,null,null,null,null,"60925","16","010","ARTEAGA",null,"LAS ESCOBAS - 37817","LAS ESCOBAS","37817","37817.5305","'01228007","'484110140001.37817"]
[null,null,null,null,null,null,null,null,null,null,null,null,null,null,"60946","16","010","ARTEAGA",null,"LAS FLORES - 71378","LAS FLORES","71378","71378.0008","'02466009","'484205660001.71378"]
[null,null,null,null,null,null,null,null,null,null,null,null,null,null,"60955","16","052","LAZARO CARDENAS",null,"LAS FLORES - 98612","LAS FLORES","98612","98612.1455","'04620003","'484320170001.98612"]
[null,null,null,null,null,null,null,null,null,null,null,null,null,null,"61008","16","031","EPITACIO HUERTA",null,"LAS GRANJAS - 51634","LAS GRANJAS","51634","51634.99999","'01781002","'484150800001.51634"]
[null,null,null,null,null,null,null,null,null,null,null,null,null,null,"61041","16","017","CONTEPEC",null,"LAS GUERITAS - 34684","LAS GUERITAS","34684","34684.2234","'01153001","'484100260001.34684"]
[null,null,null,null,null,null,null,null,null,null,null,null,null,null,"61075","16","093","TLALPUJAHUA",null,"LAS HIGUERAS - 60968","LAS HIGUERAS","60968","60968.0061","'01952208","'484160520001.60968"]
[null,null,null,null,null,null,null,null,null,null,null,null,null,null,"61215","16","034","HIDALGO",null,"LAS JOYAS DE LOS LIMONES - 34985","LAS JOYAS DE LOS LIMONES","34985","34985.6802","'01129004","'484100140001.34985"]
[null,null,null,null,null,null,null,null,null,null,null,null,null,null,"61227","16","034","HIDALGO",null,"LAS JUNTAS - 44493","LAS JUNTAS","44493","44493.5025","'01539009","'484140390001.44493"]
[null,null,null,null,null,null,null,null,null,null,null,null,null,null,"61261","16","050","MARAVATIO",null,"LAS LIMAS - 29884","LAS LIMAS","29884","29884.0001","'00766009","'484070660001.29884"]
[null,null,null,null,null,null,null,null,null,null,null,null,null,null,"61287","16","041","IRIMBO",null,"LAS MAGNOLIAS - 93896","LAS MAGNOLIAS","93896","93896.99999","'04157008","'484300570001.93896"]
[null,null,null,null,null,null,null,null,null,null,null,null,null,null,"61323","16","022","CHARO",null,"LAS MARGARITAS - 27130","LAS MARGARITAS","27130","27130.1069","'00573009","'484050350001.27130"]
[null,null,null,null,null,null,null,null,null,null,null,null,null,null,"61366","16","101","TZITZIO",null,"LAS MERCEDES II - 78716","LAS MERCEDES II","78716","78716.2036","'03520009","'484240200001.78716"]
[null,null,null,null,null,null,null,null,null,null,null,null,null,null,"61404","16","007","APORO",null,"LAS MISIONES - 67302","LAS MISIONES","67302","67302.3240","'02350308","'484190490001.67302"]
[null,null,null,null,null,null,null,null,null,null,null,null,null,null,"61484","16","047","JUNGAPEO",null,"LAS PALMAS - 29040","LAS PALMAS","29040","29040.0108","'00802003","'484071010001.29040"]
[null,null,null,null,null,null,null,null,null,null,null,null,null,null,"61525","16","112","ZITACUARO",null,"LAS PALMAS - 71915","LAS PALMAS","71915","71915.99999","'02764005","'484203640001.71915"]
[null,null,null,null,null,null,null,null,null,null,null,null,null,null,"61539","16","112","ZITACUARO",null,"LAS PALMERAS - 42088","LAS PALMERAS","42088","42088.99999","'01448008","'484130480001.42088"]
[null,null,null,null,null,null,null,null,null,null,null,null,null,null,"61604","16","066","PATZCUARO",null,"LAS PERLAS - 30425","LAS PERLAS","30425","30425.6563","'00717009","'484070170001.30425"]
[null,null,null,null,null,null,null,null,null,null,null,null,null,null,"61617","16","066","PATZCUARO",null,"LAS PILAS (EL TEPEGUAJE) - 63514","LAS PILAS (EL TEPEGUAJE)","63514","63514.0353","'02251002","'484180170001.63514"]
[null,null,null,null,null,null,null,null,null,null,null,null,null,null,"61666","16","082","TACAMBARO",null,"LAS PUERTAS - 42784","LAS PUERTAS","42784","42784.99999","'01470003","'484130700001.42784"]
[null,null,null,null,null,null,null,null,null,null,null,null,null,null,"61667","16","082","TACAMBARO",null,"LAS PULGAS - 95533","LAS PULGAS","95533","95533.99999","'04277005","'484301760001.95533"]
[null,null,null,null,null,null,null,null,null,null,null,null,null,null,"61690","16","097","TURICATO",null,"LAS SENDAS GALICIAS - 66233","LAS SENDAS GALICIAS","66233","66233.3152","'02320008","'484190190001.66233"]
[null,null,null,null,null,null,null,null,null,null,null,null,null,null,"61765","16","055","MUGICA",null,"LAS TRANCAS - 34550","LAS TRANCAS","34550","34550.2808","'01175005","'484100370001.34550"]
[null,null,null,null,null,null,null,null,null,null,null,null,null,null,"61824","16","079","SALVADOR ESCALANTE",null,"LAS UVALAMAS - 85776","LAS UVALAMAS","85776","85776.9038","'03703003","'484260030001.85776"]
[null,null,null,null,null,null,null,null,null,null,null,null,null,null,"61856","16","035","LA HUACANA",null,"LATIFUNDIO SAN JORGE - 83303","LATIFUNDIO SAN JORGE","83303","83303.7061","'03730107","'484260300001.83303"]
[null,null,null,null,null,null,null,null,null,null,null,null,null,null,"61864","16","035","LA HUACANA",null,"LAURELES VALLARTA - 37260","LAURELES VALLARTA","37260","37260.1353","'01240004","'484110200001.37260"]
[null,null,null,null,null,null,null,null,null,null,null,null,null,null,"61904","16","057","NOCUPETARO",null,"LAZARO CARDENAS - 41668","LAZARO CARDENAS","41668","41668.5103","'","'484120780001.41668"]
[null,null,null,null,null,null,null,null,null,null,null,null,null,null,"61944","16","038","HUETAMO",null,"LAZARO CARDENAS (BARRANQUITAS) - 45412","LAZARO CARDENAS (BARRANQUITAS)","45412","45412.4382","'01604002","'484141010001.45412"]
[null,null,null,null,null,null,null,null,null,null,null,null,null,null,"61960","16","038","HUETAMO",null,"LAZARO CARDENAS SUR - 58627","LAZARO CARDENAS SUR","58627","58627.0678","'02008002","'484161070001.58627"]
[null,null,null,null,null,null,null,null,null,null,null,null,null,null,"61995","16","077","SAN LUCAS",null,"LEONARDO RODRIGUEZ ALCAINE - 22664","LEONARDO RODRIGUEZ ALCAINE","22664","22664.2325","'00210208","'484020040001.22664"]
[null,null,null,null,null,null,null,null,null,null,null,null,null,null,"62250","17","007","CUERNAVACA",null,"LIBERTAD Y PROGRESO - 71200","LIBERTAD Y PROGRESO","71200","71200.99999","'02974005","'484205700001.71200"]
[null,null,null,null,null,null,null,null,null,null,null,null,null,null,"62428","17","007","CUERNAVACA",null,"LIMONAR - 24180","LIMONAR","24180","24180.0144","'00407003","'484040030001.24180"]
[null,null,null,null,null,null,null,null,null,null,null,null,null,null,"62554","17","011","JIUTEPEC",null,"LINDAVISTA - 46472","LINDAVISTA","46472","46472.3534","'01556008","'484140550001.46472"]
[null,null,null,null,null,null,null,null,null,null,null,null,null,null,"62570","17","011","JIUTEPEC",null,"LINDAVISTA - 95870","LINDAVISTA","95870","95870.0915","'04132001","'484300320001.95870"]
[null,null,null,null,null,null,null,null,null,null,null,null,null,null,"62610","17","005","COATLAN DEL RIO",null,"LLANO DE ZARAGOZA - 71016","LLANO DE ZARAGOZA","71016","71016.4467","'02472003","'484200730001.71016"]
[null,null,null,null,null,null,null,null,null,null,null,null,null,null,"62715","17","004","AYALA",null,"LO DE TAURA - 06067","LO DE TAURA","06067","06067.99999","'01001002","'484090150001.06067"]
[null,null,null,null,null,null,null,null,null,null,null,null,null,null,"62742","17","006","CUAUTLA",null,"LOMA BONITA - 29980","LOMA BONITA","29980","29980.0993","'00716006","'484070160001.29980"]
[null,null,null,null,null,null,null,null,null,null,null,null,null,null,"62766","17","008","EMILIANO ZAPATA",null,"LOMA BONITA - 89325","LOMA BONITA","89325","89325.1622","'03975009","'484280380001.89325"]
[null,null,null,null,null,null,null,null,null,null,null,null,null,null,"62775","17","024","TLALTIZAPAN DE ZAPATA",null,"LOMA COSTEÑOS - 50660","LOMA COSTEÑOS","50660","50660.99999","'01825001","'484151240001.50660"]
[null,null,null,null,null,null,null,null,null,null,null,null,null,null,"62805","17","022","TETELA DEL VOLCAN",null,"LOMA DE LOS CHILITOS - 37926","LOMA DE LOS CHILITOS","37926","37926.0070","'01290003","'484110430001.37926"]
[null,null,null,null,null,null,null,null,null,null,null,null,null,null,"62926","17","019","TEPALCINGO",null,"LOMA LINDA - 25790","LOMA LINDA","25790","25790.0564","'00537208","'484050180001.25790"]
[null,null,null,null,null,null,null,null,null,null,null,null,null,null,"62955","17","003","AXOCHIAPAN",null,"LOMA LINDA - 84176","LOMA LINDA","84176","84176.4236","'03736003","'484260360001.84176"]
[null,null,null,null,null,null,null,null,null,null,null,null,null,null,"63138","18","017","TEPIC",null,"LOMAS DE CARTAGENA - 54958","LOMAS DE CARTAGENA","54958","54958.3394","'01811008","'484151090001.54958"]
[null,null,null,null,null,null,null,null,null,null,null,null,null,null,"63177","18","017","TEPIC",null,"LOMAS DE GUADALUPE - 71453","LOMAS DE GUADALUPE","71453","71453.99999","'02630007","'484202290001.71453"]
[null,null,null,null,null,null,null,null,null,null,null,null,null,null,"63205","18","018","TUXPAN",null,"LOMAS DE LA PAZ - 37353","LOMAS DE LA PAZ","37353","37353.4937","'01240004","'484110200001.37353"]
[null,null,null,null,null,null,null,null,null,null,null,null,null,null,"63510","18","017","TEPIC",null,"LOMAS DE SANTA CECILIA - 64158","LOMAS DE SANTA CECILIA","64158","64158.0075","'02340009","'484190390001.64158"]
[null,null,null,null,null,null,null,null,null,null,null,null,null,null,"63523","18","017","TEPIC",null,"LOMAS DE SEDEÑO - 91303","LOMAS DE SEDEÑO","91303","91303.4692","'04126007","'484300260001.91303"]
[null,null,null,null,null,null,null,null,null,null,null,null,null,null,"63538","18","009","DEL NAYAR",null,"LOMAS DEL EDEN - 37353","LOMAS DEL EDEN","37353","37353.4935","'01240004","'484110200001.37353"]
[null,null,null,null,null,null,null,null,null,null,null,null,null,null,"63547","18","009","DEL NAYAR",null,"LOMAS DEL RIO - 22635","LOMAS DEL RIO","22635","22635.2210","'00210208","'484020040001.22635"]
[null,null,null,null,null,null,null,null,null,null,null,null,null,null,"63578","18","015","SANTIAGO IXCUINTLA",null,"LOMAS VERDE - 37803","LOMAS VERDE","37803","37803.0027","'01228007","'484110140001.37803"]
[null,null,null,null,null,null,null,null,null,null,null,null,null,null,"63618","18","011","RUIZ",null,"LOPEZ MATEOS - 99102","LOPEZ MATEOS","99102","99102.1045","'04639001","'484320420001.99102"]
[null,null,null,null,null,null,null,null,null,null,null,null,null,null,"63648","18","010","ROSAMORADA",null,"LOS ADOBES - 34616","LOS ADOBES","34616","34616.4944","'01165001","'484100320001.34616"]
[null,null,null,null,null,null,null,null,null,null,null,null,null,null,"63736","18","020","BAHIA DE BANDERAS",null,"LOS ALAMOS - 90423","LOS ALAMOS","90423","90423.1364","'04023156","'484290110001.90423"]
[null,null,null,null,null,null,null,null,null,null,null,null,null,null,"63774","18","012","SAN BLAS",null,"LOS ALISOS - 94294","LOS ALISOS","94294","94294.99999","'04128006","'484300280001.94294"]
[null,null,null,null,null,null,null,null,null,null,null,null,null,null,"63793","18","008","XALISCO",null,"LOS ALTOS 1 (EJIDO) - 66068","LOS ALTOS 1 (EJIDO)","66068","66068.99999","'02322009","'484190210001.66068"]
[null,null,null,null,null,null,null,null,null,null,null,null,null,null,"64010","19","039","MONTERREY",null,"LOS ANGELITOS - 86901","LOS ANGELITOS","86901","86901.1180","'03851003","'484270170001.86901"]
[null,null,null,null,null,null,null,null,null,null,null,null,null,null,"64103","19","039","MONTERREY",null,"LOS ARCOS - 85154","LOS ARCOS","85154","85154.2054","'03718113","'484260180001.85154"]
[null,null,null,null,null,null,null,null,null,null,null,null,null,null,"64260","19","039","MONTERREY",null,"LOS BATEQUIS - 85233","LOS BATEQUIS","85233","85233.3697","'03742009","'484260420001.85233"]
[null,null,null,null,null,null,null,null,null,null,null,null,null,null,"64270","19","039","MONTERREY",null,"LOS BERRENDOS - 84325","LOS BERRENDOS","84325","84325.0123","'03727219","'484260270001.84325"]
[null,null,null,null,null,null,null,null,null,null,null,null,null,null,"64580","19","039","MONTERREY",null,"LOS CAPULINES (AMPLIACION VILLAHERMOSA) - 30904","LOS CAPULINES (AMPLIACION VILLAHERMOSA)","30904","30904.6844","'00757003","'484070570001.30904"]
[null,null,null,null,null,null,null,null,null,null,null,null,null,null,"64783","19","039","MONTERREY",null,"LOS CERRITOS - 59525","LOS CERRITOS","59525","59525.4139","'01945001","'484160450001.59525"]
[null,null,null,null,null,null,null,null,null,null,null,null,null,null,"64970","19","039","MONTERREY",null,"LOS CIENTIFICOS - 42672","LOS CIENTIFICOS","42672","42672.4571","'01423001","'484130230001.42672"]
[null,null,null,null,null,null,null,null,null,null,null,null,null,null,"65243","19","044","SABINAS HIDALGO",null,"LOS CORRALES - 98039","LOS CORRALES","98039","98039.99999","'04605006","'484320560001.98039"]
[null,null,null,null,null,null,null,null,null,null,null,null,null,null,"65504","19","045","SALINAS VICTORIA",null,"LOS CUERVOS - 84100","LOS CUERVOS","84100","84100.8065","'03743003","'484260430001.84100"]
[null,null,null,null,null,null,null,null,null,null,null,null,null,null,"65523","19","045","SALINAS VICTORIA",null,"LOS DURAZNOS - 34985","LOS DURAZNOS","34985","34985.6961","'01129004","'484100140001.34985"]
[null,null,null,null,null,null,null,null,null,null,null,null,null,null,"65546","19","045","SALINAS VICTORIA",null,"LOS FRAILES - 31107","LOS FRAILES","31107","31107.2545","'00919269","'484080190001.31107"]
[null,null,null,null,null,null,null,null,null,null,null,null,null,null,"65807","19","002","AGUALEGUAS",null,"LOS FRIJOLES (JACARANDAS) - 42208","LOS FRIJOLES (JACARANDAS)","42208","42208.5903","'01431009","'484130310001.42208"]
[null,null,null,null,null,null,null,null,null,null,null,null,null,null,"66005","19","018","GARCIA",null,"LOS GIRASOLES - 50010","LOS GIRASOLES","50010","50010.0170","'01808002","'484151060001.50010"]
[null,null,null,null,null,null,null,null,null,null,null,null,null,null,"66061","19","021","GENERAL ESCOBEDO",null,"LOS HORNOS - 75053","LOS HORNOS","75053","75053.7608","'03181006","'484211790001.75053"]
[null,null,null,null,null,null,null,null,null,null,null,null,null,null,"66140","19","048","SANTA CATARINA",null,"LOS KALINES - 85218","LOS KALINES","85218","85218.5476","'03718113","'484260180001.85218"]
[null,null,null,null,null,null,null,null,null,null,null,null,null,null,"66240","19","019","SAN PEDRO GARZA GARCIA",null,"LOS LETREROS - 31985","LOS LETREROS","31985","31985.7648","'00963009","'484080630001.31985"]
[null,null,null,null,null,null,null,null,null,null,null,null,null,null,"66259","19","019","SAN PEDRO GARZA GARCIA",null,"LOS LIMONES - 62825","LOS LIMONES","62825","62825.0545","'02159004","'484170300001.62825"]
[null,null,null,null,null,null,null,null,null,null,null,null,null,null,"66297","19","019","SAN PEDRO GARZA GARCIA",null,"LOS LUNAS - 34768","LOS LUNAS","34768","34768.1943","'01143009","'484100210001.34768"]
[null,null,null,null,null,null,null,null,null,null,null,null,null,null,"66415","19","046","SAN NICOLAS DE LOS GARZA",null,"LOS MARTINEZ - 38466","LOS MARTINEZ","38466","38466.2837","'01288004","'484110420001.38466"]
[null,null,null,null,null,null,null,null,null,null,null,null,null,null,"66448","19","046","SAN NICOLAS DE LOS GARZA",null,"LOS MOCHIS - 33190","LOS MOCHIS","33190","33190.8974","'00927009","'484080270001.33190"]
[null,null,null,null,null,null,null,null,null,null,null,null,null,null,"66490","19","046","SAN NICOLAS DE LOS GARZA",null,"LOS NOGALES - 27811","LOS NOGALES","27811","27811.2237","'00569009","'484050330001.27811"]
[null,null,null,null,null,null,null,null,null,null,null,null,null,null,"66604","19","006","APODACA",null,"LOS NOPALES - 29385","LOS NOPALES","29385","29385.3184","'00702009","'484070020001.29385"]
[null,null,null,null,null,null,null,null,null,null,null,null,null,null,"66624","19","006","APODACA",null,"LOS OLIVOS - 76903","LOS OLIVOS","76903","76903.0982","'03318009","'484220060001.76903"]
[null,null,null,null,null,null,null,null,null,null,null,null,null,null,"66649","19","006","APODACA",null,"LOS PERALES - 34453","LOS PERALES","34453","34453.6070","'01103058","'484100010001.34453"]
[null,null,null,null,null,null,null,null,null,null,null,null,null,null,"66940","19","003","LOS ALDAMAS",null,"LOS PINITOS - 85516","LOS PINITOS","85516","85516.2372","'03729238","'484260720001.85516"]
[null,null,null,null,null,null,null,null,null,null,null,null,null,null,"67120","19","026","GUADALUPE",null,"LOS PINOS - 61241","LOS PINOS","61241","61241.0007","'01934008","'484160340001.61241"]
[null,null,null,null,null,null,null,null,null,null,null,null,null,null,"67180","19","026","GUADALUPE",null,"LOS PLACERITOS - 92023","LOS PLACERITOS","92023","92023.99999","'04224003","'484301230001.92023"]
[null,null,null,null,null,null,null,null,null,null,null,null,null,null,"67257","19","031","JUAREZ",null,"LOS PRESIDENTES - 69006","LOS PRESIDENTES","69006","69006.1391","'02427003","'484200390001.69006"]
[null,null,null,null,null,null,null,null,null,null,null,null,null,null,"67289","19","031","JUAREZ",null,"LOS REYES - 46967","LOS REYES","46967","46967.1721","'01582001","'484140800001.46967"]
[null,null,null,null,null,null,null,null,null,null,null,null,null,null,"67340","19","049","SANTIAGO",null,"LOS ROBLES - 63546","LOS ROBLES","63546","63546.1738","'02225007","'484180090001.63546"]
[null,null,null,null,null,null,null,null,null,null,null,null,null,null,"67484","19","009","CADEREYTA JIMENEZ",null,"LOS SAUCES - 06920","LOS SAUCES","06920","06920.99999","'01001002","'484090150001.06920"]
[null,null,null,null,null,null,null,null,null,null,null,null,null,null,"67680","19","043","RAYONES",null,"LOS TABACHINES - 76139","LOS TABACHINES","76139","76139.0897","'03342535","'484220140001.76139"]
[null,null,null,null,null,null,null,null,null,null,null,null,null,null,"67866","19","017","GALEANA",null,"LOS TRES ARROYOS - 98621","LOS TRES ARROYOS","98621","98621.99999","'04620003","'484320170001.98621"]
[null,null,null,null,null,null,null,null,null,null,null,null,null,null,"67926","19","014","DOCTOR ARROYO",null,"LOS VASQUEZ - 71366","LOS VASQUEZ","71366","71366.0039","'02786007","'484203860001.71366"]
[null,null,null,null,null,null,null,null,null,null,null,null,null,null,"67945","19","007","ARAMBERRI",null,"LOS VIVEROS - 61570","LOS VIVEROS","61570","61570.0009","'01946005","'484160460001.61570"]
[null,null,null,null,null,null,null,null,null,null,null,null,null,null,"67958","19","007","ARAMBERRI",null,"LOURDES - 36214","LOURDES","36214","36214.4574","'01252004","'484110260001.36214"]
[null,null,null,null,null,null,null,null,null,null,null,null,null,null,"68144","20","067","OAXACA DE JUAREZ",null,"LUIS DONALDO COLOSIO - 85424","LUIS DONALDO COLOSIO","85424","85424.1510","'03729055","'484260290001.85424"]
[null,null,null,null,null,null,null,null,null,null,null,null,null,null,"68210","20","179","SAN JUAN BAUTISTA JAYACATLAN",null,"LUIS ECHEVERRIA ALVAREZ - 21505","LUIS ECHEVERRIA ALVAREZ","21505","21505.0268","'00207009","'484020030001.21505"]
[null,null,null,null,null,null,null,null,null,null,null,null,null,null,"68263","20","227","SAN LORENZO CACAOTEPEC",null,"MA DE LOS ANGELES - 78963","MA DE LOS ANGELES","78963","78963.3922","'03551256","'484240510001.78963"]
[null,null,null,null,null,null,null,null,null,null,null,null,null,null,"68300","20","184","SAN JUAN BAUTISTA TUXTEPEC",null,"MAESTROS - 45038","MAESTROS","45038","45038.99999","'01623867","'484141200001.45038"]
[null,null,null,null,null,null,null,null,null,null,null,null,null,null,"68360","20","184","SAN JUAN BAUTISTA TUXTEPEC",null,"MAGISTERIAL - 29950","MAGISTERIAL","29950","29950.2086","'00759009","'484070590001.29950"]
[null,null,null,null,null,null,null,null,null,null,null,null,null,null,"68420","20","002","ACATLAN DE PEREZ FIGUEROA",null,"MAGISTERIAL COAPA - 14360","MAGISTERIAL COAPA","14360","14360.2877","'01001002","'484090120001.14360"]
[null,null,null,null,null,null,null,null,null,null,null,null,null,null,"68480","20","559","SAN JUAN BAUTISTA VALLE NACIONAL",null,"MALA VIDA - 70736","MALA VIDA","70736","70736.5940","'02814003","'484204120001.70736"]
[null,null,null,null,null,null,null,null,null,null,null,null,null,null,"68574","20","171","SAN JOSE TENANGO",null,"MANGOS SALINAS - 96324","MANGOS SALINAS","96324","96324.7374","'04301005","'484301990001.96324"]
[null,null,null,null,null,null,null,null,null,null,null,null,null,null,"68665","20","326","SAN PEDRO SOCHIAPAM",null,"MANUEL CAVAZOS LERMA - 89555","MANUEL CAVAZOS LERMA","89555","89555.1746","'03917006","'484280090001.89555"]
[null,null,null,null,null,null,null,null,null,null,null,null,null,null,"68735","20","335","SAN PEDRO YANERI",null,"MANUEL PAREDES 3A SECCION - 22610","MANUEL PAREDES 3A SECCION","22610","22610.2212","'00210208","'484020040001.22610"]
[null,null,null,null,null,null,null,null,null,null,null,null,null,null,"69005","20","039","HEROICA CIUDAD DE HUAJUAPAN DE LEON",null,"MARCELO RASCON - 84304","MARCELO RASCON","84304","84304.8341","'03702009","'484260020001.84304"]
[null,null,null,null,null,null,null,null,null,null,null,null,null,null,"69034","20","340","SAN PEDRO Y SAN PABLO TEQUIXTEPEC",null,"MARIA ANTONIETA - 35137","MARIA ANTONIETA","35137","35137.1199","'01115008","'484100070001.35137"]
[null,null,null,null,null,null,null,null,null,null,null,null,null,null,"69171","20","259","SAN MIGUEL AHUEHUETITLAN",null,"MARIA ISABEL - 32560","MARIA ISABEL","32560","32560.1048","'00937006","'484080370001.32560"]
[null,null,null,null,null,null,null,null,null,null,null,null,null,null,"69566","20","121","SAN BARTOLO SOYALTEPEC",null,"MARTIN COTA (BLOQUE 802) - 85200","MARTIN COTA (BLOQUE 802)","85200","85200.5569","'03718113","'484260180001.85200"]
[null,null,null,null,null,null,null,null,null,null,null,null,null,null,"69603","20","006","ASUNCION NOCHIXTLAN",null,"MARTINEZ DE ABAJO - 34605","MARTINEZ DE ABAJO","34605","34605.0674","'01165001","'484100320001.34605"]
[null,null,null,null,null,null,null,null,null,null,null,null,null,null,"69799","20","016","COICOYAN DE LAS FLORES",null,"MATASANO - 29763","MATASANO","29763","29763.0005","'00747009","'484070470001.29763"]
[null,null,null,null,null,null,null,null,null,null,null,null,null,null,"69834","20","370","SANTA CATARINA TAYATA",null,"MAXTLECA DE GALEANA - 52374","MAXTLECA DE GALEANA","52374","52374.1918","'01750004","'484150490001.52374"]
[null,null,null,null,null,null,null,null,null,null,null,null,null,null,"69873","20","110","SAN ANTONIO SINICAHUA",null,"MAZA - 43281","MAZA","43281","43281.99999","'01468007","'484130680001.43281"]
[null,null,null,null,null,null,null,null,null,null,null,null,null,null,"70044","20","043","HEROICA CIUDAD DE JUCHITAN DE ZARAGOZA",null,"MEDIO MONTE - 43444","MEDIO MONTE","43444","43444.6369","'01453004","'484130530001.43444"]
[null,null,null,null,null,null,null,null,null,null,null,null,null,null,"70166","20","525","SANTO DOMINGO ZANATEPEC",null,"MERCADO DE ABASTOS TARIACURI - 61605","MERCADO DE ABASTOS TARIACURI","61605","61605.4324","'01966007","'484160660001.61605"]
[null,null,null,null,null,null,null,null,null,null,null,null,null,null,"70314","20","057","MATIAS ROMERO AVENDAÑO",null,"MESA DE PLATANITOS - 34986","MESA DE PLATANITOS","34986","34986.7100","'01129004","'484100140001.34986"]
[null,null,null,null,null,null,null,null,null,null,null,null,null,null,"70383","20","010","EL BARRIO DE LA SOLEDAD",null,"MESA DEL VENADO - 33494","MESA DEL VENADO","33494","33494.5007","'00929003","'484080290001.33494"]
[null,null,null,null,null,null,null,null,null,null,null,null,null,null,"70480","20","333","SAN PEDRO TOTOLAPAM",null,"METATES - 34315","METATES","34315","34315.0384","'01111007","'484100050001.34315"]
[null,null,null,null,null,null,null,null,null,null,null,null,null,null,"70725","20","036","GUEVEA DE HUMBOLDT",null,"MEZQUITAL DEL CARMEN - 37299","MEZQUITAL DEL CARMEN","37299","37299.4554","'01240004","'484110200001.37299"]
[null,null,null,null,null,null,null,null,null,null,null,null,null,null,"70760","20","515","SANTO DOMINGO TEHUANTEPEC",null,"MI RANCHITO - 96300","MI RANCHITO","96300","96300.8826","'04189007","'484300890001.96300"]
[null,null,null,null,null,null,null,null,null,null,null,null,null,null,"70890","20","495","SANTIAGO XANICA",null,"MIGUEL HIDALGO - 15470","MIGUEL HIDALGO","15470","15470.2327","'01001002","'484090170001.15470"]
[null,null,null,null,null,null,null,null,null,null,null,null,null,null,"70920","20","085","SAN AGUSTIN LOXICHA",null,"MIGUEL HIDALGO - 68404","MIGUEL HIDALGO","68404","68404.0326","'02443008","'484200440001.68404"]
[null,null,null,null,null,null,null,null,null,null,null,null,null,null,"70944","20","439","SANTA MARIA TONAMECA",null,"MIGUEL HIDALGO ZAPOTAL 2DA SECCION - 86495","MIGUEL HIDALGO ZAPOTAL 2DA SECCION","86495","86495.2631","'03808006","'484270020001.86495"]
[null,null,null,null,null,null,null,null,null,null,null,null,null,null,"70980","20","413","SANTA MARIA HUATULCO",null,"MINA DE ORO - 25616","MINA DE ORO","25616","25616.99999","'00521006","'484050100001.25616"]
[null,null,null,null,null,null,null,null,null,null,null,null,null,null,"71041","20","037","MESONES HIDALGO",null,"MIRADOR - 24026","MIRADOR","24026","24026.0545","'00405138","'484040020001.24026"]
[null,null,null,null,null,null,null,null,null,null,null,null,null,null,"71134","20","481","SANTIAGO NUYOO",null,"MIRAMAR - 41930","MIRAMAR","41930","41930.3894","'01313379","'484120770001.41930"]
[null,null,null,null,null,null,null,null,null,null,null,null,null,null,"71153","20","297","SAN PABLO TIJALTEPEC",null,"MIRANDA - 41026","MIRANDA","41026","41026.99999","'01346008","'484120450001.41026"]
[null,null,null,null,null,null,null,null,null,null,null,null,null,null,"71214","20","378","SANTA CRUZ MIXTEPEC",null,"MISION DE SAN JERONIMO - 64636","MISION DE SAN JERONIMO","64636","64636.3207","'02340009","'484190390001.64636"]
[null,null,null,null,null,null,null,null,null,null,null,null,null,null,"71254","20","107","SAN ANTONIO DE LA CAL",null,"MOCTEZUMA - 31959","MOCTEZUMA","31959","31959.0496","'00940371","'484080400001.31959"]
[null,null,null,null,null,null,null,null,null,null,null,null,null,null,"71306","20","108","SAN ANTONIO HUITEPEC",null,"MODERNA - 21450","MODERNA","21450","21450.0249","'00207009","'484020030001.21450"]
[null,null,null,null,null,null,null,null,null,null,null,null,null,null,"71372","20","137","SAN FRANCISCO CAHUACUA",null,"MONTE ALTO - 32415","MONTE ALTO","32415","32415.99999","'00937006","'484080370001.32415"]
[null,null,null,null,null,null,null,null,null,null,null,null,null,null,"71384","20","491","SANTIAGO TEXTITLAN",null,"MONTE DE CAMARGO - 38030","MONTE DE CAMARGO","38030","38030.2434","'01214055","'484110070001.38030"]
[null,null,null,null,null,null,null,null,null,null,null,null,null,null,"71406","20","023","CUILAPAM DE GUERRERO",null,"MONTE NEGRO - 43196","MONTE NEGRO","43196","43196.99999","'01433008","'484130330001.43196"]
[null,null,null,null,null,null,null,null,null,null,null,null,null,null,"71550","20","072","SAN JOSE DEL PROGRESO",null,"MOQUEL - 24402","MOQUEL","24402","24402.0309","'00409009","'484040040001.24402"]
[null,null,null,null,null,null,null,null,null,null,null,null,null,null,"71603","20","482","SANTIAGO PINOTEPA NACIONAL",null,"MORELOS - 22647","MORELOS","22647","22647.1536","'00210208","'484020040001.22647"]
[null,null,null,null,null,null,null,null,null,null,null,null,null,null,"71707","20","467","SANTIAGO JAMILTEPEC",null,"MORELOS - 87200","MORELOS","87200","87200.2122","'03937009","'484280190001.87200"]
[null,null,null,null,null,null,null,null,null,null,null,null,null,null,"71840","20","334","VILLA DE TUTUTEPEC DE MELCHOR OCAMPO",null,"MUKUICHE - 23700","MUKUICHE","23700","23700.99999","'00303009","'484030010001.23700"]
[null,null,null,null,null,null,null,null,null,null,null,null,null,null,"71967","20","526","SANTOS REYES NOPALA",null,"NACAPEL - 85224","NACAPEL","85224","85224.3727","'03742009","'484260420001.85224"]
[null,null,null,null,null,null,null,null,null,null,null,null,null,null,"72010","21","114","PUEBLA",null,"NAPUCHI - 33197","NAPUCHI","33197","33197.9103","'00927009","'484080270001.33197"]
[null,null,null,null,null,null,null,null,null,null,null,null,null,null,"72044","21","114","PUEBLA",null,"NARANJOS - 78144","NARANJOS","78144","78144.0971","'03528009","'484240280001.78144"]
[null,null,null,null,null,null,null,null,null,null,null,null,null,null,"72110","21","114","PUEBLA",null,"NAVARRO - 87795","NAVARRO","87795","87795.99999","'03959009","'484280300001.87795"]
[null,null,null,null,null,null,null,null,null,null,null,null,null,null,"72310","21","114","PUEBLA",null,"NICOLAS BRAVO 5A SECC - 77178","NICOLAS BRAVO 5A SECC","77178","77178.99999","'03410054","'484230020001.77178"]
[null,null,null,null,null,null,null,null,null,null,null,null,null,null,"72365","21","114","PUEBLA",null,"NIGROMANTE - 49690","NIGROMANTE","49690","49690.3070","'01587003","'484140850001.49690"]
[null,null,null,null,null,null,null,null,null,null,null,null,null,null,"72498","21","114","PUEBLA",null,"NOGALITOS - 80886","NOGALITOS","80886","80886.99999","'03637156","'484250130001.80886"]
[null,null,null,null,null,null,null,null,null,null,null,null,null,null,"72574","21","114","PUEBLA",null,"NORIA 773 (LA PARTIDA) - 27413","NORIA 773 (LA PARTIDA)","27413","27413.3758","'00573009","'484050350001.27413"]
[null,null,null,null,null,null,null,null,null,null,null,null,null,null,"72595","21","114","PUEBLA",null,"NORIA SECTOR SEIS A LA CONCHA - 27426","NORIA SECTOR SEIS A LA CONCHA","27426","27426.3767","'00573009","'484050350001.27426"]
[null,null,null,null,null,null,null,null,null,null,null,null,null,null,"72775","21","140","SAN PEDRO CHOLULA",null,"NUEVA ESPERANZA - 29605","NUEVA ESPERANZA","29605","29605.3785","'00792009","'484070920001.29605"]
[null,null,null,null,null,null,null,null,null,null,null,null,null,null,"72803","21","119","SAN ANDRES CHOLULA",null,"NUEVA ESPERANZA - 67895","NUEVA ESPERANZA","67895","67895.3908","'02330001","'484190290001.67895"]
[null,null,null,null,null,null,null,null,null,null,null,null,null,null,"72960","21","114","PUEBLA",null,"NUEVA MAYAPAN - 29073","NUEVA MAYAPAN","29073","29073.99999","'00802003","'484071010001.29073"]
[null,null,null,null,null,null,null,null,null,null,null,null,null,null,"73048","21","194","VENUSTIANO CARRANZA",null,"NUEVA TENOCHTITLAN - 43000","NUEVA TENOCHTITLAN","43000","43000.1077","'01428006","'484130280001.43000"]
[null,null,null,null,null,null,null,null,null,null,null,null,null,null,"73174","21","071","HUAUCHINANGO",null,"NUEVO CAJEME - 93330","NUEVO CAJEME","93330","93330.99999","'04232002","'484301310001.93330"]
[null,null,null,null,null,null,null,null,null,null,null,null,null,null,"73237","21","183","TLAOLA",null,"NUEVO HORIZONTE - 31612","NUEVO HORIZONTE","31612","31612.0193","'00917009","'484080170001.31612"]
[null,null,null,null,null,null,null,null,null,null,null,null,null,null,"73284","21","184","TLAPACOYA",null,"NUEVO MEXICO - 30145","NUEVO MEXICO","30145","30145.1113","'00734003","'484070340001.30145"]
[null,null,null,null,null,null,null,null,null,null,null,null,null,null,"73353","21","123","SAN FELIPE TEPATLAN",null,"NUEVO PASO NACIONAL - 68434","NUEVO PASO NACIONAL","68434","68434.0395","'02679003","'484202780001.68434"]
[null,null,null,null,null,null,null,null,null,null,null,null,null,null,"73470","21","072","HUEHUETLA",null,"NUEVO SAN JOSE - 97203","NUEVO SAN JOSE","97203","97203.1860","'04450007","'484310500001.97203"]
[null,null,null,null,null,null,null,null,null,null,null,null,null,null,"73550","21","101","NAUZONTLA",null,"NUEVO TABASCO - 77917","NUEVO TABASCO","77917","77917.1104","'03420052","'484230040001.77917"]
[null,null,null,null,null,null,null,null,null,null,null,null,null,null,"73683","21","207","ZACAPOAXTLA",null,"OBRERA - 37340","OBRERA","37340","37340.1462","'01240004","'484110200001.37340"]
[null,null,null,null,null,null,null,null,null,null,null,null,null,null,"73763","21","105","OCOTEPEC",null,"OBRERA NORTE - 95200","OBRERA NORTE","95200","09520.99999","'01001002","'484090070001.09520"]
[null,null,null,null,null,null,null,null,null,null,null,null,null,null,"73905","21","186","TLATLAUQUITEPEC",null,"OCTUJUB O CAMPECHE - 79767","OCTUJUB O CAMPECHE","79767","79767.4630","'03503006","'484240030001.79767"]
[null,null,null,null,null,null,null,null,null,null,null,null,null,null,"73907","21","186","TLATLAUQUITEPEC",null,"ODISEA - 71220","ODISEA","71220","71220.3795","'02801001","'484203990001.71220"]
[null,null,null,null,null,null,null,null,null,null,null,null,null,null,"73972","21","199","XIUTETELCO",null,"OJO DE AGUA - 61969","OJO DE AGUA","61969","61969.0095","'01938003","'484160380001.61969"]
[null,null,null,null,null,null,null,null,null,null,null,null,null,null,"74136","21","143","SAN SALVADOR EL VERDE",null,"OJOS DE RANA (SAUL AGUIRRE GALLARDO) - 36216","OJOS DE RANA (SAUL AGUIRRE GALLARDO)","36216","36216.5865","'01252004","'484110260001.36216"]
[null,null,null,null,null,null,null,null,null,null,null,null,null,null,"74325","21","125","SAN GREGORIO ATZOMPA",null,"OMEAPAN - 95836","OMEAPAN","95836","95836.8286","'04244008","'484301430001.95836"]
[null,null,null,null,null,null,null,null,null,null,null,null,null,null,"74506","21","022","ATZITZIHUACAN",null,"ORQUIDEAS RESIDENCIAL - 72104","ORQUIDEAS RESIDENCIAL","72104","72104.6661","'03115203","'484211140001.72104"]
[null,null,null,null,null,null,null,null,null,null,null,null,null,null,"74568","21","176","TILAPA",null,"OSCAR TORRES PANCARDO - 45960","OSCAR TORRES PANCARDO","45960","45960.99999","'01568005","'484140660001.45960"]
[null,null,null,null,null,null,null,null,null,null,null,null,null,null,"74729","21","073","HUEHUETLAN EL CHICO",null,"OXTOYAHUATL (BARRIO PURIFICACION) - 55810","OXTOYAHUATL (BARRIO PURIFICACION)","55810","55810.9287","'01793008","'484150920001.55810"]
[null,null,null,null,null,null,null,null,null,null,null,null,null,null,"74904","21","082","IXCAQUIXTLA",null,"PAHUATITLAN - 73456","PAHUATITLAN","73456","73456.7326","'03078009","'484210780001.73456"]
[null,null,null,null,null,null,null,null,null,null,null,null,null,null,"74974","21","112","PETLALCINGO",null,"PALESTINA - 29954","PALESTINA","29954","29954.0932","'00759009","'484070590001.29954"]
[null,null,null,null,null,null,null,null,null,null,null,null,null,null,"75040","21","067","GUADALUPE VICTORIA",null,"PALMA SOLA - 81820","PALMA SOLA","81820","81820.3069","'03628056","'484250100001.81820"]
[null,null,null,null,null,null,null,null,null,null,null,null,null,null,"75147","21","152","SOLTEPEC",null,"PALO ALTO INFONAVIT - 59618","PALO ALTO INFONAVIT","59618","59618.1319","'02009007","'484161080001.59618"]
[null,null,null,null,null,null,null,null,null,null,null,null,null,null,"75211","21","164","TEPEACA",null,"PALO RAJADO - 79797","PALO RAJADO","79797","79797.3839","'03531009","'484240310001.79797"]
[null,null,null,null,null,null,null,null,null,null,null,null,null,null,"75445","21","144","SAN SALVADOR HUIXCOLOTLA",null,"PAN DURO - 84317","PAN DURO","84317","84317.8357","'03702009","'484260020001.84317"]
[null,null,null,null,null,null,null,null,null,null,null,null,null,null,"75497","21","154","TECAMACHALCO",null,"PANTLA DEL ZAPOTAL - 40113","PANTLA DEL ZAPOTAL","40113","40113.1873","'01335003","'484120350001.40113"]
[null,null,null,null,null,null,null,null,null,null,null,null,null,null,"75580","21","099","CAÑADA MORELOS",null,"PARAISO - 76118","PARAISO","76118","76118.1295","'03342535","'484220140001.76118"]
[null,null,null,null,null,null,null,null,null,null,null,null,null,null,"75730","21","156","TEHUACAN",null,"PARAMO DE MORELOS - 31694","PARAMO DE MORELOS","31694","31694.0342","'00931059","'484080310001.31694"]
[null,null,null,null,null,null,null,null,null,null,null,null,null,null,"75845","21","018","ATEXCAL",null,"PARQUE INDUSTRIAL APODACA - 66633","PARQUE INDUSTRIAL APODACA","66633","66633.2742","'02306007","'484190060001.66633"]
[null,null,null,null,null,null,null,null,null,null,null,null,null,null,"75934","21","217","ZOQUITLAN",null,"PARQUE INDUSTRIAL RIO GRANDE - 68228","PARQUE INDUSTRIAL RIO GRANDE","68228","68228.99999","'02444004","'484200450001.68228"]
[null,null,null,null,null,null,null,null,null,null,null,null,null,null,"75995","21","036","COYOMEAPAN",null,"PARQUE URBANO SAN ANTONIO EL DESMONTE - 42083","PARQUE URBANO SAN ANTONIO EL DESMONTE","42083","42083.0148","'01448008","'484130480001.42083"]
[null,null,null,null,null,null,null,null,null,null,null,null,null,null,"76086","22","014","QUERETARO",null,"PASEO DE LAS PALMAS - 32664","PASEO DE LAS PALMAS","32664","32664.3524","'00937006","'484080370001.32664"]
[null,null,null,null,null,null,null,null,null,null,null,null,null,null,"76134","22","014","QUERETARO",null,"PASEOS DEL SOL - 47530","PASEOS DEL SOL","47530","47530.0001","'01554006","'484140530001.47530"]
[null,null,null,null,null,null,null,null,null,null,null,null,null,null,"76147","22","014","QUERETARO",null,"PASO DE COBOS - 36997","PASO DE COBOS","36997","36997.1016","'01232002","'484110160001.36997"]
[null,null,null,null,null,null,null,null,null,null,null,null,null,null,"76164","22","014","QUERETARO",null,"PASO DEL GANADO - 95673","PASO DEL GANADO","95673","95673.5750","'04194009","'484300940001.95673"]
[null,null,null,null,null,null,null,null,null,null,null,null,null,null,"76229","22","014","QUERETARO",null,"PATANCAN - 52986","PATANCAN","52986","52986.99999","'01713003","'484150130001.52986"]
[null,null,null,null,null,null,null,null,null,null,null,null,null,null,"76249","22","011","EL MARQUES",null,"PAVENCUL - 30805","PAVENCUL","30805","30805.1761","'00789009","'484070890001.30805"]
[null,null,null,null,null,null,null,null,null,null,null,null,null,null,"76323","22","002","PINAL DE AMOLES",null,"PEDRO C. COLORADO 2A SECC - 76086","PEDRO C. COLORADO 2A SECC","76086","76086.99999","'03342535","'484220140001.76086"]
[null,null,null,null,null,null,null,null,null,null,null,null,null,null,"76334","22","002","PINAL DE AMOLES",null,"PEDRO Y PABLO (LOS DOLORES) - 61854","PEDRO Y PABLO (LOS DOLORES)","61854","61854.2779","'01935009","'484160350001.61854"]
[null,null,null,null,null,null,null,null,null,null,null,null,null,null,"76354","22","009","JALPAN DE SERRA",null,"PEÑA BLANCA - 63535","PEÑA BLANCA","63535","63535.1773","'02225007","'484180090001.63535"]
[null,null,null,null,null,null,null,null,null,null,null,null,null,null,"76413","22","003","ARROYO SECO",null,"PERFECTO ARREDONDO - 80378","PERFECTO ARREDONDO","80378","80378.2999","'03616209","'484250180001.80378"]
[null,null,null,null,null,null,null,null,null,null,null,null,null,null,"76504","22","004","CADEREYTA DE MONTES",null,"PETROLERA (HERIBERTO KEHOE) - 42356","PETROLERA (HERIBERTO KEHOE)","42356","42356.99999","'01484002","'484130840001.42356"]
[null,null,null,null,null,null,null,null,null,null,null,null,null,null,"76534","22","004","CADEREYTA DE MONTES",null,"PIE DE LA CUESTA - 81764","PIE DE LA CUESTA","81764","81764.99999","'03619006","'484250070001.81764"]
[null,null,null,null,null,null,null,null,null,null,null,null,null,null,"76548","22","004","CADEREYTA DE MONTES",null,"PIEDRA DE AZUCAR - 68491","PIEDRA DE AZUCAR","68491","68491.0521","'02535003","'484201360001.68491"]
[null,null,null,null,null,null,null,null,null,null,null,null,null,null,"76620","22","018","TOLIMAN",null,"PIEDRAS BLANCAS - 60823","PIEDRAS BLANCAS","60823","60823.0079","'01926009","'484160260001.60823"]
[null,null,null,null,null,null,null,null,null,null,null,null,null,null,"76729","22","012","PEDRO ESCOBEDO",null,"PINOS CHICOS - 34984","PINOS CHICOS","34984","34984.7180","'01129004","'484100140001.34984"]
[null,null,null,null,null,null,null,null,null,null,null,null,null,null,"76786","22","017","TEQUISQUIAPAN",null,"PIRAMIDES DE CONTLALCO - 41300","PIRAMIDES DE CONTLALCO","41300","41300.1541","'01367008","'484120660001.41300"]
[null,null,null,null,null,null,null,null,null,null,null,null,null,null,"76827","22","016","SAN JUAN DEL RIO",null,"PLAN DE IGUALA (EJIDO) - 89914","PLAN DE IGUALA (EJIDO)","89914","89914.1948","'03941309","'484280210001.89914"]
[null,null,null,null,null,null,null,null,null,null,null,null,null,null,"76875","22","001","AMEALCO DE BONFIL",null,"PLANADA VILLA LUZ - 29715","PLANADA VILLA LUZ","29715","29715.5081","'00739009","'484070390001.29715"]
[null,null,null,null,null,null,null,null,null,null,null,null,null,null,"76895","22","001","AMEALCO DE BONFIL",null,"PLAYA AZUL - 36555","PLAYA AZUL","36555","36555.0403","'01234001","'484110170001.36555"]
[null,null,null,null,null,null,null,null,null,null,null,null,null,null,"76905","22","006","CORREGIDORA",null,"PLAYA VISTA I - 85423","PLAYA VISTA I","85423","85423.2999","'03729055","'484260290001.85423"]
[null,null,null,null,null,null,null,null,null,null,null,null,null,null,"76993","22","008","HUIMILPAN",null,"PLUTARCO ELIAS CALLES 1 - 2 - 64108","PLUTARCO ELIAS CALLES 1 - 2","64108","64108.0050","'02340009","'484190390001.64108"]
[null,null,null,null,null,null,null,null,null,null,null,null,null,null,"77123","23","002","FELIPE CARRILLO PUERTO",null,"POLVORA - 21620","POLVORA","21620","21620.0307","'00204009","'484020020001.21620"]
[null,null,null,null,null,null,null,null,null,null,null,null,null,null,"77400","23","003","ISLA MUJERES",null,"POPULAR LA NORIA - 68120","POPULAR LA NORIA","68120","68120.4994","'02466009","'484200670001.68120"]
[null,null,null,null,null,null,null,null,null,null,null,null,null,null,"77506","23","005","BENITO JUAREZ",null,"PORFIRIO SILVA - 32574","PORFIRIO SILVA","32574","32574.1065","'00937006","'484080370001.32574"]
[null,null,null,null,null,null,null,null,null,null,null,null,null,null,"77566","23","005","BENITO JUAREZ",null,"POTRERILLOS - 34620","POTRERILLOS","34620","34620.3295","'01165001","'484100320001.34620"]
[null,null,null,null,null,null,null,null,null,null,null,null,null,null,"77723","23","008","SOLIDARIDAD",null,"POTRERO DE LAS YEGUAS - 34545","POTRERO DE LAS YEGUAS","34545","34545.0574","'01175005","'484100370001.34545"]
[null,null,null,null,null,null,null,null,null,null,null,null,null,null,"77910","23","010","BACALAR",null,"POZO DE AROSTEGUI - 38452","POZO DE AROSTEGUI","38452","38452.99999","'01288004","'484110420001.38400"]
[null,null,null,null,null,null,null,null,null,null,null,null,null,null,"77935","23","010","BACALAR",null,"PPG - 40024","PPG","40024","40024.1789","'01335003","'484120350001.40024"]
[null,null,null,null,null,null,null,null,null,null,null,null,null,null,"77946","23","010","BACALAR",null,"PRADERAS DEL SOL - 76087","PRADERAS DEL SOL","76087","76087.1230","'03342535","'484220140001.76087"]
[null,null,null,null,null,null,null,null,null,null,null,null,null,null,"78143","24","028","SAN LUIS POTOSI",null,"PREDIO SAN RAFAEL - 09704","PREDIO SAN RAFAEL","09704","09704.2655","'01001002","'484090070001.09704"]
[null,null,null,null,null,null,null,null,null,null,null,null,null,null,"78216","24","028","SAN LUIS POTOSI",null,"PRESIDENTE JUAREZ - 67898","PRESIDENTE JUAREZ","67898","67898.2929","'02330001","'484190290001.67898"]
[null,null,null,null,null,null,null,null,null,null,null,null,null,null,"78268","24","028","SAN LUIS POTOSI",null,"PRESON DE GERTRUDIS - 33956","PRESON DE GERTRUDIS","33956","33956.0071","'00939009","'484080390001.33956"]
[null,null,null,null,null,null,null,null,null,null,null,null,null,null,"78390","24","028","SAN LUIS POTOSI",null,"PRIMERO DE MAYO - 35690","PRIMERO DE MAYO","35690","35690.99999","'01137003","'484100180001.35690"]
[null,null,null,null,null,null,null,null,null,null,null,null,null,null,"78400","24","028","SAN LUIS POTOSI",null,"PRIVADA DEL ANGEL - 66055","PRIVADA DEL ANGEL","66055","66055.3860","'02322009","'484190210001.66055"]
[null,null,null,null,null,null,null,null,null,null,null,null,null,null,"78425","24","028","SAN LUIS POTOSI",null,"PRIVADA SAN FELIPE - 81414","PRIVADA SAN FELIPE","81414","81414.2892","'03643006","'484250150001.81414"]
[null,null,null,null,null,null,null,null,null,null,null,null,null,null,"78434","24","035","SOLEDAD DE GRACIANO SANCHEZ",null,"PRIVADAS DEL BOSQUE - 83117","PRIVADAS DEL BOSQUE","83117","83117.1666","'03730107","'484260300001.83117"]
[null,null,null,null,null,null,null,null,null,null,null,null,null,null,"78438","24","035","SOLEDAD DE GRACIANO SANCHEZ",null,"PROCIC - 70987","PROCIC","70987","70987.1228","'02815008","'484204130001.70987"]
[null,null,null,null,null,null,null,null,null,null,null,null,null,null,"78453","24","001","AHUALULCO",null,"PROGRESO (CAMPO 47) - 91606","PROGRESO (CAMPO 47)","91606","91606.99999","'04138007","'484300380001.91606"]
[null,null,null,null,null,null,null,null,null,null,null,null,null,null,"78473","24","021","MEXQUITIC DE CARMONA",null,"PROVIDENCIA - 38488","PROVIDENCIA","38488","38488.2849","'01236003","'484110180001.38488"]
[null,null,null,null,null,null,null,null,null,null,null,null,null,null,"78530","24","007","CEDRAL",null,"PUEBLO NUEVO - 80803","PUEBLO NUEVO","80803","80803.99999","'03637156","'484250130001.80803"]
[null,null,null,null,null,null,null,null,null,null,null,null,null,null,"78546","24","006","CATORCE",null,"PUEBLO VIEJO - 61688","PUEBLO VIEJO","61688","61688.0190","'01997008","'484160970001.61688"]
[null,null,null,null,null,null,null,null,null,null,null,null,null,null,"78576","24","015","CHARCAS",null,"PUENTE GRANDE (EL PUENTE) - 84327","PUENTE GRANDE (EL PUENTE)","84327","84327.0138","'03727219","'484260270001.84327"]
[null,null,null,null,null,null,null,null,null,null,null,null,null,null,"78634","24","033","SANTO DOMINGO",null,"PUERTA DEL SOL - 83680","PUERTA DEL SOL","83680","83680.3055","'03717009","'484260170001.83680"]
[null,null,null,null,null,null,null,null,null,null,null,null,null,null,"78720","24","020","MATEHUALA",null,"PUERTO COYOTE - 61246","PUERTO COYOTE","61246","61246.0135","'01934008","'484160340001.61100"]
[null,null,null,null,null,null,null,null,null,null,null,null,null,null,"78836","24","048","VILLA DE LA PAZ",null,"PUERTO DEL HIGO - 51463","PUERTO DEL HIGO","51463","51463.6135","'01824006","'484151230001.51463"]
[null,null,null,null,null,null,null,null,null,null,null,null,null,null,"78884","24","017","GUADALCAZAR",null,"PUERTO FERRER - 38733","PUERTO FERRER","38733","38733.6298","'01204007","'484110020001.38733"]
[null,null,null,null,null,null,null,null,null,null,null,null,null,null,"78930","24","045","VENADO",null,"PUHUITZE - 79773","PUHUITZE","79773","79773.4641","'03503006","'484240030001.79773"]
[null,null,null,null,null,null,null,null,null,null,null,null,null,null,"78958","24","056","VILLA DE ARISTA",null,"PUXTLA - 61060","PUXTLA","61060","61060.5552","'01993007","'484160930001.61060"]
[null,null,null,null,null,null,null,null,null,null,null,null,null,null,"79010","24","013","CIUDAD VALLES",null,"QUINTA DULCE - 79204","QUINTA DULCE","79204","79204.1789","'03540009","'484240400001.79204"]
[null,null,null,null,null,null,null,null,null,null,null,null,null,null,"79095","24","013","CIUDAD VALLES",null,"QUINTAS DEL MAR - 82112","QUINTAS DEL MAR","82112","82112.1317","'03634107","'484250120001.82112"]
[null,null,null,null,null,null,null,null,null,null,null,null,null,null,"79204","24","040","TAMUIN",null,"QUIRIEGO - 82766","QUIRIEGO","82766","82766.99999","'03622059","'484250080001.82766"]
[null,null,null,null,null,null,null,null,null,null,null,null,null,null,"79247","24","013","CIUDAD VALLES",null,"RAFAEL MURILLO - 37797","RAFAEL MURILLO","37797","37797.99999","'01206009","'484110030001.37797"]
[null,null,null,null,null,null,null,null,null,null,null,null,null,null,"79316","24","058","EL NARANJO",null,"RANCHITO - 58495","RANCHITO","58495","58495.0135","'01949008","'484160490001.58495"]
[null,null,null,null,null,null,null,null,null,null,null,null,null,null,"79324","24","010","CIUDAD DEL MAIZ",null,"RANCHO ADELAS - 61655","RANCHO ADELAS","61655","61655.4589","'01982008","'484160820001.61655"]
[null,null,null,null,null,null,null,null,null,null,null,null,null,null,"79373","24","002","ALAQUINES",null,"RANCHO CALLEJAS - 29943","RANCHO CALLEJAS","29943","29943.99999","'00731003","'484070310001.29943"]
[null,null,null,null,null,null,null,null,null,null,null,null,null,null,"79466","24","052","VILLA JUAREZ",null,"RANCHO DE LOS RODRIGUEZ - 36807","RANCHO DE LOS RODRIGUEZ","36807","36807.5341","'01234001","'484110170001.36807"]
[null,null,null,null,null,null,null,null,null,null,null,null,null,null,"79526","24","050","VILLA DE REYES",null,"RANCHO DE TOÑO - 84303","RANCHO DE TOÑO","84303","84303.8378","'03702009","'484260020001.84303"]
[null,null,null,null,null,null,null,null,null,null,null,null,null,null,"79556","24","055","ZARAGOZA",null,"RANCHO EL HUEVO - 78950","RANCHO EL HUEVO","78950","78950.3709","'03551207","'484240560002.78950"]
[null,null,null,null,null,null,null,null,null,null,null,null,null,null,"79604","24","024","RIOVERDE",null,"RANCHO GRANDE II - 75790","RANCHO GRANDE II","75790","75790.6384","'03157006","'484211560001.75790"]
[null,null,null,null,null,null,null,null,null,null,null,null,null,null,"79643","24","024","RIOVERDE",null,"RANCHO LA PUENTE - 55930","RANCHO LA PUENTE","55930","55930.9596","'01766008","'484150650001.55930"]
[null,null,null,null,null,null,null,null,null,null,null,null,null,null,"79657","24","011","CIUDAD FERNANDEZ",null,"RANCHO LOS RIACHUELOS - 79773","RANCHO LOS RIACHUELOS","79773","79773.4659","'03503006","'484240030001.79773"]
[null,null,null,null,null,null,null,null,null,null,null,null,null,null,"79697","24","027","SAN CIRO DE ACOSTA",null,"RANCHO NUEVO - 76646","RANCHO NUEVO","76646","76646.0060","'03357009","'484220180001.76646"]
[null,null,null,null,null,null,null,null,null,null,null,null,null,null,"79767","24","003","AQUISMON",null,"RANCHO NUEVO DOS - 76337","RANCHO NUEVO DOS","76337","76337.2014","'03306009","'484220020001.76337"]
[null,null,null,null,null,null,null,null,null,null,null,null,null,null,"79775","24","003","AQUISMON",null,"RANCHO ROMULO ANDREU (EL TOTOLE) - 41027","RANCHO ROMULO ANDREU (EL TOTOLE)","41027","41027.4842","'01346008","'484120450001.41027"]
[null,null,null,null,null,null,null,null,null,null,null,null,null,null,"79786","24","019","LAGUNILLAS",null,"RANCHO SAN JOSE - 33633","RANCHO SAN JOSE","33633","33633.9953","'00962006","'484080620001.33633"]
[null,null,null,null,null,null,null,null,null,null,null,null,null,null,"79904","24","054","XILITLA",null,"RANCHO VIEJO - 85770","RANCHO VIEJO","85770","85770.9128","'03703003","'484260030001.85770"]
[null,null,null,null,null,null,null,null,null,null,null,null,null,null,"79920","24","054","XILITLA",null,"RANCHO VISTAHERMOSA - 38197","RANCHO VISTAHERMOSA","38197","38197.7918","'01210001","'484110050001.38197"]
[null,null,null,null,null,null,null,null,null,null,null,null,null,null,"79975","24","057","MATLAPA",null,"REAL DE ORIENTE - 42184","REAL DE ORIENTE","42184","42184.0199","'01451005","'484130510001.42184"]
[null,null,null,null,null,null,null,null,null,null,null,null,null,null,"80016","25","006","CULIACAN",null,"REAL DEL CASTILLO NUEVO - 22770","REAL DEL CASTILLO NUEVO","22770","22770.1085","'00201105","'484020010001.22770"]
[null,null,null,null,null,null,null,null,null,null,null,null,null,null,"80025","25","006","CULIACAN",null,"REAL DEL SOL - 61854","REAL DEL SOL","61854","61854.99999","'01935009","'484160350001.61854"]
[null,null,null,null,null,null,null,null,null,null,null,null,null,null,"80107","25","006","CULIACAN",null,"REDENCION AGRARIA - 27475","REDENCION AGRARIA","27475","27475.4031","'00535159","'484050170001.27475"]
[null,null,null,null,null,null,null,null,null,null,null,null,null,null,"80197","25","006","CULIACAN",null,"REFORMA CENTRO - 44159","REFORMA CENTRO","44159","44159.99999","'01539009","'484140390001.44008"]
[null,null,null,null,null,null,null,null,null,null,null,null,null,null,"80327","25","018","NAVOLATO",null,"RENOVACION - 29010","RENOVACION","29010","29010.0020","'00802003","'484071010001.29010"]
[null,null,null,null,null,null,null,null,null,null,null,null,null,null,"80379","25",null,"NAVOLATO",null,"RESIDENCIAL BOSQUES DE SANTA ELENA - 46220","RESIDENCIAL BOSQUES DE SANTA ELENA","46220","46220.99999","'01525007","'484140250001.46220"]
[null,null,null,null,null,null,null,null,null,null,null,null,null,null,"80419","25","006","CULIACAN",null,"RESIDENCIAL CUMBRES I - 31217","RESIDENCIAL CUMBRES I","31217","31217.2457","'00919269","'484080190001.31217"]
[null,null,null,null,null,null,null,null,null,null,null,null,null,null,"80545","25","003","BADIRAGUATO",null,"RESIDENCIAL LAS TORRES SECCION I - 27085","RESIDENCIAL LAS TORRES SECCION I","27085","27085.2659","'00573009","'484050350001.27085"]
[null,null,null,null,null,null,null,null,null,null,null,null,null,null,"80614","25","003","BADIRAGUATO",null,"RESIDENCIAL PENSIONES IV - 28184","RESIDENCIAL PENSIONES IV","28184","28184.99999","'00619003","'484060090001.28184"]
[null,null,null,null,null,null,null,null,null,null,null,null,null,null,"80737","25","005","COSALA",null,"RESIDENCIAL XCANATUN - 27689","RESIDENCIAL XCANATUN","27689","27689.99999","'00515003","'484050070001.27689"]
[null,null,null,null,null,null,null,null,null,null,null,null,null,null,"80805","25","013","MOCORITO",null,"REVOLUCION - 60153","REVOLUCION","60153","60153.1645","'02003004","'484161020001.60153"]
[null,null,null,null,null,null,null,null,null,null,null,null,null,null,"80873","25","013","MOCORITO",null,"REVOLUCION XXI - 62545","REVOLUCION XXI","62545","62545.1450","'02151009","'484170260001.62545"]
[null,null,null,null,null,null,null,null,null,null,null,null,null,null,"81103","25","011","GUASAVE",null,"RICARDO RETES - 83300","RICARDO RETES","83300","83300.7342","'03730107","'484260300001.83300"]
[null,null,null,null,null,null,null,null,null,null,null,null,null,null,"81216","25","001","AHOME",null,"RINCON DE LA FLORIDA - 37199","RINCON DE LA FLORIDA","37199","37199.1177","'01240004","'484110200001.37199"]
[null,null,null,null,null,null,null,null,null,null,null,null,null,null,"81277","25","001","AHOME",null,"RINCON DE SANTIAGO - 43347","RINCON DE SANTIAGO","43347","43347.5884","'01420007","'484130200001.43347"]
[null,null,null,null,null,null,null,null,null,null,null,null,null,null,"81293","25","001","AHOME",null,"RINCON DEL CAMPESTRE - 37138","RINCON DEL CAMPESTRE","37138","37138.1105","'01240004","'484110200001.37138"]
[null,null,null,null,null,null,null,null,null,null,null,null,null,null,"81372","25","001","AHOME",null,"RINCONADA - 24157","RINCONADA","24157","24157.0006","'00407003","'484040030001.24157"]
[null,null,null,null,null,null,null,null,null,null,null,null,null,null,"81632","25","002","ANGOSTURA",null,"RINCONADA ITZMINA - 97100","RINCONADA ITZMINA","97100","97100.1837","'04450007","'484310500001.97100"]
[null,null,null,null,null,null,null,null,null,null,null,null,null,null,"81733","25","007","CHOIX",null,"RINCONES DE SANTA RITA - 32509","RINCONES DE SANTA RITA","32509","32509.0988","'00937006","'484080370001.32509"]
[null,null,null,null,null,null,null,null,null,null,null,null,null,null,"81820","25","010","EL FUERTE",null,"RIO LIMON - 29377","RIO LIMON","29377","29377.3127","'00702009","'484070020001.29377"]
[null,null,null,null,null,null,null,null,null,null,null,null,null,null,"81877","25","010","EL FUERTE",null,"RIO SECO 3A SECC - 86477","RIO SECO 3A SECC","86477","86477.0413","'03808006","'484270020001.86477"]
[null,null,null,null,null,null,null,null,null,null,null,null,null,null,"81990","25","017","SINALOA",null,"RIVERAS DE HUINALA - 66646","RIVERAS DE HUINALA","66646","66646.4148","'02306007","'484190060001.66646"]
[null,null,null,null,null,null,null,null,null,null,null,null,null,null,"82136","25","012","MAZATLAN",null,"ROGER FALCONI VERA - 77613","ROGER FALCONI VERA","77613","77613.99999","'03405219","'484230010001.77613"]
[null,null,null,null,null,null,null,null,null,null,null,null,null,null,"82164","25","012","MAZATLAN",null,"ROMAN YOCUPICIO (EL RANCHITO) - 85774","ROMAN YOCUPICIO (EL RANCHITO)","85774","85774.9130","'03703003","'484260030001.85774"]
[null,null,null,null,null,null,null,null,null,null,null,null,null,null,"82300","25","012","MAZATLAN",null,"ROSALES DE LA AURORA - 25298","ROSALES DE LA AURORA","25298","25298.1852","'00561009","'484050300001.25298"]
[null,null,null,null,null,null,null,null,null,null,null,null,null,null,"82660","25","004","CONCORDIA",null,"RUBEN JARAMILLO (LA CHIRIPA) - 15600","RUBEN JARAMILLO (LA CHIRIPA)","15600","15600.99999","'01001002","'484090170001.15600"]
[null,null,null,null,null,null,null,null,null,null,null,null,null,null,"82832","25","014","ROSARIO",null,"SABINO GRANDE - 76353","SABINO GRANDE","76353","76353.0396","'03327009","'484220090001.76353"]
[null,null,null,null,null,null,null,null,null,null,null,null,null,null,"83100","26","030","HERMOSILLO",null,"SAHUARARE - 33195","SAHUARARE","33195","33195.9442","'00927009","'484080270001.33195"]
[null,null,null,null,null,null,null,null,null,null,null,null,null,null,"83113","26","030","HERMOSILLO",null,"SALGUERO - 61991","SALGUERO","61991","61991.2892","'01977006","'484160770001.61991"]
[null,null,null,null,null,null,null,null,null,null,null,null,null,null,"83145","26","030","HERMOSILLO",null,"SALTILLO 400 - 27984","SALTILLO 400","27984","27984.1606","'00549009","'484050240001.27984"]
[null,null,null,null,null,null,null,null,null,null,null,null,null,null,"83243","26","030","HERMOSILLO",null,"SAN AGUSTIN - 71414","SAN AGUSTIN","71414","71414.0072","'02678007","'484202770001.71414"]
[null,null,null,null,null,null,null,null,null,null,null,null,null,null,"83280","26","030","HERMOSILLO",null,"SAN AGUSTIN DE LOS DIAZ - 20339","SAN AGUSTIN DE LOS DIAZ","20339","20339.1276","'00128009","'484010100001.20339"]
[null,null,null,null,null,null,null,null,null,null,null,null,null,null,"83300","26","030","HERMOSILLO",null,"SAN ANDRES TOTOLTEPEC - 14400","SAN ANDRES TOTOLTEPEC","14400","14400.2179","'01001002","'484090120001.14400"]
[null,null,null,null,null,null,null,null,null,null,null,null,null,null,"83303","26","030","HERMOSILLO",null,"SAN ANTONIO - 02720","SAN ANTONIO","02720","02720.0456","'01001002","'484090020001.02720"]
[null,null,null,null,null,null,null,null,null,null,null,null,null,null,"83303","26","030","HERMOSILLO",null,"SAN ANTONIO - 35333","SAN ANTONIO","35333","35333.3391","'01121008","'484100100001.35333"]
[null,null,null,null,null,null,null,null,null,null,null,null,null,null,"83315","26","030","HERMOSILLO",null,"SAN ANTONIO - 91067","SAN ANTONIO","91067","91067.99999","'04187002","'484300870001.91067"]
[null,null,null,null,null,null,null,null,null,null,null,null,null,null,"83316","26","030","HERMOSILLO",null,"SAN ANTONIO ABAD - 36783","SAN ANTONIO ABAD","36783","36783.0602","'01254003","'484110270001.36783"]
[null,null,null,null,null,null,null,null,null,null,null,null,null,null,"83323","26","030","HERMOSILLO",null,"SAN ANTONIO DE LAS HUERTAS - 78577","SAN ANTONIO DE LAS HUERTAS","78577","78577.0550","'03515009","'484240150001.78577"]
[null,null,null,null,null,null,null,null,null,null,null,null,null,null,"83327","26","030","HERMOSILLO",null,"SAN ANTONIO KAUA III - 97370","SAN ANTONIO KAUA III","97370","97370.0745","'04441001","'484310410001.97370"]
[null,null,null,null,null,null,null,null,null,null,null,null,null,null,"83334","26","030","HERMOSILLO",null,"SAN BARTOLO - 23100","SAN BARTOLO","23100","23100.0117","'00308006","'484030030001.23100"]
[null,null,null,null,null,null,null,null,null,null,null,null,null,null,"83335","26","030","HERMOSILLO",null,"SAN BENITO - 37914","SAN BENITO","37914","37914.8714","'01270007","'484110330001.37914"]
[null,null,null,null,null,null,null,null,null,null,null,null,null,null,"83346","26","030","HERMOSILLO",null,"SAN BLAS - 60983","SAN BLAS","60983","60983.0077","'01952208","'484160520001.60983"]
[null,null,null,null,null,null,null,null,null,null,null,null,null,null,"83375","26","056","SAN MIGUEL DE HORCASITAS",null,"SAN CARLOS III - 23085","SAN CARLOS III","23085","23085.0935","'00308006","'484030030001.23085"]
[null,null,null,null,null,null,null,null,null,null,null,null,null,null,"83513","26","055","SAN LUIS RIO COLORADO",null,"SAN CRISTOBAL - 50933","SAN CRISTOBAL","50933","50933.0854","'01705001","'484150050001.50933"]
[null,null,null,null,null,null,null,null,null,null,null,null,null,null,"83556","26","048","PUERTO PEÑASCO",null,"SAN CRISTOBAL TEPONTLA - 72765","SAN CRISTOBAL TEPONTLA","72765","72765.0457","'03141009","'484211400001.72765"]
[null,null,null,null,null,null,null,null,null,null,null,null,null,null,"83754","26","004","ALTAR",null,"SAN ESTEBAN - 45205","SAN ESTEBAN","45205","45205.0896","'01623867","'484141200001.45205"]
[null,null,null,null,null,null,null,null,null,null,null,null,null,null,"83920","26","016","BENJAMIN HILL",null,"SAN FELIPE CALICHAR - 76928","SAN FELIPE CALICHAR","76928","76928.0015","'03318009","'484220060001.76928"]
[null,null,null,null,null,null,null,null,null,null,null,null,null,null,"84046","26","043","NOGALES",null,"SAN FERMIN - 35310","SAN FERMIN","35310","35310.1432","'01121008","'484100100001.35310"]
[null,null,null,null,null,null,null,null,null,null,null,null,null,null,"84100","26","043","NOGALES",null,"SAN FRANCISCO - 29165","SAN FRANCISCO","29165","29165.5759","'00727003","'484070270001.29165"]
[null,null,null,null,null,null,null,null,null,null,null,null,null,null,"84116","26","043","NOGALES",null,"SAN FRANCISCO - 76244","SAN FRANCISCO","76244","76244.2792","'03333009","'484220110001.76244"]
[null,null,null,null,null,null,null,null,null,null,null,null,null,null,"84175","26","036","MAGDALENA",null,"SAN FRANCISCO DE LA SIERRA - 23988","SAN FRANCISCO DE LA SIERRA","23988","23988.0430","'00305006","'484030020001.23988"]
[null,null,null,null,null,null,null,null,null,null,null,null,null,null,"84176","26","036","MAGDALENA",null,"SAN FRANCISCO MANZANILLA - 25918","SAN FRANCISCO MANZANILLA","25918","25918.99999","'00555009","'484050270001.25918"]
[null,null,null,null,null,null,null,null,null,null,null,null,null,null,"84190","26","039","NACO",null,"SAN FRANCISCO TENEXYECAC - 90716","SAN FRANCISCO TENEXYECAC","90716","90716.0642","'04045007","'484290230001.90716"]
[null,null,null,null,null,null,null,null,null,null,null,null,null,null,"84303","26","002","AGUA PRIETA",null,"SAN GENARO II - 66073","SAN GENARO II","66073","66073.2624","'02322009","'484190210001.66073"]
[null,null,null,null,null,null,null,null,null,null,null,null,null,null,"84320","26","027","FRONTERAS",null,"SAN IGNACIO - 83303","SAN IGNACIO","83303","83303.7461","'03730107","'484260300001.83303"]
[null,null,null,null,null,null,null,null,null,null,null,null,null,null,"84367","26","015","BAVISPE",null,"SAN ISIDRO - 41666","SAN ISIDRO","41666","41666.5129","'","'484120780001.41666"]
[null,null,null,null,null,null,null,null,null,null,null,null,null,null,"84397","26","010","BACERAC",null,"SAN ISIDRO - 73970","SAN ISIDRO","73970","73970.1386","'03202006","'484211990001.73970"]
[null,null,null,null,null,null,null,null,null,null,null,null,null,null,"84563","26","038","MOCTEZUMA",null,"SAN ISIDRO (BLOQUE 1412) - 90170","SAN ISIDRO (BLOQUE 1412)","90170","90170.99999","'04071003","'484290360001.90170"]
[null,null,null,null,null,null,null,null,null,null,null,null,null,null,"84637","26","019","CANANEA",null,"SAN ISIDRO TEXCALTITAN - 35393","SAN ISIDRO TEXCALTITAN","35393","35393.99999","'01135206","'484100170001.35393"]
[null,null,null,null,null,null,null,null,null,null,null,null,null,null,"84693","26","011","BACOACHI",null,"SAN JERONIMO - 54326","SAN JERONIMO","54326","54326.99999","'01814002","'484151120001.54326"]
[null,null,null,null,null,null,null,null,null,null,null,null,null,null,"84874","26","034","HUEPAC",null,"SAN JERONIMO LIDICE - 10200","SAN JERONIMO LIDICE","10200","10200.1682","'01001002","'484090080001.10200"]
[null,null,null,null,null,null,null,null,null,null,null,null,null,null,"85120","26","018","CAJEME",null,"SAN JOSE - 30413","SAN JOSE","30413","30413.6089","'00717009","'484070170001.30413"]
[null,null,null,null,null,null,null,null,null,null,null,null,null,null,"85200","26","018","CAJEME",null,"SAN JOSE - 62520","SAN JOSE","62520","62520.0919","'02139003","'484170200001.62520"]
[null,null,null,null,null,null,null,null,null,null,null,null,null,null,"85203","26","018","CAJEME",null,"SAN JOSE BERNALEJO (EL RANCHITO) - 36804","SAN JOSE BERNALEJO (EL RANCHITO)","36804","36804.0691","'01234001","'484110170001.36804"]
[null,null,null,null,null,null,null,null,null,null,null,null,null,null,"85203","26","018","CAJEME",null,"SAN JOSE DE DURAN - 37565","SAN JOSE DE DURAN","37565","37565.99999","'01240004","'484110200001.37000"]
[null,null,null,null,null,null,null,null,null,null,null,null,null,null,"85203","26","018","CAJEME",null,"SAN JOSE DE GRACIA (SAN JOSE OCUMICHO) - 59775","SAN JOSE DE GRACIA (SAN JOSE OCUMICHO)","59775","59775.1402","'01985409","'484160850001.59775"]
[null,null,null,null,null,null,null,null,null,null,null,null,null,null,"85207","26","018","CAJEME",null,"SAN JOSE DE LOS QUINTOS - 78560","SAN JOSE DE LOS QUINTOS","78560","78560.0072","'03506006","'484240060001.78560"]
[null,null,null,null,null,null,null,null,null,null,null,null,null,null,"85209","26","018","CAJEME",null,"SAN JOSE DEL CATITEO - 76528","SAN JOSE DEL CATITEO","76528","76528.2975","'03312009","'484220040001.76528"]
[null,null,null,null,null,null,null,null,null,null,null,null,null,null,"85213","26","018","CAJEME",null,"SAN JOSE LAGUNAS - 41680","SAN JOSE LAGUNAS","41680","41680.3418","'01304008","'484120040001.41680"]
[null,null,null,null,null,null,null,null,null,null,null,null,null,null,"85214","26","018","CAJEME",null,"SAN JOSE PATRIARCA - 74720","SAN JOSE PATRIARCA","74720","74720.8081","'03073006","'484210730001.74720"]
[null,null,null,null,null,null,null,null,null,null,null,null,null,null,"85218","26","018","CAJEME",null,"SAN JUAN - 26282","SAN JUAN","26282","26282.99999","'00505003","'484050020001.26282"]
[null,null,null,null,null,null,null,null,null,null,null,null,null,null,"85218","26","018","CAJEME",null,"SAN JUAN ACOZAC - 75410","SAN JUAN ACOZAC","75410","75410.2240","'03119003","'484211180001.75410"]
[null,null,null,null,null,null,null,null,null,null,null,null,null,null,"85223","26","042","NAVOJOA",null,"SAN JUAN BOSCO (EL MAGUEY) - 38736","SAN JUAN BOSCO (EL MAGUEY)","38736","38736.6310","'01204007","'484110020001.38736"]
[null,null,null,null,null,null,null,null,null,null,null,null,null,null,"85233","26","042","NAVOJOA",null,"SAN JUAN IHUALTEPEC - 69130","SAN JUAN IHUALTEPEC","69130","69130.1474","'02598003","'484201990001.69130"]
[null,null,null,null,null,null,null,null,null,null,null,null,null,null,"85235","26","042","NAVOJOA",null,"SAN JUAN OTZOLOTEPEC - 70216","SAN JUAN OTZOLOTEPEC","70216","70216.2026","'02589003","'484201900001.70216"]
[null,null,null,null,null,null,null,null,null,null,null,null,null,null,"85247","26","033","HUATABAMPO",null,"SAN JUANICO - 59946","SAN JUANICO","59946","59946.1468","'01919005","'484160190001.59946"]
[null,null,null,null,null,null,null,null,null,null,null,null,null,null,"85283","26","026","ETCHOJOA",null,"SAN LORENZO - 68940","SAN LORENZO","68940","68940.0834","'02605008","'484202050001.68940"]
[null,null,null,null,null,null,null,null,null,null,null,null,null,null,"85288","26","026","ETCHOJOA",null,"SAN LUCAS CUARTA SECCION - 51287","SAN LUCAS CUARTA SECCION","51287","51287.0012","'01707006","'484150070001.51287"]
[null,null,null,null,null,null,null,null,null,null,null,null,null,null,"85410","26","029","GUAYMAS",null,"SAN LUIS CHOLUL - 97305","SAN LUIS CHOLUL","97305","97305.0178","'04450007","'484310500001.97305"]
[null,null,null,null,null,null,null,null,null,null,null,null,null,null,"85440","26","029","GUAYMAS",null,"SAN LUIS TEHUILOYOCAN - 72848","SAN LUIS TEHUILOYOCAN","72848","72848.0470","'03120009","'484211190001.72848"]
[null,null,null,null,null,null,null,null,null,null,null,null,null,null,"85503","26","029","GUAYMAS",null,"SAN MARCOS - 33018","SAN MARCOS","33018","33018.3612","'00921009","'484080210001.33018"]
[null,null,null,null,null,null,null,null,null,null,null,null,null,null,"85600","26","052","SAHUARIPA",null,"SAN MARTIN - 84564","SAN MARTIN","84564","84564.0013","'03738009","'484260380001.84564"]
[null,null,null,null,null,null,null,null,null,null,null,null,null,null,"85680","26","005","ARIVECHI",null,"SAN MARTIN CHUACHORA - 85223","SAN MARTIN CHUACHORA","85223","85223.3789","'03742009","'484260420001.85223"]
[null,null,null,null,null,null,null,null,null,null,null,null,null,null,"85773","26","003","ALAMOS",null,"SAN MIGUEL - 24646","SAN MIGUEL","24646","24646.0866","'00419006","'484040100001.24646"]
[null,null,null,null,null,null,null,null,null,null,null,null,null,null,"85775","26","003","ALAMOS",null,"SAN MIGUEL - 49314","SAN MIGUEL","49314","49314.3483","'01584009","'484140820001.49314"]
[null,null,null,null,null,null,null,null,null,null,null,null,null,null,"85776","26","003","ALAMOS",null,"SAN MIGUEL - 71943","SAN MIGUEL","71943","71943.5383","'02602002","'484202020001.71943"]
[null,null,null,null,null,null,null,null,null,null,null,null,null,null,"85825","26","042","NAVOJOA",null,"SAN MIGUEL ANALCO - 90722","SAN MIGUEL ANALCO","90722","90722.0369","'04045007","'484290230001.90722"]
[null,null,null,null,null,null,null,null,null,null,null,null,null,null,"86030","27","004","CENTRO",null,"SAN MIGUEL KUKAB - 24903","SAN MIGUEL KUKAB","24903","24903.0643","'00403009","'484040010001.24903"]
[null,null,null,null,null,null,null,null,null,null,null,null,null,null,"86170","27","004","CENTRO",null,"SAN MIGUELITO - 83917","SAN MIGUELITO","83917","83917.9325","'03716003","'484260160001.83917"]
[null,null,null,null,null,null,null,null,null,null,null,null,null,null,"86255","27","004","CENTRO",null,"SAN NICOLAS DEL TULE (TULE DE ABAJO) - 33905","SAN NICOLAS DEL TULE (TULE DE ABAJO)","33905","33905.5356","'00932006","'484080320001.33905"]
[null,null,null,null,null,null,null,null,null,null,null,null,null,null,"86294","27","004","CENTRO",null,"SAN PABLO HIDALGO - 62775","SAN PABLO HIDALGO","62775","62775.0501","'02147004","'484170240001.62775"]
[null,null,null,null,null,null,null,null,null,null,null,null,null,null,"86409","27","008","HUIMANGUILLO",null,"SAN PEDRO - 24810","SAN PEDRO","24810","24810.0527","'00411009","'484040050001.24810"]
[null,null,null,null,null,null,null,null,null,null,null,null,null,null,"86423","27","008","HUIMANGUILLO",null,"SAN PEDRO - 51475","SAN PEDRO","51475","51475.8063","'01778005","'484150770001.51475"]
[null,null,null,null,null,null,null,null,null,null,null,null,null,null,"86480","27","002","CARDENAS",null,"SAN PEDRO CUAUTLANPAN - 56255","SAN PEDRO CUAUTLANPAN","56255","56255.8066","'01801001","'484150990001.56255"]
[null,null,null,null,null,null,null,null,null,null,null,null,null,null,"86608","27","014","PARAISO",null,"SAN PEDRO MUÑOZTLA - 58350","SAN PEDRO MUÑOZTLA","58350","58350.99999","'01953009","'484160530001.58350"]
[null,null,null,null,null,null,null,null,null,null,null,null,null,null,"86640","27","005","COMALCALCO",null,"SAN PEDRO TEPOZOTECO - 93733","SAN PEDRO TEPOZOTECO","93733","93733.2540","'04110006","'484300100001.93733"]
[null,null,null,null,null,null,null,null,null,null,null,null,null,null,"86710","27","012","MACUSPANA",null,"SAN RAFAEL - 93419","SAN RAFAEL","93419","93419.99999","'04225001","'484301240001.93419"]
[null,null,null,null,null,null,null,null,null,null,null,null,null,null,"86736","27","012","MACUSPANA",null,"SAN RAFAEL UNO (EL CAÑON) - 78405","SAN RAFAEL UNO (EL CAÑON)","78405","78405.4254","'03528009","'484240280001.78405"]
[null,null,null,null,null,null,null,null,null,null,null,null,null,null,"86768","27","003","CENTLA",null,"SAN SALVADOR - 97390","SAN SALVADOR","97390","97390.0684","'04502002","'484311010001.97390"]
[null,null,null,null,null,null,null,null,null,null,null,null,null,null,"86776","27","011","JONUTA",null,"SAN SALVADOR TETAPOBAMPO - 85296","SAN SALVADOR TETAPOBAMPO","85296","85296.1174","'03771009","'484260710001.85296"]
[null,null,null,null,null,null,null,null,null,null,null,null,null,null,"86830","27","009","JALAPA",null,"SAN SILVESTRE - 32408","SAN SILVESTRE","32408","32408.99999","'00937006","'484080370001.32408"]
[null,null,null,null,null,null,null,null,null,null,null,null,null,null,"86907","27","017","TENOSIQUE",null,"SAN VICENTE LACHIXIO - 71440","SAN VICENTE LACHIXIO","71440","71440.2883","'02938008","'484205350001.71440"]
[null,null,null,null,null,null,null,null,null,null,null,null,null,null,"86935","27","001","BALANCAN",null,"SANTA ANA - 29090","SANTA ANA","29090","29090.0231","'00802003","'484071010001.29090"]
[null,null,null,null,null,null,null,null,null,null,null,null,null,null,"86944","27","001","BALANCAN",null,"SANTA ANA - 85208","SANTA ANA","85208","85208.5878","'03718113","'484260180001.85208"]
[null,null,null,null,null,null,null,null,null,null,null,null,null,null,"86965","27","001","BALANCAN",null,"SANTA ANITA DOS - 79777","SANTA ANITA DOS","79777","79777.4678","'03503006","'484240030001.79777"]
[null,null,null,null,null,null,null,null,null,null,null,null,null,null,"86996","27","007","EMILIANO ZAPATA",null,"SANTA CATARINA - 37616","SANTA CATARINA","37616","37616.1793","'01262005","'484110300001.37616"]
[null,null,null,null,null,null,null,null,null,null,null,null,null,null,"87070","28","041","VICTORIA",null,"SANTA CECILIA (CHAPOPOTE) - 54713","SANTA CECILIA (CHAPOPOTE)","54713","54713.99999","'01725006","'484151210001.54713"]
[null,null,null,null,null,null,null,null,null,null,null,null,null,null,"87137","28","041","VICTORIA",null,"SANTA CRUZ - 08910","SANTA CRUZ","08910","08910.1294","'01001002","'484090060001.08910"]
[null,null,null,null,null,null,null,null,null,null,null,null,null,null,"87229","28","019","LLERA",null,"SANTA CRUZ - 43527","SANTA CRUZ","43527","43527.4847","'01424005","'484130240001.43527"]
[null,null,null,null,null,null,null,null,null,null,null,null,null,null,"87380","28","022","MATAMOROS",null,"SANTA CRUZ DE JUVENTINO ROSAS CENTRO - 38240","SANTA CRUZ DE JUVENTINO ROSAS CENTRO","38240","38240.2689","'01274002","'484110350001.38240"]
[null,null,null,null,null,null,null,null,null,null,null,null,null,null,"87453","28","022","MATAMOROS",null,"SANTA CRUZ VIEJO - 51089","SANTA CRUZ VIEJO","51089","51089.0997","'01742005","'484150410001.51089"]
[null,null,null,null,null,null,null,null,null,null,null,null,null,null,"87505","28","040","VALLE HERMOSO",null,"SANTA ELENA - 94553","SANTA ELENA","94553","94553.1092","'04144109","'484300440001.94553"]
[null,null,null,null,null,null,null,null,null,null,null,null,null,null,"87522","28","040","VALLE HERMOSO",null,"SANTA ELENITA - 34973","SANTA ELENITA","34973","34973.7242","'01129004","'484100140001.34973"]
[null,null,null,null,null,null,null,null,null,null,null,null,null,null,"87624","28","035","SAN FERNANDO",null,"SANTA FE - 81234","SANTA FE","81234","81234.1924","'03601056","'484250010001.81234"]
[null,null,null,null,null,null,null,null,null,null,null,null,null,null,"87900","28","039","TULA",null,"SANTA ISABEL - 86995","SANTA ISABEL","86995","86995.1246","'03821003","'484270070001.86995"]
[null,null,null,null,null,null,null,null,null,null,null,null,null,null,"88040","28","027","NUEVO LAREDO",null,"SANTA LUCIA - 72499","SANTA LUCIA","72499","72499.6435","'03115203","'484211140001.72499"]
[null,null,null,null,null,null,null,null,null,null,null,null,null,null,"88275","28","027","NUEVO LAREDO",null,"SANTA MARIA - 33978","SANTA MARIA","33978","33978.6309","'00936009","'484080360001.33978"]
[null,null,null,null,null,null,null,null,null,null,null,null,null,null,"88294","28","027","NUEVO LAREDO",null,"SANTA MARIA - 75857","SANTA MARIA","75857","75857.2569","'03157006","'484211560001.75857"]
[null,null,null,null,null,null,null,null,null,null,null,null,null,null,"88420","28","015","GUSTAVO DIAZ ORDAZ",null,"SANTA MARIA DE GUADALUPE - 55628","SANTA MARIA DE GUADALUPE","55628","55628.3824","'01822007","'484151200001.55628"]
[null,null,null,null,null,null,null,null,null,null,null,null,null,null,"88720","28","032","REYNOSA",null,"SANTA MARIA TLACHICHILCO - 94350","SANTA MARIA TLACHICHILCO","94350","94350.2850","'04219007","'484301180001.94350"]
[null,null,null,null,null,null,null,null,null,null,null,null,null,null,"88763","28","032","REYNOSA",null,"SANTA MARTHA - 70930","SANTA MARTHA","70930","70930.2524","'02513004","'484201130001.70930"]
[null,null,null,null,null,null,null,null,null,null,null,null,null,null,"88815","28","033","RIO BRAVO",null,"SANTA QUITERIA - 47768","SANTA QUITERIA","47768","47768.2182","'01513007","'484140130001.47768"]
[null,null,null,null,null,null,null,null,null,null,null,null,null,null,"89106","28","038","TAMPICO",null,"SANTA ROSA - 30417","SANTA ROSA","30417","30417.6261","'00717009","'484070170001.30417"]
[null,null,null,null,null,null,null,null,null,null,null,null,null,null,"89310","28","038","TAMPICO",null,"SANTA ROSA - 73780","SANTA ROSA","73780","73780.99999","'03094009","'484210940001.73780"]
[null,null,null,null,null,null,null,null,null,null,null,null,null,null,"89367","28","038","TAMPICO",null,"SANTA ROSA DE GUADALUPE - 50625","SANTA ROSA DE GUADALUPE","50625","50625.7313","'01765007","'484150640001.50625"]
[null,null,null,null,null,null,null,null,null,null,null,null,null,null,"89603","28","003","ALTAMIRA",null,"SANTA TERESA - 95277","SANTA TERESA","95277","95277.7613","'04111004","'484300110001.95277"]
[null,null,null,null,null,null,null,null,null,null,null,null,null,null,"89670","28","002","ALDAMA",null,"SANTIAGO - 41955","SANTIAGO","41955","41955.3569","'01323009","'484120230001.41955"]
[null,null,null,null,null,null,null,null,null,null,null,null,null,null,"89797","28","011","GOMEZ FARIAS",null,"SANTIAGO NARANJAS - 69707","SANTIAGO NARANJAS","69707","69707.1743","'02871009","'484204690001.69707"]
[null,null,null,null,null,null,null,null,null,null,null,null,null,null,"89849","28","021","EL MANTE",null,"SANTIAGO TILANTONGO - 69940","SANTIAGO TILANTONGO","69940","69940.1907","'02894007","'484204920001.69940"]
[null,null,null,null,null,null,null,null,null,null,null,null,null,null,"90118","29","033","TLAXCALA",null,"SANTO DOMINGO YANHUITLAN - 69660","SANTO DOMINGO YANHUITLAN","69660","69660.1717","'02925009","'484205230001.69660"]
[null,null,null,null,null,null,null,null,null,null,null,null,null,null,"90163","29","036","TOTOLAC",null,"SANTO TOMAS - 78433","SANTO TOMAS","78433","78433.2259","'03535006","'484240350001.78433"]
[null,null,null,null,null,null,null,null,null,null,null,null,null,null,"90222","29","006","CALPULALPAN",null,"SARABIA - 30900","SARABIA","30900","30900.2350","'00757003","'484070570001.30900"]
[null,null,null,null,null,null,null,null,null,null,null,null,null,null,"90283","29","021","NANACAMILPA DE MARIANO ARISTA",null,"SECCION 4A - 70900","SECCION 4A","70900","70900.1313","'02725002","'484203240001.70900"]
[null,null,null,null,null,null,null,null,null,null,null,null,null,null,"90298","29","012","ESPAÑITA",null,"SECRETARIA DE AGRICULTURA GANADERIA Y DESARROLLO RURAL - 90007","SECRETARIA DE AGRICULTURA GANADERIA Y DESARROLLO RURAL","90007","90007.0006","'04065006","'484290330001.90007"]
[null,null,null,null,null,null,null,null,null,null,null,null,null,null,"90431","29","031","TETLA DE LA SOLIDARIDAD",null,"SEGUNDA SECCION TECUICUILCO - 90660","SEGUNDA SECCION TECUICUILCO","90660","90660.0812","'04019005","'484290090001.90660"]
[null,null,null,null,null,null,null,null,null,null,null,null,null,null,"90455","29","043","YAUHQUEMEHCAN",null,"SERAPIO FLOTA MASS - 77934","SERAPIO FLOTA MASS","77934","77934.0593","'03420052","'484230040001.77934"]
[null,null,null,null,null,null,null,null,null,null,null,null,null,null,"90503","29","013","HUAMANTLA",null,"SEVILLA RESIDENCIAL - 22244","SEVILLA RESIDENCIAL","22244","22244.2815","'00210208","'484020040001.22244"]
[null,null,null,null,null,null,null,null,null,null,null,null,null,null,"90555","29","004","ATLTZAYANCA",null,"SIERRA MADRE DEL SOL - 72510","SIERRA MADRE DEL SOL","72510","72510.99999","'03115203","'484211140001.72510"]
[null,null,null,null,null,null,null,null,null,null,null,null,null,null,"90716","29","023","NATIVITAS",null,"SINAHUISA - 85224","SINAHUISA","85224","85224.0994","'03742009","'484260420001.85224"]
[null,null,null,null,null,null,null,null,null,null,null,null,null,null,"90861","29","022","ACUAMANALA DE MIGUEL HIDALGO",null,"SOCIEDAD IGUALITARIA - 83114","SOCIEDAD IGUALITARIA","83114","83114.99999","'03730107","'484260300001.83114"]
[null,null,null,null,null,null,null,null,null,null,null,null,null,null,"91030","30","087","XALAPA",null,"SOLIDARIDAD - 25504","SOLIDARIDAD","25504","25504.2076","'00563009","'484050310001.25504"]
[null,null,null,null,null,null,null,null,null,null,null,null,null,null,"91095","30","087","XALAPA",null,"SOLIDARIDAD (JOSE IVES LIMANTOUR) - 20174","SOLIDARIDAD (JOSE IVES LIMANTOUR)","20174","20174.99999","'00101027","'484010010001.20174"]
[null,null,null,null,null,null,null,null,null,null,null,null,null,null,"91220","30","087","XALAPA",null,"STA. MARTHA DE LA CRUZ - 54256","STA. MARTHA DE LA CRUZ","54256","54256.6781","'01746009","'484150450001.54256"]
[null,null,null,null,null,null,null,null,null,null,null,null,null,null,"91306","30","026","BANDERILLA",null,"SUPERMANZANA 222 - 77517","SUPERMANZANA 222","77517","77517.0680","'03403089","'484230050001.77517"]
[null,null,null,null,null,null,null,null,null,null,null,null,null,null,"91410","30","106","MIAHUATLAN",null,"SUPERMANZANA 75 - 77527","SUPERMANZANA 75","77527","77527.0255","'03403089","'484230050001.77527"]
[null,null,null,null,null,null,null,null,null,null,null,null,null,null,"91569","30","038","COATEPEC",null,"TACUBAYA II - 33637","TACUBAYA II","33637","33637.0016","'00962006","'484080620001.33637"]
[null,null,null,null,null,null,null,null,null,null,null,null,null,null,"91636","30","065","EMILIANO ZAPATA",null,"TALLERES - 68333","TALLERES","68333","68333.3677","'02583009","'484201840001.68333"]
[null,null,null,null,null,null,null,null,null,null,null,null,null,null,"91697","30","193","VERACRUZ",null,"TANCHINAL - 29556","TANCHINAL","29556","29556.0613","'00762009","'484070620001.29556"]
[null,null,null,null,null,null,null,null,null,null,null,null,null,null,"91808","30","193","VERACRUZ",null,"TAPACHULITA I - 30520","TAPACHULITA I","30520","30520.3973","'00808503","'484071070001.30520"]
[null,null,null,null,null,null,null,null,null,null,null,null,null,null,"91860","30","193","VERACRUZ",null,"TARASCO - 04318","TARASCO","04318","04318.99999","'01001002","'484090030001.04318"]
[null,null,null,null,null,null,null,null,null,null,null,null,null,null,"92043","30","152","TAMPICO ALTO",null,"TECAMA - 43167","TECAMA","43167","43167.99999","'01473006","'484130730001.43167"]
[null,null,null,null,null,null,null,null,null,null,null,null,null,null,"92116","30","155","TANTOYUCA",null,"TECOMAN CENTRO - 28100","TECOMAN CENTRO","28100","28100.0096","'00619003","'484060090001.28100"]
[null,null,null,null,null,null,null,null,null,null,null,null,null,null,"92230","30","035","CITLALTEPETL",null,"TELCHAC PUERTO - 97407","TELCHAC PUERTO","97407","97407.0319","'04483004","'484310830001.97407"]
[null,null,null,null,null,null,null,null,null,null,null,null,null,null,"92420","30","060","CHINAMPA DE GOROSTIZA",null,"TEMPOAL CENTRO - 51340","TEMPOAL CENTRO","51340","51340.99999","'01787008","'484150860001.51340"]
[null,null,null,null,null,null,null,null,null,null,null,null,null,null,"92535","30","167","TEPETZINTLA",null,"TENEXCO - 43162","TENEXCO","43162","43162.3189","'01473006","'484130730001.43162"]
[null,null,null,null,null,null,null,null,null,null,null,null,null,null,"92686","30","083","IXHUATLAN DE MADERO",null,"TEPEAPULCO CENTRO - 43970","TEPEAPULCO CENTRO","43970","43970.1994","'01461259","'484130610001.43970"]
[null,null,null,null,null,null,null,null,null,null,null,null,null,null,"92716","30","058","CHICONTEPEC",null,"TEPETATIPA - 50783","TEPETATIPA","50783","50783.99999","'01743006","'484150420001.50783"]
[null,null,null,null,null,null,null,null,null,null,null,null,null,null,"92830","30","189","TUXPAN",null,"TEPULCO - 75110","TEPULCO","75110","75110.2102","'03001009","'484210010001.75110"]
[null,null,null,null,null,null,null,null,null,null,null,null,null,null,"92884","30","189","TUXPAN",null,"TERCERA SECCION - 73665","TERCERA SECCION","73665","73665.7759","'03203006","'484212000001.73665"]
[null,null,null,null,null,null,null,null,null,null,null,null,null,null,"93015","30","203","ZOZOCOLCO DE HIDALGO",null,"TERREROS DE LA CONCEPCION - 37877","TERREROS DE LA CONCEPCION","37877","37877.0194","'01258001","'484110290001.37877"]
[null,null,null,null,null,null,null,null,null,null,null,null,null,null,"93305","30","131","POZA RICA DE HIDALGO",null,"TEXCUYUAPAN II - 30793","TEXCUYUAPAN II","30793","30793.4495","'00789009","'484070890001.30793"]
[null,null,null,null,null,null,null,null,null,null,null,null,null,null,"93499","30","124","PAPANTLA",null,"TIERRA AMARILLA 3RA SECCION - 79460","TIERRA AMARILLA 3RA SECCION","79460","79460.99999","'03552009","'484240520001.79460"]
[null,null,null,null,null,null,null,null,null,null,null,null,null,null,"93534","30","124","PAPANTLA",null,"TIERRA BLANCA - 34983","TIERRA BLANCA","34983","34983.7295","'01129004","'484100140001.34983"]
[null,null,null,null,null,null,null,null,null,null,null,null,null,null,"93608","30","102","MARTINEZ DE LA TORRE",null,"TIERRA NUEVA - 95466","TIERRA NUEVA","95466","95466.0096","'04279004","'484301780001.95466"]
[null,null,null,null,null,null,null,null,null,null,null,null,null,null,"93650","30","183","TLAPACOYAN",null,"TIERRAS BLANCAS HUAISTITA - 46070","TIERRAS BLANCAS HUAISTITA","46070","46070.0056","'01563006","'484140610001.46070"]
[null,null,null,null,null,null,null,null,null,null,null,null,null,null,"93834","30","109","MISANTLA",null,"TIXMADEJE GRANDE (SANTA MARIA TIXMADEJE) - 50343","TIXMADEJE GRANDE (SANTA MARIA TIXMADEJE)","50343","50343.0452","'01701009","'484150010001.50343"]
[null,null,null,null,null,null,null,null,null,null,null,null,null,null,"94020","30","024","TLALTETELA",null,"TLALA - 43234","TLALA","43234","43234.4332","'01414004","'484130140001.43234"]
[null,null,null,null,null,null,null,null,null,null,null,null,null,null,"94030","30","162","TENAMPA",null,"TLALAPA - 39204","TLALAPA","39204","39204.0325","'01312007","'484120120001.39204"]
[null,null,null,null,null,null,null,null,null,null,null,null,null,null,"94253","30","100","MANLIO FABIO ALTAMIRANO",null,"TLATEL II - 40054","TLATEL II","40054","40054.4205","'01335003","'484120350001.40054"]
[null,null,null,null,null,null,null,null,null,null,null,null,null,null,"94290","30","028","BOCA DEL RIO",null,"TLAZACUALI - 43725","TLAZACUALI","43725","43725.4477","'01402004","'484130020001.43725"]
[null,null,null,null,null,null,null,null,null,null,null,null,null,null,"94435","30","081","IXHUATLANCILLO",null,"TONCHINTLAN - 43287","TONCHINTLAN","43287","43287.1506","'01468007","'484130680001.43287"]
[null,null,null,null,null,null,null,null,null,null,null,null,null,null,"94463","30","085","IXTACZOQUITLAN",null,"TORIBIO MIRANDA (BLOQUE 2004) - 87984","TORIBIO MIRANDA (BLOQUE 2004)","87984","87984.99999","'03957009","'484280290001.87984"]
[null,null,null,null,null,null,null,null,null,null,null,null,null,null,"94540","30","044","CORDOBA",null,"TORTUGAS I - 82132","TORTUGAS I","82132","82132.1964","'03634107","'484250120001.82132"]
[null,null,null,null,null,null,null,null,null,null,null,null,null,null,"94696","30","044","CORDOBA",null,"TRES DE MAYO - 54760","TRES DE MAYO","54760","54760.3134","'01725006","'484151210001.54760"]
[null,null,null,null,null,null,null,null,null,null,null,null,null,null,"94775","30","147","SOLEDAD ATZOMPA",null,"TRINCHERAS - 85600","TRINCHERAS","85600","85600.2312","'03752006","'484260520001.85600"]
[null,null,null,null,null,null,null,null,null,null,null,null,null,null,"94930","30","196","YANGA",null,"TULANCINGO CENTRO - 43600","TULANCINGO CENTRO","43600","43600.1745","'01477004","'484130770001.43600"]
[null,null,null,null,null,null,null,null,null,null,null,null,null,null,"94965","30","021","ATOYAC",null,"TULTITLAN - 69023","TULTITLAN","69023","69023.1430","'02422008","'484200220001.69023"]
[null,null,null,null,null,null,null,null,null,null,null,null,null,null,"95023","30","201","ZONGOLICA",null,"TZIRITZICUARO - 61972","TZIRITZICUARO","61972","61972.2872","'01938003","'484160380001.61972"]
[null,null,null,null,null,null,null,null,null,null,null,null,null,null,"95093","30","173","TEZONAPA",null,"UNIDAD ANAHUAC TEPETATES - 56528","UNIDAD ANAHUAC TEPETATES","56528","56528.4322","'01771154","'484150700001.56528"]
[null,null,null,null,null,null,null,null,null,null,null,null,null,null,"95119","30","174","TIERRA BLANCA",null,"UNIDAD DEPORTIVA - 70980","UNIDAD DEPORTIVA","70980","70980.0953","'02815008","'484204130001.70980"]
[null,null,null,null,null,null,null,null,null,null,null,null,null,null,"95236","30","181","TLALIXCOYAN",null,"UNION DEL PALMAR - 70949","UNION DEL PALMAR","70949","70949.4870","'02841003","'484204390001.70949"]
[null,null,null,null,null,null,null,null,null,null,null,null,null,null,"95264","30","011","ALVARADO",null,"UNION Y SUSPIRO - 71114","UNION Y SUSPIRO","71114","71114.5909","'02848002","'484204460001.71114"]
[null,null,null,null,null,null,null,null,null,null,null,null,null,null,"95295","30","097","LERDO DE TEJADA",null,"UNIVERSITARIO - 81285","UNIVERSITARIO","81285","81285.2412","'03601056","'484250010001.81285"]
[null,null,null,null,null,null,null,null,null,null,null,null,null,null,"95420","30","045","COSAMALOAPAN DE CARPIO",null,"URSULO GALVAN - 91336","URSULO GALVAN","91336","91336.1146","'04229005","'484301320001.91336"]
[null,null,null,null,null,null,null,null,null,null,null,null,null,null,"95483","30","139","SALTABARRANCA",null,"VALLE ALTO - 79960","VALLE ALTO","79960","79960.2300","'03537309","'484240370001.79960"]
[null,null,null,null,null,null,null,null,null,null,null,null,null,null,"95636","30","212","SANTIAGO SOCHIAPAN",null,"VALLE DE LOS ALAMOS - 67350","VALLE DE LOS ALAMOS","67350","67350.3302","'02304009","'484190040001.67350"]
[null,null,null,null,null,null,null,null,null,null,null,null,null,null,"95686","30","094","JUAN RODRIGUEZ CLARA",null,"VALLE DEL CONTRY - 67174","VALLE DEL CONTRY","67174","67174.1745","'02327001","'484190260001.67174"]
[null,null,null,null,null,null,null,null,null,null,null,null,null,null,"95740","30","141","SAN ANDRES TUXTLA",null,"VALLE DEL POTOSI - 78379","VALLE DEL POTOSI","78379","78379.2146","'03528009","'484240280001.78379"]
[null,null,null,null,null,null,null,null,null,null,null,null,null,null,"95813","30","141","SAN ANDRES TUXTLA",null,"VALLE ESCONDIDO - 87400","VALLE ESCONDIDO","87400","87400.0391","'03943153","'484280220001.87400"]
[null,null,null,null,null,null,null,null,null,null,null,null,null,null,"95835","30","143","SANTIAGO TUXTLA",null,"VALLE VERDE - 30796","VALLE VERDE","30796","30796.4548","'00789009","'484070890001.30796"]
[null,null,null,null,null,null,null,null,null,null,null,null,null,null,"95847","30","015","ANGEL R. CABADA",null,"VAZQUEZ - 34685","VAZQUEZ","34685","34685.4416","'01153001","'484100260001.34685"]
[null,null,null,null,null,null,null,null,null,null,null,null,null,null,"95866","30","073","HUEYAPAN DE OCAMPO",null,"VENTA MORALES (LA LAGUNA) - 51674","VENTA MORALES (LA LAGUNA)","51674","51674.6641","'01798004","'484150970001.51674"]
[null,null,null,null,null,null,null,null,null,null,null,null,null,null,"95877","30","032","CATEMACO",null,"VENUSTIANO CARRANZA - 73040","VENUSTIANO CARRANZA","73040","73040.0736","'03196557","'484211940001.73040"]
[null,null,null,null,null,null,null,null,null,null,null,null,null,null,"96136","30","142","SAN JUAN EVANGELISTA",null,"VICENTE ESTRADA CAJIGAL - 62460","VICENTE ESTRADA CAJIGAL","62460","62460.0166","'02113155","'484170070001.62460"]
[null,null,null,null,null,null,null,null,null,null,null,null,null,null,"96196","30","172","TEXISTEPEC",null,"VICENTE GUERRERO - 71835","VICENTE GUERRERO","71835","71835.3899","'02735307","'484203340001.71835"]
[null,null,null,null,null,null,null,null,null,null,null,null,null,null,"96316","30","089","JALTIPAN",null,"VICTORIA - 95099","VICTORIA","95099","95099.99999","'04274002","'484301730001.95099"]
[null,null,null,null,null,null,null,null,null,null,null,null,null,null,"96353","30","048","COSOLEACAQUE",null,"VILLA ALEGRE I II III - 32520","VILLA ALEGRE I II III","32520","32520.0997","'00937006","'484080370001.32520"]
[null,null,null,null,null,null,null,null,null,null,null,null,null,null,"96390","30","204","AGUA DULCE",null,"VILLA CENTRO AMERICANA - 13278","VILLA CENTRO AMERICANA","13278","13278.1959","'01001002","'484090110001.13278"]
[null,null,null,null,null,null,null,null,null,null,null,null,null,null,"96710","30","108","MINATITLAN",null,"VILLA DEL MAR - 70795","VILLA DEL MAR","70795","70795.99999","'02683005","'484202820001.70795"]
[null,null,null,null,null,null,null,null,null,null,null,null,null,null,"96906","30","108","MINATITLAN",null,"VILLA FLORIDA - 36790","VILLA FLORIDA","36790","36790.5472","'01254003","'484110270001.36790"]
[null,null,null,null,null,null,null,null,null,null,null,null,null,null,"96957","30","091","JESUS CARRANZA",null,"VILLA LAS FUENTES 4 SECTOR - 64893","VILLA LAS FUENTES 4 SECTOR","64893","64893.4587","'02340009","'484190390001.64893"]
[null,null,null,null,null,null,null,null,null,null,null,null,null,null,"96973","30","091","JESUS CARRANZA",null,"VILLA LOS NOGALES - 88710","VILLA LOS NOGALES","88710","88710.2239","'03963009","'484280320001.88710"]
[null,null,null,null,null,null,null,null,null,null,null,null,null,null,"96988","30","061","LAS CHOAPAS",null,"VILLA OLIMPICA - 49076","VILLA OLIMPICA","49076","49076.2862","'01626006","'484140230001.49076"]
[null,null,null,null,null,null,null,null,null,null,null,null,null,null,"97116","31","050","MERIDA",null,"VILLAFONTANA - 98612","VILLAFONTANA","98612","98612.1734","'04620003","'484320170001.98612"]
[null,null,null,null,null,null,null,null,null,null,null,null,null,null,"97147","31","050","MERIDA",null,"VILLAS COAHUILA - 21137","VILLAS COAHUILA","21137","21137.2605","'00204009","'484020020001.21137"]
[null,null,null,null,null,null,null,null,null,null,null,null,null,null,"97203","31","050","MERIDA",null,"VILLAS DE IMAQ - 66490","VILLAS DE IMAQ","66490","66490.99999","'02347002","'484190460001.66490"]
[null,null,null,null,null,null,null,null,null,null,null,null,null,null,"97250","31","050","MERIDA",null,"VILLAS DE SANTA ANA II - 50160","VILLAS DE SANTA ANA II","50160","50160.0322","'01808002","'484151060001.50160"]
[null,null,null,null,null,null,null,null,null,null,null,null,null,null,"97302","31","050","MERIDA",null,"VILLAS DEL CORTES - 83106","VILLAS DEL CORTES","83106","83106.0597","'03730107","'484260300001.83106"]
[null,null,null,null,null,null,null,null,null,null,null,null,null,null,"97374","31","041","KANASIN",null,"VILLAS DEL SUR - 32695","VILLAS DEL SUR","32695","32695.3604","'00937006","'484080370001.32695"]
[null,null,null,null,null,null,null,null,null,null,null,null,null,null,"97417","31","009","CANSAHCAB",null,"VILLAS LA RIOJA - 64984","VILLAS LA RIOJA","64984","64984.4293","'02340009","'484190390001.64984"]
[null,null,null,null,null,null,null,null,null,null,null,null,null,null,"97535","31","077","TEKAL DE VENEGAS",null,"VILLAS SANTA MONICA - 72706","VILLAS SANTA MONICA","72706","72706.6967","'03041006","'484210410001.72706"]
[null,null,null,null,null,null,null,null,null,null,null,null,null,null,"97678","31","071","SUDZAL",null,"VISTA ALEGRE - 79948","VISTA ALEGRE","79948","79948.99999","'03538006","'484240380001.79948"]
[null,null,null,null,null,null,null,null,null,null,null,null,null,null,"97748","31","008","CALOTMUL",null,"VISTA HERMOSA - 55023","VISTA HERMOSA","55023","55023.99999","'01734051","'484150330001.55023"]
[null,null,null,null,null,null,null,null,null,null,null,null,null,null,"97785","31","102","VALLADOLID",null,"VISTA NEVADO 1 - 51354","VISTA NEVADO 1","51354","51354.9637","'01820002","'484151180001.51354"]
[null,null,null,null,null,null,null,null,null,null,null,null,null,null,"97816","31","023","CHOCHOLA",null,"VITERACHI - 33194","VITERACHI","33194","33194.9623","'00927009","'484080270001.33194"]
[null,null,null,null,null,null,null,null,null,null,null,null,null,null,"97883","31","056","OXKUTZCAB",null,"VIVIENDAS POPULARES - 33860","VIVIENDAS POPULARES","33860","33860.2045","'00932006","'484080320001.33860"]
[null,null,null,null,null,null,null,null,null,null,null,null,null,null,"98024","32","056","ZACATECAS",null,"XEB - 24300","XEB","24300","24300.99999","'00407003","'484040030001.24300"]
[null,null,null,null,null,null,null,null,null,null,null,null,null,null,"98070","32","056","ZACATECAS",null,"XIMENTLA - 58115","XIMENTLA","58115","58115.99999","'01953009","'484160530001.58115"]
[null,null,null,null,null,null,null,null,null,null,null,null,null,null,"98304","32","022","JUAN ALDAMA",null,"XOGAPAN - 35917","XOGAPAN","35917","35917.99999","'01155003","'484100270001.35917"]
[null,null,null,null,null,null,null,null,null,null,null,null,null,null,"98425","32","039","RIO GRANDE",null,"XTAMPU - 26655","XTAMPU","26655","26655.99999","'00525009","'484050120001.26655"]
[null,null,null,null,null,null,null,null,null,null,null,null,null,null,"98515","32","005","CALERA",null,"YASHALUMIL - 29872","YASHALUMIL","29872","29872.0822","'00726009","'484070260001.29872"]
[null,null,null,null,null,null,null,null,null,null,null,null,null,null,"98610","32","017","GUADALUPE",null,"YERBABUENA - 43508","YERBABUENA","43508","43508.4853","'01424005","'484130240001.43508"]
[null,null,null,null,null,null,null,null,null,null,null,null,null,null,"98705","32","036","OJOCALIENTE",null,"YUKUIYO - 71116","YUKUIYO","71116","71116.5911","'02848002","'484204460001.71116"]
[null,null,null,null,null,null,null,null,null,null,null,null,null,null,"98835","32","024","LORETO",null,"ZACATEPEC - 73327","ZACATEPEC","73327","73327.0990","'03049006","'484210490001.73327"]
[null,null,null,null,null,null,null,null,null,null,null,null,null,null,"99070","32","010","FRESNILLO",null,"ZAPE CHICO - 33490","ZAPE CHICO","33490","33490.5263","'00929003","'484080290001.33490"]
[null,null,null,null,null,null,null,null,null,null,null,null,null,null,"99104","32","042","SOMBRERETE",null,"ZAPOTALITO - 92075","ZAPOTALITO","92075","92075.0002","'04262302","'484301610001.92075"]
[null,null,null,null,null,null,null,null,null,null,null,null,null,null,"99361","32","020","JEREZ",null,"ZIMEX - 66358","ZIMEX","66358","66358.1036","'02349009","'484190480001.66358"]
[null,null,null,null,null,null,null,null,null,null,null,null,null,null,"99542","32","055","VILLANUEVA",null,"ZONA DE AGENTES ADUANALES ADSCRITOS - 66130","ZONA DE AGENTES ADUANALES ADSCRITOS","66130","66130.99999","'02349009","'484190480001.66130"]
[null,null,null,null,null,null,null,null,null,null,null,null,null,null,"99609","32","019","JALPA",null,"ZONA INDUSTRIAL 2 (MEXICO NUEVO) - 52968","ZONA INDUSTRIAL 2 (MEXICO NUEVO)","52968","52968.2226","'01713003","'484150130001.52968"]
[null,null,null,null,null,null,null,null,null,null,null,null,null,null,"99609","32","019","JALPA",null,"ZONA INDUSTRIAL 2A. SECCION - 44949","ZONA INDUSTRIAL 2A. SECCION","44949","44949.0499","'01539009","'484140390001.44949"]
[null,null,null,null,null,null,null,null,null,null,null,null,null,null,"99609","32","019","JALPA",null,"ZONA INDUSTRIAL 3A. SECCION - 44970","ZONA INDUSTRIAL 3A. SECCION","44970","44970.5037","'01539009","'484140390001.44970"]
[null,null,null,null,null,null,null,null,null,null,null,null,null,null,"99609","32","019","JALPA",null,"ZONA INDUSTRIAL ANEXO A LA LOMA - 72230","ZONA INDUSTRIAL ANEXO A LA LOMA","72230","72230.2814","'03115203","'484211140001.72230"]
[null,null,null,null,null,null,null,null,null,null,null,null,null,null,"99609","32","019","JALPA",null,"ZONA INDUSTRIAL NOMBRE DE DIOS - 31105","ZONA INDUSTRIAL NOMBRE DE DIOS","31105","31105.2486","'00919269","'484080190001.31105"]
[null,null,null,null,null,null,null,null,null,null,null,null,null,null,"99609","32","019","JALPA",null,"ZONA INDUSTRIAL PARRAL - 33818","ZONA INDUSTRIAL PARRAL","33818","33818.3832","'00932006","'484080320001.33818"]
[null,null,null,null,null,null,null,null,null,null,null,null,null,null,"99620","32","019","JALPA",null,"ZONA INDUSTRIAL PEMEX - 29500","ZONA INDUSTRIAL PEMEX","29500","29500.2316","'00774252","'484070740001.29500"]
[null,null,null,null,null,null,null,null,null,null,null,null,null,null,"99620","32","019","JALPA",null,"ZONA INDUSTRIAL Y SECCIONES - 35078","ZONA INDUSTRIAL Y SECCIONES","35078","35078.1115","'01115008","'484100070001.35078"]
[null,null,null,null,null,null,null,null,null,null,null,null,null,null,"99624","32","019","JALPA",null,"ZONA JERONIMO SILLER - 66250","ZONA JERONIMO SILLER","66250","66250.4265","'02320008","'484190190001.66250"]
[null,null,null,null,null,null,null,null,null,null,null,null,null,null,"99624","32","019","JALPA",null,"ZONA LA ALIANZA - 66259","ZONA LA ALIANZA","66259","66259.4266","'02320008","'484190190001.66259"]
[null,null,null,null,null,null,null,null,null,null,null,null,null,null,"99630","32","044","TABASCO",null,"ZONA LA CIMA - 66230","ZONA LA CIMA","66230","66230.4267","'02320008","'484190190001.66230"]
[null,null,null,null,null,null,null,null,null,null,null,null,null,null,"99630","32","044","TABASCO",null,"ZONA LA DIANA - 66265","ZONA LA DIANA","66265","66265.4268","'02320008","'484190190001.66265"]
[null,null,null,null,null,null,null,null,null,null,null,null,null,null,"99630","32","044","TABASCO",null,"ZONA LA VENTANA - 66240","ZONA LA VENTANA","66240","66240.5071","'02320008","'484190190001.66240"]
[null,null,null,null,null,null,null,null,null,null,null,null,null,null,"99630","32","044","TABASCO",null,"ZONA LOMA BLANCA - 66297","ZONA LOMA BLANCA","66297","66297.4269","'02320008","'484190190001.66297"]
[null,null,null,null,null,null,null,null,null,null,null,null,null,null,"99630","32","044","TABASCO",null,"ZONA LOMA BLANCA PONIENTE - 66266","ZONA LOMA BLANCA PONIENTE","66266","66266.4270","'02320008","'484190190001.66266"]
[null,null,null,null,null,null,null,null,null,null,null,null,null,null,"99630","32","044","TABASCO",null,"ZONA LOMA LARGA ORIENTE - 66266","ZONA LOMA LARGA ORIENTE","66266","66266.4089","'02320008","'484190190001.66266"]
[null,null,null,null,null,null,null,null,null,null,null,null,null,null,"99630","32","044","TABASCO",null,"ZONA LOMAS DE SAN AGUSTIN - 66270","ZONA LOMAS DE SAN AGUSTIN","66270","66270.5072","'02320008","'484190190001.66270"]
[null,null,null,null,null,null,null,null,null,null,null,null,null,null,"99630","32","044","TABASCO",null,"ZONA LOMAS DEL CAMPESTRE - 66276","ZONA LOMAS DEL CAMPESTRE","66276","66276.5073","'02320008","'484190190001.66276"]
[null,null,null,null,null,null,null,null,null,null,null,null,null,null,"99630","32","044","TABASCO",null,"ZONA LOS SABINOS - 66224","ZONA LOS SABINOS","66224","66224.4272","'02320008","'484190190001.66224"]
[null,null,null,null,null,null,null,null,null,null,null,null,null,null,"99630","32","044","TABASCO",null,"ZONA LOS SAUCES - 66238","ZONA LOS SAUCES","66238","66238.4273","'02320008","'484190190001.66238"]
[null,null,null,null,null,null,null,null,null,null,null,null,null,null,"99630","32","044","TABASCO",null,"ZONA MILITAR - 07280","ZONA MILITAR","07280","07280.1232","'01001002","'484090050001.07280"]
[null,null,null,null,null,null,null,null,null,null,null,null,null,null,"99630","32","044","TABASCO",null,"ZONA MILITAR - 20170","ZONA MILITAR","20170","20170.0144","'00101027","'484010010001.20170"]
[null,null,null,null,null,null,null,null,null,null,null,null,null,null,"99630","32","044","TABASCO",null,"ZONA MILITAR - 23029","ZONA MILITAR","23029","23029.0028","'00308006","'484030030001.23029"]
[null,null,null,null,null,null,null,null,null,null,null,null,null,null,"99630","32","044","TABASCO",null,"ZONA MILITAR - 41300","ZONA MILITAR","41300","41300.3928","'01367008","'484120660001.41300"]
[null,null,null,null,null,null,null,null,null,null,null,null,null,null,"99630","32","044","TABASCO",null,"ZONA MILITAR - 50122","ZONA MILITAR","50122","50122.0286","'01808002","'484151060001.50122"]
[null,null,null,null,null,null,null,null,null,null,null,null,null,null,"99630","32","044","TABASCO",null,"ZONA MILITAR - 61450","ZONA MILITAR","61450","61450.99999","'01961008","'484160610001.61450"]
[null,null,null,null,null,null,null,null,null,null,null,null,null,null,"99630","32","044","TABASCO",null,"ZONA MILITAR - 62143","ZONA MILITAR","62143","62143.0979","'02113155","'484170070001.62143"]
[null,null,null,null,null,null,null,null,null,null,null,null,null,null,"99630","32","044","TABASCO",null,"ZONA MILITAR - 70934","ZONA MILITAR","70934","70934.3224","'02803005","'484204010001.70934"]
[null,null,null,null,null,null,null,null,null,null,null,null,null,null,"99630","32","044","TABASCO",null,"ZONA MILITAR - 76136","ZONA MILITAR","76136","76136.0115","'03342535","'484220140001.76136"]
[null,null,null,null,null,null,null,null,null,null,null,null,null,null,"99630","32","044","TABASCO",null,"ZONA MILITAR - 90140","ZONA MILITAR","90140","90140.0901","'04047006","'484290240001.90140"]
[null,null,null,null,null,null,null,null,null,null,null,null,null,null,"99644","32","044","TABASCO",null,"ZONA MILITAR 15 REGIMIENTO - 30099","ZONA MILITAR 15 REGIMIENTO","30099","30099.2613","'00719006","'484070190001.30099"]
[null,null,null,null,null,null,null,null,null,null,null,null,null,null,"99644","32","044","TABASCO",null,"ZONA MILITAR 28 - 71245","ZONA MILITAR 28","71245","71245.3846","'02790009","'484203900001.71245"]
[null,null,null,null,null,null,null,null,null,null,null,null,null,null,"99650","32","044","TABASCO",null,"ZONA MILITAR 84 BATALLON - 43000","ZONA MILITAR 84 BATALLON","43000","43000.2181","'01428006","'484130280001.43000"]
[null,null,null,null,null,null,null,null,null,null,null,null,null,null,"99650","32","044","TABASCO",null,"ZONA MILITAR CUARTEL XV - 83145","ZONA MILITAR CUARTEL XV","83145","83145.0459","'03730107","'484260300001.83145"]
[null,null,null,null,null,null,null,null,null,null,null,null,null,null,"99670","32","018","HUANUSCO",null,"ZONA MILITAR XIV - 20802","ZONA MILITAR XIV","20802","20802.0716","'00107003","'484010030001.20802"]
[null,null,null,null,null,null,null,null,null,null,null,null,null,null,"99670","32","018","HUANUSCO",null,"ZONA MIRADOR VAZCONCELOS - 66238","ZONA MIRADOR VAZCONCELOS","66238","66238.4274","'02320008","'484190190001.66238"]
[null,null,null,null,null,null,null,null,null,null,null,null,null,null,"99670","32","018","HUANUSCO",null,"ZONA MIRASIERRA - 66240","ZONA MIRASIERRA","66240","66240.5074","'02320008","'484190190001.66240"]
[null,null,null,null,null,null,null,null,null,null,null,null,null,null,"99670","32","018","HUANUSCO",null,"ZONA MONTEBELLO - 66273","ZONA MONTEBELLO","66273","66273.4275","'02320008","'484190190001.66273"]
[null,null,null,null,null,null,null,null,null,null,null,null,null,null,"99700","32","048","TLALTENANGO DE SANCHEZ ROMAN",null,"ZONA NAVAL MILITAR - 84103","ZONA NAVAL MILITAR","84103","84103.99999","'03743003","'484260430001.84103"]
[null,null,null,null,null,null,null,null,null,null,null,null,null,null,"99700","32","048","TLALTENANGO DE SANCHEZ ROMAN",null,"ZONA NAVAL MILITAR - 85488","ZONA NAVAL MILITAR","85488","85488.3110","'03729055","'484260290001.85488"]
[null,null,null,null,null,null,null,null,null,null,null,null,null,null,"99700","32","048","TLALTENANGO DE SANCHEZ ROMAN",null,"ZONA NOROESTE DE LA FUENTE - 76786","ZONA NOROESTE DE LA FUENTE","76786","76786.2538","'03354009","'484220170001.76786"]
[null,null,null,null,null,null,null,null,null,null,null,null,null,null,"99700","32","048","TLALTENANGO DE SANCHEZ ROMAN",null,"ZONA NORTE - 22000","ZONA NORTE","22000","22000.1824","'00210208","'484020040001.22000"]
[null,null,null,null,null,null,null,null,null,null,null,null,null,null,"99700","32","048","TLALTENANGO DE SANCHEZ ROMAN",null,"ZONA NORTE - 85040","ZONA NORTE","85040","85040.1539","'03718113","'484260180001.85040"]
[null,null,null,null,null,null,null,null,null,null,null,null,null,null,"99700","32","048","TLALTENANGO DE SANCHEZ ROMAN",null,"ZONA NORTE - 93310","ZONA NORTE","93310","93310.99999","'04232002","'484301310001.93310"]
[null,null,null,null,null,null,null,null,null,null,null,null,null,null,"99700","32","048","TLALTENANGO DE SANCHEZ ROMAN",null,"ZONA NORTE COMERCIAL - 85013","ZONA NORTE COMERCIAL","85013","85013.2884","'03718113","'484260180001.85013"]
[null,null,null,null,null,null,null,null,null,null,null,null,null,null,"99700","32","048","TLALTENANGO DE SANCHEZ ROMAN",null,"ZONA NORTE COMERCIAL - 93163","ZONA NORTE COMERCIAL","93163","93163.99999","'04140009","'484300400001.93163"]
[null,null,null,null,null,null,null,null,null,null,null,null,null,null,"99700","32","048","TLALTENANGO DE SANCHEZ ROMAN",null,"ZONA OESTE DE ARROYO SECO - 76405","ZONA OESTE DE ARROYO SECO","76405","76405.3052","'03309009","'484220030001.76405"]
[null,null,null,null,null,null,null,null,null,null,null,null,null,null,"99700","32","048","TLALTENANGO DE SANCHEZ ROMAN",null,"ZONA PALO BLANCO - 66230","ZONA PALO BLANCO","66230","66230.4262","'02320008","'484190190001.66230"]
[null,null,null,null,null,null,null,null,null,null,null,null,null,null,"99700","32","048","TLALTENANGO DE SANCHEZ ROMAN",null,"ZONA PEDREGAL DEL VALLE - 66287","ZONA PEDREGAL DEL VALLE","66287","66287.4276","'02320008","'484190190001.66287"]
[null,null,null,null,null,null,null,null,null,null,null,null,null,null,"99700","32","048","TLALTENANGO DE SANCHEZ ROMAN",null,"ZONA PERIFERICA SAN MIGUELITO - 76224","ZONA PERIFERICA SAN MIGUELITO","76224","76224.0213","'03342535","'484220140001.76224"]
[null,null,null,null,null,null,null,null,null,null,null,null,null,null,"99700","32","048","TLALTENANGO DE SANCHEZ ROMAN",null,"ZONA PLATEADA - 42084","ZONA PLATEADA","42084","42084.2336","'01448008","'484130480001.42084"]
[null,null,null,null,null,null,null,null,null,null,null,null,null,null,"99700","32","048","TLALTENANGO DE SANCHEZ ROMAN",null,"ZONA PORTUARIA - 63744","ZONA PORTUARIA","63744","63744.0945","'02234259","'484180120001.63744"]
[null,null,null,null,null,null,null,null,null,null,null,null,null,null,"99700","32","048","TLALTENANGO DE SANCHEZ ROMAN",null,"ZONA PRIVADA RIO TAMAZUNCHALE - 66250","ZONA PRIVADA RIO TAMAZUNCHALE","66250","66250.4277","'02320008","'484190190001.66250"]
[null,null,null,null,null,null,null,null,null,null,null,null,null,null,"99700","32","048","TLALTENANGO DE SANCHEZ ROMAN",null,"ZONA PROGRESO - 21325","ZONA PROGRESO","21325","21325.1741","'00204009","'484020020001.21325"]
[null,null,null,null,null,null,null,null,null,null,null,null,null,null,"99700","32","048","TLALTENANGO DE SANCHEZ ROMAN",null,"ZONA RESIDENCIA CHIPINQUE - 66297","ZONA RESIDENCIA CHIPINQUE","66297","66297.5075","'02320008","'484190190001.66297"]
[null,null,null,null,null,null,null,null,null,null,null,null,null,null,"99700","32","048","TLALTENANGO DE SANCHEZ ROMAN",null,"ZONA RESIDENCIAL - 77663","ZONA RESIDENCIAL","77663","77663.99999","'03405219","'484230010001.77600"]
[null,null,null,null,null,null,null,null,null,null,null,null,null,null,"99700","32","048","TLALTENANGO DE SANCHEZ ROMAN",null,"ZONA RESIDENCIAL ANEXA ESTRELLAS DEL SUR - 72176","ZONA RESIDENCIAL ANEXA ESTRELLAS DEL SUR","72176","72176.6329","'03115203","'484211140001.72176"]
[null,null,null,null,null,null,null,null,null,null,null,null,null,null,"99700","32","048","TLALTENANGO DE SANCHEZ ROMAN",null,"ZONA RESIDENCIAL MILITAR - 70110","ZONA RESIDENCIAL MILITAR","70110","70110.1365","'02414007","'484200140001.70110"]
[null,null,null,null,null,null,null,null,null,null,null,null,null,null,"99700","32","048","TLALTENANGO DE SANCHEZ ROMAN",null,"ZONA REVOLUCION - 66219","ZONA REVOLUCION","66219","66219.4278","'02320008","'484190190001.66219"]
[null,null,null,null,null,null,null,null,null,null,null,null,null,null,"99700","32","048","TLALTENANGO DE SANCHEZ ROMAN",null,"ZONA ROJA - 40854","ZONA ROJA","40854","40854.3890","'01349002","'484120480001.40854"]
[null,null,null,null,null,null,null,null,null,null,null,null,null,null,"99700","32","048","TLALTENANGO DE SANCHEZ ROMAN",null,"ZONA ROJA - 84623","ZONA ROJA","84623","84623.3074","'03719003","'484260190001.84623"]
[null,null,null,null,null,null,null,null,null,null,null,null,null,null,"99700","32","048","TLALTENANGO DE SANCHEZ ROMAN",null,"ZONA ROJA - 94472","ZONA ROJA","94472","94472.99999","'04168001","'484300680001.94472"]
[null,null,null,null,null,null,null,null,null,null,null,null,null,null,"99702","32","048","TLALTENANGO DE SANCHEZ ROMAN",null,"ZONA ROSARIO - 66230","ZONA ROSARIO","66230","66230.4257","'02320008","'484190190001.66230"]
[null,null,null,null,null,null,null,null,null,null,null,null,null,null,"99702","32","048","TLALTENANGO DE SANCHEZ ROMAN",null,"ZONA SAN AGUSTIN - 66260","ZONA SAN AGUSTIN","66260","66260.5076","'02320008","'484190190001.66260"]
[null,null,null,null,null,null,null,null,null,null,null,null,null,null,"99704","32","048","TLALTENANGO DE SANCHEZ ROMAN",null,"ZONA SAN AGUSTIN CAMPESTRE - 66278","ZONA SAN AGUSTIN CAMPESTRE","66278","66278.4248","'02320008","'484190190001.66278"]
[null,null,null,null,null,null,null,null,null,null,null,null,null,null,"99704","32","048","TLALTENANGO DE SANCHEZ ROMAN",null,"ZONA SAN PATRICIO 3 SECTOR - 66270","ZONA SAN PATRICIO 3 SECTOR","66270","66270.4279","'02320008","'484190190001.66270"]
[null,null,null,null,null,null,null,null,null,null,null,null,null,null,"99705","32","048","TLALTENANGO DE SANCHEZ ROMAN",null,"ZONA SAN PATRICIO 4 SECTOR - 66270","ZONA SAN PATRICIO 4 SECTOR","66270","66270.4280","'02320008","'484190190001.66270"]
[null,null,null,null,null,null,null,null,null,null,null,null,null,null,"99705","32","048","TLALTENANGO DE SANCHEZ ROMAN",null,"ZONA SANTA BARBARA PONIENTE - 66224","ZONA SANTA BARBARA PONIENTE","66224","66224.4281","'02320008","'484190190001.66224"]
[null,null,null,null,null,null,null,null,null,null,null,null,null,null,"99707","32","048","TLALTENANGO DE SANCHEZ ROMAN",null,"ZONA SANTA ENGRACIA - 66263","ZONA SANTA ENGRACIA","66263","66263.4282","'02320008","'484190190001.66263"]
[null,null,null,null,null,null,null,null,null,null,null,null,null,null,"99707","32","048","TLALTENANGO DE SANCHEZ ROMAN",null,"ZONA SUR ANENECUILCO - 62713","ZONA SUR ANENECUILCO","62713","62713.1587","'02107005","'484170040001.62713"]
[null,null,null,null,null,null,null,null,null,null,null,null,null,null,"99720","32","030","MOMAX",null,"ZONA SUR ANENECUILCO - 62713","ZONA SUR ANENECUILCO","62713","62713.1586","'02107005","'484170040001.62713"]
[null,null,null,null,null,null,null,null,null,null,null,null,null,null,"99720","32","030","MOMAX",null,"ZONA SUR TEQUISQUIAPAN - 76773","ZONA SUR TEQUISQUIAPAN","76773","76773.2539","'03354009","'484220170001.76773"]
[null,null,null,null,null,null,null,null,null,null,null,null,null,null,"99720","32","030","MOMAX",null,"ZONA TAMPIQUITO - 66270","ZONA TAMPIQUITO","66270","66270.4283","'02320008","'484190190001.66270"]
[null,null,null,null,null,null,null,null,null,null,null,null,null,null,"99720","32","030","MOMAX",null,"ZONA URBANA - 83480","ZONA URBANA","83480","83480.99999","'03755259","'484260550001.83480"]
[null,null,null,null,null,null,null,null,null,null,null,null,null,null,"99730","32","003","ATOLINGA",null,"ZONA URBANA - 85200","ZONA URBANA","85200","85200.1884","'03718113","'484260180001.85200"]
[null,null,null,null,null,null,null,null,null,null,null,null,null,null,"99730","32","003","ATOLINGA",null,"ZONA URBANA - 85515","ZONA URBANA","85515","85515.1916","'03729238","'484260720001.85515"]
[null,null,null,null,null,null,null,null,null,null,null,null,null,null,"99730","32","003","ATOLINGA",null,"ZONA URBANA - 92769","ZONA URBANA","92769","92769.99999","'04261059","'484301600001.92769"]
[null,null,null,null,null,null,null,null,null,null,null,null,null,null,"99730","32","003","ATOLINGA",null,"ZONA URBANA DEL EJIDO XOCHIMILCO - 21355","ZONA URBANA DEL EJIDO XOCHIMILCO","21355","21355.1758","'00204009","'484020020001.21355"]
[null,null,null,null,null,null,null,null,null,null,null,null,null,null,"99750","32","045","TEPECHITLAN",null,"ZONA URBANA EJIDAL - 68424","ZONA URBANA EJIDAL","68424","68424.4414","'02402007","'484200020001.68424"]
[null,null,null,null,null,null,null,null,null,null,null,null,null,null,"99750","32","045","TEPECHITLAN",null,"ZONA URBANA EJIDAL - 80778","ZONA URBANA EJIDAL","80778","80778.99999","'03613006","'484250050001.80778"]
[null,null,null,null,null,null,null,null,null,null,null,null,null,null,"99750","32","045","TEPECHITLAN",null,"ZONA URBANA EJIDAL - 85204","ZONA URBANA EJIDAL","85204","85204.6001","'03718113","'484260180001.85204"]
[null,null,null,null,null,null,null,null,null,null,null,null,null,null,"99750","32","045","TEPECHITLAN",null,"ZONA URBANA EJIDAL - 85890","ZONA URBANA EJIDAL","85890","85890.2793","'03742009","'484260420001.85890"]
[null,null,null,null,null,null,null,null,null,null,null,null,null,null,"99750","32","045","TEPECHITLAN",null,"ZONA URBANA EJIDAL - 91164","ZONA URBANA EJIDAL","91164","91164.99999","'04187002","'484300870001.91164"]
[null,null,null,null,null,null,null,null,null,null,null,null,null,null,"99750","32","045","TEPECHITLAN",null,"ZONA URBANA RIO TIJUANA - 22010","ZONA URBANA RIO TIJUANA","22010","22010.1629","'00210208","'484020040001.22010"]
[null,null,null,null,null,null,null,null,null,null,null,null,null,null,"99753","32","045","TEPECHITLAN",null,"ZONA VALLE DEL MEZQUITE - 66240","ZONA VALLE DEL MEZQUITE","66240","66240.5077","'02320008","'484190190001.66240"]
[null,null,null,null,null,null,null,null,null,null,null,null,null,null,"99753","32","045","TEPECHITLAN",null,"ZONA VALLE ORIENTE NORTE - 66266","ZONA VALLE ORIENTE NORTE","66266","66266.5078","'02320008","'484190190001.66266"]
[null,null,null,null,null,null,null,null,null,null,null,null,null,null,"99755","32","045","TEPECHITLAN",null,"ZONA VALLE ORIENTE SUR - 66278","ZONA VALLE ORIENTE SUR","66278","66278.4286","'02320008","'484190190001.66278"]
[null,null,null,null,null,null,null,null,null,null,null,null,null,null,"99755","32","045","TEPECHITLAN",null,"ZONA VALLE PONIENTE - 66233","ZONA VALLE PONIENTE","66233","66233.4287","'02320008","'484190190001.66233"]
[null,null,null,null,null,null,null,null,null,null,null,null,null,null,"99760","32","045","TEPECHITLAN",null,"ZONA VALLE SAN ANGEL - 66285","ZONA VALLE SAN ANGEL","66285","66285.4284","'02320008","'484190190001.66285"]
[null,null,null,null,null,null,null,null,null,null,null,null,null,null,"99760","32","045","TEPECHITLAN",null,"ZONA VALLE SANTA ENGRACIA - 66268","ZONA VALLE SANTA ENGRACIA","66268","66268.4285","'02320008","'484190190001.66268"]
[null,null,null,null,null,null,null,null,null,null,null,null,null,null,"99770","32","045","TEPECHITLAN",null,"ZONAMATL - 48313","ZONAMATL","48313","48313.99999","'01569717","'484140670001.48313"]
[null,null,null,null,null,null,null,null,null,null,null,null,null,null,"99770","32","045","TEPECHITLAN",null,"ZONAMATL - 92724","ZONAMATL","92724","92724.0004","'04158009","'484300580001.92724"]
[null,null,null,null,null,null,null,null,null,null,null,null,null,null,"99780","32","004","BENITO JUAREZ",null,"ZONCUANTLA - 54057","ZONCUANTLA","54057","54057.99999","'01806106","'484151040001.54057"]
[null,null,null,null,null,null,null,null,null,null,null,null,null,null,"99780","32","004","BENITO JUAREZ",null,"ZONCUANTLA - 91608","ZONCUANTLA","91608","91608.0387","'04138007","'484300380001.91608"]
[null,null,null,null,null,null,null,null,null,null,null,null,null,null,"99781","32","004","BENITO JUAREZ",null,"ZONGOLICA - 39425","ZONGOLICA","39425","39425.99999","'01301115","'484120010001.39425"]
[null,null,null,null,null,null,null,null,null,null,null,null,null,null,"99781","32","004","BENITO JUAREZ",null,"ZONGOLICA - 68502","ZONGOLICA","68502","68502.0541","'02440002","'484200410001.68502"]
[null,null,null,null,null,null,null,null,null,null,null,null,null,null,"99800","32","047","TEUL DE GONZALEZ ORTEGA",null,"ZONGOLICA - 95000","ZONGOLICA","95000","95000.3157","'04303007","'484302010001.95000"]
[null,null,null,null,null,null,null,null,null,null,null,null,null,null,"99800","32","047","TEUL DE GONZALEZ ORTEGA",null,"ZONGOZOTLA - 73380","ZONGOZOTLA","73380","73380.1017","'03218009","'484212150001.73380"]
[null,null,null,null,null,null,null,null,null,null,null,null,null,null,"99800","32","047","TEUL DE GONZALEZ ORTEGA",null,"ZONQUIMIXTLA - 73596","ZONQUIMIXTLA","73596","73596.7130","'03002003","'484210020001.73596"]
[null,null,null,null,null,null,null,null,null,null,null,null,null,null,"99800","32","047","TEUL DE GONZALEZ ORTEGA",null,"ZONTECOMAPA - 41423","ZONTECOMAPA","41423","41423.3247","'01377009","'484120760001.41423"]
[null,null,null,null,null,null,null,null,null,null,null,null,null,null,"99800","32","047","TEUL DE GONZALEZ ORTEGA",null,"ZONTECOMAPAN - 73654","ZONTECOMAPAN","73654","73654.1175","'03174009","'484211720001.73654"]
[null,null,null,null,null,null,null,null,null,null,null,null,null,null,"99800","32","047","TEUL DE GONZALEZ ORTEGA",null,"ZONTECOMATE - 43854","ZONTECOMATE","43854","43854.6410","'01483007","'484130830001.43854"]
[null,null,null,null,null,null,null,null,null,null,null,null,null,null,"99800","32","047","TEUL DE GONZALEZ ORTEGA",null,"ZONTECOMATLAN - 41015","ZONTECOMATLAN","41015","41015.2981","'01346008","'484120450001.41015"]
[null,null,null,null,null,null,null,null,null,null,null,null,null,null,"99806","32","047","TEUL DE GONZALEZ ORTEGA",null,"ZONTECOMATLAN DE LOPEZ Y FUENTES - 49075","ZONTECOMATLAN DE LOPEZ Y FUENTES","49075","49075.99999","'01626006","'484140230001.49075"]
[null,null,null,null,null,null,null,null,null,null,null,null,null,null,"99806","32","047","TEUL DE GONZALEZ ORTEGA",null,"ZONTECOMATLAN DE LOPEZ Y FUENTES - 92630","ZONTECOMATLAN DE LOPEZ Y FUENTES","92630","92630.1514","'04304008","'484302020001.92630"]
[null,null,null,null,null,null,null,null,null,null,null,null,null,null,"99810","32","047","TEUL DE GONZALEZ ORTEGA",null,"ZONTECONCUILCO - 41135","ZONTECONCUILCO","41135","41135.5026","'01302006","'484120020001.41135"]
[null,null,null,null,null,null,null,null,null,null,null,null,null,null,"99810","32","047","TEUL DE GONZALEZ ORTEGA",null,"ZONZONAPA - 49200","ZONZONAPA","49200","49200.99999","'01514008","'484140140001.49200"]
[null,null,null,null,null,null,null,null,null,null,null,null,null,null,"99814","32","047","TEUL DE GONZALEZ ORTEGA",null,"ZONZONAPA - 92605","ZONZONAPA","92605","92605.1486","'04172002","'484300720001.92605"]
[null,null,null,null,null,null,null,null,null,null,null,null,null,null,"99814","32","047","TEUL DE GONZALEZ ORTEGA",null,"ZOOGOCHO - 68288","ZOOGOCHO","68288","68288.3956","'02490003","'484200910001.68288"]
[null,null,null,null,null,null,null,null,null,null,null,null,null,null,"99820","32","058","SANTA MARIA DE LA PAZ",null,"ZOOLOGICO - 25188","ZOOLOGICO","25188","25188.99999","'00561009","'484050300001.25188"]
[null,null,null,null,null,null,null,null,null,null,null,null,null,null,"99820","32","058","SANTA MARIA DE LA PAZ",null,"ZOOLOGICO - 44259","ZOOLOGICO","44259","44259.5062","'01539009","'484140390001.44259"]
[null,null,null,null,null,null,null,null,null,null,null,null,null,null,"99820","32","058","SANTA MARIA DE LA PAZ",null,"ZOOLOGICO - 97702","ZOOLOGICO","97702","97702.0950","'04496008","'484310960001.97702"]
[null,null,null,null,null,null,null,null,null,null,null,null,null,null,"99823","32","058","SANTA MARIA DE LA PAZ",null,"ZOOTECNIA - 31453","ZOOTECNIA","31453","31453.2662","'00919269","'484080190001.31453"]
[null,null,null,null,null,null,null,null,null,null,null,null,null,null,"99823","32","058","SANTA MARIA DE LA PAZ",null,"ZOPILOAC - 40407","ZOPILOAC","40407","40407.2091","'01359009","'484120580001.40407"]
[null,null,null,null,null,null,null,null,null,null,null,null,null,null,"99823","32","058","SANTA MARIA DE LA PAZ",null,"ZOPILOCALCO - 55066","ZOPILOCALCO","55066","55066.4794","'01734051","'484150330001.55066"]
[null,null,null,null,null,null,null,null,null,null,null,null,null,null,"99823","32","058","SANTA MARIA DE LA PAZ",null,"ZOPILOCALCO - 74136","ZOPILOCALCO","74136","74136.7793","'03144009","'484211430001.74136"]
[null,null,null,null,null,null,null,null,null,null,null,null,null,null,"99824","32","058","SANTA MARIA DE LA PAZ",null,"ZOPILOCALCO NORTE - 50050","ZOPILOCALCO NORTE","50050","50050.0229","'01808002","'484151060001.50050"]
[null,null,null,null,null,null,null,null,null,null,null,null,null,null,"99824","32","058","SANTA MARIA DE LA PAZ",null,"ZOPILOCALCO SUR - 50050","ZOPILOCALCO SUR","50050","50050.0228","'01808002","'484151060001.50050"]
[null,null,null,null,null,null,null,null,null,null,null,null,null,null,"99824","32","058","SANTA MARIA DE LA PAZ",null,"ZOPILOSTOC - 39130","ZOPILOSTOC","39130","39130.0234","'01332009","'484120320001.39130"]
[null,null,null,null,null,null,null,null,null,null,null,null,null,null,"99824","32","058","SANTA MARIA DE LA PAZ",null,"ZOPILOTEPEC - 40511","ZOPILOTEPEC","40511","40511.2270","'01307002","'484120070001.40511"]
[null,null,null,null,null,null,null,null,null,null,null,null,null,null,"99824","32","058","SANTA MARIA DE LA PAZ",null,"ZOPILOTES - 34985","ZOPILOTES","34985","34985.7348","'01129004","'484100140001.34985"]
[null,null,null,null,null,null,null,null,null,null,null,null,null,null,"99825","32","058","SANTA MARIA DE LA PAZ",null,"ZOPILOTES - 34985","ZOPILOTES","34985","34985.7346","'01129004","'484100140001.34985"]
[null,null,null,null,null,null,null,null,null,null,null,null,null,null,"99825","32","058","SANTA MARIA DE LA PAZ",null,"ZOPILOTES - 34987","ZOPILOTES","34987","34987.7347","'01129004","'484100140001.34987"]
[null,null,null,null,null,null,null,null,null,null,null,null,null,null,"99825","32","058","SANTA MARIA DE LA PAZ",null,"ZOPO - 76615","ZOPO","76615","76615.99999","'03357009","'484220180001.76615"]
[null,null,null,null,null,null,null,null,null,null,null,null,null,null,"99825","32","058","SANTA MARIA DE LA PAZ",null,"ZOPO - 86700","ZOPO","86700","86700.0655","'03836006","'484270120001.86700"]
[null,null,null,null,null,null,null,null,null,null,null,null,null,null,"99825","32","058","SANTA MARIA DE LA PAZ",null,"ZOPO SUR - 76229","ZOPO SUR","76229","76229.99999","'03342535","'484220140001.76229"]
[null,null,null,null,null,null,null,null,null,null,null,null,null,null,"99825","32","058","SANTA MARIA DE LA PAZ",null,"ZOPO SUR - 86748","ZOPO SUR","86748","86748.2479","'03836006","'484270120001.86748"]
[null,null,null,null,null,null,null,null,null,null,null,null,null,null,"99825","32","058","SANTA MARIA DE LA PAZ",null,"ZOPOCO - 59797","ZOPOCO","59797","59797.1431","'01925005","'484160250001.59797"]
[null,null,null,null,null,null,null,null,null,null,null,null,null,null,"99826","32","058","SANTA MARIA DE LA PAZ",null,"ZOQUIAPA - 39190","ZOQUIAPA","39190","39190.0308","'01362003","'484120610001.39190"]
[null,null,null,null,null,null,null,null,null,null,null,null,null,null,"99826","32","058","SANTA MARIA DE LA PAZ",null,"ZOQUIAPA - 39205","ZOQUIAPA","39205","39205.99999","'01312007","'484120120001.39205"]
[null,null,null,null,null,null,null,null,null,null,null,null,null,null,"99826","32","058","SANTA MARIA DE LA PAZ",null,"ZOQUIAPA - 73289","ZOQUIAPA","73289","73289.0909","'03186009","'484211840001.73289"]
[null,null,null,null,null,null,null,null,null,null,null,null,null,null,"99826","32","058","SANTA MARIA DE LA PAZ",null,"ZOQUIAPA - 95064","ZOQUIAPA","95064","95064.3196","'04238008","'484301370001.95064"]
[null,null,null,null,null,null,null,null,null,null,null,null,null,null,"99826","32","058","SANTA MARIA DE LA PAZ",null,"ZOQUIAPAN - 56530","ZOQUIAPAN","56530","56530.4332","'01740159","'484150390001.56530"]
[null,null,null,null,null,null,null,null,null,null,null,null,null,null,"99826","32","058","SANTA MARIA DE LA PAZ",null,"ZOQUIAPAN - 57740","ZOQUIAPAN","57740","57740.99999","'01759004","'484150580001.57740"]
[null,null,null,null,null,null,null,null,null,null,null,null,null,null,"99826","32","058","SANTA MARIA DE LA PAZ",null,"ZOQUIAPAN - 61130","ZOQUIAPAN","61130","61130.99999","'01934008","'484160340001.61130"]
[null,null,null,null,null,null,null,null,null,null,null,null,null,null,"99827","32","058","SANTA MARIA DE LA PAZ",null,"ZOQUIAPAN - 73540","ZOQUIAPAN","73540","73540.1098","'03219009","'484212160001.73540"]
[null,null,null,null,null,null,null,null,null,null,null,null,null,null,"99827","32","058","SANTA MARIA DE LA PAZ",null,"ZOQUIAPAN - 90226","ZOQUIAPAN","90226","90226.0707","'04013008","'484290060001.90226"]
[null,null,null,null,null,null,null,null,null,null,null,null,null,null,"99827","32","058","SANTA MARIA DE LA PAZ",null,"ZOQUIAPAN - 90896","ZOQUIAPAN","90896","90896.1350","'04049008","'484290250001.90896"]
[null,null,null,null,null,null,null,null,null,null,null,null,null,null,"99827","32","058","SANTA MARIA DE LA PAZ",null,"ZOQUIAPAN BOCA DE LOS RIOS - 68205","ZOQUIAPAN BOCA DE LOS RIOS","68205","68205.4398","'02574009","'484201750001.68205"]
[null,null,null,null,null,null,null,null,null,null,null,null,null,null,"99827","32","058","SANTA MARIA DE LA PAZ",null,"ZOQUICUALOYA - 43076","ZOQUICUALOYA","43076","43076.3814","'01426004","'484130260001.43076"]
[null,null,null,null,null,null,null,null,null,null,null,null,null,null,"99827","32","058","SANTA MARIA DE LA PAZ",null,"ZOQUILQUIZA - 43195","ZOQUILQUIZA","43195","43195.4865","'01433008","'484130330001.43195"]
[null,null,null,null,null,null,null,null,null,null,null,null,null,null,"99828","32","058","SANTA MARIA DE LA PAZ",null,"ZOQUIPAN - 45170","ZOQUIPAN","45170","45170.0796","'01623867","'484141200001.45170"]
[null,null,null,null,null,null,null,null,null,null,null,null,null,null,"99828","32","058","SANTA MARIA DE LA PAZ",null,"ZOQUIPAN - 63536","ZOQUIPAN","63536","63536.0390","'02225007","'484180090001.63536"]
[null,null,null,null,null,null,null,null,null,null,null,null,null,null,"99828","32","058","SANTA MARIA DE LA PAZ",null,"ZOQUIPILLA - 63547","ZOQUIPILLA","63547","63547.1848","'02225007","'484180090001.63547"]
[null,null,null,null,null,null,null,null,null,null,null,null,null,null,"99828","32","058","SANTA MARIA DE LA PAZ",null,"ZOQUITAL - 62653","ZOQUITAL","62653","62653.1648","'02101002","'484170010001.62653"]
[null,null,null,null,null,null,null,null,null,null,null,null,null,null,"99828","32","058","SANTA MARIA DE LA PAZ",null,"ZOQUITE - 15370","ZOQUITE","15370","15370.99999","'01001002","'484090170001.15370"]
[null,null,null,null,null,null,null,null,null,null,null,null,null,null,"99830","32","011","TRINIDAD GARCIA DE LA CADENA",null,"ZOQUITE - 98631","ZOQUITE","98631","98631.0320","'04620003","'484320170001.98631"]
[null,null,null,null,null,null,null,null,null,null,null,null,null,null,"99830","32","011","TRINIDAD GARCIA DE LA CADENA",null,"ZOQUITENO - 43353","ZOQUITENO","43353","43353.6234","'01437006","'484130370001.43353"]
[null,null,null,null,null,null,null,null,null,null,null,null,null,null,"99830","32","011","TRINIDAD GARCIA DE LA CADENA",null,"ZOQUITIPA - 41114","ZOQUITIPA","41114","41114.3043","'01328002","'484120280001.41114"]
[null,null,null,null,null,null,null,null,null,null,null,null,null,null,"99830","32","011","TRINIDAD GARCIA DE LA CADENA",null,"ZOQUITIPA - 79994","ZOQUITIPA","79994","79994.1736","'03537309","'484240370001.79994"]
[null,null,null,null,null,null,null,null,null,null,null,null,null,null,"99860","32","028","MEZQUITAL DEL ORO",null,"ZOQUITIPAN - 43086","ZOQUITIPAN","43086","43086.1259","'01480004","'484130800001.43086"]
[null,null,null,null,null,null,null,null,null,null,null,null,null,null,"99860","32","028","MEZQUITAL DEL ORO",null,"ZOQUITITA - 60553","ZOQUITITA","60553","60553.0044","'01989009","'484160890001.60553"]
[null,null,null,null,null,null,null,null,null,null,null,null,null,null,"99864","32","028","MEZQUITAL DEL ORO",null,"ZOQUITITA - 80570","ZOQUITITA","80570","80570.0251","'03607009","'484250030001.80570"]
[null,null,null,null,null,null,null,null,null,null,null,null,null,null,"99864","32","028","MEZQUITAL DEL ORO",null,"ZOQUITITAN - 82720","ZOQUITITAN","82720","82720.1218","'03622059","'484250080001.82720"]
[null,null,null,null,null,null,null,null,null,null,null,null,null,null,"99865","32","028","MEZQUITAL DEL ORO",null,"ZOQUITLA - 55130","ZOQUITLA","55130","55130.99999","'01734051","'484150330001.55130"]
[null,null,null,null,null,null,null,null,null,null,null,null,null,null,"99865","32","028","MEZQUITAL DEL ORO",null,"ZOQUITLA - 73317","ZOQUITLA","73317","73317.0980","'03211003","'484212080001.73317"]
[null,null,null,null,null,null,null,null,null,null,null,null,null,null,"99867","32","028","MEZQUITAL DEL ORO",null,"ZOQUITLA - 91260","ZOQUITLA","91260","91260.0207","'04125003","'484300250001.91260"]
[null,null,null,null,null,null,null,null,null,null,null,null,null,null,"99867","32","028","MEZQUITAL DEL ORO",null,"ZOQUITLAN - 41463","ZOQUITLAN","41463","41463.3283","'01310008","'484120100001.41463"]
[null,null,null,null,null,null,null,null,null,null,null,null,null,null,"99900","32","034","NOCHISTLAN DE MEJIA",null,"ZOQUITLAN - 75930","ZOQUITLAN","75930","75930.2646","'03220009","'484212170001.75930"]
[null,null,null,null,null,null,null,null,null,null,null,null,null,null,"99900","32","034","NOCHISTLAN DE MEJIA",null,"ZOQUITLAN VIEJO - 41954","ZOQUITLAN VIEJO","41954","41954.99999","'01323009","'484120230001.41954"]
[null,null,null,null,null,null,null,null,null,null,null,null,null,null,"99902","32","034","NOCHISTLAN DE MEJIA",null,"ZOQUITLAN VIEJO - 94456","ZOQUITLAN VIEJO","94456","94456.2887","'04185009","'484300850001.94456"]
[null,null,null,null,null,null,null,null,null,null,null,null,null,null,"99902","32","034","NOCHISTLAN DE MEJIA",null,"ZOQUIZOQUIPAN - 43361","ZOQUIZOQUIPAN","43361","43361.1584","'01437006","'484130370001.43361"]
[null,null,null,null,null,null,null,null,null,null,null,null,null,null,"99902","32","034","NOCHISTLAN DE MEJIA",null,"ZOROMUTA - 38487","ZOROMUTA","38487","38487.0025","'01236003","'484110180001.38487"]
[null,null,null,null,null,null,null,null,null,null,null,null,null,null,"99904","32","034","NOCHISTLAN DE MEJIA",null,"ZOROMUTARO (PUERTO DE ZOROMUTARO) - 60467","ZOROMUTARO (PUERTO DE ZOROMUTARO)","60467","60467.6137","'01983003","'484160830001.60467"]
[null,null,null,null,null,null,null,null,null,null,null,null,null,null,"99904","32","034","NOCHISTLAN DE MEJIA",null,"ZORRILLA - 21450","ZORRILLA","21450","21450.0250","'00207009","'484020030001.21450"]
[null,null,null,null,null,null,null,null,null,null,null,null,null,null,"99904","32","034","NOCHISTLAN DE MEJIA",null,"ZORRILLO - 36268","ZORRILLO","36268","36268.99999","'01230006","'484110150001.36268"]
[null,null,null,null,null,null,null,null,null,null,null,null,null,null,"99905","32","034","NOCHISTLAN DE MEJIA",null,"ZORRILLO - 95600","ZORRILLO","95600","95600.4805","'04231304","'484301300001.95600"]
[null,null,null,null,null,null,null,null,null,null,null,null,null,null,"99905","32","034","NOCHISTLAN DE MEJIA",null,"ZORRILLOS - 28340","ZORRILLOS","28340","28340.0178","'00603009","'484060010001.28340"]
[null,null,null,null,null,null,null,null,null,null,null,null,null,null,"99905","32","034","NOCHISTLAN DE MEJIA",null,"ZORUMUTAL - 60496","ZORUMUTAL","60496","60496.0055","'01958002","'484160580001.60496"]
[null,null,null,null,null,null,null,null,null,null,null,null,null,null,"99905","32","034","NOCHISTLAN DE MEJIA",null,"ZOSTEPEC - 79110","ZOSTEPEC","79110","79110.1116","'03516009","'484240160001.79110"]
[null,null,null,null,null,null,null,null,null,null,null,null,null,null,"99906","32","034","NOCHISTLAN DE MEJIA",null,"ZOTECO - 43264","ZOTECO","43264","43264.5737","'01479003","'484130790001.43264"]
[null,null,null,null,null,null,null,null,null,null,null,null,null,null,"99906","32","034","NOCHISTLAN DE MEJIA",null,"ZOTHE - 42424","ZOTHE","42424","42424.0595","'01429007","'484130290001.42424"]
[null,null,null,null,null,null,null,null,null,null,null,null,null,null,"99907","32","034","NOCHISTLAN DE MEJIA",null,"ZOTICTLA - 43726","ZOTICTLA","43726","43726.4435","'01402004","'484130020001.43726"]
[null,null,null,null,null,null,null,null,null,null,null,null,null,null,"99907","32","034","NOCHISTLAN DE MEJIA",null,"ZOTIK - 73385","ZOTIK","73385","73385.7661","'03218009","'484212150001.73385"]
[null,null,null,null,null,null,null,null,null,null,null,null,null,null,"99908","32","034","NOCHISTLAN DE MEJIA",null,"ZOTOGRANDE - 45118","ZOTOGRANDE","45118","45118.4532","'01623867","'484141200001.45118"]
[null,null,null,null,null,null,null,null,null,null,null,null,null,null,"99908","32","034","NOCHISTLAN DE MEJIA",null,"ZOTOLA - 43356","ZOTOLA","43356","43356.1575","'01437006","'484130370001.43356"]
[null,null,null,null,null,null,null,null,null,null,null,null,null,null,"99908","32","034","NOCHISTLAN DE MEJIA",null,"ZOTOLTEPEC - 43353","ZOTOLTEPEC","43353","43353.1560","'01437006","'484130370001.43353"]
[null,null,null,null,null,null,null,null,null,null,null,null,null,null,"99909","32","034","NOCHISTLAN DE MEJIA",null,"ZOTOLTEPEC - 75065","ZOTOLTEPEC","75065","75065.7924","'03093009","'484210930001.75065"]
[null,null,null,null,null,null,null,null,null,null,null,null,null,null,"99909","32","034","NOCHISTLAN DE MEJIA",null,"ZOTOLTITLAN - 41180","ZOTOLTITLAN","41180","41180.3158","'01343005","'484120420001.41180"]
[null,null,null,null,null,null,null,null,null,null,null,null,null,null,"99909","32","034","NOCHISTLAN DE MEJIA",null,"ZOTOLUCA (VELOZ) - 43922","ZOTOLUCA (VELOZ)","43922","43922.1975","'01408001","'484130080001.43922"]
[null,null,null,null,null,null,null,null,null,null,null,null,null,null,"99910","32","034","NOCHISTLAN DE MEJIA",null,"ZOTOTLAN - 43710","ZOTOTLAN","43710","43710.2763","'01477004","'484130770001.43710"]
[null,null,null,null,null,null,null,null,null,null,null,null,null,null,"99910","32","034","NOCHISTLAN DE MEJIA",null,"ZOTZOCOLA - 51815","ZOTZOCOLA","51815","51815.1475","'01819007","'484151170001.51815"]
[null,null,null,null,null,null,null,null,null,null,null,null,null,null,"99913","32","034","NOCHISTLAN DE MEJIA",null,"ZOYACUAUTLA - 40137","ZOYACUAUTLA","40137","40137.1889","'01334002","'484120340001.40137"]
[null,null,null,null,null,null,null,null,null,null,null,null,null,null,"99913","32","034","NOCHISTLAN DE MEJIA",null,"ZOYAPEXCO - 41446","ZOYAPEXCO","41446","41446.3274","'01310008","'484120100001.41446"]
[null,null,null,null,null,null,null,null,null,null,null,null,null,null,"99913","32","034","NOCHISTLAN DE MEJIA",null,"ZOYAPEZCO - 39252","ZOYAPEZCO","39252","39252.0397","'01352008","'484120510001.39252"]
[null,null,null,null,null,null,null,null,null,null,null,null,null,null,"99913","32","034","NOCHISTLAN DE MEJIA",null,"ZOYAPILCA - 76357","ZOYAPILCA","76357","76357.0415","'03327009","'484220090001.76357"]
[null,null,null,null,null,null,null,null,null,null,null,null,null,null,"99913","32","034","NOCHISTLAN DE MEJIA",null,"ZOYATAL - 41105","ZOYATAL","41105","41105.4486","'01328002","'484120280001.41105"]
[null,null,null,null,null,null,null,null,null,null,null,null,null,null,"99914","32","034","NOCHISTLAN DE MEJIA",null,"ZOYATAL - 42368","ZOYATAL","42368","42368.0500","'01443003","'484130430001.42368"]
[null,null,null,null,null,null,null,null,null,null,null,null,null,null,"99914","32","034","NOCHISTLAN DE MEJIA",null,"ZOYATAN - 40874","ZOYATAN","40874","40874.5483","'01316005","'484120160001.40874"]
[null,null,null,null,null,null,null,null,null,null,null,null,null,null,"99915","32","034","NOCHISTLAN DE MEJIA",null,"ZOYATEPEC - 39126","ZOYATEPEC","39126","39126.0226","'01329006","'484120290001.39126"]
[null,null,null,null,null,null,null,null,null,null,null,null,null,null,"99915","32","034","NOCHISTLAN DE MEJIA",null,"ZOYATITLA - 73646","ZOYATITLA","73646","73646.1171","'03174009","'484211720001.73646"]
[null,null,null,null,null,null,null,null,null,null,null,null,null,null,"99915","32","034","NOCHISTLAN DE MEJIA",null,"ZOYATITLANAPA - 41260","ZOYATITLANAPA","41260","41260.3184","'01371003","'484120700001.41260"]
[null,null,null,null,null,null,null,null,null,null,null,null,null,null,"99917","32","034","NOCHISTLAN DE MEJIA",null,"ZOYATLA - 41150","ZOYATLA","41150","41150.5027","'01302006","'484120020001.41150"]
[null,null,null,null,null,null,null,null,null,null,null,null,null,null,"99917","32","034","NOCHISTLAN DE MEJIA",null,"ZOYATLA DE GUERRERO - 73110","ZOYATLA DE GUERRERO","73110","73110.0809","'03109003","'484211090001.73110"]
[null,null,null,null,null,null,null,null,null,null,null,null,null,null,"99917","32","034","NOCHISTLAN DE MEJIA",null,"ZOYATLAN - 41934","ZOYATLAN","41934","41934.3543","'01313379","'484120770001.41934"]
[null,null,null,null,null,null,null,null,null,null,null,null,null,null,"99917","32","034","NOCHISTLAN DE MEJIA",null,"ZOYATLAN DE JUAREZ - 41670","ZOYATLAN DE JUAREZ","41670","41670.3412","'01304008","'484120040001.41670"]
[null,null,null,null,null,null,null,null,null,null,null,null,null,null,"99918","32","034","NOCHISTLAN DE MEJIA",null,"ZOYOTLA - 73455","ZOYOTLA","73455","73455.1043","'03078009","'484210780001.73455"]
[null,null,null,null,null,null,null,null,null,null,null,null,null,null,"99918","32","034","NOCHISTLAN DE MEJIA",null,"ZOZAYA - 72973","ZOZAYA","72973","72973.99999","'03115203","'484211140001.72973"]
[null,null,null,null,null,null,null,null,null,null,null,null,null,null,"99918","32","034","NOCHISTLAN DE MEJIA",null,"ZOZAYA - 87070","ZOZAYA","87070","87070.0112","'03981009","'484280410001.87070"]
[null,null,null,null,null,null,null,null,null,null,null,null,null,null,"99918","32","034","NOCHISTLAN DE MEJIA",null,"ZOZAYITA - 67117","ZOZAYITA","67117","67117.1553","'02327001","'484190260001.67117"]
[null,null,null,null,null,null,null,null,null,null,null,null,null,null,"99919","32","034","NOCHISTLAN DE MEJIA",null,"ZOZEA - 42390","ZOZEA","42390","42390.0554","'01406008","'484130060001.42390"]
[null,null,null,null,null,null,null,null,null,null,null,null,null,null,"99919","32","034","NOCHISTLAN DE MEJIA",null,"ZOZOCOLCO DE GUERRERO - 47030","ZOZOCOLCO DE GUERRERO","47030","47030.99999","'01575009","'484140730001.47030"]
[null,null,null,null,null,null,null,null,null,null,null,null,null,null,"99920","32","002","APULCO",null,"ZOZOCOLCO DE GUERRERO - 93010","ZOZOCOLCO DE GUERRERO","93010","93010.2142","'04305003","'484302030001.93010"]
[null,null,null,null,null,null,null,null,null,null,null,null,null,null,"99920","32","002","APULCO",null,"ZOZOCOLCO DE HIDALGO - 47368","ZOZOCOLCO DE HIDALGO","47368","47368.99999","'01620009","'484141170001.47368"]
[null,null,null,null,null,null,null,null,null,null,null,null,null,null,"99921","32","002","APULCO",null,"ZOZOCOLCO DE HIDALGO - 93000","ZOZOCOLCO DE HIDALGO","93000","93000.2140","'04305003","'484302030001.93000"]
[null,null,null,null,null,null,null,null,null,null,null,null,null,null,"99921","32","002","APULCO",null,"ZOZOQUITLA - 40431","ZOZOQUITLA","40431","40431.2166","'01337005","'484120370001.40431"]
[null,null,null,null,null,null,null,null,null,null,null,null,null,null,"99925","32","002","APULCO",null,"ZOZORIQUE - 81854","ZOZORIQUE","81854","81854.0952","'03628056","'484250100001.81854"]
[null,null,null,null,null,null,null,null,null,null,null,null,null,null,"99925","32","002","APULCO",null,"ZR - 55927","ZR","55927","55927.9225","'01766008","'484150650001.55927"]
[null,null,null,null,null,null,null,null,null,null,null,null,null,null,"99930","32","002","APULCO",null,"ZUBIA - 31643","ZUBIA","31643","31643.7441","'00954009","'484080540001.31643"]
[null,null,null,null,null,null,null,null,null,null,null,null,null,null,"99930","32","002","APULCO",null,"ZULEMA - 85218","ZULEMA","85218","85218.5978","'03718113","'484260180001.85218"]
[null,null,null,null,null,null,null,null,null,null,null,null,null,null,"99940","32","001","APOZOL",null,"ZULEMA - 87393","ZULEMA","87393","87393.99999","'03943153","'484280220001.87393"]
[null,null,null,null,null,null,null,null,null,null,null,null,null,null,"99940","32","001","APOZOL",null,"ZULUAPAN - 51149","ZULUAPAN","51149","51149.1020","'01767003","'484150660001.51149"]
[null,null,null,null,null,null,null,null,null,null,null,null,null,null,"99940","32","001","APOZOL",null,"ZUMATZIN - 41146","ZUMATZIN","41146","41146.5028","'01302006","'484120020001.41146"]
[null,null,null,null,null,null,null,null,null,null,null,null,null,null,"99949","32","001","APOZOL",null,"ZUMPAHUACAN - 51980","ZUMPAHUACAN","51980","51980.1554","'01821003","'484151190001.51980"]
[null,null,null,null,null,null,null,null,null,null,null,null,null,null,"99949","32","001","APOZOL",null,"ZUMPANGO - 40973","ZUMPANGO","40973","40973.1748","'01321004","'484120210001.40973"]
[null,null,null,null,null,null,null,null,null,null,null,null,null,null,"99950","32","001","APOZOL",null,"ZUMPANGO - 41014","ZUMPANGO","41014","41014.2986","'01346008","'484120450001.41014"]
[null,null,null,null,null,null,null,null,null,null,null,null,null,null,"99950","32","001","APOZOL",null,"ZUMPANGO - 60226","ZUMPANGO","60226","60226.99999","'02003004","'484161020001.60226"]
[null,null,null,null,null,null,null,null,null,null,null,null,null,null,"99960","32","023","JUCHIPILA",null,"ZUMPANGO - 90413","ZUMPANGO","90413","90413.0214","'04007008","'484290030001.90413"]
[null,null,null,null,null,null,null,null,null,null,null,null,null,null,"99960","32","023","JUCHIPILA",null,"ZUMPANGO DEL RIO CENTRO - 40180","ZUMPANGO DEL RIO CENTRO","40180","40180.1929","'01376002","'484120750001.40180"]
[null,null,null,null,null,null,null,null,null,null,null,null,null,null,"99960","32","023","JUCHIPILA",null,"ZUMPIMITO - 60190","ZUMPIMITO","60190","60190.1706","'02003004","'484161020001.60190"]
[null,null,null,null,null,null,null,null,null,null,null,null,null,null,"99960","32","023","JUCHIPILA",null,"ZUMPIMITO (LA PLANTA) - 60235","ZUMPIMITO (LA PLANTA)","60235","60235.5683","'02003004","'484161020001.60235"]
[null,null,null,null,null,null,null,null,null,null,null,null,null,null,"99960","32","023","JUCHIPILA",null,"ZUN REFORMA - 73405","ZUN REFORMA","73405","73405.7649","'03108009","'484211070001.73405"]
[null,null,null,null,null,null,null,null,null,null,null,null,null,null,"99960","32","023","JUCHIPILA",null,"ZUNO Y PATASTAL - 74906","ZUNO Y PATASTAL","74906","74906.99999","'03082003","'484210820001.74906"]
[null,null,null,null,null,null,null,null,null,null,null,null,null,null,"99960","32","023","JUCHIPILA",null,"ZUNO Y PATASTAL - 86892","ZUNO Y PATASTAL","86892","86892.0906","'03845009","'484270150001.86892"]
[null,null,null,null,null,null,null,null,null,null,null,null,null,null,"99960","32","023","JUCHIPILA",null,"ZUPITLAN (LOS POCITOS) - 43543","ZUPITLAN (LOS POCITOS)","43543","43543.4133","'01401006","'484130010001.43543"]
[null,null,null,null,null,null,null,null,null,null,null,null,null,null,"99969","32","023","JUCHIPILA",null,"ZURCUA - 40820","ZURCUA","40820","40820.2652","'01369004","'484120680001.40820"]
[null,null,null,null,null,null,null,null,null,null,null,null,null,null,"99969","32","023","JUCHIPILA",null,"ZURI - 32546","ZURI","32546","32546.3607","'00937006","'484080370001.32546"]
[null,null,null,null,null,null,null,null,null,null,null,null,null,null,"99970","32","023","JUCHIPILA",null,"ZURITA - 43287","ZURITA","43287","43287.99999","'01468007","'484130680001.43287"]
[null,null,null,null,null,null,null,null,null,null,null,null,null,null,"99970","32","023","JUCHIPILA",null,"ZURITA - 93997","ZURITA","93997","93997.2648","'04224003","'484301230001.93997"]
[null,null,null,null,null,null,null,null,null,null,null,null,null,null,"99974","32","044","JUCHIPILA",null,"ZURUMBENEO - 61311","ZURUMBENEO","61311","61311.2324","'01922002","'484160220001.61311"]
[null,null,null,null,null,null,null,null,null,null,null,null,null,null,"99974","32","023","JUCHIPILA",null,"ZURUMUTARO (TZURUMUTARO) - 61615","ZURUMUTARO (TZURUMUTARO)","61615","61615.2563","'01966007","'484160660001.61615"]
[null,null,null,null,null,null,null,null,null,null,null,null,null,null,"99979","32","023","JUCHIPILA",null,null,null,"99999","99998.99999","'04658008","'484320330001.99998"]
[null,null,null,null,null,null,null,null,null,null,null,null,null,null,"99979","32","023","JUCHIPILA",null,null,"SAN JOSE DE PALMAREJO","04737","04737.99999","'01001002","'484090030001.04737"]
[null,null,null,null,null,null,null,null,null,null,null,null,null,null,"99980","32","033","MOYAHUA DE ESTRADA",null,null,"PALMAREJO","01990","01990.99999","'01001002","'484090100001.01990"]
[null,null,null,null,null,null,null,null,null,null,null,null,null,null,"99980","32","033","MOYAHUA DE ESTRADA",null,null,"JESUS MARIA","01940","01940.99999","'01001002","'484090100001.01940"]
[null,null,null,null,null,null,null,null,null,null,null,null,null,null,"99984","32","033","MOYAHUA DE ESTRADA",null,null,null,"01904","01904.99999","'01001002","'484090100001.01904"]
[null,null,null,null,null,null,null,null,null,null,null,null,null,null,"99984","32","033","MOYAHUA DE ESTRADA",null,null,"VICENTE GUERRERO","01900","01900.99999","'01001002","'484090100001.01900"]
[null,null,null,null,null,null,null,null,null,null,null,null,null,null,"99984","32","033","MOYAHUA DE ESTRADA",null,null,null,"01870","01870.99999","'01001002","'484090100001.01870"]
[null,null,null,null,null,null,null,null,null,null,null,null,null,null,"99987","32","033","MOYAHUA DE ESTRADA",null,null,"CUXPALA","01863","01863.99999","'01001002","'484090100001.01863"]
[null,null,null,null,null,null,null,null,null,null,null,null,null,null,"99987","32","033","MOYAHUA DE ESTRADA",null,null,null,"01860","01860.99999","'01001002","'484090100001.01860"]
[null,null,null,null,null,null,null,null,null,null,null,null,null,null,"99990","32","033","MOYAHUA DE ESTRADA",null,null,"ALAMEDA JUAREZ","01859","01859.99999","'01001002","'484090100001.01859"]
[null,null,null,null,null,null,null,null,null,null,null,null,null,null,"99990","32","033","MOYAHUA DE ESTRADA",null,null,null,"01857","01857.99999","'01001002","'484090100001.01857"]
[null,null,null,null,null,null,null,null,null,null,null,null,null,null,"99993","32","033","MOYAHUA DE ESTRADA",null,null,"BAJIO BLANCO","01856","01856.99999","'01001002","'484090100001.01856"]
[null,null,null,null,null,null,null,null,null,null,null,null,null,null,"99993","32","033","MOYAHUA DE ESTRADA",null,null,null,"01849","01849.99999","'01001002","'484090100001.01849"]
[null,null,null,null,null,null,null,null,null,null,null,null,null,null,"99994","32","033","MOYAHUA DE ESTRADA",null,null,"SANTA MARIA","01840","01840.99999","'01001002","'484090100001.01840"]
[null,null,null,null,null,null,null,null,null,null,null,null,null,null,"99994","32","033","MOYAHUA DE ESTRADA",null,null,"SANTA CRUZ","01830","01830.99999","'01001002","'484090100001.01830"]
[null,null,null,null,null,null,null,null,null,null,null,null,null,null,"99998","32","033","MOYAHUA DE ESTRADA",null,null,null,"01820","01820.99999","'01001002","'484090100001.01820"]
[null,null,null,null,null,null,null,null,null,null,null,null,null,null,"99998","32","033","MOYAHUA DE ESTRADA",null,null,"MOYAHUA CENTRO","01810","01810.99999","'01001002","'484090100001.01810"]
[null,null,null,null,null,null,null,null,null,null,null,null,null,null,"99998","32","033","MOYAHUA DE ESTRADA",null,null,null,"01807","01807.99999","'01001002","'484090100001.01807"]
[null,null,null,null,null,null,null,null,null,null,null,null,null,null,"99998","32","033","MOYAHUA DE ESTRADA",null,null,"AMAZOCHITL","01800","01800.99999","'01001002","'484090100001.01800"]